{"text_format":"1","workbook":"xlsx","n_sheets":13,"sheets":["JAN","FEB","MAR","APR","MAY","JUN","JUL","AUG","SEP","OCT","NOV","DEC","SUMMARY"],"not_rendered":{"charts":0,"images":0,"macros":0,"external_links":0,"defined_names":5,"comments":0,"pivot_tables":0},"unopened":[],"bounds":{"document_bytes":16777216,"sheet_cells":100000,"rows_first":2000,"rows_last":500,"rows_between":2000,"halvings":0,"cell_chars":16384,"cell_head_chars":4096},"cells_cut":0,"cells_raw":0,"read":"whole","date_system":"1900"}

{"sheet":"JAN","index":0,"n_rows":29,"n_cols":12,"rows_kept":29,"cut":false,"hidden":false,"merged":[[0,0,0,11],[1,0,1,11],[2,0,2,11],[3,0,3,11],[5,1,5,2],[28,0,28,2],[25,0,25,11],[16,0,16,11],[6,1,6,2],[27,0,27,11]]}
["CLERK OF THE COURTS"]
["BREVARD COUNTY, FLORIDA"]
["Document Source Statistics January 2017"]
["Number of Documents Filed by Case Category"]
[]
["Case","Category",null,"Total # of Documents Filed","Documents Filed InCourt","Documents Filed Informix","Documents e-Filed","Total Docs Auto-Docketed","% of TOTAL InCourt","% of TOTAL Informix","% of TOTAL e-Filed","Total % of Documents Auto Docketed"]
["AP","APPEALS",null,63,0,0,50,{"$f":"SUM(G7)","v":50},{"$f":"IF($D7>0,E7/$D7,0)","v":0},{"$f":"IF($D7>0,F7/$D7,0)","v":0},{"$f":"IF($D7>0,G7/$D7,0)","v":0.79365079365079361},{"$f":"SUM(I7:K7)","v":0.79365079365079361}]
["CA","CIRCUIT CIVIL",null,16052,0,0,13249,13249,{"$f":"IF($D8>0,E8/$D8,0)","v":0},0,0.82538001495140789,{"$f":"SUM(I8:K8)","v":0.82538001495140789}]
["SC","COUNTY CIVIL SMALL CLAIMS",null,4365,0,0,3534,3534,0,0,0.80962199312714778,0.80962199312714778]
["DR","CIRCUIT CIVIL FAMILY",null,14919,0,0,7590,7590,0,0,0.50874723506937458,0.50874723506937458]
["CP","CIRCUIT CIVIL PROBATE",null,4084,0,0,3358,3358,0,0,0.82223310479921641,0.82223310479921641]
["GA","CIRCUIT CIVIL GUARDIANSHIP",null,1536,0,0,1438,1438,0,0,0.93619791666666663,0.93619791666666663]
["MH","CIRCUIT CIVIL MENTAL HEALTH",null,716,0,0,262,262,0,0,0.36592178770949718,0.36592178770949718]
["CC","COUNTY CIVIL",null,5146,0,0,3484,3484,0,0,0.6770307034589973,0.6770307034589973]
["DP","CIRCUIT JUVENILE DEPENDENCY",null,2913,0,0,2111,2111,0,0,0.72468245794713348,0.72468245794713348]
["TOTAL OF CIVIL DOCUMENTS",null,null,{"$f":"SUM(D7:D15)","v":49794},{"$f":"SUM(E7:E15)","v":0},{"$f":"SUM(F7:F15)","v":0},{"$f":"SUM(G7:G15)","v":35076},35076,{"$f":"IF($D16>0,E16/$D16,0)","v":0},{"$f":"IF($D16>0,F16/$D16,0)","v":0},{"$f":"IF($D16>0,G16/$D16,0)","v":0.70442221954452344},0.70442221954452344]
["."]
["CJ","CIRCUIT JUVENILE DELINQUENCY",null,7766,5335,10,1259,1259,{"$f":"IF($D18>0,E18/$D18,0)","v":0.68696883852691215},{"$f":"IF($D18>0,F18/$D18,0)","v":1.2876641771825909E-3},{"$f":"IF($D18>0,G18/$D18,0)","v":0.16211691990728819},0.85037342261138293]
["CF","CIRCUIT CRIMINAL FELONY",null,29385,9575,457,7106,7106,0.32584652033350348,1.555215245873745E-2,0.24182405989450401,0.58322273268674496]
["MM","COUNTY CRIMINAL MISDEMEANOR",null,13824,5803,156,2247,2247,0.41977719907407407,1.1284722222222222E-2,0.16254340277777779,0.59360532407407407]
["CO","COUNTY ORDINANCE",null,61,23,0,7,7,0.37704918032786883,0,0.11475409836065574,0.49180327868852458]
["MO","COUNTY COURT MUNICIPAL ORDINANCE",null,149,79,6,17,17,0.53020134228187921,4.0268456375838924E-2,0.11409395973154363,0.68456375838926165]
["IN","COUNTY COURT INFRACTIONS",null,652,25,0,4,4,3.834355828220859E-2,0,6.1349693251533744E-3,4.4478527607361963E-2]
["CT","COUNTY CRIMINAL TRAFFIC",null,12023,5761,291,1575,1575,0.47916493387673625,2.4203609747983034E-2,0.13099891873908343,0.6343674623638027]
["TOTAL OF CRIMINAL DOCUMENTS",null,null,{"$f":"SUM(D18:D24)","v":63860},{"$f":"SUM(E18:E24)","v":26601},{"$f":"SUM(F18:F24)","v":920},{"$f":"SUM(G18:G24)","v":12215},{"$f":"SUM(E25:G25)","v":39736},{"$f":"IF($D25>0,E25/$D25,0)","v":0.41655183213279046},1.4406514249921704E-2,0.19127779517694957,{"$f":"IF(G25>0,H25/$D25,0)","v":0.62223614155966178}]
[]
["TR","COUNTY CIVIL TRAFFIC",null,8812,792,1828,213,{"$f":"SUM(E27:G27)","v":2833},{"$f":"IF($D27>0,E27/$D27,0)","v":8.9877439854743529E-2},{"$f":"IF($D27>0,F27/$D27,0)","v":0.20744439400817066},2.4171584203359055E-2,0.32149341806627324]
[]
["TOTAL ALL COURT DOCUMENTS",null,null,{"$f":"D16+D25+D27","v":122466},{"$f":"E16+E25+E27","v":27393},{"$f":"F16+F25+F27","v":2748},{"$f":"G16+G25+G27","v":47504},{"$f":"SUM(E29:G29)","v":77645},{"$f":"IF($D29>0,E29/$D29,0)","v":0.22367840870119055},{"$f":"IF($D29>0,F29/$D29,0)","v":2.2438880995541619E-2},0.38789541587052734,0.63401270556725953]

{"sheet":"FEB","index":1,"n_rows":29,"n_cols":12,"rows_kept":29,"cut":false,"hidden":false,"merged":[[28,0,28,2],[0,0,0,11],[1,0,1,11],[2,0,2,11],[3,0,3,11],[5,1,5,2],[6,1,6,2],[27,0,27,11],[16,0,16,11],[25,0,25,11]]}
["CLERK OF THE COURTS"]
["BREVARD COUNTY, FLORIDA"]
["Document Source Statistics February 2017"]
["Number of Documents Filed by Case Category"]
[]
["Case","Category",null,"Total # of Documents Filed","Documents Filed InCourt","Documents Filed Informix","Documents e-Filed","Total Docs Auto-Docketed","% of TOTAL InCourt","% of TOTAL Informix","% of TOTAL e-Filed","Total % of Documents Auto Docketed"]
["AP","APPEALS",null,null,null,null,null,{"$f":"SUM(G7)","v":0},{"$f":"IF($D7>0,E7/$D7,0)","v":0},{"$f":"IF($D7>0,F7/$D7,0)","v":0},{"$f":"IF($D7>0,G7/$D7,0)","v":0},{"$f":"SUM(I7:K7)","v":0}]
["CA","CIRCUIT CIVIL",null,null,null,null,null,0,{"$f":"IF($D8>0,E8/$D8,0)","v":0},0,0,{"$f":"SUM(I8:K8)","v":0}]
["SC","COUNTY CIVIL SMALL CLAIMS",null,null,null,null,null,0,0,0,0,0]
["DR","CIRCUIT CIVIL FAMILY",null,null,null,null,null,0,0,0,0,0]
["CP","CIRCUIT CIVIL PROBATE",null,null,null,null,null,0,0,0,0,0]
["GA","CIRCUIT CIVIL GUARDIANSHIP",null,null,null,null,null,0,0,0,0,0]
["MH","CIRCUIT CIVIL MENTAL HEALTH",null,null,null,null,null,0,0,0,0,0]
["CC","COUNTY CIVIL",null,null,null,null,null,0,0,0,0,0]
["DP","CIRCUIT JUVENILE DEPENDENCY",null,null,null,null,null,0,0,0,0,0]
["TOTAL OF CIVIL DOCUMENTS",null,null,{"$f":"SUM(D7:D15)","v":0},{"$f":"SUM(E7:E15)","v":0},{"$f":"SUM(F7:F15)","v":0},{"$f":"SUM(G7:G15)","v":0},0,{"$f":"IF($D16>0,E16/$D16,0)","v":0},{"$f":"IF($D16>0,F16/$D16,0)","v":0},{"$f":"IF($D16>0,G16/$D16,0)","v":0},0]
["."]
["CJ","CIRCUIT JUVENILE DELINQUENCY",null,null,null,null,null,0,{"$f":"IF($D18>0,E18/$D18,0)","v":0},0,0,0]
["CF","CIRCUIT CRIMINAL FELONY",null,null,null,null,null,0,0,0,0,0]
["MM","COUNTY CRIMINAL MISDEMEANOR",null,null,null,null,null,0,0,0,0,0]
["CO","COUNTY ORDINANCE",null,null,null,null,null,0,0,0,0,0]
["MO","COUNTY COURT MUNICIPAL ORDINANCE",null,null,null,null,null,0,0,0,0,0]
["IN","COUNTY COURT INFRACTIONS",null,null,null,null,null,0,0,0,0,0]
["CT","COUNTY CRIMINAL TRAFFIC",null,null,null,null,null,0,0,0,0,0]
["TOTAL OF CRIMINAL DOCUMENTS",null,null,{"$f":"SUM(D18:D24)","v":0},{"$f":"SUM(E18:E24)","v":0},{"$f":"SUM(F18:F24)","v":0},{"$f":"SUM(G18:G24)","v":0},{"$f":"SUM(E25:G25)","v":0},{"$f":"IF($D25>0,E25/$D25,0)","v":0},0,0,{"$f":"IF(G25>0,H25/$D25,0)","v":0}]
[]
["TR","COUNTY CIVIL TRAFFIC",null,null,null,null,null,{"$f":"SUM(E27:G27)","v":0},{"$f":"IF($D27>0,E27/$D27,0)","v":0},{"$f":"IF($D27>0,F27/$D27,0)","v":0},0,0]
[]
["TOTAL ALL COURT DOCUMENTS",null,null,{"$f":"D16+D25+D27","v":0},{"$f":"E16+E25+E27","v":0},{"$f":"F16+F25+F27","v":0},{"$f":"G16+G25+G27","v":0},{"$f":"SUM(E29:G29)","v":0},{"$f":"IF($D29>0,E29/$D29,0)","v":0},{"$f":"IF($D29>0,F29/$D29,0)","v":0},0,0]

{"sheet":"MAR","index":2,"n_rows":29,"n_cols":12,"rows_kept":29,"cut":false,"hidden":false,"merged":[[6,1,6,2],[27,0,27,11],[28,0,28,2],[16,0,16,11],[25,0,25,11],[0,0,0,11],[1,0,1,11],[2,0,2,11],[3,0,3,11],[5,1,5,2]]}
["CLERK OF THE COURTS"]
["BREVARD COUNTY, FLORIDA"]
["Document Source Statistics March 2017"]
["Number of Documents Filed by Case Category"]
[]
["Case","Category",null,"Total # of Documents Filed","Documents Filed InCourt","Documents Filed Informix","Documents e-Filed","Total Docs Auto-Docketed","% of TOTAL InCourt","% of TOTAL Informix","% of TOTAL e-Filed","Total % of Documents Auto Docketed"]
["AP","APPEALS",null,null,null,null,null,{"$f":"SUM(G7)","v":0},{"$f":"IF($D7>0,E7/$D7,0)","v":0},{"$f":"IF($D7>0,F7/$D7,0)","v":0},{"$f":"IF($D7>0,G7/$D7,0)","v":0},{"$f":"SUM(I7:K7)","v":0}]
["CA","CIRCUIT CIVIL",null,null,null,null,null,0,{"$f":"IF($D8>0,E8/$D8,0)","v":0},0,0,{"$f":"SUM(I8:K8)","v":0}]
["SC","COUNTY CIVIL SMALL CLAIMS",null,null,null,null,null,0,0,0,0,0]
["DR","CIRCUIT CIVIL FAMILY",null,null,null,null,null,0,0,0,0,0]
["CP","CIRCUIT CIVIL PROBATE",null,null,null,null,null,0,0,0,0,0]
["GA","CIRCUIT CIVIL GUARDIANSHIP",null,null,null,null,null,0,0,0,0,0]
["MH","CIRCUIT CIVIL MENTAL HEALTH",null,null,null,null,null,0,0,0,0,0]
["CC","COUNTY CIVIL",null,null,null,null,null,0,0,0,0,0]
["DP","CIRCUIT JUVENILE DEPENDENCY",null,null,null,null,null,0,0,0,0,0]
["TOTAL OF CIVIL DOCUMENTS",null,null,{"$f":"SUM(D7:D15)","v":0},{"$f":"SUM(E7:E15)","v":0},{"$f":"SUM(F7:F15)","v":0},{"$f":"SUM(G7:G15)","v":0},0,{"$f":"IF($D16>0,E16/$D16,0)","v":0},{"$f":"IF($D16>0,F16/$D16,0)","v":0},{"$f":"IF($D16>0,G16/$D16,0)","v":0},0]
["."]
["CJ","CIRCUIT JUVENILE DELINQUENCY",null,null,null,null,null,0,{"$f":"IF($D18>0,E18/$D18,0)","v":0},0,0,0]
["CF","CIRCUIT CRIMINAL FELONY",null,null,null,null,null,0,0,0,0,0]
["MM","COUNTY CRIMINAL MISDEMEANOR",null,null,null,null,null,0,0,0,0,0]
["CO","COUNTY ORDINANCE",null,null,null,null,null,0,0,0,0,0]
["MO","COUNTY COURT MUNICIPAL ORDINANCE",null,null,null,null,null,0,0,0,0,0]
["IN","COUNTY COURT INFRACTIONS",null,null,null,null,null,0,0,0,0,0]
["CT","COUNTY CRIMINAL TRAFFIC",null,null,null,null,null,0,0,0,0,0]
["TOTAL OF CRIMINAL DOCUMENTS",null,null,{"$f":"SUM(D18:D24)","v":0},{"$f":"SUM(E18:E24)","v":0},{"$f":"SUM(F18:F24)","v":0},{"$f":"SUM(G18:G24)","v":0},{"$f":"SUM(E25:G25)","v":0},{"$f":"IF($D25>0,E25/$D25,0)","v":0},0,0,{"$f":"IF(G25>0,H25/$D25,0)","v":0}]
[]
["TR","COUNTY CIVIL TRAFFIC",null,null,null,null,null,{"$f":"SUM(E27:G27)","v":0},{"$f":"IF($D27>0,E27/$D27,0)","v":0},{"$f":"IF($D27>0,F27/$D27,0)","v":0},0,0]
[]
["TOTAL ALL COURT DOCUMENTS",null,null,{"$f":"D16+D25+D27","v":0},{"$f":"E16+E25+E27","v":0},{"$f":"F16+F25+F27","v":0},{"$f":"G16+G25+G27","v":0},{"$f":"SUM(E29:G29)","v":0},{"$f":"IF($D29>0,E29/$D29,0)","v":0},{"$f":"IF($D29>0,F29/$D29,0)","v":0},0,0]

{"sheet":"APR","index":3,"n_rows":29,"n_cols":12,"rows_kept":29,"cut":false,"hidden":false,"merged":[[0,0,0,11],[1,0,1,11],[2,0,2,11],[3,0,3,11],[28,0,28,2],[25,0,25,11],[16,0,16,11],[5,1,5,2],[6,1,6,2],[27,0,27,11]]}
["CLERK OF THE COURTS"]
["BREVARD COUNTY, FLORIDA"]
["Document Source Statistics April 2017"]
["Number of Documents Filed by Case Category"]
[]
["Case","Category",null,"Total # of Documents Filed","Documents Filed InCourt","Documents Filed Informix","Documents e-Filed","Total Docs Auto-Docketed","% of TOTAL InCourt","% of TOTAL Informix","% of TOTAL e-Filed","Total % of Documents Auto Docketed"]
["AP","APPEALS",null,null,null,null,null,{"$f":"SUM(G7)","v":0},{"$f":"IF($D7>0,E7/$D7,0)","v":0},{"$f":"IF($D7>0,F7/$D7,0)","v":0},{"$f":"IF($D7>0,G7/$D7,0)","v":0},{"$f":"SUM(I7:K7)","v":0}]
["CA","CIRCUIT CIVIL",null,null,null,null,null,0,{"$f":"IF($D8>0,E8/$D8,0)","v":0},0,0,{"$f":"SUM(I8:K8)","v":0}]
["SC","COUNTY CIVIL SMALL CLAIMS",null,null,null,null,null,0,0,0,0,0]
["DR","CIRCUIT CIVIL FAMILY",null,null,null,null,null,0,0,0,0,0]
["CP","CIRCUIT CIVIL PROBATE",null,null,null,null,null,0,0,0,0,0]
["GA","CIRCUIT CIVIL GUARDIANSHIP",null,null,null,null,null,0,0,0,0,0]
["MH","CIRCUIT CIVIL MENTAL HEALTH",null,null,null,null,null,0,0,0,0,0]
["CC","COUNTY CIVIL",null,null,null,null,null,0,0,0,0,0]
["DP","CIRCUIT JUVENILE DEPENDENCY",null,null,null,null,null,0,0,0,0,0]
["TOTAL OF CIVIL DOCUMENTS",null,null,{"$f":"SUM(D7:D15)","v":0},{"$f":"SUM(E7:E15)","v":0},{"$f":"SUM(F7:F15)","v":0},{"$f":"SUM(G7:G15)","v":0},0,{"$f":"IF($D16>0,E16/$D16,0)","v":0},{"$f":"IF($D16>0,F16/$D16,0)","v":0},{"$f":"IF($D16>0,G16/$D16,0)","v":0},0]
["."]
["CJ","CIRCUIT JUVENILE DELINQUENCY",null,null,null,null,null,0,{"$f":"IF($D18>0,E18/$D18,0)","v":0},0,0,0]
["CF","CIRCUIT CRIMINAL FELONY",null,null,null,null,null,0,0,0,0,0]
["MM","COUNTY CRIMINAL MISDEMEANOR",null,null,null,null,null,0,0,0,0,0]
["CO","COUNTY ORDINANCE",null,null,null,null,null,0,0,0,0,0]
["MO","COUNTY COURT MUNICIPAL ORDINANCE",null,null,null,null,null,0,0,0,0,0]
["IN","COUNTY COURT INFRACTIONS",null,null,null,null,null,0,0,0,0,0]
["CT","COUNTY CRIMINAL TRAFFIC",null,null,null,null,null,0,0,0,0,0]
["TOTAL OF CRIMINAL DOCUMENTS",null,null,{"$f":"SUM(D18:D24)","v":0},{"$f":"SUM(E18:E24)","v":0},{"$f":"SUM(F18:F24)","v":0},{"$f":"SUM(G18:G24)","v":0},{"$f":"SUM(E25:G25)","v":0},{"$f":"IF($D25>0,E25/$D25,0)","v":0},0,0,{"$f":"IF(G25>0,H25/$D25,0)","v":0}]
[]
["TR","COUNTY CIVIL TRAFFIC",null,null,null,null,null,{"$f":"SUM(E27:G27)","v":0},{"$f":"IF($D27>0,E27/$D27,0)","v":0},{"$f":"IF($D27>0,F27/$D27,0)","v":0},0,0]
[]
["TOTAL ALL COURT DOCUMENTS",null,null,{"$f":"D16+D25+D27","v":0},{"$f":"E16+E25+E27","v":0},{"$f":"F16+F25+F27","v":0},{"$f":"G16+G25+G27","v":0},{"$f":"SUM(E29:G29)","v":0},{"$f":"IF($D29>0,E29/$D29,0)","v":0},{"$f":"IF($D29>0,F29/$D29,0)","v":0},0,0]

{"sheet":"MAY","index":4,"n_rows":29,"n_cols":12,"rows_kept":29,"cut":false,"hidden":false,"merged":[[0,0,0,11],[1,0,1,11],[2,0,2,11],[3,0,3,11],[28,0,28,2],[25,0,25,11],[16,0,16,11],[5,1,5,2],[6,1,6,2],[27,0,27,11]]}
["CLERK OF THE COURTS"]
["BREVARD COUNTY, FLORIDA"]
["Document Source Statistics May 2017"]
["Number of Documents Filed by Case Category"]
[]
["Case","Category",null,"Total # of Documents Filed","Documents Filed InCourt","Documents Filed Informix","Documents e-Filed","Total Docs Auto-Docketed","% of TOTAL InCourt","% of TOTAL Informix","% of TOTAL e-Filed","Total % of Documents Auto Docketed"]
["AP","APPEALS",null,null,null,null,null,{"$f":"SUM(G7)","v":0},{"$f":"IF($D7>0,E7/$D7,0)","v":0},{"$f":"IF($D7>0,F7/$D7,0)","v":0},{"$f":"IF($D7>0,G7/$D7,0)","v":0},{"$f":"SUM(I7:K7)","v":0}]
["CA","CIRCUIT CIVIL",null,null,null,null,null,0,{"$f":"IF($D8>0,E8/$D8,0)","v":0},0,0,{"$f":"SUM(I8:K8)","v":0}]
["SC","COUNTY CIVIL SMALL CLAIMS",null,null,null,null,null,0,0,0,0,0]
["DR","CIRCUIT CIVIL FAMILY",null,null,null,null,null,0,0,0,0,0]
["CP","CIRCUIT CIVIL PROBATE",null,null,null,null,null,0,0,0,0,0]
["GA","CIRCUIT CIVIL GUARDIANSHIP",null,null,null,null,null,0,0,0,0,0]
["MH","CIRCUIT CIVIL MENTAL HEALTH",null,null,null,null,null,0,0,0,0,0]
["CC","COUNTY CIVIL",null,null,null,null,null,0,0,0,0,0]
["DP","CIRCUIT JUVENILE DEPENDENCY",null,null,null,null,null,0,0,0,0,0]
["TOTAL OF CIVIL DOCUMENTS",null,null,{"$f":"SUM(D7:D15)","v":0},{"$f":"SUM(E7:E15)","v":0},{"$f":"SUM(F7:F15)","v":0},{"$f":"SUM(G7:G15)","v":0},0,{"$f":"IF($D16>0,E16/$D16,0)","v":0},{"$f":"IF($D16>0,F16/$D16,0)","v":0},{"$f":"IF($D16>0,G16/$D16,0)","v":0},0]
["."]
["CJ","CIRCUIT JUVENILE DELINQUENCY",null,null,null,null,null,0,{"$f":"IF($D18>0,E18/$D18,0)","v":0},0,0,0]
["CF","CIRCUIT CRIMINAL FELONY",null,null,null,null,null,0,0,0,0,0]
["MM","COUNTY CRIMINAL MISDEMEANOR",null,null,null,null,null,0,0,0,0,0]
["CO","COUNTY ORDINANCE",null,null,null,null,null,0,0,0,0,0]
["MO","COUNTY COURT MUNICIPAL ORDINANCE",null,null,null,null,null,0,0,0,0,0]
["IN","COUNTY COURT INFRACTIONS",null,null,null,null,null,0,0,0,0,0]
["CT","COUNTY CRIMINAL TRAFFIC",null,null,null,null,null,0,0,0,0,0]
["TOTAL OF CRIMINAL DOCUMENTS",null,null,{"$f":"SUM(D18:D24)","v":0},{"$f":"SUM(E18:E24)","v":0},{"$f":"SUM(F18:F24)","v":0},{"$f":"SUM(G18:G24)","v":0},{"$f":"SUM(E25:G25)","v":0},{"$f":"IF($D25>0,E25/$D25,0)","v":0},0,0,{"$f":"IF(G25>0,H25/$D25,0)","v":0}]
[]
["TR","COUNTY CIVIL TRAFFIC",null,null,null,null,null,{"$f":"SUM(E27:G27)","v":0},{"$f":"IF($D27>0,E27/$D27,0)","v":0},{"$f":"IF($D27>0,F27/$D27,0)","v":0},0,0]
[]
["TOTAL ALL COURT DOCUMENTS",null,null,{"$f":"D16+D25+D27","v":0},{"$f":"E16+E25+E27","v":0},{"$f":"F16+F25+F27","v":0},{"$f":"G16+G25+G27","v":0},{"$f":"SUM(E29:G29)","v":0},{"$f":"IF($D29>0,E29/$D29,0)","v":0},{"$f":"IF($D29>0,F29/$D29,0)","v":0},0,0]

{"sheet":"JUN","index":5,"n_rows":29,"n_cols":12,"rows_kept":29,"cut":false,"hidden":false,"merged":[[0,0,0,11],[1,0,1,11],[2,0,2,11],[3,0,3,11],[28,0,28,2],[5,1,5,2],[6,1,6,2],[16,0,16,11],[25,0,25,11],[27,0,27,11]]}
["CLERK OF THE COURTS"]
["BREVARD COUNTY, FLORIDA"]
["Document Source Statistics June 2017"]
["Number of Documents Filed by Case Category"]
[]
["Case","Category",null,"Total # of Documents Filed","Documents Filed InCourt","Documents Filed Informix","Documents e-Filed","Total Docs Auto-Docketed","% of TOTAL InCourt","% of TOTAL Informix","% of TOTAL e-Filed","Total % of Documents Auto Docketed"]
["AP","APPEALS",null,null,null,null,null,{"$f":"SUM(G7)","v":0},{"$f":"IF($D7>0,E7/$D7,0)","v":0},{"$f":"IF($D7>0,F7/$D7,0)","v":0},{"$f":"IF($D7>0,G7/$D7,0)","v":0},{"$f":"SUM(I7:K7)","v":0}]
["CA","CIRCUIT CIVIL",null,null,null,null,null,0,{"$f":"IF($D8>0,E8/$D8,0)","v":0},0,0,{"$f":"SUM(I8:K8)","v":0}]
["SC","COUNTY CIVIL SMALL CLAIMS",null,null,null,null,null,0,0,0,0,0]
["DR","CIRCUIT CIVIL FAMILY",null,null,null,null,null,0,0,0,0,0]
["CP","CIRCUIT CIVIL PROBATE",null,null,null,null,null,0,0,0,0,0]
["GA","CIRCUIT CIVIL GUARDIANSHIP",null,null,null,null,null,0,0,0,0,0]
["MH","CIRCUIT CIVIL MENTAL HEALTH",null,null,null,null,null,0,0,0,0,0]
["CC","COUNTY CIVIL",null,null,null,null,null,0,0,0,0,0]
["DP","CIRCUIT JUVENILE DEPENDENCY",null,null,null,null,null,0,0,0,0,0]
["TOTAL OF CIVIL DOCUMENTS",null,null,{"$f":"SUM(D7:D15)","v":0},{"$f":"SUM(E7:E15)","v":0},{"$f":"SUM(F7:F15)","v":0},{"$f":"SUM(G7:G15)","v":0},0,{"$f":"IF($D16>0,E16/$D16,0)","v":0},{"$f":"IF($D16>0,F16/$D16,0)","v":0},{"$f":"IF($D16>0,G16/$D16,0)","v":0},0]
["."]
["CJ","CIRCUIT JUVENILE DELINQUENCY",null,null,null,null,null,0,{"$f":"IF($D18>0,E18/$D18,0)","v":0},0,0,0]
["CF","CIRCUIT CRIMINAL FELONY",null,null,null,null,null,0,0,0,0,0]
["MM","COUNTY CRIMINAL MISDEMEANOR",null,null,null,null,null,0,0,0,0,0]
["CO","COUNTY ORDINANCE",null,null,null,null,null,0,0,0,0,0]
["MO","COUNTY COURT MUNICIPAL ORDINANCE",null,null,null,null,null,0,0,0,0,0]
["IN","COUNTY COURT INFRACTIONS",null,null,null,null,null,0,0,0,0,0]
["CT","COUNTY CRIMINAL TRAFFIC",null,null,null,null,null,0,0,0,0,0]
["TOTAL OF CRIMINAL DOCUMENTS",null,null,{"$f":"SUM(D18:D24)","v":0},{"$f":"SUM(E18:E24)","v":0},{"$f":"SUM(F18:F24)","v":0},{"$f":"SUM(G18:G24)","v":0},{"$f":"SUM(E25:G25)","v":0},{"$f":"IF($D25>0,E25/$D25,0)","v":0},0,0,{"$f":"IF(G25>0,H25/$D25,0)","v":0}]
[]
["TR","COUNTY CIVIL TRAFFIC",null,null,null,null,null,{"$f":"SUM(E27:G27)","v":0},{"$f":"IF($D27>0,E27/$D27,0)","v":0},{"$f":"IF($D27>0,F27/$D27,0)","v":0},0,0]
[]
["TOTAL ALL COURT DOCUMENTS",null,null,{"$f":"D16+D25+D27","v":0},{"$f":"E16+E25+E27","v":0},{"$f":"F16+F25+F27","v":0},{"$f":"G16+G25+G27","v":0},{"$f":"SUM(E29:G29)","v":0},{"$f":"IF($D29>0,E29/$D29,0)","v":0},{"$f":"IF($D29>0,F29/$D29,0)","v":0},0,0]

{"sheet":"JUL","index":6,"n_rows":29,"n_cols":12,"rows_kept":29,"cut":false,"hidden":false,"merged":[[0,0,0,11],[1,0,1,11],[2,0,2,11],[3,0,3,11],[28,0,28,2],[5,1,5,2],[6,1,6,2],[16,0,16,11],[25,0,25,11],[27,0,27,11]]}
["CLERK OF THE COURTS"]
["BREVARD COUNTY, FLORIDA"]
["Document Source Statistics July 2017"]
["Number of Documents Filed by Case Category"]
[]
["Case","Category",null,"Total # of Documents Filed","Documents Filed InCourt","Documents Filed Informix","Documents e-Filed","Total Docs Auto-Docketed","% of TOTAL InCourt","% of TOTAL Informix","% of TOTAL e-Filed","Total % of Documents Auto Docketed"]
["AP","APPEALS",null,null,null,null,null,{"$f":"SUM(G7)","v":0},{"$f":"IF($D7>0,E7/$D7,0)","v":0},{"$f":"IF($D7>0,F7/$D7,0)","v":0},{"$f":"IF($D7>0,G7/$D7,0)","v":0},{"$f":"SUM(I7:K7)","v":0}]
["CA","CIRCUIT CIVIL",null,null,null,null,null,0,{"$f":"IF($D8>0,E8/$D8,0)","v":0},0,0,{"$f":"SUM(I8:K8)","v":0}]
["SC","COUNTY CIVIL SMALL CLAIMS",null,null,null,null,null,0,0,0,0,0]
["DR","CIRCUIT CIVIL FAMILY",null,null,null,null,null,0,0,0,0,0]
["CP","CIRCUIT CIVIL PROBATE",null,null,null,null,null,0,0,0,0,0]
["GA","CIRCUIT CIVIL GUARDIANSHIP",null,null,null,null,null,0,0,0,0,0]
["MH","CIRCUIT CIVIL MENTAL HEALTH",null,null,null,null,null,0,0,0,0,0]
["CC","COUNTY CIVIL",null,null,null,null,null,0,0,0,0,0]
["DP","CIRCUIT JUVENILE DEPENDENCY",null,null,null,null,null,0,0,0,0,0]
["TOTAL OF CIVIL DOCUMENTS",null,null,{"$f":"SUM(D7:D15)","v":0},{"$f":"SUM(E7:E15)","v":0},{"$f":"SUM(F7:F15)","v":0},{"$f":"SUM(G7:G15)","v":0},0,{"$f":"IF($D16>0,E16/$D16,0)","v":0},{"$f":"IF($D16>0,F16/$D16,0)","v":0},{"$f":"IF($D16>0,G16/$D16,0)","v":0},0]
["."]
["CJ","CIRCUIT JUVENILE DELINQUENCY",null,null,null,null,null,0,{"$f":"IF($D18>0,E18/$D18,0)","v":0},0,0,0]
["CF","CIRCUIT CRIMINAL FELONY",null,null,null,null,null,0,0,0,0,0]
["MM","COUNTY CRIMINAL MISDEMEANOR",null,null,null,null,null,0,0,0,0,0]
["CO","COUNTY ORDINANCE",null,null,null,null,null,0,0,0,0,0]
["MO","COUNTY COURT MUNICIPAL ORDINANCE",null,null,null,null,null,0,0,0,0,0]
["IN","COUNTY COURT INFRACTIONS",null,null,null,null,null,0,0,0,0,0]
["CT","COUNTY CRIMINAL TRAFFIC",null,null,null,null,null,0,0,0,0,0]
["TOTAL OF CRIMINAL DOCUMENTS",null,null,{"$f":"SUM(D18:D24)","v":0},{"$f":"SUM(E18:E24)","v":0},{"$f":"SUM(F18:F24)","v":0},{"$f":"SUM(G18:G24)","v":0},{"$f":"SUM(E25:G25)","v":0},{"$f":"IF($D25>0,E25/$D25,0)","v":0},0,0,{"$f":"IF(G25>0,H25/$D25,0)","v":0}]
[]
["TR","COUNTY CIVIL TRAFFIC",null,null,null,null,null,{"$f":"SUM(E27:G27)","v":0},{"$f":"IF($D27>0,E27/$D27,0)","v":0},{"$f":"IF($D27>0,F27/$D27,0)","v":0},0,0]
[]
["TOTAL ALL COURT DOCUMENTS",null,null,{"$f":"D16+D25+D27","v":0},{"$f":"E16+E25+E27","v":0},{"$f":"F16+F25+F27","v":0},{"$f":"G16+G25+G27","v":0},{"$f":"SUM(E29:G29)","v":0},{"$f":"IF($D29>0,E29/$D29,0)","v":0},{"$f":"IF($D29>0,F29/$D29,0)","v":0},0,0]

{"sheet":"AUG","index":7,"n_rows":29,"n_cols":12,"rows_kept":29,"cut":false,"hidden":false,"merged":[[0,0,0,11],[1,0,1,11],[2,0,2,11],[3,0,3,11],[28,0,28,2],[5,1,5,2],[6,1,6,2],[16,0,16,11],[25,0,25,11],[27,0,27,11]]}
["CLERK OF THE COURTS"]
["BREVARD COUNTY, FLORIDA"]
["Document Source Statistics August 2017"]
["Number of Documents Filed by Case Category"]
[]
["Case","Category",null,"Total # of Documents Filed","Documents Filed InCourt","Documents Filed Informix","Documents e-Filed","Total Docs Auto-Docketed","% of TOTAL InCourt","% of TOTAL Informix","% of TOTAL e-Filed","Total % of Documents Auto Docketed"]
["AP","APPEALS",null,null,null,null,null,{"$f":"SUM(G7)","v":0},{"$f":"IF($D7>0,E7/$D7,0)","v":0},{"$f":"IF($D7>0,F7/$D7,0)","v":0},{"$f":"IF($D7>0,G7/$D7,0)","v":0},{"$f":"SUM(I7:K7)","v":0}]
["CA","CIRCUIT CIVIL",null,null,null,null,null,0,{"$f":"IF($D8>0,E8/$D8,0)","v":0},0,0,{"$f":"SUM(I8:K8)","v":0}]
["SC","COUNTY CIVIL SMALL CLAIMS",null,null,null,null,null,0,0,0,0,0]
["DR","CIRCUIT CIVIL FAMILY",null,null,null,null,null,0,0,0,0,0]
["CP","CIRCUIT CIVIL PROBATE",null,null,null,null,null,0,0,0,0,0]
["GA","CIRCUIT CIVIL GUARDIANSHIP",null,null,null,null,null,0,0,0,0,0]
["MH","CIRCUIT CIVIL MENTAL HEALTH",null,null,null,null,null,0,0,0,0,0]
["CC","COUNTY CIVIL",null,null,null,null,null,0,0,0,0,0]
["DP","CIRCUIT JUVENILE DEPENDENCY",null,null,null,null,null,0,0,0,0,0]
["TOTAL OF CIVIL DOCUMENTS",null,null,{"$f":"SUM(D7:D15)","v":0},{"$f":"SUM(E7:E15)","v":0},{"$f":"SUM(F7:F15)","v":0},{"$f":"SUM(G7:G15)","v":0},0,{"$f":"IF($D16>0,E16/$D16,0)","v":0},{"$f":"IF($D16>0,F16/$D16,0)","v":0},{"$f":"IF($D16>0,G16/$D16,0)","v":0},0]
["."]
["CJ","CIRCUIT JUVENILE DELINQUENCY",null,null,null,null,null,0,{"$f":"IF($D18>0,E18/$D18,0)","v":0},0,0,0]
["CF","CIRCUIT CRIMINAL FELONY",null,null,null,null,null,0,0,0,0,0]
["MM","COUNTY CRIMINAL MISDEMEANOR",null,null,null,null,null,0,0,0,0,0]
["CO","COUNTY ORDINANCE",null,null,null,null,null,0,0,0,0,0]
["MO","COUNTY COURT MUNICIPAL ORDINANCE",null,null,null,null,null,0,0,0,0,0]
["IN","COUNTY COURT INFRACTIONS",null,null,null,null,null,0,0,0,0,0]
["CT","COUNTY CRIMINAL TRAFFIC",null,null,null,null,null,0,0,0,0,0]
["TOTAL OF CRIMINAL DOCUMENTS",null,null,{"$f":"SUM(D18:D24)","v":0},{"$f":"SUM(E18:E24)","v":0},{"$f":"SUM(F18:F24)","v":0},{"$f":"SUM(G18:G24)","v":0},{"$f":"SUM(E25:G25)","v":0},{"$f":"IF($D25>0,E25/$D25,0)","v":0},0,0,{"$f":"IF(G25>0,H25/$D25,0)","v":0}]
[]
["TR","COUNTY CIVIL TRAFFIC",null,null,null,null,null,{"$f":"SUM(E27:G27)","v":0},{"$f":"IF($D27>0,E27/$D27,0)","v":0},{"$f":"IF($D27>0,F27/$D27,0)","v":0},0,0]
[]
["TOTAL ALL COURT DOCUMENTS",null,null,{"$f":"D16+D25+D27","v":0},{"$f":"E16+E25+E27","v":0},{"$f":"F16+F25+F27","v":0},{"$f":"G16+G25+G27","v":0},{"$f":"SUM(E29:G29)","v":0},{"$f":"IF($D29>0,E29/$D29,0)","v":0},{"$f":"IF($D29>0,F29/$D29,0)","v":0},0,0]

{"sheet":"SEP","index":8,"n_rows":29,"n_cols":12,"rows_kept":29,"cut":false,"hidden":false,"merged":[[0,0,0,11],[1,0,1,11],[2,0,2,11],[3,0,3,11],[28,0,28,2],[5,1,5,2],[6,1,6,2],[16,0,16,11],[25,0,25,11],[27,0,27,11]]}
["CLERK OF THE COURTS"]
["BREVARD COUNTY, FLORIDA"]
["Document Source Statistics September 2017"]
["Number of Documents Filed by Case Category"]
[]
["Case","Category",null,"Total # of Documents Filed","Documents Filed InCourt","Documents Filed Informix","Documents e-Filed","Total Docs Auto-Docketed","% of TOTAL InCourt","% of TOTAL Informix","% of TOTAL e-Filed","Total % of Documents Auto Docketed"]
["AP","APPEALS",null,null,null,null,null,{"$f":"SUM(G7)","v":0},{"$f":"IF($D7>0,E7/$D7,0)","v":0},{"$f":"IF($D7>0,F7/$D7,0)","v":0},{"$f":"IF($D7>0,G7/$D7,0)","v":0},{"$f":"SUM(I7:K7)","v":0}]
["CA","CIRCUIT CIVIL",null,null,null,null,null,0,{"$f":"IF($D8>0,E8/$D8,0)","v":0},0,0,{"$f":"SUM(I8:K8)","v":0}]
["SC","COUNTY CIVIL SMALL CLAIMS",null,null,null,null,null,0,0,0,0,0]
["DR","CIRCUIT CIVIL FAMILY",null,null,null,null,null,0,0,0,0,0]
["CP","CIRCUIT CIVIL PROBATE",null,null,null,null,null,0,0,0,0,0]
["GA","CIRCUIT CIVIL GUARDIANSHIP",null,null,null,null,null,0,0,0,0,0]
["MH","CIRCUIT CIVIL MENTAL HEALTH",null,null,null,null,null,0,0,0,0,0]
["CC","COUNTY CIVIL",null,null,null,null,null,0,0,0,0,0]
["DP","CIRCUIT JUVENILE DEPENDENCY",null,null,null,null,null,0,0,0,0,0]
["TOTAL OF CIVIL DOCUMENTS",null,null,{"$f":"SUM(D7:D15)","v":0},{"$f":"SUM(E7:E15)","v":0},{"$f":"SUM(F7:F15)","v":0},{"$f":"SUM(G7:G15)","v":0},0,{"$f":"IF($D16>0,E16/$D16,0)","v":0},{"$f":"IF($D16>0,F16/$D16,0)","v":0},{"$f":"IF($D16>0,G16/$D16,0)","v":0},0]
["."]
["CJ","CIRCUIT JUVENILE DELINQUENCY",null,null,null,null,null,0,{"$f":"IF($D18>0,E18/$D18,0)","v":0},0,0,0]
["CF","CIRCUIT CRIMINAL FELONY",null,null,null,null,null,0,0,0,0,0]
["MM","COUNTY CRIMINAL MISDEMEANOR",null,null,null,null,null,0,0,0,0,0]
["CO","COUNTY ORDINANCE",null,null,null,null,null,0,0,0,0,0]
["MO","COUNTY COURT MUNICIPAL ORDINANCE",null,null,null,null,null,0,0,0,0,0]
["IN","COUNTY COURT INFRACTIONS",null,null,null,null,null,0,0,0,0,0]
["CT","COUNTY CRIMINAL TRAFFIC",null,null,null,null,null,0,0,0,0,0]
["TOTAL OF CRIMINAL DOCUMENTS",null,null,{"$f":"SUM(D18:D24)","v":0},{"$f":"SUM(E18:E24)","v":0},{"$f":"SUM(F18:F24)","v":0},{"$f":"SUM(G18:G24)","v":0},{"$f":"SUM(E25:G25)","v":0},{"$f":"IF($D25>0,E25/$D25,0)","v":0},0,0,{"$f":"IF(G25>0,H25/$D25,0)","v":0}]
[]
["TR","COUNTY CIVIL TRAFFIC",null,null,null,null,null,{"$f":"SUM(E27:G27)","v":0},{"$f":"IF($D27>0,E27/$D27,0)","v":0},{"$f":"IF($D27>0,F27/$D27,0)","v":0},0,0]
[]
["TOTAL ALL COURT DOCUMENTS",null,null,{"$f":"D16+D25+D27","v":0},{"$f":"E16+E25+E27","v":0},{"$f":"F16+F25+F27","v":0},{"$f":"G16+G25+G27","v":0},{"$f":"SUM(E29:G29)","v":0},{"$f":"IF($D29>0,E29/$D29,0)","v":0},{"$f":"IF($D29>0,F29/$D29,0)","v":0},0,0]

{"sheet":"OCT","index":9,"n_rows":29,"n_cols":12,"rows_kept":29,"cut":false,"hidden":false,"merged":[[6,1,6,2],[16,0,16,11],[25,0,25,11],[27,0,27,11],[28,0,28,2],[0,0,0,11],[1,0,1,11],[2,0,2,11],[3,0,3,11],[5,1,5,2]]}
["CLERK OF THE COURTS"]
["BREVARD COUNTY, FLORIDA"]
["Document Source Statistics October 2017"]
["Number of Documents Filed by Case Category"]
[]
["Case","Category",null,"Total # of Documents Filed","Documents Filed InCourt","Documents Filed Informix","Documents e-Filed","Total Docs Auto-Docketed","% of TOTAL InCourt","% of TOTAL Informix","% of TOTAL e-Filed","Total % of Documents Auto Docketed"]
["AP","APPEALS",null,null,null,null,null,{"$f":"SUM(G7)","v":0},{"$f":"IF($D7>0,E7/$D7,0)","v":0},{"$f":"IF($D7>0,F7/$D7,0)","v":0},{"$f":"IF($D7>0,G7/$D7,0)","v":0},{"$f":"SUM(I7:K7)","v":0}]
["CA","CIRCUIT CIVIL",null,null,null,null,null,0,{"$f":"IF($D8>0,E8/$D8,0)","v":0},0,0,{"$f":"SUM(I8:K8)","v":0}]
["SC","COUNTY CIVIL SMALL CLAIMS",null,null,null,null,null,0,0,0,0,0]
["DR","CIRCUIT CIVIL FAMILY",null,null,null,null,null,0,0,0,0,0]
["CP","CIRCUIT CIVIL PROBATE",null,null,null,null,null,0,0,0,0,0]
["GA","CIRCUIT CIVIL GUARDIANSHIP",null,null,null,null,null,0,0,0,0,0]
["MH","CIRCUIT CIVIL MENTAL HEALTH",null,null,null,null,null,0,0,0,0,0]
["CC","COUNTY CIVIL",null,null,null,null,null,0,0,0,0,0]
["DP","CIRCUIT JUVENILE DEPENDENCY",null,null,null,null,null,0,0,0,0,0]
["TOTAL OF CIVIL DOCUMENTS",null,null,{"$f":"SUM(D7:D15)","v":0},{"$f":"SUM(E7:E15)","v":0},{"$f":"SUM(F7:F15)","v":0},{"$f":"SUM(G7:G15)","v":0},0,{"$f":"IF($D16>0,E16/$D16,0)","v":0},{"$f":"IF($D16>0,F16/$D16,0)","v":0},{"$f":"IF($D16>0,G16/$D16,0)","v":0},0]
["."]
["CJ","CIRCUIT JUVENILE DELINQUENCY",null,null,null,null,null,0,{"$f":"IF($D18>0,E18/$D18,0)","v":0},0,0,0]
["CF","CIRCUIT CRIMINAL FELONY",null,null,null,null,null,0,0,0,0,0]
["MM","COUNTY CRIMINAL MISDEMEANOR",null,null,null,null,null,0,0,0,0,0]
["CO","COUNTY ORDINANCE",null,null,null,null,null,0,0,0,0,0]
["MO","COUNTY COURT MUNICIPAL ORDINANCE",null,null,null,null,null,0,0,0,0,0]
["IN","COUNTY COURT INFRACTIONS",null,null,null,null,null,0,0,0,0,0]
["CT","COUNTY CRIMINAL TRAFFIC",null,null,null,null,null,0,0,0,0,0]
["TOTAL OF CRIMINAL DOCUMENTS",null,null,{"$f":"SUM(D18:D24)","v":0},{"$f":"SUM(E18:E24)","v":0},{"$f":"SUM(F18:F24)","v":0},{"$f":"SUM(G18:G24)","v":0},{"$f":"SUM(E25:G25)","v":0},{"$f":"IF($D25>0,E25/$D25,0)","v":0},0,0,{"$f":"IF(G25>0,H25/$D25,0)","v":0}]
[]
["TR","COUNTY CIVIL TRAFFIC",null,null,null,null,null,{"$f":"SUM(E27:G27)","v":0},{"$f":"IF($D27>0,E27/$D27,0)","v":0},{"$f":"IF($D27>0,F27/$D27,0)","v":0},0,0]
[]
["TOTAL ALL COURT DOCUMENTS",null,null,{"$f":"D16+D25+D27","v":0},{"$f":"E16+E25+E27","v":0},{"$f":"F16+F25+F27","v":0},{"$f":"G16+G25+G27","v":0},{"$f":"SUM(E29:G29)","v":0},{"$f":"IF($D29>0,E29/$D29,0)","v":0},{"$f":"IF($D29>0,F29/$D29,0)","v":0},0,0]

{"sheet":"NOV","index":10,"n_rows":29,"n_cols":12,"rows_kept":29,"cut":false,"hidden":false,"merged":[[0,0,0,11],[1,0,1,11],[2,0,2,11],[3,0,3,11],[28,0,28,2],[5,1,5,2],[6,1,6,2],[16,0,16,11],[25,0,25,11],[27,0,27,11]]}
["CLERK OF THE COURTS"]
["BREVARD COUNTY, FLORIDA"]
["Document Source Statistics November 2017"]
["Number of Documents Filed by Case Category"]
[]
["Case","Category",null,"Total # of Documents Filed","Documents Filed InCourt","Documents Filed Informix","Documents e-Filed","Total Docs Auto-Docketed","% of TOTAL InCourt","% of TOTAL Informix","% of TOTAL e-Filed","Total % of Documents Auto Docketed"]
["AP","APPEALS",null,null,null,null,null,{"$f":"SUM(G7)","v":0},{"$f":"IF($D7>0,E7/$D7,0)","v":0},{"$f":"IF($D7>0,F7/$D7,0)","v":0},{"$f":"IF($D7>0,G7/$D7,0)","v":0},{"$f":"SUM(I7:K7)","v":0}]
["CA","CIRCUIT CIVIL",null,null,null,null,null,0,{"$f":"IF($D8>0,E8/$D8,0)","v":0},0,0,{"$f":"SUM(I8:K8)","v":0}]
["SC","COUNTY CIVIL SMALL CLAIMS",null,null,null,null,null,0,0,0,0,0]
["DR","CIRCUIT CIVIL FAMILY",null,null,null,null,null,0,0,0,0,0]
["CP","CIRCUIT CIVIL PROBATE",null,null,null,null,null,0,0,0,0,0]
["GA","CIRCUIT CIVIL GUARDIANSHIP",null,null,null,null,null,0,0,0,0,0]
["MH","CIRCUIT CIVIL MENTAL HEALTH",null,null,null,null,null,0,0,0,0,0]
["CC","COUNTY CIVIL",null,null,null,null,null,0,0,0,0,0]
["DP","CIRCUIT JUVENILE DEPENDENCY",null,null,null,null,null,0,0,0,0,0]
["TOTAL OF CIVIL DOCUMENTS",null,null,{"$f":"SUM(D7:D15)","v":0},{"$f":"SUM(E7:E15)","v":0},{"$f":"SUM(F7:F15)","v":0},{"$f":"SUM(G7:G15)","v":0},0,{"$f":"IF($D16>0,E16/$D16,0)","v":0},{"$f":"IF($D16>0,F16/$D16,0)","v":0},{"$f":"IF($D16>0,G16/$D16,0)","v":0},0]
["."]
["CJ","CIRCUIT JUVENILE DELINQUENCY",null,null,null,null,null,0,{"$f":"IF($D18>0,E18/$D18,0)","v":0},0,0,0]
["CF","CIRCUIT CRIMINAL FELONY",null,null,null,null,null,0,0,0,0,0]
["MM","COUNTY CRIMINAL MISDEMEANOR",null,null,null,null,null,0,0,0,0,0]
["CO","COUNTY ORDINANCE",null,null,null,null,null,0,0,0,0,0]
["MO","COUNTY COURT MUNICIPAL ORDINANCE",null,null,null,null,null,0,0,0,0,0]
["IN","COUNTY COURT INFRACTIONS",null,null,null,null,null,0,0,0,0,0]
["CT","COUNTY CRIMINAL TRAFFIC",null,null,null,null,null,0,0,0,0,0]
["TOTAL OF CRIMINAL DOCUMENTS",null,null,{"$f":"SUM(D18:D24)","v":0},{"$f":"SUM(E18:E24)","v":0},{"$f":"SUM(F18:F24)","v":0},{"$f":"SUM(G18:G24)","v":0},{"$f":"SUM(E25:G25)","v":0},{"$f":"IF($D25>0,E25/$D25,0)","v":0},0,0,{"$f":"IF(G25>0,H25/$D25,0)","v":0}]
[]
["TR","COUNTY CIVIL TRAFFIC",null,null,null,null,null,{"$f":"SUM(E27:G27)","v":0},{"$f":"IF($D27>0,E27/$D27,0)","v":0},{"$f":"IF($D27>0,F27/$D27,0)","v":0},0,0]
[]
["TOTAL ALL COURT DOCUMENTS",null,null,{"$f":"D16+D25+D27","v":0},{"$f":"E16+E25+E27","v":0},{"$f":"F16+F25+F27","v":0},{"$f":"G16+G25+G27","v":0},{"$f":"SUM(E29:G29)","v":0},{"$f":"IF($D29>0,E29/$D29,0)","v":0},{"$f":"IF($D29>0,F29/$D29,0)","v":0},0,0]

{"sheet":"DEC","index":11,"n_rows":29,"n_cols":12,"rows_kept":29,"cut":false,"hidden":false,"merged":[[0,0,0,11],[1,0,1,11],[2,0,2,11],[3,0,3,11],[28,0,28,2],[5,1,5,2],[6,1,6,2],[16,0,16,11],[25,0,25,11],[27,0,27,11]]}
["CLERK OF THE COURTS"]
["BREVARD COUNTY, FLORIDA"]
["Document Source Statistics December 2017"]
["Number of Documents Filed by Case Category"]
[]
["Case","Category",null,"Total # of Documents Filed","Documents Filed InCourt","Documents Filed Informix","Documents e-Filed","Total Docs Auto-Docketed","% of TOTAL InCourt","% of TOTAL Informix","% of TOTAL e-Filed","Total % of Documents Auto Docketed"]
["AP","APPEALS",null,null,null,null,null,{"$f":"SUM(G7)","v":0},{"$f":"IF($D7>0,E7/$D7,0)","v":0},{"$f":"IF($D7>0,F7/$D7,0)","v":0},{"$f":"IF($D7>0,G7/$D7,0)","v":0},{"$f":"SUM(I7:K7)","v":0}]
["CA","CIRCUIT CIVIL",null,null,null,null,null,0,{"$f":"IF($D8>0,E8/$D8,0)","v":0},0,0,{"$f":"SUM(I8:K8)","v":0}]
["SC","COUNTY CIVIL SMALL CLAIMS",null,null,null,null,null,0,0,0,0,0]
["DR","CIRCUIT CIVIL FAMILY",null,null,null,null,null,0,0,0,0,0]
["CP","CIRCUIT CIVIL PROBATE",null,null,null,null,null,0,0,0,0,0]
["GA","CIRCUIT CIVIL GUARDIANSHIP",null,null,null,null,null,0,0,0,0,0]
["MH","CIRCUIT CIVIL MENTAL HEALTH",null,null,null,null,null,0,0,0,0,0]
["CC","COUNTY CIVIL",null,null,null,null,null,0,0,0,0,0]
["DP","CIRCUIT JUVENILE DEPENDENCY",null,null,null,null,null,0,0,0,0,0]
["TOTAL OF CIVIL DOCUMENTS",null,null,{"$f":"SUM(D7:D15)","v":0},{"$f":"SUM(E7:E15)","v":0},{"$f":"SUM(F7:F15)","v":0},{"$f":"SUM(G7:G15)","v":0},0,{"$f":"IF($D16>0,E16/$D16,0)","v":0},{"$f":"IF($D16>0,F16/$D16,0)","v":0},{"$f":"IF($D16>0,G16/$D16,0)","v":0},0]
["."]
["CJ","CIRCUIT JUVENILE DELINQUENCY",null,null,null,null,null,0,{"$f":"IF($D18>0,E18/$D18,0)","v":0},0,0,0]
["CF","CIRCUIT CRIMINAL FELONY",null,null,null,null,null,0,0,0,0,0]
["MM","COUNTY CRIMINAL MISDEMEANOR",null,null,null,null,null,0,0,0,0,0]
["CO","COUNTY ORDINANCE",null,null,null,null,null,0,0,0,0,0]
["MO","COUNTY COURT MUNICIPAL ORDINANCE",null,null,null,null,null,0,0,0,0,0]
["IN","COUNTY COURT INFRACTIONS",null,null,null,null,null,0,0,0,0,0]
["CT","COUNTY CRIMINAL TRAFFIC",null,null,null,null,null,0,0,0,0,0]
["TOTAL OF CRIMINAL DOCUMENTS",null,null,{"$f":"SUM(D18:D24)","v":0},{"$f":"SUM(E18:E24)","v":0},{"$f":"SUM(F18:F24)","v":0},{"$f":"SUM(G18:G24)","v":0},{"$f":"SUM(E25:G25)","v":0},{"$f":"IF($D25>0,E25/$D25,0)","v":0},0,0,{"$f":"IF(G25>0,H25/$D25,0)","v":0}]
[]
["TR","COUNTY CIVIL TRAFFIC",null,null,null,null,null,{"$f":"SUM(E27:G27)","v":0},{"$f":"IF($D27>0,E27/$D27,0)","v":0},{"$f":"IF($D27>0,F27/$D27,0)","v":0},0,0]
[]
["TOTAL ALL COURT DOCUMENTS",null,null,{"$f":"D16+D25+D27","v":0},{"$f":"E16+E25+E27","v":0},{"$f":"F16+F25+F27","v":0},{"$f":"G16+G25+G27","v":0},{"$f":"SUM(E29:G29)","v":0},{"$f":"IF($D29>0,E29/$D29,0)","v":0},{"$f":"IF($D29>0,F29/$D29,0)","v":0},0,0]

{"sheet":"SUMMARY","index":12,"n_rows":29,"n_cols":12,"rows_kept":29,"cut":false,"hidden":false,"merged":[[16,0,16,11],[25,0,25,11],[27,0,27,11],[28,0,28,2],[0,0,0,11],[1,0,1,11],[2,0,2,11],[3,0,3,11],[5,1,5,2],[6,1,6,2]]}
["CLERK OF THE COURTS"]
["BREVARD COUNTY, FLORIDA"]
["Document Source Statistics January 1, 2017 - December 31, 2017"]
["Number of Documents Filed by Case Category"]
[]
["Case","Category",null,"Total # of Documents Filed","Documents Filed InCourt","Documents Filed Informix","Documents e-Filed","Total Docs Auto-Docketed","% of TOTAL InCourt","% of TOTAL Informix","% of TOTAL e-Filed","Total % of Documents Auto Docketed"]
["AP","APPEALS",null,{"$f":"JAN!D7+FEB!D7+MAR!D7+APR!D7+MAY!D7+JUN!D7+JUL!D7+AUG!D7+SEP!D7+OCT!D7+NOV!D7+DEC!D7","v":63},0,{"$f":"JAN!F7+FEB!F7+MAR!F7+APR!F7+MAY!F7+JUN!F7+JUL!F7+AUG!F7+SEP!F7+OCT!F7+NOV!F7+DEC!F7","v":0},{"$f":"JAN!G7+FEB!G7+MAR!G7+APR!G7+MAY!G7+JUN!G7+JUL!G7+AUG!G7+SEP!G7+OCT!G7+NOV!G7+DEC!G7","v":50},{"$f":"E7+F7+G7","v":50},{"$f":"IF($D7>0,E7/$D7,0)","v":0},{"$f":"IF($D7>0,F7/$D7,0)","v":0},{"$f":"IF($D7>0,G7/$D7,0)","v":0.79365079365079361},{"$f":"SUM(I7:K7)","v":0.79365079365079361}]
["CA","CIRCUIT CIVIL",null,{"$f":"JAN!D8+FEB!D8+MAR!D8+APR!D8+MAY!D8+JUN!D8+JUL!D8+AUG!D8+SEP!D8+OCT!D8+NOV!D8+DEC!D8","v":16052},{"$f":"JAN!E8+FEB!E8+MAR!E8+APR!E8+MAY!E8+JUN!E8+JUL!E8+AUG!E8+SEP!E8+OCT!E8+NOV!E8+DEC!E8","v":0},0,{"$f":"JAN!G8+FEB!G8+MAR!G8+APR!G8+MAY!G8+JUN!G8+JUL!G8+AUG!G8+SEP!G8+OCT!G8+NOV!G8+DEC!G8","v":13249},{"$f":"E8+F8+G8","v":13249},{"$f":"IF($D8>0,E8/$D8,0)","v":0},0,0.82538001495140789,{"$f":"SUM(I8:K8)","v":0.82538001495140789}]
["SC","COUNTY CIVIL SMALL CLAIMS",null,{"$f":"JAN!D9+FEB!D9+MAR!D9+APR!D9+MAY!D9+JUN!D9+JUL!D9+AUG!D9+SEP!D9+OCT!D9+NOV!D9+DEC!D9","v":4365},{"$f":"JAN!E9+FEB!E9+MAR!E9+APR!E9+MAY!E9+JUN!E9+JUL!E9+AUG!E9+SEP!E9+OCT!E9+NOV!E9+DEC!E9","v":0},{"$f":"JAN!F9+FEB!F9+MAR!F9+APR!F9+MAY!F9+JUN!F9+JUL!F9+AUG!F9+SEP!F9+OCT!F9+NOV!F9+DEC!F9","v":0},{"$f":"JAN!G9+FEB!G9+MAR!G9+APR!G9+MAY!G9+JUN!G9+JUL!G9+AUG!G9+SEP!G9+OCT!G9+NOV!G9+DEC!G9","v":3534},3534,0,0,0.80962199312714778,0.80962199312714778]
["DR","CIRCUIT CIVIL FAMILY",null,{"$f":"JAN!D10+FEB!D10+MAR!D10+APR!D10+MAY!D10+JUN!D10+JUL!D10+AUG!D10+SEP!D10+OCT!D10+NOV!D10+DEC!D10","v":14919},{"$f":"JAN!E10+FEB!E10+MAR!E10+APR!E10+MAY!E10+JUN!E10+JUL!E10+AUG!E10+SEP!E10+OCT!E10+NOV!E10+DEC!E10","v":0},{"$f":"JAN!F10+FEB!F10+MAR!F10+APR!F10+MAY!F10+JUN!F10+JUL!F10+AUG!F10+SEP!F10+OCT!F10+NOV!F10+DEC!F10","v":0},{"$f":"JAN!G10+FEB!G10+MAR!G10+APR!G10+MAY!G10+JUN!G10+JUL!G10+AUG!G10+SEP!G10+OCT!G10+NOV!G10+DEC!G10","v":7590},7590,0,0,0.50874723506937458,0.50874723506937458]
["CP","CIRCUIT CIVIL PROBATE",null,{"$f":"JAN!D11+FEB!D11+MAR!D11+APR!D11+MAY!D11+JUN!D11+JUL!D11+AUG!D11+SEP!D11+OCT!D11+NOV!D11+DEC!D11","v":4084},{"$f":"JAN!E11+FEB!E11+MAR!E11+APR!E11+MAY!E11+JUN!E11+JUL!E11+AUG!E11+SEP!E11+OCT!E11+NOV!E11+DEC!E11","v":0},{"$f":"JAN!F11+FEB!F11+MAR!F11+APR!F11+MAY!F11+JUN!F11+JUL!F11+AUG!F11+SEP!F11+OCT!F11+NOV!F11+DEC!F11","v":0},{"$f":"JAN!G11+FEB!G11+MAR!G11+APR!G11+MAY!G11+JUN!G11+JUL!G11+AUG!G11+SEP!G11+OCT!G11+NOV!G11+DEC!G11","v":3358},3358,0,0,0.82223310479921641,0.82223310479921641]
["GA","CIRCUIT CIVIL GUARDIANSHIP",null,{"$f":"JAN!D12+FEB!D12+MAR!D12+APR!D12+MAY!D12+JUN!D12+JUL!D12+AUG!D12+SEP!D12+OCT!D12+NOV!D12+DEC!D12","v":1536},{"$f":"JAN!E12+FEB!E12+MAR!E12+APR!E12+MAY!E12+JUN!E12+JUL!E12+AUG!E12+SEP!E12+OCT!E12+NOV!E12+DEC!E12","v":0},{"$f":"JAN!F12+FEB!F12+MAR!F12+APR!F12+MAY!F12+JUN!F12+JUL!F12+AUG!F12+SEP!F12+OCT!F12+NOV!F12+DEC!F12","v":0},{"$f":"JAN!G12+FEB!G12+MAR!G12+APR!G12+MAY!G12+JUN!G12+JUL!G12+AUG!G12+SEP!G12+OCT!G12+NOV!G12+DEC!G12","v":1438},1438,0,0,0.93619791666666663,0.93619791666666663]
["MH","CIRCUIT CIVIL MENTAL HEALTH",null,{"$f":"JAN!D13+FEB!D13+MAR!D13+APR!D13+MAY!D13+JUN!D13+JUL!D13+AUG!D13+SEP!D13+OCT!D13+NOV!D13+DEC!D13","v":716},{"$f":"JAN!E13+FEB!E13+MAR!E13+APR!E13+MAY!E13+JUN!E13+JUL!E13+AUG!E13+SEP!E13+OCT!E13+NOV!E13+DEC!E13","v":0},{"$f":"JAN!F13+FEB!F13+MAR!F13+APR!F13+MAY!F13+JUN!F13+JUL!F13+AUG!F13+SEP!F13+OCT!F13+NOV!F13+DEC!F13","v":0},{"$f":"JAN!G13+FEB!G13+MAR!G13+APR!G13+MAY!G13+JUN!G13+JUL!G13+AUG!G13+SEP!G13+OCT!G13+NOV!G13+DEC!G13","v":262},262,0,0,0.36592178770949718,0.36592178770949718]
["CC","COUNTY CIVIL",null,{"$f":"JAN!D14+FEB!D14+MAR!D14+APR!D14+MAY!D14+JUN!D14+JUL!D14+AUG!D14+SEP!D14+OCT!D14+NOV!D14+DEC!D14","v":5146},{"$f":"JAN!E14+FEB!E14+MAR!E14+APR!E14+MAY!E14+JUN!E14+JUL!E14+AUG!E14+SEP!E14+OCT!E14+NOV!E14+DEC!E14","v":0},{"$f":"JAN!F14+FEB!F14+MAR!F14+APR!F14+MAY!F14+JUN!F14+JUL!F14+AUG!F14+SEP!F14+OCT!F14+NOV!F14+DEC!F14","v":0},{"$f":"JAN!G14+FEB!G14+MAR!G14+APR!G14+MAY!G14+JUN!G14+JUL!G14+AUG!G14+SEP!G14+OCT!G14+NOV!G14+DEC!G14","v":3484},3484,0,0,0.6770307034589973,0.6770307034589973]
["DP","CIRCUIT JUVENILE DEPENDENCY",null,{"$f":"JAN!D15+FEB!D15+MAR!D15+APR!D15+MAY!D15+JUN!D15+JUL!D15+AUG!D15+SEP!D15+OCT!D15+NOV!D15+DEC!D15","v":2913},{"$f":"JAN!E15+FEB!E15+MAR!E15+APR!E15+MAY!E15+JUN!E15+JUL!E15+AUG!E15+SEP!E15+OCT!E15+NOV!E15+DEC!E15","v":0},{"$f":"JAN!F15+FEB!F15+MAR!F15+APR!F15+MAY!F15+JUN!F15+JUL!F15+AUG!F15+SEP!F15+OCT!F15+NOV!F15+DEC!F15","v":0},{"$f":"JAN!G15+FEB!G15+MAR!G15+APR!G15+MAY!G15+JUN!G15+JUL!G15+AUG!G15+SEP!G15+OCT!G15+NOV!G15+DEC!G15","v":2111},2111,0,0,0.72468245794713348,0.72468245794713348]
["TOTAL OF CIVIL DOCUMENTS",null,null,{"$f":"SUM(D7:D15)","v":49794},{"$f":"SUM(E7:E15)","v":0},0,{"$f":"SUM(G7:G15)","v":35076},{"$f":"SUM(H7:H15)","v":35076},{"$f":"IF($D16>0,E16/$D16,0)","v":0},{"$f":"IF($D16>0,F16/$D16,0)","v":0},{"$f":"IF($D16>0,G16/$D16,0)","v":0.70442221954452344},0.70442221954452344]
[]
["CJ","CIRCUIT JUVENILE DELINQUENCY",null,{"$f":"JAN!D18+FEB!D18+MAR!D18+APR!D18+MAY!D18+JUN!D18+JUL!D18+AUG!D18+SEP!D18+OCT!D18+NOV!D18+DEC!D18","v":7766},{"$f":"JAN!E18+FEB!E18+MAR!E18+APR!E18+MAY!E18+JUN!E18+JUL!E18+AUG!E18+SEP!E18+OCT!E18+NOV!E18+DEC!E18","v":5335},{"$f":"JAN!F18+FEB!F18+MAR!F18+APR!F18+MAY!F18+JUN!F18+JUL!F18+AUG!F18+SEP!F18+OCT!F18+NOV!F18+DEC!F18","v":10},{"$f":"JAN!G18+FEB!G18+MAR!G18+APR!G18+MAY!G18+JUN!G18+JUL!G18+AUG!G18+SEP!G18+OCT!G18+NOV!G18+DEC!G18","v":1259},{"$f":"SUM(E18:G18)","v":6604},{"$f":"IF($D18>0,E18/$D18,0)","v":0.68696883852691215},1.2876641771825909E-3,0.16211691990728819,{"$f":"SUM(I18:K18)","v":0.85037342261138293}]
["CF","CIRCUIT CRIMINAL FELONY",null,{"$f":"JAN!D19+FEB!D19+MAR!D19+APR!D19+MAY!D19+JUN!D19+JUL!D19+AUG!D19+SEP!D19+OCT!D19+NOV!D19+DEC!D19","v":29385},{"$f":"JAN!E19+FEB!E19+MAR!E19+APR!E19+MAY!E19+JUN!E19+JUL!E19+AUG!E19+SEP!E19+OCT!E19+NOV!E19+DEC!E19","v":9575},{"$f":"JAN!F19+FEB!F19+MAR!F19+APR!F19+MAY!F19+JUN!F19+JUL!F19+AUG!F19+SEP!F19+OCT!F19+NOV!F19+DEC!F19","v":457},{"$f":"JAN!G19+FEB!G19+MAR!G19+APR!G19+MAY!G19+JUN!G19+JUL!G19+AUG!G19+SEP!G19+OCT!G19+NOV!G19+DEC!G19","v":7106},{"$f":"SUM(E19:G19)","v":17138},0.32584652033350348,1.555215245873745E-2,0.24182405989450401,0.58322273268674496]
["MM","COUNTY CRIMINAL MISDEMEANOR",null,{"$f":"JAN!D20+FEB!D20+MAR!D20+APR!D20+MAY!D20+JUN!D20+JUL!D20+AUG!D20+SEP!D20+OCT!D20+NOV!D20+DEC!D20","v":13824},{"$f":"JAN!E20+FEB!E20+MAR!E20+APR!E20+MAY!E20+JUN!E20+JUL!E20+AUG!E20+SEP!E20+OCT!E20+NOV!E20+DEC!E20","v":5803},{"$f":"JAN!F20+FEB!F20+MAR!F20+APR!F20+MAY!F20+JUN!F20+JUL!F20+AUG!F20+SEP!F20+OCT!F20+NOV!F20+DEC!F20","v":156},{"$f":"JAN!G20+FEB!G20+MAR!G20+APR!G20+MAY!G20+JUN!G20+JUL!G20+AUG!G20+SEP!G20+OCT!G20+NOV!G20+DEC!G20","v":2247},8206,0.41977719907407407,1.1284722222222222E-2,0.16254340277777779,0.59360532407407407]
["CO","COUNTY ORDINANCE",null,{"$f":"JAN!D21+FEB!D21+MAR!D21+APR!D21+MAY!D21+JUN!D21+JUL!D21+AUG!D21+SEP!D21+OCT!D21+NOV!D21+DEC!D21","v":61},{"$f":"JAN!E21+FEB!E21+MAR!E21+APR!E21+MAY!E21+JUN!E21+JUL!E21+AUG!E21+SEP!E21+OCT!E21+NOV!E21+DEC!E21","v":23},{"$f":"JAN!F21+FEB!F21+MAR!F21+APR!F21+MAY!F21+JUN!F21+JUL!F21+AUG!F21+SEP!F21+OCT!F21+NOV!F21+DEC!F21","v":0},{"$f":"JAN!G21+FEB!G21+MAR!G21+APR!G21+MAY!G21+JUN!G21+JUL!G21+AUG!G21+SEP!G21+OCT!G21+NOV!G21+DEC!G21","v":7},30,0.37704918032786883,0,0.11475409836065574,0.49180327868852458]
["MO","COUNTY COURT MUNICIPAL ORDINANCE",null,{"$f":"JAN!D22+FEB!D22+MAR!D22+APR!D22+MAY!D22+JUN!D22+JUL!D22+AUG!D22+SEP!D22+OCT!D22+NOV!D22+DEC!D22","v":149},{"$f":"JAN!E22+FEB!E22+MAR!E22+APR!E22+MAY!E22+JUN!E22+JUL!E22+AUG!E22+SEP!E22+OCT!E22+NOV!E22+DEC!E22","v":79},{"$f":"JAN!F22+FEB!F22+MAR!F22+APR!F22+MAY!F22+JUN!F22+JUL!F22+AUG!F22+SEP!F22+OCT!F22+NOV!F22+DEC!F22","v":6},{"$f":"JAN!G22+FEB!G22+MAR!G22+APR!G22+MAY!G22+JUN!G22+JUL!G22+AUG!G22+SEP!G22+OCT!G22+NOV!G22+DEC!G22","v":17},102,0.53020134228187921,4.0268456375838924E-2,0.11409395973154363,0.68456375838926165]
["IN","COUNTY COURT INFRACTIONS",null,{"$f":"JAN!D23+FEB!D23+MAR!D23+APR!D23+MAY!D23+JUN!D23+JUL!D23+AUG!D23+SEP!D23+OCT!D23+NOV!D23+DEC!D23","v":652},{"$f":"JAN!E23+FEB!E23+MAR!E23+APR!E23+MAY!E23+JUN!E23+JUL!E23+AUG!E23+SEP!E23+OCT!E23+NOV!E23+DEC!E23","v":25},{"$f":"JAN!F23+FEB!F23+MAR!F23+APR!F23+MAY!F23+JUN!F23+JUL!F23+AUG!F23+SEP!F23+OCT!F23+NOV!F23+DEC!F23","v":0},{"$f":"JAN!G23+FEB!G23+MAR!G23+APR!G23+MAY!G23+JUN!G23+JUL!G23+AUG!G23+SEP!G23+OCT!G23+NOV!G23+DEC!G23","v":4},29,3.834355828220859E-2,0,6.1349693251533744E-3,4.4478527607361963E-2]
["CT","COUNTY CRIMINAL TRAFFIC",null,{"$f":"JAN!D24+FEB!D24+MAR!D24+APR!D24+MAY!D24+JUN!D24+JUL!D24+AUG!D24+SEP!D24+OCT!D24+NOV!D24+DEC!D24","v":12023},{"$f":"JAN!E24+FEB!E24+MAR!E24+APR!E24+MAY!E24+JUN!E24+JUL!E24+AUG!E24+SEP!E24+OCT!E24+NOV!E24+DEC!E24","v":5761},{"$f":"JAN!F24+FEB!F24+MAR!F24+APR!F24+MAY!F24+JUN!F24+JUL!F24+AUG!F24+SEP!F24+OCT!F24+NOV!F24+DEC!F24","v":291},{"$f":"JAN!G24+FEB!G24+MAR!G24+APR!G24+MAY!G24+JUN!G24+JUL!G24+AUG!G24+SEP!G24+OCT!G24+NOV!G24+DEC!G24","v":1575},7627,0.47916493387673625,2.4203609747983034E-2,0.13099891873908343,0.6343674623638027]
["TOTAL OF CRIMINAL DOCUMENTS",null,null,{"$f":"SUM(D18:D24)","v":63860},{"$f":"SUM(E18:E24)","v":26601},{"$f":"SUM(F18:F24)","v":920},12215,39736,{"$f":"IF($D25>0,E25/$D25,0)","v":0.41655183213279046},1.4406514249921704E-2,0.19127779517694957,{"$f":"IF(G25>0,H25/$D25,0)","v":0.62223614155966178}]
[]
["TR","COUNTY CIVIL TRAFFIC",null,{"$f":"JAN!D27+FEB!D27+MAR!D27+APR!D27+MAY!D27+JUN!D27+JUL!D27+AUG!D27+SEP!D27+OCT!D27+NOV!D27+DEC!D27","v":8812},{"$f":"JAN!E27+FEB!E27+MAR!E27+APR!E27+MAY!E27+JUN!E27+JUL!E27+AUG!E27+SEP!E27+OCT!E27+NOV!E27+DEC!E27","v":792},{"$f":"JAN!F27+FEB!F27+MAR!F27+APR!F27+MAY!F27+JUN!F27+JUL!F27+AUG!F27+SEP!F27+OCT!F27+NOV!F27+DEC!F27","v":1828},{"$f":"JAN!G27+FEB!G27+MAR!G27+APR!G27+MAY!G27+JUN!G27+JUL!G27+AUG!G27+SEP!G27+OCT!G27+NOV!G27+DEC!G27","v":213},{"$f":"SUM(E27:G27)","v":2833},{"$f":"IF($D27>0,E27/$D27,0)","v":8.9877439854743529E-2},{"$f":"IF($D27>0,F27/$D27,0)","v":0.20744439400817066},2.4171584203359055E-2,0.32149341806627324]
[]
["TOTAL ALL COURT DOCUMENTS",null,null,{"$f":"D16+D25+D27","v":122466},{"$f":"E16+E25+E27","v":27393},{"$f":"F16+F25+F27","v":2748},{"$f":"G16+G25+G27","v":47504},{"$f":"SUM(E29:G29)","v":77645},{"$f":"IF($D29>0,E29/$D29,0)","v":0.22367840870119055},{"$f":"IF($D29>0,F29/$D29,0)","v":2.2438880995541619E-2},0.38789541587052734,0.63401270556725953]