{"text_format":"1","workbook":"xlsx","n_sheets":13,"sheets":["JAN","FEB","MAR","APR","MAY","JUN","JUL","AUG","SEP","OCT","NOV","DEC","SUMMARY"],"not_rendered":{"charts":0,"images":0,"macros":0,"external_links":0,"defined_names":6,"comments":0,"pivot_tables":0},"unopened":[],"bounds":{"document_bytes":16777216,"sheet_cells":100000,"rows_first":2000,"rows_last":500,"rows_between":2000,"halvings":0,"cell_chars":16384,"cell_head_chars":4096},"cells_cut":0,"cells_raw":0,"read":"whole","date_system":"1900"}

{"sheet":"JAN","index":0,"n_rows":29,"n_cols":12,"rows_kept":29,"cut":false,"hidden":false,"merged":[[28,0,28,2],[25,0,25,11],[16,0,16,11],[6,1,6,2],[27,0,27,11],[0,0,0,11],[1,0,1,11],[2,0,2,11],[3,0,3,11],[5,1,5,2]]}
["CLERK OF THE COURTS"]
["BREVARD COUNTY, FLORIDA"]
[{"$f":"\"Document Source Statistics January \"&yr","v":"Document Source Statistics January 2018"}]
["Number of Documents Filed by Case Category"]
[]
["Case","Category",null,"Total # of Documents Filed","Documents Filed InCourt","Documents Filed Informix","Documents e-Filed","Total Docs Auto-Docketed","% of TOTAL InCourt","% of TOTAL Informix","% of TOTAL e-Filed","Total % of Documents Auto Docketed"]
["AP","APPEALS",null,56,0,0,44,{"$f":"SUM(G7)","v":44},{"$f":"IF($D7>0,E7/$D7,0)","v":0},{"$f":"IF($D7>0,F7/$D7,0)","v":0},{"$f":"IF($D7>0,G7/$D7,0)","v":0.7857142857142857},{"$f":"SUM(I7:K7)","v":0.7857142857142857}]
["CA","CIRCUIT CIVIL",null,16019,0,1,13426,13426,{"$f":"IF($D8>0,E8/$D8,0)","v":0},6.2425869280229721E-5,0.83812972095636429,{"$f":"SUM(I8:K8)","v":0.83819214682564447}]
["SC","COUNTY CIVIL SMALL CLAIMS",null,5162,0,0,3994,3994,0,0,0.77373111197210387,0.77373111197210387]
["DR","CIRCUIT CIVIL FAMILY",null,16306,0,0,8761,8761,0,0,0.53728688826198945,0.53728688826198945]
["CP","CIRCUIT CIVIL PROBATE",null,4476,0,0,3838,3838,0,0,0.85746201966041113,0.85746201966041113]
["GA","CIRCUIT CIVIL GUARDIANSHIP",null,1965,0,0,1901,1901,0,0,0.96743002544529266,0.96743002544529266]
["MH","CIRCUIT CIVIL MENTAL HEALTH",null,839,0,0,565,565,0,0,0.67342073897497023,0.67342073897497023]
["CC","COUNTY CIVIL",null,6316,0,0,4137,4137,0,0,0.65500316656111468,0.65500316656111468]
["DP","CIRCUIT JUVENILE DEPENDENCY",null,2317,0,0,1838,1838,0,0,0.79326715580492013,0.79326715580492013]
["TOTAL OF CIVIL DOCUMENTS",null,null,{"$f":"SUM(D7:D15)","v":53456},0,{"$f":"SUM(F7:F15)","v":1},{"$f":"SUM(G7:G15)","v":38504},38504,{"$f":"IF($D16>0,E16/$D16,0)","v":0},{"$f":"IF($D16>0,F16/$D16,0)","v":1.8706973959892249E-5},{"$f":"IF($D16>0,G16/$D16,0)","v":0.7202933253516911},0.720312032325651]
["."]
["CJ","CIRCUIT JUVENILE DELINQUENCY",null,6329,3993,7,1242,1242,{"$f":"IF($D18>0,E18/$D18,0)","v":0.63090535629641331},{"$f":"IF($D18>0,F18/$D18,0)","v":1.1060199083583505E-3},{"$f":"IF($D18>0,G18/$D18,0)","v":0.19623953231158162},0.8282509085163533]
["CF","CIRCUIT CRIMINAL FELONY",null,33378,10235,505,8390,8390,0.30663910360117441,1.5129726166936305E-2,0.25136317334771408,0.5731320031158248]
["MM","COUNTY CRIMINAL MISDEMEANOR",null,14758,6692,169,2432,2432,0.45344897682612822,1.1451416181054344E-2,0.16479197723268735,0.6296923702398699]
["CO","COUNTY ORDINANCE",null,20,11,0,4,4,0.55000000000000004,0,0.2,0.75]
["MO","COUNTY COURT MUNICIPAL ORDINANCE",null,102,51,4,9,9,0.5,3.9215686274509803E-2,8.8235294117647065E-2,0.62745098039215685]
["IN","COUNTY COURT INFRACTIONS",null,788,55,0,3,3,6.9796954314720813E-2,0,3.8071065989847717E-3,7.3604060913705582E-2]
["CT","COUNTY CRIMINAL TRAFFIC",null,14200,7602,356,1846,1846,0.53535211267605631,2.5070422535211266E-2,0.13,0.69042253521126762]
["TOTAL OF CRIMINAL DOCUMENTS",null,null,{"$f":"SUM(D18:D24)","v":69575},{"$f":"SUM(E18:E24)","v":28639},{"$f":"SUM(F18:F24)","v":1041},{"$f":"SUM(G18:G24)","v":13926},{"$f":"SUM(E25:G25)","v":43606},{"$f":"IF($D25>0,E25/$D25,0)","v":0.41162773984908374},1.4962270930650378E-2,0.20015810276679841,{"$f":"IF(G25>0,H25/$D25,0)","v":0.62674811354653248}]
[]
["TR","COUNTY CIVIL TRAFFIC",null,11537,1393,2955,352,{"$f":"SUM(E27:G27)","v":4700},{"$f":"IF($D27>0,E27/$D27,0)","v":0.12074196064834879},{"$f":"IF($D27>0,F27/$D27,0)","v":0.25613244344283609},3.0510531333968971E-2,0.40738493542515386]
[]
["TOTAL ALL COURT DOCUMENTS",null,null,{"$f":"D16+D25+D27","v":134568},{"$f":"E16+E25+E27","v":30032},{"$f":"F16+F25+F27","v":3997},{"$f":"G16+G25+G27","v":52782},{"$f":"SUM(E29:G29)","v":86811},{"$f":"IF($D29>0,E29/$D29,0)","v":0.22317341418465014},{"$f":"IF($D29>0,F29/$D29,0)","v":2.9702455264253018E-2},0.39223292313179953,0.64510879258070264]

{"sheet":"FEB","index":1,"n_rows":29,"n_cols":12,"rows_kept":29,"cut":false,"hidden":false,"merged":[[28,0,28,2],[0,0,0,11],[1,0,1,11],[2,0,2,11],[3,0,3,11],[5,1,5,2],[6,1,6,2],[27,0,27,11],[16,0,16,11],[25,0,25,11]]}
["CLERK OF THE COURTS"]
["BREVARD COUNTY, FLORIDA"]
[{"$f":"\"Document Source Statistics February \"&yr","v":"Document Source Statistics February 2018"}]
["Number of Documents Filed by Case Category"]
[]
["Case","Category",null,"Total # of Documents Filed","Documents Filed InCourt","Documents Filed Informix","Documents e-Filed","Total Docs Auto-Docketed","% of TOTAL InCourt","% of TOTAL Informix","% of TOTAL e-Filed","Total % of Documents Auto Docketed"]
["AP","APPEALS",null,77,0,0,65,{"$f":"SUM(G7)","v":65},{"$f":"IF($D7>0,E7/$D7,0)","v":0},{"$f":"IF($D7>0,F7/$D7,0)","v":0},{"$f":"IF($D7>0,G7/$D7,0)","v":0.8441558441558441},{"$f":"SUM(I7:K7)","v":0.8441558441558441}]
["CA","CIRCUIT CIVIL",null,15696,0,0,13415,13415,{"$f":"IF($D8>0,E8/$D8,0)","v":0},0,0.85467635066258918,{"$f":"SUM(I8:K8)","v":0.85467635066258918}]
["SC","COUNTY CIVIL SMALL CLAIMS",null,3699,0,0,2918,2918,0,0,0.78886185455528524,0.78886185455528524]
["DR","CIRCUIT CIVIL FAMILY",null,15072,0,0,7883,7883,0,0,0.52302282377919318,0.52302282377919318]
["CP","CIRCUIT CIVIL PROBATE",null,4332,0,0,3640,3640,0,0,0.84025854108956599,0.84025854108956599]
["GA","CIRCUIT CIVIL GUARDIANSHIP",null,1768,0,0,1717,1717,0,0,0.97115384615384615,0.97115384615384615]
["MH","CIRCUIT CIVIL MENTAL HEALTH",null,747,0,0,477,477,0,0,0.63855421686746983,0.63855421686746983]
["CC","COUNTY CIVIL",null,4794,0,0,3251,3251,0,0,0.6781393408427201,0.6781393408427201]
["DP","CIRCUIT JUVENILE DEPENDENCY",null,2484,0,1,1917,1917,0,4.0257648953301127E-4,0.77173913043478259,0.77214170692431561]
["TOTAL OF CIVIL DOCUMENTS",null,null,{"$f":"SUM(D7:D15)","v":48669},{"$f":"SUM(E7:E15)","v":0},{"$f":"SUM(F7:F15)","v":1},{"$f":"SUM(G7:G15)","v":35283},35283,{"$f":"IF($D16>0,E16/$D16,0)","v":0},{"$f":"IF($D16>0,F16/$D16,0)","v":2.054696007725657E-5},{"$f":"IF($D16>0,G16/$D16,0)","v":0.72495839240584359},0.72497893936592084]
["."]
["CJ","CIRCUIT JUVENILE DELINQUENCY",null,6129,3669,1,1372,1372,{"$f":"IF($D18>0,E18/$D18,0)","v":0.59862946647087611},1.6315875346712352E-4,0.22385380975689345,0.8226464349812368]
["CF","CIRCUIT CRIMINAL FELONY",null,31104,9494,515,7466,7466,0.30523405349794236,1.6557355967078188E-2,0.24003343621399176,0.56182484567901225]
["MM","COUNTY CRIMINAL MISDEMEANOR",null,12905,5535,126,2029,2029,0.42890352576520729,9.7636574970941491E-3,0.15722588144130181,0.59589306470360326]
["CO","COUNTY ORDINANCE",null,58,19,0,6,6,0.32758620689655171,0,0.10344827586206896,0.43103448275862066]
["MO","COUNTY COURT MUNICIPAL ORDINANCE",null,58,18,4,5,5,0.31034482758620691,6.8965517241379309E-2,8.6206896551724144E-2,0.46551724137931033]
["IN","COUNTY COURT INFRACTIONS",null,800,30,0,8,8,3.7499999999999999E-2,0,0.01,4.7500000000000001E-2]
["CT","COUNTY CRIMINAL TRAFFIC",null,12560,3730,349,1494,1494,0.29697452229299365,2.7786624203821657E-2,0.11894904458598726,0.44371019108280257]
["TOTAL OF CRIMINAL DOCUMENTS",null,null,{"$f":"SUM(D18:D24)","v":63614},{"$f":"SUM(E18:E24)","v":22495},{"$f":"SUM(F18:F24)","v":995},{"$f":"SUM(G18:G24)","v":12380},{"$f":"SUM(E25:G25)","v":35870},{"$f":"IF($D25>0,E25/$D25,0)","v":0.35361712830509007},1.5641211054170465E-2,0.19461124909611091,{"$f":"IF(G25>0,H25/$D25,0)","v":0.5638695884553715}]
[]
["TR","COUNTY CIVIL TRAFFIC",null,9392,936,2445,259,{"$f":"SUM(E27:G27)","v":3640},{"$f":"IF($D27>0,E27/$D27,0)","v":9.9659284497444628E-2},{"$f":"IF($D27>0,F27/$D27,0)","v":0.26032793867120951},2.7576660988074958E-2,0.38756388415672915]
[]
["TOTAL ALL COURT DOCUMENTS",null,null,{"$f":"D16+D25+D27","v":121675},{"$f":"E16+E25+E27","v":23431},{"$f":"F16+F25+F27","v":3441},{"$f":"G16+G25+G27","v":47922},{"$f":"SUM(E29:G29)","v":74794},{"$f":"IF($D29>0,E29/$D29,0)","v":0.19257037189233614},{"$f":"IF($D29>0,F29/$D29,0)","v":2.8280254777070062E-2},0.39385247585781796,0.61470310252722415]

{"sheet":"MAR","index":2,"n_rows":29,"n_cols":12,"rows_kept":29,"cut":false,"hidden":false,"merged":[[0,0,0,11],[1,0,1,11],[2,0,2,11],[3,0,3,11],[5,1,5,2],[6,1,6,2],[27,0,27,11],[28,0,28,2],[16,0,16,11],[25,0,25,11]]}
["CLERK OF THE COURTS"]
["BREVARD COUNTY, FLORIDA"]
[{"$f":"\"Document Source Statistics March \"&yr","v":"Document Source Statistics March 2018"}]
["Number of Documents Filed by Case Category"]
[]
["Case","Category",null,"Total # of Documents Filed","Documents Filed InCourt","Documents Filed Informix","Documents e-Filed","Total Docs Auto-Docketed","% of TOTAL InCourt","% of TOTAL Informix","% of TOTAL e-Filed","Total % of Documents Auto Docketed"]
["AP","APPEALS",null,107,0,0,61,{"$f":"SUM(G7)","v":61},{"$f":"IF($D7>0,E7/$D7,0)","v":0},{"$f":"IF($D7>0,F7/$D7,0)","v":0},{"$f":"IF($D7>0,G7/$D7,0)","v":0.57009345794392519},{"$f":"SUM(I7:K7)","v":0.57009345794392519}]
["CA","CIRCUIT CIVIL",null,17821,0,0,14914,14914,{"$f":"IF($D8>0,E8/$D8,0)","v":0},0,0.8368778407496773,{"$f":"SUM(I8:K8)","v":0.8368778407496773}]
["SC","COUNTY CIVIL SMALL CLAIMS",null,5615,0,0,4369,4369,0,0,0.77809439002671421,0.77809439002671421]
["DR","CIRCUIT CIVIL FAMILY",null,16855,0,0,8474,8474,0,0,0.5027588252743993,0.5027588252743993]
["CP","CIRCUIT CIVIL PROBATE",null,4760,0,0,3995,3995,0,0,0.8392857142857143,0.8392857142857143]
["GA","CIRCUIT CIVIL GUARDIANSHIP",null,1866,0,0,1805,1805,0,0,0.96730975348338688,0.96730975348338688]
["MH","CIRCUIT CIVIL MENTAL HEALTH",null,828,0,0,572,572,0,0,0.6908212560386473,0.6908212560386473]
["CC","COUNTY CIVIL",null,5590,0,0,3840,3840,0,0,0.6869409660107334,0.6869409660107334]
["DP","CIRCUIT JUVENILE DEPENDENCY",null,2501,0,0,1904,1904,0,0,0.76129548180727713,0.76129548180727713]
["TOTAL OF CIVIL DOCUMENTS",null,null,{"$f":"SUM(D7:D15)","v":55943},{"$f":"SUM(E7:E15)","v":0},{"$f":"SUM(F7:F15)","v":0},{"$f":"SUM(G7:G15)","v":39934},39934,{"$f":"IF($D16>0,E16/$D16,0)","v":0},{"$f":"IF($D16>0,F16/$D16,0)","v":0},{"$f":"IF($D16>0,G16/$D16,0)","v":0.71383372361153319},0.71383372361153319]
["."]
["CJ","CIRCUIT JUVENILE DELINQUENCY",null,6918,4089,4,1435,1435,{"$f":"IF($D18>0,E18/$D18,0)","v":0.59106678230702514},5.7820179242555657E-4,0.2074298930326684,0.799074877132119]
["CF","CIRCUIT CRIMINAL FELONY",null,33759,10012,438,8454,8454,0.29657276578097691,1.2974317959655203E-2,0.25042210965964634,0.5599691934002784]
["MM","COUNTY CRIMINAL MISDEMEANOR",null,13828,5767,171,2218,2218,0.41705235753543535,1.2366213479895864E-2,0.16039919004917558,0.58981776106450678]
["CO","COUNTY ORDINANCE",null,45,30,0,1,1,0.66666666666666663,0,2.2222222222222223E-2,0.68888888888888888]
["MO","COUNTY COURT MUNICIPAL ORDINANCE",null,98,22,5,11,11,0.22448979591836735,5.1020408163265307E-2,0.11224489795918367,0.38775510204081631]
["IN","COUNTY COURT INFRACTIONS",null,674,42,0,2,2,6.2314540059347182E-2,0,2.967359050445104E-3,6.5281899109792291E-2]
["CT","COUNTY CRIMINAL TRAFFIC",null,13586,7122,453,1838,1838,0.52421610481377889,3.3343147357573974E-2,0.13528632415722067,0.69284557632857346]
["TOTAL OF CRIMINAL DOCUMENTS",null,null,{"$f":"SUM(D18:D24)","v":68908},{"$f":"SUM(E18:E24)","v":27084},{"$f":"SUM(F18:F24)","v":1071},{"$f":"SUM(G18:G24)","v":13959},{"$f":"SUM(E25:G25)","v":42114},{"$f":"IF($D25>0,E25/$D25,0)","v":0.39304580019736463},1.5542462413652987E-2,0.20257444708887212,{"$f":"IF(G25>0,H25/$D25,0)","v":0.61116270969988973}]
[]
["TR","COUNTY CIVIL TRAFFIC",null,10606,1384,2979,306,{"$f":"SUM(E27:G27)","v":4669},{"$f":"IF($D27>0,E27/$D27,0)","v":0.13049217424099566},{"$f":"IF($D27>0,F27/$D27,0)","v":0.28087874787855932},2.8851593437676785E-2,0.44022251555723174]
[]
["TOTAL ALL COURT DOCUMENTS",null,null,{"$f":"D16+D25+D27","v":135457},{"$f":"E16+E25+E27","v":28468},{"$f":"F16+F25+F27","v":4050},{"$f":"G16+G25+G27","v":54199},{"$f":"SUM(E29:G29)","v":86717},{"$f":"IF($D29>0,E29/$D29,0)","v":0.21016263463682203},{"$f":"IF($D29>0,F29/$D29,0)","v":2.9898787068959154E-2},0.40011959514827583,0.64018101685405704]

{"sheet":"APR","index":3,"n_rows":29,"n_cols":12,"rows_kept":29,"cut":false,"hidden":false,"merged":[[0,0,0,11],[1,0,1,11],[2,0,2,11],[3,0,3,11],[28,0,28,2],[25,0,25,11],[16,0,16,11],[5,1,5,2],[6,1,6,2],[27,0,27,11]]}
["CLERK OF THE COURTS"]
["BREVARD COUNTY, FLORIDA"]
[{"$f":"\"Document Source Statistics April \"&yr","v":"Document Source Statistics April 2018"}]
["Number of Documents Filed by Case Category"]
[]
["Case","Category",null,"Total # of Documents Filed","Documents Filed InCourt","Documents Filed Informix","Documents e-Filed","Total Docs Auto-Docketed","% of TOTAL InCourt","% of TOTAL Informix","% of TOTAL e-Filed","Total % of Documents Auto Docketed"]
["AP","APPEALS",null,81,0,0,54,{"$f":"SUM(G7)","v":54},{"$f":"IF($D7>0,E7/$D7,0)","v":0},{"$f":"IF($D7>0,F7/$D7,0)","v":0},{"$f":"IF($D7>0,G7/$D7,0)","v":0.66666666666666663},{"$f":"SUM(I7:K7)","v":0.66666666666666663}]
["CA","CIRCUIT CIVIL",null,17030,0,0,14154,14154,{"$f":"IF($D8>0,E8/$D8,0)","v":0},0,0.8311215502055197,{"$f":"SUM(I8:K8)","v":0.8311215502055197}]
["SC","COUNTY CIVIL SMALL CLAIMS",null,4976,0,0,3871,3871,0,0,0.77793408360128613,0.77793408360128613]
["DR","CIRCUIT CIVIL FAMILY",null,16652,0,0,8466,8466,0,0,0.50840739851068939,0.50840739851068939]
["CP","CIRCUIT CIVIL PROBATE",null,4494,0,0,3763,3763,0,0,0.83733867378727189,0.83733867378727189]
["GA","CIRCUIT CIVIL GUARDIANSHIP",null,1840,0,0,1780,1780,0,0,0.96739130434782605,0.96739130434782605]
["MH","CIRCUIT CIVIL MENTAL HEALTH",null,726,0,0,505,505,0,0,0.69559228650137739,0.69559228650137739]
["CC","COUNTY CIVIL",null,5514,0,0,3875,3875,0,0,0.70275661951396451,0.70275661951396451]
["DP","CIRCUIT JUVENILE DEPENDENCY",null,2381,0,0,1862,1862,0,0,0.7820243595128098,0.7820243595128098]
["TOTAL OF CIVIL DOCUMENTS",null,null,{"$f":"SUM(D7:D15)","v":53694},{"$f":"SUM(E7:E15)","v":0},{"$f":"SUM(F7:F15)","v":0},{"$f":"SUM(G7:G15)","v":38330},38330,{"$f":"IF($D16>0,E16/$D16,0)","v":0},{"$f":"IF($D16>0,F16/$D16,0)","v":0},{"$f":"IF($D16>0,G16/$D16,0)","v":0.71386002160390361},0.71386002160390361]
[]
["CJ","CIRCUIT JUVENILE DELINQUENCY",null,5026,3241,4,937,937,{"$f":"IF($D18>0,E18/$D18,0)","v":0.64484679665738165},7.9586152009550337E-4,0.18643056108237166,0.83207321925984878]
["CF","CIRCUIT CRIMINAL FELONY",null,31222,8920,457,7873,7873,0.28569598360130677,1.463711485491E-2,0.25216193709563767,0.55249503555185442]
["MM","COUNTY CRIMINAL MISDEMEANOR",null,15240,6099,211,2473,2473,0.40019685039370079,1.384514435695538E-2,0.16227034120734909,0.57631233595800524]
["CO","COUNTY ORDINANCE",null,108,21,2,6,6,0.19444444444444445,1.8518518518518517E-2,5.5555555555555552E-2,0.26851851851851849]
["MO","COUNTY COURT MUNICIPAL ORDINANCE",null,136,24,11,28,28,0.17647058823529413,8.0882352941176475E-2,0.20588235294117646,0.46323529411764708]
["IN","COUNTY COURT INFRACTIONS",null,563,39,0,0,0,6.9271758436944941E-2,0,0,6.9271758436944941E-2]
["CT","COUNTY CRIMINAL TRAFFIC",null,13667,7058,533,1797,1797,0.51642642862369215,3.8999048803687715E-2,0.13148459793663569,0.6869100753640156]
["TOTAL OF CRIMINAL DOCUMENTS",null,null,{"$f":"SUM(D18:D24)","v":65962},{"$f":"SUM(E18:E24)","v":25402},{"$f":"SUM(F18:F24)","v":1218},{"$f":"SUM(G18:G24)","v":13114},{"$f":"SUM(E25:G25)","v":39734},{"$f":"IF($D25>0,E25/$D25,0)","v":0.38510051241623966},1.8465176920044873E-2,0.19881143688790515,{"$f":"IF(G25>0,H25/$D25,0)","v":0.60237712622418971}]
[]
["TR","COUNTY CIVIL TRAFFIC",null,10928,1233,2966,284,{"$f":"SUM(E27:G27)","v":4483},{"$f":"IF($D27>0,E27/$D27,0)","v":0.1128294289897511},{"$f":"IF($D27>0,F27/$D27,0)","v":0.27141288433382138},2.5988286969253295E-2,0.41023060029282576]
[]
["TOTAL ALL COURT DOCUMENTS",null,null,{"$f":"D16+D25+D27","v":130584},{"$f":"E16+E25+E27","v":26635},{"$f":"F16+F25+F27","v":4184},{"$f":"G16+G25+G27","v":51728},{"$f":"SUM(E29:G29)","v":82547},{"$f":"IF($D29>0,E29/$D29,0)","v":0.20396832690069228},{"$f":"IF($D29>0,F29/$D29,0)","v":3.2040678796789804E-2},0.39612816271518714,0.6321371684126692]

{"sheet":"MAY","index":4,"n_rows":29,"n_cols":12,"rows_kept":29,"cut":false,"hidden":false,"merged":[[0,0,0,11],[1,0,1,11],[2,0,2,11],[3,0,3,11],[28,0,28,2],[25,0,25,11],[16,0,16,11],[5,1,5,2],[6,1,6,2],[27,0,27,11]]}
["CLERK OF THE COURTS"]
["BREVARD COUNTY, FLORIDA"]
[{"$f":"\"Document Source Statistics May \"&yr","v":"Document Source Statistics May 2018"}]
["Number of Documents Filed by Case Category"]
[]
["Case","Category",null,"Total # of Documents Filed","Documents Filed InCourt","Documents Filed Informix","Documents e-Filed","Total Docs Auto-Docketed","% of TOTAL InCourt","% of TOTAL Informix","% of TOTAL e-Filed","Total % of Documents Auto Docketed"]
["AP","APPEALS",null,null,null,null,null,{"$f":"SUM(G7)","v":0},{"$f":"IF($D7>0,E7/$D7,0)","v":0},{"$f":"IF($D7>0,F7/$D7,0)","v":0},{"$f":"IF($D7>0,G7/$D7,0)","v":0},{"$f":"SUM(I7:K7)","v":0}]
["CA","CIRCUIT CIVIL",null,null,null,null,null,0,{"$f":"IF($D8>0,E8/$D8,0)","v":0},0,0,{"$f":"SUM(I8:K8)","v":0}]
["SC","COUNTY CIVIL SMALL CLAIMS",null,null,null,null,null,0,0,0,0,0]
["DR","CIRCUIT CIVIL FAMILY",null,null,null,null,null,0,0,0,0,0]
["CP","CIRCUIT CIVIL PROBATE",null,null,null,null,null,0,0,0,0,0]
["GA","CIRCUIT CIVIL GUARDIANSHIP",null,null,null,null,null,0,0,0,0,0]
["MH","CIRCUIT CIVIL MENTAL HEALTH",null,null,null,null,null,0,0,0,0,0]
["CC","COUNTY CIVIL",null,null,null,null,null,0,0,0,0,0]
["DP","CIRCUIT JUVENILE DEPENDENCY",null,null,null,null,null,0,0,0,0,0]
["TOTAL OF CIVIL DOCUMENTS",null,null,{"$f":"SUM(D7:D15)","v":0},{"$f":"SUM(E7:E15)","v":0},{"$f":"SUM(F7:F15)","v":0},{"$f":"SUM(G7:G15)","v":0},0,{"$f":"IF($D16>0,E16/$D16,0)","v":0},{"$f":"IF($D16>0,F16/$D16,0)","v":0},{"$f":"IF($D16>0,G16/$D16,0)","v":0},0]
["."]
["CJ","CIRCUIT JUVENILE DELINQUENCY",null,null,null,null,null,0,{"$f":"IF($D18>0,E18/$D18,0)","v":0},0,0,0]
["CF","CIRCUIT CRIMINAL FELONY",null,null,null,null,null,0,0,0,0,0]
["MM","COUNTY CRIMINAL MISDEMEANOR",null,null,null,null,null,0,0,0,0,0]
["CO","COUNTY ORDINANCE",null,null,null,null,null,0,0,0,0,0]
["MO","COUNTY COURT MUNICIPAL ORDINANCE",null,null,null,null,null,0,0,0,0,0]
["IN","COUNTY COURT INFRACTIONS",null,null,null,null,null,0,0,0,0,0]
["CT","COUNTY CRIMINAL TRAFFIC",null,null,null,null,null,0,0,0,0,0]
["TOTAL OF CRIMINAL DOCUMENTS",null,null,{"$f":"SUM(D18:D24)","v":0},{"$f":"SUM(E18:E24)","v":0},{"$f":"SUM(F18:F24)","v":0},{"$f":"SUM(G18:G24)","v":0},{"$f":"SUM(E25:G25)","v":0},{"$f":"IF($D25>0,E25/$D25,0)","v":0},0,0,{"$f":"IF(G25>0,H25/$D25,0)","v":0}]
[]
["TR","COUNTY CIVIL TRAFFIC",null,null,null,null,null,{"$f":"SUM(E27:G27)","v":0},{"$f":"IF($D27>0,E27/$D27,0)","v":0},{"$f":"IF($D27>0,F27/$D27,0)","v":0},0,0]
[]
["TOTAL ALL COURT DOCUMENTS",null,null,{"$f":"D16+D25+D27","v":0},{"$f":"E16+E25+E27","v":0},{"$f":"F16+F25+F27","v":0},{"$f":"G16+G25+G27","v":0},{"$f":"SUM(E29:G29)","v":0},{"$f":"IF($D29>0,E29/$D29,0)","v":0},{"$f":"IF($D29>0,F29/$D29,0)","v":0},0,0]

{"sheet":"JUN","index":5,"n_rows":29,"n_cols":12,"rows_kept":29,"cut":false,"hidden":false,"merged":[[0,0,0,11],[1,0,1,11],[2,0,2,11],[3,0,3,11],[28,0,28,2],[5,1,5,2],[6,1,6,2],[16,0,16,11],[25,0,25,11],[27,0,27,11]]}
["CLERK OF THE COURTS"]
["BREVARD COUNTY, FLORIDA"]
[{"$f":"\"Document Source Statistics June \"&yr","v":"Document Source Statistics June 2018"}]
["Number of Documents Filed by Case Category"]
[]
["Case","Category",null,"Total # of Documents Filed","Documents Filed InCourt","Documents Filed Informix","Documents e-Filed","Total Docs Auto-Docketed","% of TOTAL InCourt","% of TOTAL Informix","% of TOTAL e-Filed","Total % of Documents Auto Docketed"]
["AP","APPEALS",null,null,null,null,null,{"$f":"SUM(G7)","v":0},{"$f":"IF($D7>0,E7/$D7,0)","v":0},{"$f":"IF($D7>0,F7/$D7,0)","v":0},{"$f":"IF($D7>0,G7/$D7,0)","v":0},{"$f":"SUM(I7:K7)","v":0}]
["CA","CIRCUIT CIVIL",null,null,null,null,null,0,{"$f":"IF($D8>0,E8/$D8,0)","v":0},0,0,{"$f":"SUM(I8:K8)","v":0}]
["SC","COUNTY CIVIL SMALL CLAIMS",null,null,null,null,null,0,0,0,0,0]
["DR","CIRCUIT CIVIL FAMILY",null,null,null,null,null,0,0,0,0,0]
["CP","CIRCUIT CIVIL PROBATE",null,null,null,null,null,0,0,0,0,0]
["GA","CIRCUIT CIVIL GUARDIANSHIP",null,null,null,null,null,0,0,0,0,0]
["MH","CIRCUIT CIVIL MENTAL HEALTH",null,null,null,null,null,0,0,0,0,0]
["CC","COUNTY CIVIL",null,null,null,null,null,0,0,0,0,0]
["DP","CIRCUIT JUVENILE DEPENDENCY",null,null,null,null,null,0,0,0,0,0]
["TOTAL OF CIVIL DOCUMENTS",null,null,{"$f":"SUM(D7:D15)","v":0},{"$f":"SUM(E7:E15)","v":0},{"$f":"SUM(F7:F15)","v":0},{"$f":"SUM(G7:G15)","v":0},0,{"$f":"IF($D16>0,E16/$D16,0)","v":0},{"$f":"IF($D16>0,F16/$D16,0)","v":0},{"$f":"IF($D16>0,G16/$D16,0)","v":0},0]
["."]
["CJ","CIRCUIT JUVENILE DELINQUENCY",null,null,null,null,null,0,{"$f":"IF($D18>0,E18/$D18,0)","v":0},0,0,0]
["CF","CIRCUIT CRIMINAL FELONY",null,null,null,null,null,0,0,0,0,0]
["MM","COUNTY CRIMINAL MISDEMEANOR",null,null,null,null,null,0,0,0,0,0]
["CO","COUNTY ORDINANCE",null,null,null,null,null,0,0,0,0,0]
["MO","COUNTY COURT MUNICIPAL ORDINANCE",null,null,null,null,null,0,0,0,0,0]
["IN","COUNTY COURT INFRACTIONS",null,null,null,null,null,0,0,0,0,0]
["CT","COUNTY CRIMINAL TRAFFIC",null,null,null,null,null,0,0,0,0,0]
["TOTAL OF CRIMINAL DOCUMENTS",null,null,{"$f":"SUM(D18:D24)","v":0},{"$f":"SUM(E18:E24)","v":0},{"$f":"SUM(F18:F24)","v":0},{"$f":"SUM(G18:G24)","v":0},{"$f":"SUM(E25:G25)","v":0},{"$f":"IF($D25>0,E25/$D25,0)","v":0},0,0,{"$f":"IF(G25>0,H25/$D25,0)","v":0}]
[]
["TR","COUNTY CIVIL TRAFFIC",null,null,null,null,null,{"$f":"SUM(E27:G27)","v":0},{"$f":"IF($D27>0,E27/$D27,0)","v":0},{"$f":"IF($D27>0,F27/$D27,0)","v":0},0,0]
[]
["TOTAL ALL COURT DOCUMENTS",null,null,{"$f":"D16+D25+D27","v":0},{"$f":"E16+E25+E27","v":0},{"$f":"F16+F25+F27","v":0},{"$f":"G16+G25+G27","v":0},{"$f":"SUM(E29:G29)","v":0},{"$f":"IF($D29>0,E29/$D29,0)","v":0},{"$f":"IF($D29>0,F29/$D29,0)","v":0},0,0]

{"sheet":"JUL","index":6,"n_rows":29,"n_cols":12,"rows_kept":29,"cut":false,"hidden":false,"merged":[[0,0,0,11],[1,0,1,11],[2,0,2,11],[3,0,3,11],[28,0,28,2],[5,1,5,2],[6,1,6,2],[16,0,16,11],[25,0,25,11],[27,0,27,11]]}
["CLERK OF THE COURTS"]
["BREVARD COUNTY, FLORIDA"]
[{"$f":"\"Document Source Statistics July \"&yr","v":"Document Source Statistics July 2018"}]
["Number of Documents Filed by Case Category"]
[]
["Case","Category",null,"Total # of Documents Filed","Documents Filed InCourt","Documents Filed Informix","Documents e-Filed","Total Docs Auto-Docketed","% of TOTAL InCourt","% of TOTAL Informix","% of TOTAL e-Filed","Total % of Documents Auto Docketed"]
["AP","APPEALS",null,null,null,null,null,{"$f":"SUM(G7)","v":0},{"$f":"IF($D7>0,E7/$D7,0)","v":0},{"$f":"IF($D7>0,F7/$D7,0)","v":0},{"$f":"IF($D7>0,G7/$D7,0)","v":0},{"$f":"SUM(I7:K7)","v":0}]
["CA","CIRCUIT CIVIL",null,null,null,null,null,0,{"$f":"IF($D8>0,E8/$D8,0)","v":0},0,0,{"$f":"SUM(I8:K8)","v":0}]
["SC","COUNTY CIVIL SMALL CLAIMS",null,null,null,null,null,0,0,0,0,0]
["DR","CIRCUIT CIVIL FAMILY",null,null,null,null,null,0,0,0,0,0]
["CP","CIRCUIT CIVIL PROBATE",null,null,null,null,null,0,0,0,0,0]
["GA","CIRCUIT CIVIL GUARDIANSHIP",null,null,null,null,null,0,0,0,0,0]
["MH","CIRCUIT CIVIL MENTAL HEALTH",null,null,null,null,null,0,0,0,0,0]
["CC","COUNTY CIVIL",null,null,null,null,null,0,0,0,0,0]
["DP","CIRCUIT JUVENILE DEPENDENCY",null,null,null,null,null,0,0,0,0,0]
["TOTAL OF CIVIL DOCUMENTS",null,null,{"$f":"SUM(D7:D15)","v":0},{"$f":"SUM(E7:E15)","v":0},{"$f":"SUM(F7:F15)","v":0},{"$f":"SUM(G7:G15)","v":0},0,{"$f":"IF($D16>0,E16/$D16,0)","v":0},{"$f":"IF($D16>0,F16/$D16,0)","v":0},{"$f":"IF($D16>0,G16/$D16,0)","v":0},0]
["."]
["CJ","CIRCUIT JUVENILE DELINQUENCY",null,null,null,null,null,0,{"$f":"IF($D18>0,E18/$D18,0)","v":0},0,0,0]
["CF","CIRCUIT CRIMINAL FELONY",null,null,null,null,null,0,0,0,0,0]
["MM","COUNTY CRIMINAL MISDEMEANOR",null,null,null,null,null,0,0,0,0,0]
["CO","COUNTY ORDINANCE",null,null,null,null,null,0,0,0,0,0]
["MO","COUNTY COURT MUNICIPAL ORDINANCE",null,null,null,null,null,0,0,0,0,0]
["IN","COUNTY COURT INFRACTIONS",null,null,null,null,null,0,0,0,0,0]
["CT","COUNTY CRIMINAL TRAFFIC",null,null,null,null,null,0,0,0,0,0]
["TOTAL OF CRIMINAL DOCUMENTS",null,null,{"$f":"SUM(D18:D24)","v":0},{"$f":"SUM(E18:E24)","v":0},{"$f":"SUM(F18:F24)","v":0},{"$f":"SUM(G18:G24)","v":0},{"$f":"SUM(E25:G25)","v":0},{"$f":"IF($D25>0,E25/$D25,0)","v":0},0,0,{"$f":"IF(G25>0,H25/$D25,0)","v":0}]
[]
["TR","COUNTY CIVIL TRAFFIC",null,null,null,null,null,{"$f":"SUM(E27:G27)","v":0},{"$f":"IF($D27>0,E27/$D27,0)","v":0},{"$f":"IF($D27>0,F27/$D27,0)","v":0},0,0]
[]
["TOTAL ALL COURT DOCUMENTS",null,null,{"$f":"D16+D25+D27","v":0},{"$f":"E16+E25+E27","v":0},{"$f":"F16+F25+F27","v":0},{"$f":"G16+G25+G27","v":0},{"$f":"SUM(E29:G29)","v":0},{"$f":"IF($D29>0,E29/$D29,0)","v":0},{"$f":"IF($D29>0,F29/$D29,0)","v":0},0,0]

{"sheet":"AUG","index":7,"n_rows":29,"n_cols":12,"rows_kept":29,"cut":false,"hidden":false,"merged":[[0,0,0,11],[1,0,1,11],[2,0,2,11],[3,0,3,11],[28,0,28,2],[5,1,5,2],[6,1,6,2],[16,0,16,11],[25,0,25,11],[27,0,27,11]]}
["CLERK OF THE COURTS"]
["BREVARD COUNTY, FLORIDA"]
[{"$f":"\"Document Source Statistics August \"&yr","v":"Document Source Statistics August 2018"}]
["Number of Documents Filed by Case Category"]
[]
["Case","Category",null,"Total # of Documents Filed","Documents Filed InCourt","Documents Filed Informix","Documents e-Filed","Total Docs Auto-Docketed","% of TOTAL InCourt","% of TOTAL Informix","% of TOTAL e-Filed","Total % of Documents Auto Docketed"]
["AP","APPEALS",null,null,null,null,null,{"$f":"SUM(G7)","v":0},{"$f":"IF($D7>0,E7/$D7,0)","v":0},{"$f":"IF($D7>0,F7/$D7,0)","v":0},{"$f":"IF($D7>0,G7/$D7,0)","v":0},{"$f":"SUM(I7:K7)","v":0}]
["CA","CIRCUIT CIVIL",null,null,null,null,null,0,{"$f":"IF($D8>0,E8/$D8,0)","v":0},0,0,{"$f":"SUM(I8:K8)","v":0}]
["SC","COUNTY CIVIL SMALL CLAIMS",null,null,null,null,null,0,0,0,0,0]
["DR","CIRCUIT CIVIL FAMILY",null,null,null,null,null,0,0,0,0,0]
["CP","CIRCUIT CIVIL PROBATE",null,null,null,null,null,0,0,0,0,0]
["GA","CIRCUIT CIVIL GUARDIANSHIP",null,null,null,null,null,0,0,0,0,0]
["MH","CIRCUIT CIVIL MENTAL HEALTH",null,null,null,null,null,0,0,0,0,0]
["CC","COUNTY CIVIL",null,null,null,null,null,0,0,0,0,0]
["DP","CIRCUIT JUVENILE DEPENDENCY",null,null,null,null,null,0,0,0,0,0]
["TOTAL OF CIVIL DOCUMENTS",null,null,{"$f":"SUM(D7:D15)","v":0},{"$f":"SUM(E7:E15)","v":0},{"$f":"SUM(F7:F15)","v":0},{"$f":"SUM(G7:G15)","v":0},0,{"$f":"IF($D16>0,E16/$D16,0)","v":0},{"$f":"IF($D16>0,F16/$D16,0)","v":0},{"$f":"IF($D16>0,G16/$D16,0)","v":0},0]
["."]
["CJ","CIRCUIT JUVENILE DELINQUENCY",null,null,null,null,null,0,{"$f":"IF($D18>0,E18/$D18,0)","v":0},0,0,0]
["CF","CIRCUIT CRIMINAL FELONY",null,null,null,null,null,0,0,0,0,0]
["MM","COUNTY CRIMINAL MISDEMEANOR",null,null,null,null,null,0,0,0,0,0]
["CO","COUNTY ORDINANCE",null,null,null,null,null,0,0,0,0,0]
["MO","COUNTY COURT MUNICIPAL ORDINANCE",null,null,null,null,null,0,0,0,0,0]
["IN","COUNTY COURT INFRACTIONS",null,null,null,null,null,0,0,0,0,0]
["CT","COUNTY CRIMINAL TRAFFIC",null,null,null,null,null,0,0,0,0,0]
["TOTAL OF CRIMINAL DOCUMENTS",null,null,{"$f":"SUM(D18:D24)","v":0},{"$f":"SUM(E18:E24)","v":0},{"$f":"SUM(F18:F24)","v":0},{"$f":"SUM(G18:G24)","v":0},{"$f":"SUM(E25:G25)","v":0},{"$f":"IF($D25>0,E25/$D25,0)","v":0},0,0,{"$f":"IF(G25>0,H25/$D25,0)","v":0}]
[]
["TR","COUNTY CIVIL TRAFFIC",null,10461,1060,2205,355,{"$f":"SUM(E27:G27)","v":3620},{"$f":"IF($D27>0,E27/$D27,0)","v":0.10132874486186789},{"$f":"IF($D27>0,F27/$D27,0)","v":0.21078290794379123},3.3935570213172735E-2,0.34604722301883184]
[]
["TOTAL ALL COURT DOCUMENTS",null,null,{"$f":"D16+D25+D27","v":10461},{"$f":"E16+E25+E27","v":1060},{"$f":"F16+F25+F27","v":2205},{"$f":"G16+G25+G27","v":355},{"$f":"SUM(E29:G29)","v":3620},{"$f":"IF($D29>0,E29/$D29,0)","v":0.10132874486186789},{"$f":"IF($D29>0,F29/$D29,0)","v":0.21078290794379123},3.3935570213172735E-2,0.34604722301883184]

{"sheet":"SEP","index":8,"n_rows":29,"n_cols":12,"rows_kept":29,"cut":false,"hidden":false,"merged":[[0,0,0,11],[1,0,1,11],[2,0,2,11],[3,0,3,11],[28,0,28,2],[5,1,5,2],[6,1,6,2],[16,0,16,11],[25,0,25,11],[27,0,27,11]]}
["CLERK OF THE COURTS"]
["BREVARD COUNTY, FLORIDA"]
[{"$f":"\"Document Source Statistics September \"&yr","v":"Document Source Statistics September 2018"}]
["Number of Documents Filed by Case Category"]
[]
["Case","Category",null,"Total # of Documents Filed","Documents Filed InCourt","Documents Filed Informix","Documents e-Filed","Total Docs Auto-Docketed","% of TOTAL InCourt","% of TOTAL Informix","% of TOTAL e-Filed","Total % of Documents Auto Docketed"]
["AP","APPEALS",null,null,null,null,null,{"$f":"SUM(G7)","v":0},{"$f":"IF($D7>0,E7/$D7,0)","v":0},{"$f":"IF($D7>0,F7/$D7,0)","v":0},{"$f":"IF($D7>0,G7/$D7,0)","v":0},{"$f":"SUM(I7:K7)","v":0}]
["CA","CIRCUIT CIVIL",null,null,null,null,null,0,0,0,0,0]
["SC","COUNTY CIVIL SMALL CLAIMS",null,null,null,null,null,0,0,0,0,0]
["DR","CIRCUIT CIVIL FAMILY",null,null,null,null,null,0,0,0,0,0]
["CP","CIRCUIT CIVIL PROBATE",null,null,null,null,null,0,0,0,0,0]
["GA","CIRCUIT CIVIL GUARDIANSHIP",null,null,null,null,null,0,0,0,0,0]
["MH","CIRCUIT CIVIL MENTAL HEALTH",null,null,null,null,null,0,0,0,0,0]
["CC","COUNTY CIVIL",null,null,null,null,null,0,0,0,0,0]
["DP","CIRCUIT JUVENILE DEPENDENCY",null,null,null,null,null,0,0,0,0,0]
["TOTAL OF CIVIL DOCUMENTS",null,null,{"$f":"SUM(D7:D15)","v":0},{"$f":"SUM(E7:E15)","v":0},{"$f":"SUM(F7:F15)","v":0},{"$f":"SUM(G7:G15)","v":0},0,0,0,0,0]
["."]
["CJ","CIRCUIT JUVENILE DELINQUENCY",null,null,null,null,null,{"$f":"SUM(G18)","v":0},{"$f":"IF($D18>0,E18/$D18,0)","v":0},0,0,{"$f":"SUM(I18:K18)","v":0}]
["CF","CIRCUIT CRIMINAL FELONY",null,null,null,null,null,0,0,0,0,0]
["MM","COUNTY CRIMINAL MISDEMEANOR",null,null,null,null,null,0,0,0,0,0]
["CO","COUNTY ORDINANCE",null,null,null,null,null,0,0,0,0,0]
["MO","COUNTY COURT MUNICIPAL ORDINANCE",null,null,null,null,null,0,0,0,0,0]
["IN","COUNTY COURT INFRACTIONS",null,null,null,null,null,0,0,0,0,0]
["CT","COUNTY CRIMINAL TRAFFIC",null,null,null,null,null,0,0,0,0,0]
["TOTAL OF CRIMINAL DOCUMENTS",null,null,{"$f":"SUM(D18:D24)","v":0},{"$f":"SUM(E18:E24)","v":0},{"$f":"SUM(F18:F24)","v":0},{"$f":"SUM(G18:G24)","v":0},{"$f":"SUM(E25:G25)","v":0},0,0,0,{"$f":"IF(G25>0,H25/$D25,0)","v":0}]
[]
["TR","COUNTY CIVIL TRAFFIC",null,null,null,null,null,{"$f":"SUM(E27:G27)","v":0},{"$f":"IF($D27>0,E27/$D27,0)","v":0},{"$f":"IF($D27>0,F27/$D27,0)","v":0},{"$f":"IF($D27>0,G27/$D27,0)","v":0},{"$f":"IF($D27>0,H27/$D27,0)","v":0}]
[]
["TOTAL ALL COURT DOCUMENTS",null,null,{"$f":"D16+D25+D27","v":0},{"$f":"E16+E25+E27","v":0},{"$f":"F16+F25+F27","v":0},{"$f":"G16+G25+G27","v":0},{"$f":"SUM(E29:G29)","v":0},{"$f":"IF($D29>0,E29/$D29,0)","v":0},{"$f":"IF($D29>0,F29/$D29,0)","v":0},{"$f":"IF($D29>0,G29/$D29,0)","v":0},{"$f":"IF($D29>0,H29/$D29,0)","v":0}]

{"sheet":"OCT","index":9,"n_rows":29,"n_cols":12,"rows_kept":29,"cut":false,"hidden":false,"merged":[[0,0,0,11],[1,0,1,11],[2,0,2,11],[3,0,3,11],[5,1,5,2],[6,1,6,2],[16,0,16,11],[25,0,25,11],[27,0,27,11],[28,0,28,2]]}
["CLERK OF THE COURTS"]
["BREVARD COUNTY, FLORIDA"]
[{"$f":"\"Document Source Statistics October \"&yr","v":"Document Source Statistics October 2018"}]
["Number of Documents Filed by Case Category"]
[]
["Case","Category",null,"Total # of Documents Filed","Documents Filed InCourt","Documents Filed Informix","Documents e-Filed","Total Docs Auto-Docketed","% of TOTAL InCourt","% of TOTAL Informix","% of TOTAL e-Filed","Total % of Documents Auto Docketed"]
["AP","APPEALS",null,null,null,null,null,{"$f":"SUM(G7)","v":0},{"$f":"IF($D7>0,E7/$D7,0)","v":0},{"$f":"IF($D7>0,F7/$D7,0)","v":0},{"$f":"IF($D7>0,G7/$D7,0)","v":0},{"$f":"SUM(I7:K7)","v":0}]
["CA","CIRCUIT CIVIL",null,null,null,null,null,0,{"$f":"IF($D8>0,E8/$D8,0)","v":0},0,0,{"$f":"SUM(I8:K8)","v":0}]
["SC","COUNTY CIVIL SMALL CLAIMS",null,null,null,null,null,0,0,0,0,0]
["DR","CIRCUIT CIVIL FAMILY",null,null,null,null,null,0,0,0,0,0]
["CP","CIRCUIT CIVIL PROBATE",null,null,null,null,null,0,0,0,0,0]
["GA","CIRCUIT CIVIL GUARDIANSHIP",null,null,null,null,null,0,0,0,0,0]
["MH","CIRCUIT CIVIL MENTAL HEALTH",null,null,null,null,null,0,0,0,0,0]
["CC","COUNTY CIVIL",null,null,null,null,null,0,0,0,0,0]
["DP","CIRCUIT JUVENILE DEPENDENCY",null,null,null,null,null,0,0,0,0,0]
["TOTAL OF CIVIL DOCUMENTS",null,null,{"$f":"SUM(D7:D15)","v":0},{"$f":"SUM(E7:E15)","v":0},{"$f":"SUM(F7:F15)","v":0},{"$f":"SUM(G7:G15)","v":0},0,{"$f":"IF($D16>0,E16/$D16,0)","v":0},{"$f":"IF($D16>0,F16/$D16,0)","v":0},{"$f":"IF($D16>0,G16/$D16,0)","v":0},0]
[]
["CJ","CIRCUIT JUVENILE DELINQUENCY",null,null,null,null,null,0,{"$f":"IF($D18>0,E18/$D18,0)","v":0},0,0,0]
["CF","CIRCUIT CRIMINAL FELONY",null,null,null,null,null,0,0,0,0,0]
["MM","COUNTY CRIMINAL MISDEMEANOR",null,null,null,null,null,0,0,0,0,0]
["CO","COUNTY ORDINANCE",null,null,null,null,null,0,0,0,0,0]
["MO","COUNTY COURT MUNICIPAL ORDINANCE",null,null,null,null,null,0,0,0,0,0]
["IN","COUNTY COURT INFRACTIONS",null,null,null,null,null,0,0,0,0,0]
["CT","COUNTY CRIMINAL TRAFFIC",null,null,null,null,null,0,0,0,0,0]
["TOTAL OF CRIMINAL DOCUMENTS",null,null,{"$f":"SUM(D18:D24)","v":0},{"$f":"SUM(E18:E24)","v":0},{"$f":"SUM(F18:F24)","v":0},{"$f":"SUM(G18:G24)","v":0},{"$f":"SUM(E25:G25)","v":0},{"$f":"IF($D25>0,E25/$D25,0)","v":0},0,0,{"$f":"IF(G25>0,H25/$D25,0)","v":0}]
[]
["TR","COUNTY CIVIL TRAFFIC",null,null,null,null,null,{"$f":"SUM(E27:G27)","v":0},{"$f":"IF($D27>0,E27/$D27,0)","v":0},{"$f":"IF($D27>0,F27/$D27,0)","v":0},0,0]
[]
["TOTAL ALL COURT DOCUMENTS",null,null,{"$f":"D16+D25+D27","v":0},{"$f":"E16+E25+E27","v":0},{"$f":"F16+F25+F27","v":0},{"$f":"G16+G25+G27","v":0},{"$f":"SUM(E29:G29)","v":0},{"$f":"IF($D29>0,E29/$D29,0)","v":0},{"$f":"IF($D29>0,F29/$D29,0)","v":0},0,0]

{"sheet":"NOV","index":10,"n_rows":29,"n_cols":12,"rows_kept":29,"cut":false,"hidden":false,"merged":[[0,0,0,11],[1,0,1,11],[2,0,2,11],[3,0,3,11],[28,0,28,2],[5,1,5,2],[6,1,6,2],[16,0,16,11],[25,0,25,11],[27,0,27,11]]}
["CLERK OF THE COURTS"]
["BREVARD COUNTY, FLORIDA"]
[{"$f":"\"Document Source Statistics November \"&yr","v":"Document Source Statistics November 2018"}]
["Number of Documents Filed by Case Category"]
[]
["Case","Category",null,"Total # of Documents Filed","Documents Filed InCourt","Documents Filed Informix","Documents e-Filed","Total Docs Auto-Docketed","% of TOTAL InCourt","% of TOTAL Informix","% of TOTAL e-Filed","Total % of Documents Auto Docketed"]
["AP","APPEALS",null,null,null,null,null,{"$f":"SUM(G7)","v":0},{"$f":"IF($D7>0,E7/$D7,0)","v":0},{"$f":"IF($D7>0,F7/$D7,0)","v":0},{"$f":"IF($D7>0,G7/$D7,0)","v":0},{"$f":"SUM(I7:K7)","v":0}]
["CA","CIRCUIT CIVIL",null,null,null,null,null,0,{"$f":"IF($D8>0,E8/$D8,0)","v":0},{"$f":"IF($D8>0,F8/$D8,0)","v":0},{"$f":"IF($D8>0,G8/$D8,0)","v":0},{"$f":"SUM(I8:K8)","v":0}]
["SC","COUNTY CIVIL SMALL CLAIMS",null,null,null,null,null,0,0,0,0,0]
["DR","CIRCUIT CIVIL FAMILY",null,null,null,null,null,0,0,0,0,0]
["CP","CIRCUIT CIVIL PROBATE",null,null,null,null,null,0,0,0,0,0]
["GA","CIRCUIT CIVIL GUARDIANSHIP",null,null,null,null,null,0,0,0,0,0]
["MH","CIRCUIT CIVIL MENTAL HEALTH",null,null,null,null,null,0,0,0,0,0]
["CC","COUNTY CIVIL",null,null,null,null,null,0,0,0,0,0]
["DP","CIRCUIT JUVENILE DEPENDENCY",null,null,null,null,null,0,0,0,0,0]
["TOTAL OF CIVIL DOCUMENTS",null,null,{"$f":"SUM(D7:D15)","v":0},{"$f":"SUM(E7:E15)","v":0},{"$f":"SUM(F7:F15)","v":0},{"$f":"SUM(G7:G15)","v":0},{"$f":"SUM(G16)","v":0},0,{"$f":"IF($D16>0,F16/$D16,0)","v":0},0,0]
["."]
["CJ","CIRCUIT JUVENILE DELINQUENCY",null,null,null,null,null,0,{"$f":"IF($D18>0,E18/$D18,0)","v":0},0,0,0]
["CF","CIRCUIT CRIMINAL FELONY",null,null,null,null,null,0,0,0,0,0]
["MM","COUNTY CRIMINAL MISDEMEANOR",null,null,null,null,null,0,0,0,0,0]
["CO","COUNTY ORDINANCE",null,null,null,null,null,0,0,0,0,0]
["MO","COUNTY COURT MUNICIPAL ORDINANCE",null,null,null,null,null,0,0,0,0,0]
["IN","COUNTY COURT INFRACTIONS",null,null,null,null,null,0,0,0,0,0]
["CT","COUNTY CRIMINAL TRAFFIC",null,null,null,null,null,0,0,0,0,0]
["TOTAL OF CRIMINAL DOCUMENTS",null,null,{"$f":"SUM(D18:D24)","v":0},{"$f":"SUM(E18:E24)","v":0},{"$f":"SUM(F18:F24)","v":0},{"$f":"SUM(G18:G24)","v":0},{"$f":"SUM(E25:G25)","v":0},{"$f":"IF($D25>0,E25/$D25,0)","v":0},0,0,{"$f":"IF(G25>0,H25/$D25,0)","v":0}]
[]
["TR","COUNTY CIVIL TRAFFIC",null,null,null,null,null,{"$f":"SUM(E27:G27)","v":0},{"$f":"IF($D27>0,E27/$D27,0)","v":0},{"$f":"IF($D27>0,F27/$D27,0)","v":0},0,0]
[]
["TOTAL ALL COURT DOCUMENTS",null,null,{"$f":"D16+D25+D27","v":0},{"$f":"E16+E25+E27","v":0},{"$f":"F16+F25+F27","v":0},{"$f":"G16+G25+G27","v":0},{"$f":"SUM(E29:G29)","v":0},{"$f":"IF($D29>0,E29/$D29,0)","v":0},{"$f":"IF($D29>0,F29/$D29,0)","v":0},0,0]

{"sheet":"DEC","index":11,"n_rows":29,"n_cols":12,"rows_kept":29,"cut":false,"hidden":false,"merged":[[0,0,0,11],[1,0,1,11],[2,0,2,11],[3,0,3,11],[28,0,28,2],[5,1,5,2],[6,1,6,2],[16,0,16,11],[25,0,25,11],[27,0,27,11]]}
["CLERK OF THE COURTS"]
["BREVARD COUNTY, FLORIDA"]
[{"$f":"\"Document Source Statistics December \"&yr","v":"Document Source Statistics December 2018"}]
["Number of Documents Filed by Case Category"]
[]
["Case","Category",null,"Total # of Documents Filed","Documents Filed InCourt","Documents Filed Informix","Documents e-Filed","Total Docs Auto-Docketed","% of TOTAL InCourt","% of TOTAL Informix","% of TOTAL e-Filed","Total % of Documents Auto Docketed"]
["AP","APPEALS",null,null,null,null,null,{"$f":"SUM(G7)","v":0},{"$f":"IF($D7>0,E7/$D7,0)","v":0},{"$f":"IF($D7>0,F7/$D7,0)","v":0},{"$f":"IF($D7>0,G7/$D7,0)","v":0},{"$f":"SUM(I7:K7)","v":0}]
["CA","CIRCUIT CIVIL",null,null,null,null,null,0,{"$f":"IF($D8>0,E8/$D8,0)","v":0},0,0,{"$f":"SUM(I8:K8)","v":0}]
["SC","COUNTY CIVIL SMALL CLAIMS",null,null,null,null,null,0,0,0,0,0]
["DR","CIRCUIT CIVIL FAMILY",null,null,null,null,null,0,0,0,0,0]
["CP","CIRCUIT CIVIL PROBATE",null,null,null,null,null,0,0,0,0,0]
["GA","CIRCUIT CIVIL GUARDIANSHIP",null,null,null,null,null,0,0,0,0,0]
["MH","CIRCUIT CIVIL MENTAL HEALTH",null,null,null,null,null,0,0,0,0,0]
["CC","COUNTY CIVIL",null,null,null,null,null,0,0,0,0,0]
["DP","CIRCUIT JUVENILE DEPENDENCY",null,null,null,null,null,0,0,0,0,0]
["TOTAL OF CIVIL DOCUMENTS",null,null,{"$f":"SUM(D7:D15)","v":0},{"$f":"SUM(E7:E15)","v":0},{"$f":"SUM(F7:F15)","v":0},{"$f":"SUM(G7:G15)","v":0},0,{"$f":"IF($D16>0,E16/$D16,0)","v":0},{"$f":"IF($D16>0,F16/$D16,0)","v":0},{"$f":"IF($D16>0,G16/$D16,0)","v":0},0]
["."]
["CJ","CIRCUIT JUVENILE DELINQUENCY",null,null,null,null,null,0,{"$f":"IF($D18>0,E18/$D18,0)","v":0},0,0,0]
["CF","CIRCUIT CRIMINAL FELONY",null,null,null,null,null,0,0,0,0,0]
["MM","COUNTY CRIMINAL MISDEMEANOR",null,null,null,null,null,0,0,0,0,0]
["CO","COUNTY ORDINANCE",null,null,null,null,null,0,0,0,0,0]
["MO","COUNTY COURT MUNICIPAL ORDINANCE",null,null,null,null,null,0,0,0,0,0]
["IN","COUNTY COURT INFRACTIONS",null,null,null,null,null,0,0,0,0,0]
["CT","COUNTY CRIMINAL TRAFFIC",null,null,null,null,null,0,0,0,0,0]
["TOTAL OF CRIMINAL DOCUMENTS",null,null,{"$f":"SUM(D18:D24)","v":0},{"$f":"SUM(E18:E24)","v":0},{"$f":"SUM(F18:F24)","v":0},{"$f":"SUM(G18:G24)","v":0},{"$f":"SUM(E25:G25)","v":0},{"$f":"IF($D25>0,E25/$D25,0)","v":0},0,0,{"$f":"IF(G25>0,H25/$D25,0)","v":0}]
[]
["TR","COUNTY CIVIL TRAFFIC",null,null,null,null,null,{"$f":"SUM(E27:G27)","v":0},{"$f":"IF($D27>0,E27/$D27,0)","v":0},{"$f":"IF($D27>0,F27/$D27,0)","v":0},0,0]
[]
["TOTAL ALL COURT DOCUMENTS",null,null,{"$f":"D16+D25+D27","v":0},{"$f":"E16+E25+E27","v":0},{"$f":"F16+F25+F27","v":0},{"$f":"G16+G25+G27","v":0},{"$f":"SUM(E29:G29)","v":0},{"$f":"IF($D29>0,E29/$D29,0)","v":0},{"$f":"IF($D29>0,F29/$D29,0)","v":0},0,0]

{"sheet":"SUMMARY","index":12,"n_rows":29,"n_cols":15,"rows_kept":29,"cut":false,"hidden":false,"merged":[[16,0,16,11],[25,0,25,11],[27,0,27,11],[28,0,28,2],[0,0,0,11],[1,0,1,11],[2,0,2,11],[3,0,3,11],[5,1,5,2],[6,1,6,2]]}
["CLERK OF THE COURTS",null,null,null,null,null,null,null,null,null,null,null,null,null,2018]
["BREVARD COUNTY, FLORIDA"]
[{"$f":"\"Document Source Statistics January 1, \"&yr&\" - December 31, \"&yr","v":"Document Source Statistics January 1, 2018 - December 31, 2018"}]
["Number of Documents Filed by Case Category"]
[]
["Case","Category",null,"Total # of Documents Filed","Documents Filed InCourt","Documents Filed Informix","Documents e-Filed","Total Docs Auto-Docketed","% of TOTAL InCourt","% of TOTAL Informix","% of TOTAL e-Filed","Total % of Documents Auto Docketed"]
["AP","APPEALS",null,{"$f":"SUM(JAN:DEC!D7)","v":321},{"$f":"SUM(JAN:DEC!E7)","v":0},{"$f":"SUM(JAN:DEC!F7)","v":0},{"$f":"SUM(JAN:DEC!G7)","v":224},{"$f":"E7+F7+G7","v":224},{"$f":"IF($D7>0,E7/$D7,0)","v":0},{"$f":"IF($D7>0,F7/$D7,0)","v":0},{"$f":"IF($D7>0,G7/$D7,0)","v":0.69781931464174451},{"$f":"SUM(I7:K7)","v":0.69781931464174451}]
["CA","CIRCUIT CIVIL",null,{"$f":"SUM(JAN:DEC!D8)","v":66566},{"$f":"SUM(JAN:DEC!E8)","v":0},{"$f":"SUM(JAN:DEC!F8)","v":1},{"$f":"SUM(JAN:DEC!G8)","v":55909},{"$f":"E8+F8+G8","v":55910},{"$f":"IF($D8>0,E8/$D8,0)","v":0},1.5022684253222365E-5,0.83990325391340925,{"$f":"SUM(I8:K8)","v":0.83991827659766249}]
["SC","COUNTY CIVIL SMALL CLAIMS",null,{"$f":"SUM(JAN:DEC!D9)","v":19452},{"$f":"SUM(JAN:DEC!E9)","v":0},{"$f":"SUM(JAN:DEC!F9)","v":0},{"$f":"SUM(JAN:DEC!G9)","v":15152},15152,0,0,0.77894303927616693,0.77894303927616693]
["DR","CIRCUIT CIVIL FAMILY",null,{"$f":"SUM(JAN:DEC!D10)","v":64885},{"$f":"SUM(JAN:DEC!E10)","v":0},{"$f":"SUM(JAN:DEC!F10)","v":0},{"$f":"SUM(JAN:DEC!G10)","v":33584},33584,0,0,0.5175926639439008,0.5175926639439008]
["CP","CIRCUIT CIVIL PROBATE",null,{"$f":"SUM(JAN:DEC!D11)","v":18062},{"$f":"SUM(JAN:DEC!E11)","v":0},{"$f":"SUM(JAN:DEC!F11)","v":0},{"$f":"SUM(JAN:DEC!G11)","v":15236},15236,0,0,0.84353892149263643,0.84353892149263643]
["GA","CIRCUIT CIVIL GUARDIANSHIP",null,{"$f":"SUM(JAN:DEC!D12)","v":7439},{"$f":"SUM(JAN:DEC!E12)","v":0},{"$f":"SUM(JAN:DEC!F12)","v":0},{"$f":"SUM(JAN:DEC!G12)","v":7203},7203,0,0,0.96827530582067478,0.96827530582067478]
["MH","CIRCUIT CIVIL MENTAL HEALTH",null,{"$f":"SUM(JAN:DEC!D13)","v":3140},{"$f":"SUM(JAN:DEC!E13)","v":0},{"$f":"SUM(JAN:DEC!F13)","v":0},{"$f":"SUM(JAN:DEC!G13)","v":2119},2119,0,0,0.67484076433121021,0.67484076433121021]
["CC","COUNTY CIVIL",null,{"$f":"SUM(JAN:DEC!D14)","v":22214},{"$f":"SUM(JAN:DEC!E14)","v":0},{"$f":"SUM(JAN:DEC!F14)","v":0},{"$f":"SUM(JAN:DEC!G14)","v":15103},15103,0,0,0.6798865580264698,0.6798865580264698]
["DP","CIRCUIT JUVENILE DEPENDENCY",null,{"$f":"SUM(JAN:DEC!D15)","v":9683},{"$f":"SUM(JAN:DEC!E15)","v":0},{"$f":"SUM(JAN:DEC!F15)","v":1},{"$f":"SUM(JAN:DEC!G15)","v":7521},7522,0,1.0327377878756583E-4,0.77672209026128269,0.7768253640400703]
["TOTAL OF CIVIL DOCUMENTS",null,null,{"$f":"SUM(D7:D15)","v":211762},{"$f":"SUM(E7:E15)","v":0},{"$f":"SUM(F7:F15)","v":2},{"$f":"SUM(G7:G15)","v":152051},{"$f":"SUM(H7:H15)","v":152053},{"$f":"IF($D16>0,E16/$D16,0)","v":0},{"$f":"IF($D16>0,F16/$D16,0)","v":9.444565124998819E-6},{"$f":"IF($D16>0,G16/$D16,0)","v":0.71802778591059779},0.71803723047572277]
[]
["CJ","CIRCUIT JUVENILE DELINQUENCY",null,{"$f":"SUM(JAN:DEC!D18)","v":24402},{"$f":"SUM(JAN:DEC!E18)","v":14992},{"$f":"SUM(JAN:DEC!F18)","v":16},{"$f":"SUM(JAN:DEC!G18)","v":4986},{"$f":"SUM(JAN:DEC!H18)","v":4986},{"$f":"IF($D18>0,E18/$D18,0)","v":0.6143758708302598},6.556839603311204E-4,0.2043275141381854,{"$f":"SUM(I18:K18)","v":0.8193590689287763}]
["CF","CIRCUIT CRIMINAL FELONY",null,{"$f":"SUM(JAN:DEC!D19)","v":129463},{"$f":"SUM(JAN:DEC!E19)","v":38661},{"$f":"SUM(JAN:DEC!F19)","v":1915},{"$f":"SUM(JAN:DEC!G19)","v":32183},{"$f":"SUM(JAN:DEC!H19)","v":32183},0.29862586221545923,1.4791871036512362E-2,0.24858839977445293,0.56200613302642455]
["MM","COUNTY CRIMINAL MISDEMEANOR",null,{"$f":"SUM(JAN:DEC!D20)","v":56731},{"$f":"SUM(JAN:DEC!E20)","v":24093},{"$f":"SUM(JAN:DEC!F20)","v":677},{"$f":"SUM(JAN:DEC!G20)","v":9152},{"$f":"SUM(JAN:DEC!H20)","v":9152},0.4246884419453209,1.1933510778939204E-2,0.16132273360243959,0.59794468632669973]
["CO","COUNTY ORDINANCE",null,{"$f":"SUM(JAN:DEC!D21)","v":231},{"$f":"SUM(JAN:DEC!E21)","v":81},{"$f":"SUM(JAN:DEC!F21)","v":2},{"$f":"SUM(JAN:DEC!G21)","v":17},{"$f":"SUM(JAN:DEC!H21)","v":17},0.35064935064935066,8.658008658008658E-3,7.3593073593073599E-2,0.4329004329004329]
["MO","COUNTY COURT MUNICIPAL ORDINANCE",null,{"$f":"SUM(JAN:DEC!D22)","v":394},{"$f":"SUM(JAN:DEC!E22)","v":115},{"$f":"SUM(JAN:DEC!F22)","v":24},{"$f":"SUM(JAN:DEC!G22)","v":53},{"$f":"SUM(JAN:DEC!H22)","v":53},0.29187817258883247,6.0913705583756347E-2,0.13451776649746192,0.48730964467005078]
["IN","COUNTY COURT INFRACTIONS",null,{"$f":"SUM(JAN:DEC!D23)","v":2825},{"$f":"SUM(JAN:DEC!E23)","v":166},{"$f":"SUM(JAN:DEC!F23)","v":0},{"$f":"SUM(JAN:DEC!G23)","v":13},{"$f":"SUM(JAN:DEC!H23)","v":13},5.8761061946902657E-2,0,4.6017699115044244E-3,6.3362831858407076E-2]
["CT","COUNTY CRIMINAL TRAFFIC",null,{"$f":"SUM(JAN:DEC!D24)","v":54013},{"$f":"SUM(JAN:DEC!E24)","v":25512},{"$f":"SUM(JAN:DEC!F24)","v":1691},{"$f":"SUM(JAN:DEC!G24)","v":6975},{"$f":"SUM(JAN:DEC!H24)","v":6975},0.47233073519337937,3.1307277877548001E-2,0.12913557847184937,0.63277359154277679]
["TOTAL OF CRIMINAL DOCUMENTS",null,null,{"$f":"SUM(D18:D24)","v":268059},{"$f":"SUM(E18:E24)","v":103620},{"$f":"SUM(F18:F24)","v":4325},53379,53379,{"$f":"IF($D25>0,E25/$D25,0)","v":0.38655669087775452},1.6134507701662693E-2,0.19913153447561918,{"$f":"IF(G25>0,H25/$D25,0)","v":0.19913153447561918}]
[]
["TR","COUNTY CIVIL TRAFFIC",null,{"$f":"SUM(JAN:DEC!D27)","v":52924},{"$f":"SUM(JAN:DEC!E27)","v":6006},{"$f":"SUM(JAN:DEC!F27)","v":13550},{"$f":"SUM(JAN:DEC!G27)","v":1556},{"$f":"SUM(E27:G27)","v":21112},{"$f":"IF($D27>0,E27/$D27,0)","v":0.11348348575315546},{"$f":"IF($D27>0,F27/$D27,0)","v":0.25602751114806138},2.9400649988662989E-2,0.39891164688987985]
[]
["TOTAL ALL COURT DOCUMENTS",null,null,{"$f":"D16+D25+D27","v":532745},{"$f":"E16+E25+E27","v":109626},{"$f":"F16+F25+F27","v":17877},{"$f":"G16+G25+G27","v":206986},{"$f":"SUM(E29:G29)","v":334489},{"$f":"IF($D29>0,E29/$D29,0)","v":0.20577574637021465},{"$f":"IF($D29>0,F29/$D29,0)","v":3.3556391894808961E-2},0.38852734422659996,0.6278594824916236]