{"text_format":"1","workbook":"xlsx","n_sheets":23,"sheets":["Lookup","Circuit Criminal","Circ Crim Drug Trfc Cases","County Criminal","Juvenile Delinquency","Criminal Traffic","Circuit Civil","County Civil","Civil Traffic","Probate","Family","Corrective Action Tab","CATLookup","Action Plan Summary","CQ1-17 Family","CQ1-17 Probate","CQ1-17 Civil Traffic","CQ1-17 Circuit Crim","CQ1-17 County Civil","CQ1-17 Circuit Civ","CQ1-17 Crim Traffic","CQ1-17 Juv. Delinquent","CQ1-17 County Crim"],"not_rendered":{"charts":0,"images":0,"macros":1,"external_links":0,"defined_names":23,"comments":0,"pivot_tables":0},"unopened":[],"bounds":{"document_bytes":16777216,"sheet_cells":100000,"rows_first":2000,"rows_last":500,"rows_between":2000,"halvings":0,"cell_chars":16384,"cell_head_chars":4096},"cells_cut":0,"cells_raw":0,"read":"whole","date_system":"1900"}

{"sheet":"Lookup","index":0,"n_rows":5361,"n_cols":24,"rows_kept":2250,"cut":true,"hidden":true,"merged":[],"bounds":{"rows_first":1000,"rows_last":250,"rows_between":1000,"halvings":1}}
["CountyName","CourtType","ControlGrpInfo","Assessment1stQ","Assessment2ndQ","Assessment3rdQ","Assessment4thQ","5 Quarter Assessment","Collection1stQ","Collection2ndQ","Collection3rdQ","Collection4thQ","5 Quarter Collection","Collection %","Required Percent","Met Percentage",null,null,null,null,null,null,null,"LookupValue"]
["Alachua","Circ Crim Drug Trfc Cases","CGE CQ1-16",0,0,0,316593,316593,0,0,0,57.69,309.54000000000002,null,null,null,null,null,null,"2017-01-11T14:37:09",null,0.09,2,{"$f":"A2&\" \"&B2&\" \"&C2","v":"Alachua Circ Crim Drug Trfc Cases CGE CQ1-16"}]
["Alachua","Circ Crim Drug Trfc Cases","CGE CQ1-17",107219,107219,107169,107219,null,0,0,0,0,null,null,null,null,null,null,null,"2017-01-11T14:37:09",null,0.09,2,"Alachua Circ Crim Drug Trfc Cases CGE CQ1-17"]
["Alachua","Circ Crim Drug Trfc Cases","CGE CQ2-16",0,0,105675.36,105725.36,105725.36,0,0,4.3600000000000003,4.3600000000000003,39.85,null,null,null,null,null,null,"2017-01-11T14:37:09",null,0.09,2,"Alachua Circ Crim Drug Trfc Cases CGE CQ2-16"]
["Alachua","Circ Crim Drug Trfc Cases","CGE CQ2-17",160305,160305,160355,null,null,0,0,0,null,null,null,null,null,null,null,null,"2017-01-11T14:37:09",null,0.09,2,"Alachua Circ Crim Drug Trfc Cases CGE CQ2-17"]
["Alachua","Circ Crim Drug Trfc Cases","CGE CQ3-16",0,107755,107761,107761,107761,0,178.84,427,427,427,null,null,null,null,null,null,"2017-01-11T14:37:09",null,0.09,2,"Alachua Circ Crim Drug Trfc Cases CGE CQ3-16"]
["Alachua","Circ Crim Drug Trfc Cases","CGE CQ3-17",476363,476363,null,null,null,0,0,null,null,null,null,null,null,null,null,null,"2017-01-11T14:37:09",null,0.09,2,"Alachua Circ Crim Drug Trfc Cases CGE CQ3-17"]
["Alachua","Circ Crim Drug Trfc Cases","CGE CQ4-16",107184,107234,107334,107334,107334,0,0,0,0,0,null,null,null,null,null,null,"2017-01-11T14:37:09",null,0.09,2,"Alachua Circ Crim Drug Trfc Cases CGE CQ4-16"]
["Alachua","Circ Crim Drug Trfc Cases","CGE CQ4-17",106357,null,null,null,null,15,null,null,null,null,null,null,null,null,null,null,"2017-01-11T14:37:09",null,0.09,2,"Alachua Circ Crim Drug Trfc Cases CGE CQ4-17"]
["Alachua","Circuit Civil","CGE CQ1-16",432525.95,432480.95,432070.95,432520.95,431289.72,424792.58,426081.27,426131.27,426199.27,426249.27,null,null,null,null,null,null,"2017-01-11T14:37:09",null,0.9,6,"Alachua Circuit Civil CGE CQ1-16"]
["Alachua","Circuit Civil","CGE CQ1-17",390493.23,389901.53,389901.53,390359.03,null,386581.23,387004.03,387229.53,387252.03,null,null,null,null,null,null,null,"2017-01-11T14:37:09",null,0.9,6,"Alachua Circuit Civil CGE CQ1-17"]
["Alachua","Circuit Civil","CGE CQ2-16",399242.46,399741.96,399691.96,399191.96,398781.96,394680.76,395789.96,395839.96,395539.96,396170.46,null,null,null,null,null,null,"2017-01-11T14:37:09",null,0.9,6,"Alachua Circuit Civil CGE CQ2-16"]
["Alachua","Circuit Civil","CGE CQ2-17",407110.79,407003.79,407453.79,null,null,401573.29,403767.29,404231.79,null,null,null,null,null,null,null,null,"2017-01-11T14:37:09",null,0.9,6,"Alachua Circuit Civil CGE CQ2-17"]
["Alachua","Circuit Civil","CGE CQ3-16",426274.83,425018.69,424081.69,424031.69,425226.19,420770.49,420950.19,420948.19,421301.19,420585.69,null,null,null,null,null,null,"2017-01-11T14:37:09",null,0.9,6,"Alachua Circuit Civil CGE CQ3-16"]
["Alachua","Circuit Civil","CGE CQ3-17",404571.3,403526.3,null,null,null,397987.28,402470.8,null,null,null,null,null,null,null,null,null,"2017-01-11T14:37:09",null,0.9,6,"Alachua Circuit Civil CGE CQ3-17"]
["Alachua","Circuit Civil","CGE CQ4-16",435229.44,435460.94,435319.94,435319.94,435319.94,429078.54,431488.26,431663.92,431931.44,432416.44,null,null,null,null,null,null,"2017-01-11T14:37:09",null,0.9,6,"Alachua Circuit Civil CGE CQ4-16"]
["Alachua","Circuit Civil","CGE CQ4-17",506400.26,null,null,null,null,501719.25,null,null,null,null,null,null,null,null,null,null,"2017-01-11T14:37:09",null,0.9,6,"Alachua Circuit Civil CGE CQ4-17"]
["Alachua","Circuit Criminal","CGE CQ1-16",801465.65,791335.44,787290.66,791750.87,790778.4,147092.95000000001,154779.29,164475.82999999999,172677.04,179185.23,null,null,null,null,null,null,"2017-01-11T14:37:09",null,0.09,1,"Alachua Circuit Criminal CGE CQ1-16"]
["Alachua","Circuit Criminal","CGE CQ1-17",501989.08,492881.27,491082.41,487992.7,null,86341.42,95737.27,102307.75,110549.82,null,null,null,null,null,null,null,"2017-01-11T14:37:09",null,0.09,1,"Alachua Circuit Criminal CGE CQ1-17"]
["Alachua","Circuit Criminal","CGE CQ2-16",457003.06,441732,442457.92,439581.48,437114.34,30685.93,48736.79,57804.03,67504.899999999994,79600.929999999993,null,null,null,null,null,null,"2017-01-11T14:37:09",null,0.09,1,"Alachua Circuit Criminal CGE CQ2-16"]
["Alachua","Circuit Criminal","CGE CQ2-17",695516.34,688759.64,685539.74,null,null,173380.83,184764.17,195333.66,null,null,null,null,null,null,null,null,"2017-01-11T14:37:09",null,0.09,1,"Alachua Circuit Criminal CGE CQ2-17"]
["Alachua","Circuit Criminal","CGE CQ3-16",859208.8,854507.59,848814.24,846370.45,845198.03,60953.35,76874.509999999995,88790.89,100702.83,110478.49,null,null,null,null,null,null,"2017-01-11T14:37:09",null,0.09,1,"Alachua Circuit Criminal CGE CQ3-16"]
["Alachua","Circuit Criminal","CGE CQ3-17",863974.6,855502.41,null,null,null,23132.27,31937.13,null,null,null,null,null,null,null,null,null,"2017-01-11T14:37:09",null,0.09,1,"Alachua Circuit Criminal CGE CQ3-17"]
["Alachua","Circuit Criminal","CGE CQ4-16",489478.06,483547.77,480394.77,478522.55,477391.1,63268.78,74961.69,86375.86,99184.97,108356.23,null,null,null,null,null,null,"2017-01-11T14:37:09",null,0.09,1,"Alachua Circuit Criminal CGE CQ4-16"]
["Alachua","Circuit Criminal","CGE CQ4-17",701280.52,null,null,null,null,242642.61,null,null,null,null,null,null,null,null,null,null,"2017-01-11T14:37:09",null,0.09,1,"Alachua Circuit Criminal CGE CQ4-17"]
["Alachua","Civil Traffic","CGE CQ1-16",1616719.91,1532626.81,1530150.26,1518237.9,1518143.9,956691.77,1438282.26,1477623,1493285.63,1499511.87,null,null,null,null,null,null,"2017-01-11T14:37:09",null,0.9,8,"Alachua Civil Traffic CGE CQ1-16"]
["Alachua","Civil Traffic","CGE CQ1-17",1437940.26,1363280.84,1361501.99,1360512.88,null,764385.33,1270079.44,1313733.8500000001,1330618.56,null,null,null,null,null,null,null,"2017-01-11T14:37:09",null,0.9,8,"Alachua Civil Traffic CGE CQ1-17"]
["Alachua","Civil Traffic","CGE CQ2-16",1604621.48,1511396.45,1495911.89,1495573.24,1494922.69,900950.71,1379872.19,1423810.39,1442162.95,1464884.06,null,null,null,null,null,null,"2017-01-11T14:37:09",null,0.9,8,"Alachua Civil Traffic CGE CQ2-16"]
["Alachua","Civil Traffic","CGE CQ2-17",1651655.32,1568072.04,1564951.65,null,null,950654.63,1449999.75,1504557.48,null,null,null,null,null,null,null,null,"2017-01-11T14:37:09",null,0.9,8,"Alachua Civil Traffic CGE CQ2-17"]
["Alachua","Civil Traffic","CGE CQ3-16",1499069.5,1411393.37,1408153.05,1408445.54,1408615.65,831868.74,1271803.96,1320478.79,1359391.94,1374254.41,null,null,null,null,null,null,"2017-01-11T14:37:09",null,0.9,8,"Alachua Civil Traffic CGE CQ3-16"]
["Alachua","Civil Traffic","CGE CQ3-17",1348182.4,1282179.32,null,null,null,740605.83,1147017.03,null,null,null,null,null,null,null,null,null,"2017-01-11T14:37:09",null,0.9,8,"Alachua Civil Traffic CGE CQ3-17"]
["Alachua","Civil Traffic","CGE CQ4-16",1489314.54,1402755.12,1399689.46,1399452.24,1399434.24,817726.52,1284220.51,1349682.08,1369563.85,1378621.59,null,null,null,null,null,null,"2017-01-11T14:37:09",null,0.9,8,"Alachua Civil Traffic CGE CQ4-16"]
["Alachua","Civil Traffic","CGE CQ4-17",1122605.53,null,null,null,null,610442.73,null,null,null,null,null,null,null,null,null,null,"2017-01-11T14:37:09",null,0.9,8,"Alachua Civil Traffic CGE CQ4-17"]
["Alachua","County Civil","CGE CQ1-16",153287.44,153287.44,153287.44,314697.56,314692.75,150919.03,151039.03,151099.03,313261.15000000002,313261.15000000002,null,null,null,null,null,null,"2017-01-11T14:37:09",null,0.9,7,"Alachua County Civil CGE CQ1-16"]
["Alachua","County Civil","CGE CQ1-17",247644.47,247644.47,247584.47,247584.47,null,246167.61,246574.47,247129.47,247129.47,null,null,null,null,null,null,null,"2017-01-11T14:37:09",null,0.9,7,"Alachua County Civil CGE CQ1-17"]
["Alachua","County Civil","CGE CQ2-16",145093.84,145105.38,302300.68,301920.68,301910.68,142892.84,143494.38,301462.68,301462.68,301665.68,null,null,null,null,null,null,"2017-01-11T14:37:09",null,0.9,7,"Alachua County Civil CGE CQ2-16"]
["Alachua","County Civil","CGE CQ2-17",237578.66,237398.66,237398.66,null,null,233838.66,236313.66,236373.66,null,null,null,null,null,null,null,null,"2017-01-11T14:37:09",null,0.9,7,"Alachua County Civil CGE CQ2-17"]
["Alachua","County Civil","CGE CQ3-16",150058.84,293820.24,293570.24,293425.24,293425.24,148124.60999999999,293127.24,293127.24,293187.24,293187.24,null,null,null,null,null,null,"2017-01-11T14:37:09",null,0.9,7,"Alachua County Civil CGE CQ3-16"]
["Alachua","County Civil","CGE CQ3-17",249088.85,248913.85,null,null,null,248470.12,248198.85,null,null,null,null,null,null,null,null,null,"2017-01-11T14:37:09",null,0.9,7,"Alachua County Civil CGE CQ3-17"]
["Alachua","County Civil","CGE CQ4-16",301839.13,301314.13,301314.13,301314.13,301314.13,300189.13,301029.13,301029.13,301029.13,301029.13,null,null,null,null,null,null,"2017-01-11T14:37:09",null,0.9,7,"Alachua County Civil CGE CQ4-16"]
["Alachua","County Civil","CGE CQ4-17",291542.17,null,null,null,null,290903.17,null,null,null,null,null,null,null,null,null,null,"2017-01-11T14:37:09",null,0.9,7,"Alachua County Civil CGE CQ4-17"]
["Alachua","County Criminal","CGE CQ1-16",282760.2,245476.2,237957.2,249145.43,246520.73,37767.15,60351.19,69663.14,76642.009999999995,81691.009999999995,null,null,null,null,null,null,"2017-01-11T14:37:09",null,0.4,3,"Alachua County Criminal CGE CQ1-16"]
["Alachua","County Criminal","CGE CQ1-17",207868.14,203862.14,199464.64,195827.64,null,35773.93,57674.05,65886.649999999994,70191.17,null,null,null,null,null,null,null,"2017-01-11T14:37:09",null,0.4,3,"Alachua County Criminal CGE CQ1-17"]
["Alachua","County Criminal","CGE CQ2-16",230314.1,226710.1,226708.93,221928.93,217541.43,37828.35,55905.53,74229.23,80465.36,84731.63,null,null,null,null,null,null,"2017-01-11T14:37:09",null,0.4,3,"Alachua County Criminal CGE CQ2-16"]
["Alachua","County Criminal","CGE CQ2-17",215251.59,209424.59,206334.59,null,null,50386.41,71189.710000000006,78166,null,null,null,null,null,null,null,null,"2017-01-11T14:37:09",null,0.4,3,"Alachua County Criminal CGE CQ2-17"]
["Alachua","County Criminal","CGE CQ3-16",232095.64,232414.02,229241.52,224798.02,222592.02,33903.17,56310.45,68760.87,78144.31,82648.710000000006,null,null,null,null,null,null,"2017-01-11T14:37:09",null,0.4,3,"Alachua County Criminal CGE CQ3-16"]
["Alachua","County Criminal","CGE CQ3-17",186041.69,178367.19,null,null,null,23275.01,40138.46,null,null,null,null,null,null,null,null,null,"2017-01-11T14:37:09",null,0.4,3,"Alachua County Criminal CGE CQ3-17"]
["Alachua","County Criminal","CGE CQ4-16",211741.67,207350.67,203710.67,201979.17,200574.17,38287.089999999997,59509.75,74751.759999999995,81994,85980.65,null,null,null,null,null,null,"2017-01-11T14:37:09",null,0.4,3,"Alachua County Criminal CGE CQ4-16"]
["Alachua","County Criminal","CGE CQ4-17",170881.2,null,null,null,null,25810.06,null,null,null,null,null,null,null,null,null,null,"2017-01-11T14:37:09",null,0.4,3,"Alachua County Criminal CGE CQ4-17"]
["Alachua","Criminal Traffic","CGE CQ1-16",377950.62,369763.67,358727.87,351605.5,345690,107287.3,161346.79,185409.49,218438.24,229314.18,null,null,null,null,null,null,"2017-01-11T14:37:09",null,0.4,5,"Alachua Criminal Traffic CGE CQ1-16"]
["Alachua","Criminal Traffic","CGE CQ1-17",283464.03999999998,281280.03999999998,274059.03999999998,266843.53999999998,null,81968.91,124276.85,146897.01,164218.97,null,null,null,null,null,null,null,"2017-01-11T14:37:09",null,0.4,5,"Alachua Criminal Traffic CGE CQ1-17"]
["Alachua","Criminal Traffic","CGE CQ2-16",352224.66,345965.66,337648.66,329948.65999999997,324313.15999999997,108617.93,158287.06,189039.42,213086.56,230389.66,null,null,null,null,null,null,"2017-01-11T14:37:09",null,0.4,5,"Alachua Criminal Traffic CGE CQ2-16"]
["Alachua","Criminal Traffic","CGE CQ2-17",271582.27,263083.02,256068.77,null,null,62784.24,88115.54,110874.02,null,null,null,null,null,null,null,null,"2017-01-11T14:37:09",null,0.4,5,"Alachua Criminal Traffic CGE CQ2-17"]
["Alachua","Criminal Traffic","CGE CQ3-16",342012.14,337790.39,332586.39,325511.59000000003,322192.09000000003,89481.71,135060.68,170251.82,200635.66,216811.19,null,null,null,null,null,null,"2017-01-11T14:37:09",null,0.4,5,"Alachua Criminal Traffic CGE CQ3-16"]
["Alachua","Criminal Traffic","CGE CQ3-17",276829.64,273609.64,null,null,null,54023.8,92250.42,null,null,null,null,null,null,null,null,null,"2017-01-11T14:37:09",null,0.4,5,"Alachua Criminal Traffic CGE CQ3-17"]
["Alachua","Criminal Traffic","CGE CQ4-16",288211.40999999997,282728.65999999997,276787.06,272534.06,266390.56,88508.73,130873.05,164055.48000000001,190643.09,195802.35,null,null,null,null,null,null,"2017-01-11T14:37:09",null,0.4,5,"Alachua Criminal Traffic CGE CQ4-16"]
["Alachua","Criminal Traffic","CGE CQ4-17",304745.64,null,null,null,null,106475.54,null,null,null,null,null,null,null,null,null,null,"2017-01-11T14:37:09",null,0.4,5,"Alachua Criminal Traffic CGE CQ4-17"]
["Alachua","Family","CGE CQ1-16",119352.64,118344.64,117468.64,117180.64,114555.64,98788.54,103763.04,104742.14,104742.14,105160.14,null,null,null,null,null,null,"2017-01-11T14:37:09",null,0.75,10,"Alachua Family CGE CQ1-16"]
["Alachua","Family","CGE CQ1-17",129656.99,126484.69,125884.69,125824.69,null,110253.99,115567.69,117402.69,117785.69,null,null,null,null,null,null,null,"2017-01-11T14:37:09",null,0.75,10,"Alachua Family CGE CQ1-17"]
["Alachua","Family","CGE CQ2-16",139893.76999999999,138037.76999999999,138037.76999999999,136135.76999999999,135715.76999999999,116366.27,121115.27,122275.27,123120.27,125347.27,null,null,null,null,null,null,"2017-01-11T14:37:09",null,0.75,10,"Alachua Family CGE CQ2-16"]
["Alachua","Family","CGE CQ2-17",137441.56,134799.56,133431.56,null,null,123054.06,126769.56,127152.56,null,null,null,null,null,null,null,null,"2017-01-11T14:37:09",null,0.75,10,"Alachua Family CGE CQ2-17"]
["Alachua","Family","CGE CQ3-16",145143.74,141620.74,138184.24,137346.23999999999,137216.24,117097.74,121413.77,121908.77,123898.77,124179.9,null,null,null,null,null,null,"2017-01-11T14:37:09",null,0.75,10,"Alachua Family CGE CQ3-16"]
["Alachua","Family","CGE CQ3-17",149480.63,147447.63,null,null,null,132606.13,138956.63,null,null,null,null,null,null,null,null,null,"2017-01-11T14:37:09",null,0.75,10,"Alachua Family CGE CQ3-17"]
["Alachua","Family","CGE CQ4-16",136460.9,127978.9,126187.4,125299.4,125299.4,107372.4,110327.4,111973.4,112513.4,112573.4,null,null,null,null,null,null,"2017-01-11T14:37:09",null,0.75,10,"Alachua Family CGE CQ4-16"]
["Alachua","Family","CGE CQ4-17",140412.79999999999,null,null,null,null,126421.8,null,null,null,null,null,null,null,null,null,null,"2017-01-11T14:37:09",null,0.75,10,"Alachua Family CGE CQ4-17"]
["Alachua","Juvenile Delinquency","CGE CQ1-16",7526.02,7276.2,7276.2,7606.02,7606.02,626.02,1156.02,1656.02,2106.02,2879.02,null,null,null,null,null,null,"2017-01-11T14:37:09",null,0.09,4,{"$f":"A66&\" \"&B66&\" \"&C66","v":"Alachua Juvenile Delinquency CGE CQ1-16"}]
["Alachua","Juvenile Delinquency","CGE CQ1-17",9072,9072,9072,9072,null,292,542,892,942,null,null,null,null,null,null,null,"2017-01-11T14:37:09",null,0.09,4,"Alachua Juvenile Delinquency CGE CQ1-17"]
["Alachua","Juvenile Delinquency","CGE CQ2-16",11458.61,11458.61,11586.61,11586.61,11586.61,1037.6099999999999,1906.61,2536.61,3636.61,4186.6099999999997,null,null,null,null,null,null,"2017-01-11T14:37:09",null,0.09,4,"Alachua Juvenile Delinquency CGE CQ2-16"]
["Alachua","Juvenile Delinquency","CGE CQ2-17",32020.5,32020.5,32020.5,null,null,630.5,1002.5,1152.5,null,null,null,null,null,null,null,null,"2017-01-11T14:37:09",null,0.09,4,"Alachua Juvenile Delinquency CGE CQ2-17"]
["Alachua","Juvenile Delinquency","CGE CQ3-16",6938.5,6938.5,6938.5,6938.5,6888.5,838.5,1445.5,1938.5,2638.5,2688.5,null,null,null,null,null,null,"2017-01-11T14:37:09",null,0.09,4,"Alachua Juvenile Delinquency CGE CQ3-16"]
["Alachua","Juvenile Delinquency","CGE CQ3-17",37033,36709.5,null,null,null,776,772.5,null,null,null,null,null,null,null,null,null,"2017-01-11T14:37:09",null,0.09,4,"Alachua Juvenile Delinquency CGE CQ3-17"]
["Alachua","Juvenile Delinquency","CGE CQ4-16",6059.5,6059.5,6059.5,6059.5,6059.5,302.5,702.5,1202.5,1852.5,2052.5,null,null,null,null,null,null,"2017-01-11T14:37:09",null,0.09,4,"Alachua Juvenile Delinquency CGE CQ4-16"]
["Alachua","Juvenile Delinquency","CGE CQ4-17",30648.91,null,null,null,null,693.91,null,null,null,null,null,null,null,null,null,null,"2017-01-11T14:37:09",null,0.09,4,"Alachua Juvenile Delinquency CGE CQ4-17"]
["Alachua","Probate","CGE CQ1-16",52944.98,52944.98,52709.98,52709.98,52709.98,52702.48,52702.48,52702.48,52702.48,52702.48,null,null,null,null,null,null,"2017-01-11T14:37:09",null,0.9,9,"Alachua Probate CGE CQ1-16"]
["Alachua","Probate","CGE CQ1-17",53487.97,53152.97,53152.97,53152.5,null,52999.47,52999.47,53149.47,53149.47,null,null,null,null,null,null,null,"2017-01-11T14:37:09",null,0.9,9,"Alachua Probate CGE CQ1-17"]
["Alachua","Probate","CGE CQ2-16",52613.75,51868.75,51875.75,51875.75,51875.75,50363.75,51141.75,51141.75,51141.75,51141.75,null,null,null,null,null,null,"2017-01-11T14:37:09",null,0.9,9,"Alachua Probate CGE CQ2-16"]
["Alachua","Probate","CGE CQ2-17",50435.07,50035.07,49635.07,null,null,47016.57,48490.07,49004.07,null,null,null,null,null,null,null,null,"2017-01-11T14:37:09",null,0.9,9,"Alachua Probate CGE CQ2-17"]
["Alachua","Probate","CGE CQ3-16",57622,57622,57622,57277,57277,56927,56927,56927,56927,57277,null,null,null,null,null,null,"2017-01-11T14:37:09",null,0.9,9,"Alachua Probate CGE CQ3-16"]
["Alachua","Probate","CGE CQ3-17",49685.49,48800.49,null,null,null,47681.49,48142.49,null,null,null,null,null,null,null,null,null,"2017-01-11T14:37:09",null,0.9,9,"Alachua Probate CGE CQ3-17"]
["Alachua","Probate","CGE CQ4-16",65023.13,65023.13,65023.13,65023.13,65023.13,63958.13,64358.13,64358.13,64443.13,64443.13,null,null,null,null,null,null,"2017-01-11T14:37:09",null,0.9,9,"Alachua Probate CGE CQ4-16"]
["Alachua","Probate","CGE CQ4-17",50081.919999999998,null,null,null,null,49642.92,null,null,null,null,null,null,null,null,null,null,"2017-01-11T14:37:09",null,0.9,9,"Alachua Probate CGE CQ4-17"]
["Baker","Circ Crim Drug Trfc Cases","CGE CQ1-16",52520,52520,52520,52520,52520,0,0,0,0,0,null,null,null,null,null,null,"2017-01-11T14:37:09",null,0.09,2,"Baker Circ Crim Drug Trfc Cases CGE CQ1-16"]
["Baker","Circ Crim Drug Trfc Cases","CGE CQ1-17",0,0,0,0,null,0,0,0,0,null,null,null,null,null,null,null,"2017-01-11T14:37:09",null,0.09,2,"Baker Circ Crim Drug Trfc Cases CGE CQ1-17"]
["Baker","Circ Crim Drug Trfc Cases","CGE CQ2-16",0,0,0,0,0,0,0,0,0,0,null,null,null,null,null,null,"2017-01-11T14:37:09",null,0.09,2,"Baker Circ Crim Drug Trfc Cases CGE CQ2-16"]
["Baker","Circ Crim Drug Trfc Cases","CGE CQ2-17",0,0,0,null,null,0,0,0,null,null,null,null,null,null,null,null,"2017-01-11T14:37:09",null,0.09,2,"Baker Circ Crim Drug Trfc Cases CGE CQ2-17"]
["Baker","Circ Crim Drug Trfc Cases","CGE CQ3-16",0,0,0,0,0,0,0,0,0,0,null,null,null,null,null,null,"2017-01-11T14:37:09",null,0.09,2,"Baker Circ Crim Drug Trfc Cases CGE CQ3-16"]
["Baker","Circ Crim Drug Trfc Cases","CGE CQ3-17",107850,107850,null,null,null,0,0,null,null,null,null,null,null,null,null,null,"2017-01-11T14:37:09",null,0.09,2,"Baker Circ Crim Drug Trfc Cases CGE CQ3-17"]
["Baker","Circ Crim Drug Trfc Cases","CGE CQ4-16",0,0,0,0,0,0,0,0,0,0,null,null,null,null,null,null,"2017-01-11T14:37:09",null,0.09,2,"Baker Circ Crim Drug Trfc Cases CGE CQ4-16"]
["Baker","Circ Crim Drug Trfc Cases","CGE CQ4-17",0,null,null,null,null,0,null,null,null,null,null,null,null,null,null,null,"2017-01-11T14:37:09",null,0.09,2,"Baker Circ Crim Drug Trfc Cases CGE CQ4-17"]
["Baker","Circuit Civil","CGE CQ1-16",33753,33753,33753,33753,33753,32848,33753,33753,32848,33753,null,null,null,null,null,null,"2017-01-11T14:37:09",null,0.9,6,"Baker Circuit Civil CGE CQ1-16"]
["Baker","Circuit Civil","CGE CQ1-17",26069,26069,26069,26069,null,26069,26069,26069,26069,null,null,null,null,null,null,null,"2017-01-11T14:37:09",null,0.9,6,"Baker Circuit Civil CGE CQ1-17"]
["Baker","Circuit Civil","CGE CQ2-16",25684.5,25684.5,25684.5,25684.5,25684.5,25684.5,25684.5,25334.5,25684.5,25684.5,null,null,null,null,null,null,"2017-01-11T14:37:09",null,0.9,6,"Baker Circuit Civil CGE CQ2-16"]
["Baker","Circuit Civil","CGE CQ2-17",32792.269999999997,32792.269999999997,32792.269999999997,null,null,32392.27,32392.27,32392.27,null,null,null,null,null,null,null,null,"2017-01-11T14:37:09",null,0.9,6,"Baker Circuit Civil CGE CQ2-17"]
["Baker","Circuit Civil","CGE CQ3-16",27963.75,27963.75,27963.75,27963.75,27963.75,26253.75,27163.75,27163.75,27163.75,27163.75,null,null,null,null,null,null,"2017-01-11T14:37:09",null,0.9,6,"Baker Circuit Civil CGE CQ3-16"]
["Baker","Circuit Civil","CGE CQ3-17",29175.32,29175.32,null,null,null,27521.39,27530.39,null,null,null,null,null,null,null,null,null,"2017-01-11T14:37:09",null,0.9,6,"Baker Circuit Civil CGE CQ3-17"]
["Baker","Circuit Civil","CGE CQ4-16",21626.5,21626.5,21626.5,21626.5,21626.5,20426.5,20426.5,20426.5,20426.5,20426.5,null,null,null,null,null,null,"2017-01-11T14:37:09",null,0.9,6,"Baker Circuit Civil CGE CQ4-16"]
["Baker","Circuit Civil","CGE CQ4-17",27983.5,null,null,null,null,27533.5,null,null,null,null,null,null,null,null,null,null,"2017-01-11T14:37:09",null,0.9,6,"Baker Circuit Civil CGE CQ4-17"]
["Baker","Circuit Criminal","CGE CQ1-16",112392.47,112692.47,112692.47,112722.47,112435.32,698.24,3918.87,6818.25,7331.84,8739.5499999999993,null,null,null,null,null,null,"2017-01-11T14:37:09",null,0.09,1,"Baker Circuit Criminal CGE CQ1-16"]
["Baker","Circuit Criminal","CGE CQ1-17",54089.7,54089.7,54089.7,53864.3,null,291.27999999999997,2854.12,5613.92,6034.16,null,null,null,null,null,null,null,"2017-01-11T14:37:09",null,0.09,1,"Baker Circuit Criminal CGE CQ1-17"]
["Baker","Circuit Criminal","CGE CQ2-16",49319,49319,49319,49319,49319,2102.75,3568.09,5270.36,7221.64,8796.9,null,null,null,null,null,null,"2017-01-11T14:37:09",null,0.09,1,"Baker Circuit Criminal CGE CQ2-16"]
["Baker","Circuit Criminal","CGE CQ2-17",63595.88,63595.88,63595.88,null,null,711.88,2408.9899999999998,4986.01,null,null,null,null,null,null,null,null,"2017-01-11T14:37:09",null,0.09,1,"Baker Circuit Criminal CGE CQ2-17"]
["Baker","Circuit Criminal","CGE CQ3-16",76451,76451,76451,76451,76451,544.41999999999996,2756.96,4504.8,8171.26,15755.19,null,null,null,null,null,null,"2017-01-11T14:37:09",null,0.09,1,"Baker Circuit Criminal CGE CQ3-16"]
["Baker","Circuit Criminal","CGE CQ3-17",220008.65,218823.65,null,null,null,1058.97,3802.5,null,null,null,null,null,null,null,null,null,"2017-01-11T14:37:09",null,0.09,1,"Baker Circuit Criminal CGE CQ3-17"]
["Baker","Circuit Criminal","CGE CQ4-16",65654.06,65654.06,65654.06,65654.06,65110.9,592.29,1448.05,1924.13,6799.33,8055.41,null,null,null,null,null,null,"2017-01-11T14:37:09",null,0.09,1,"Baker Circuit Criminal CGE CQ4-16"]
["Baker","Circuit Criminal","CGE CQ4-17",66855,null,null,null,null,788.66,null,null,null,null,null,null,null,null,null,null,"2017-01-11T14:37:09",null,0.09,1,"Baker Circuit Criminal CGE CQ4-17"]
["Baker","Civil Traffic","CGE CQ1-16",120216.3,111456.2,109479.2,109227.2,109227.2,30677.3,84938.7,93035.7,95147.7,96126.7,null,null,null,null,null,null,"2017-01-11T14:37:09",null,0.9,8,"Baker Civil Traffic CGE CQ1-16"]
["Baker","Civil Traffic","CGE CQ1-17",136484,126480,124261,124044,null,35313,92694,101537,104530,null,null,null,null,null,null,null,"2017-01-11T14:37:09",null,0.9,8,"Baker Civil Traffic CGE CQ1-17"]
["Baker","Civil Traffic","CGE CQ2-16",123277,114472.25,112829.25,112678.25,112996.25,37049.5,86265.75,93834.85,96377.75,99801.75,null,null,null,null,null,null,"2017-01-11T14:37:09",null,0.9,8,"Baker Civil Traffic CGE CQ2-16"]
["Baker","Civil Traffic","CGE CQ2-17",165880.1,154389.6,151216.6,null,null,42080.1,113471.6,123749.1,null,null,null,null,null,null,null,null,"2017-01-11T14:37:09",null,0.9,8,"Baker Civil Traffic CGE CQ2-17"]
["Baker","Civil Traffic","CGE CQ3-16",137966.20000000001,126048.2,124438.2,124264.2,124163.2,40485.699999999997,94349.2,100475.2,105510.2,107257.2,null,null,null,null,null,null,"2017-01-11T14:37:09",null,0.9,8,"Baker Civil Traffic CGE CQ3-16"]
["Baker","Civil Traffic","CGE CQ3-17",131457.4,119052.4,null,null,null,39937.9,86578.9,null,null,null,null,null,null,null,null,null,"2017-01-11T14:37:09",null,0.9,8,"Baker Civil Traffic CGE CQ3-17"]
["Baker","Civil Traffic","CGE CQ4-16",117718.5,107593.5,106369.5,106359.5,106359.5,34354,79506,87980,90840,92671,null,null,null,null,null,null,"2017-01-11T14:37:09",null,0.9,8,"Baker Civil Traffic CGE CQ4-16"]
["Baker","Civil Traffic","CGE CQ4-17",109697.5,null,null,null,null,30726,null,null,null,null,null,null,null,null,null,null,"2017-01-11T14:37:09",null,0.9,8,"Baker Civil Traffic CGE CQ4-17"]
["Baker","County Civil","CGE CQ1-16",20650,20650,20650,20650,20650,20475,20650,20650,20475,20650,null,null,null,null,null,null,"2017-01-11T14:37:09",null,0.9,7,"Baker County Civil CGE CQ1-16"]
["Baker","County Civil","CGE CQ1-17",15369,15369,15369,15369,null,15369,15369,15369,15369,null,null,null,null,null,null,null,"2017-01-11T14:37:09",null,0.9,7,"Baker County Civil CGE CQ1-17"]
["Baker","County Civil","CGE CQ2-16",16640,16640,16640,16640,16640,16640,16340,16340,16340,16340,null,null,null,null,null,null,"2017-01-11T14:37:09",null,0.9,7,"Baker County Civil CGE CQ2-16"]
["Baker","County Civil","CGE CQ2-17",12589,12589,12589,null,null,12589,12589,12589,null,null,null,null,null,null,null,null,"2017-01-11T14:37:09",null,0.9,7,"Baker County Civil CGE CQ2-17"]
["Baker","County Civil","CGE CQ3-16",17034,17034,17034,17034,17034,17034,17034,17034,17034,17034,null,null,null,null,null,null,"2017-01-11T14:37:09",null,0.9,7,"Baker County Civil CGE CQ3-16"]
["Baker","County Civil","CGE CQ3-17",16747,16747,null,null,null,16137,16747,null,null,null,null,null,null,null,null,null,"2017-01-11T14:37:09",null,0.9,7,"Baker County Civil CGE CQ3-17"]
["Baker","County Civil","CGE CQ4-16",20035,20035,20035,20035,20035,19850,19850,19850,19850,20035,null,null,null,null,null,null,"2017-01-11T14:37:09",null,0.9,7,"Baker County Civil CGE CQ4-16"]
["Baker","County Civil","CGE CQ4-17",18412,null,null,null,null,18042,null,null,null,null,null,null,null,null,null,null,"2017-01-11T14:37:09",null,0.9,7,"Baker County Civil CGE CQ4-17"]
["Baker","County Criminal","CGE CQ1-16",56871.24,57084.24,57456.24,57456.24,57456.24,8562.16,18410.099999999999,24348.49,26840,28479.66,null,null,null,null,null,null,"2017-01-11T14:37:09",null,0.4,3,"Baker County Criminal CGE CQ1-16"]
["Baker","County Criminal","CGE CQ1-17",57177.5,57177.5,56779.5,56779.5,null,8743.61,13430.65,15750.72,18170.689999999999,null,null,null,null,null,null,null,"2017-01-11T14:37:09",null,0.4,3,"Baker County Criminal CGE CQ1-17"]
["Baker","County Criminal","CGE CQ2-16",46210,46210,46210,46210,46210,5876.16,12776.09,17022.68,19496.18,20949.61,null,null,null,null,null,null,"2017-01-11T14:37:09",null,0.4,3,"Baker County Criminal CGE CQ2-16"]
["Baker","County Criminal","CGE CQ2-17",49654,49654,49604,null,null,6963,10082.049999999999,14685.89,null,null,null,null,null,null,null,null,"2017-01-11T14:37:09",null,0.4,3,"Baker County Criminal CGE CQ2-17"]
["Baker","County Criminal","CGE CQ3-16",49047.58,48987.58,48987.58,48987.58,48987.58,6973.49,10934.48,14302.47,16430.63,18203.13,null,null,null,null,null,null,"2017-01-11T14:37:09",null,0.4,3,"Baker County Criminal CGE CQ3-16"]
["Baker","County Criminal","CGE CQ3-17",53760.7,53735.7,null,null,null,3867.33,9285.25,null,null,null,null,null,null,null,null,null,"2017-01-11T14:37:09",null,0.4,3,"Baker County Criminal CGE CQ3-17"]
["Baker","County Criminal","CGE CQ4-16",61203,61203,61203,60780,60105,6727.85,11031.2,16562.11,18598.2,21238.7,null,null,null,null,null,null,"2017-01-11T14:37:09",null,0.4,3,"Baker County Criminal CGE CQ4-16"]
["Baker","County Criminal","CGE CQ4-17",36408.75,null,null,null,null,4528.12,null,null,null,null,null,null,null,null,null,null,"2017-01-11T14:37:09",null,0.4,3,"Baker County Criminal CGE CQ4-17"]
["Baker","Criminal Traffic","CGE CQ1-16",38562.379999999997,38853.379999999997,38913.379999999997,38913.379999999997,38913.379999999997,3365.26,8994.4599999999991,14479.3,17662.41,20100.82,null,null,null,null,null,null,"2017-01-11T14:37:09",null,0.4,5,{"$f":"A130&\" \"&B130&\" \"&C130","v":"Baker Criminal Traffic CGE CQ1-16"}]
["Baker","Criminal Traffic","CGE CQ1-17",34021.5,34021.5,34021.5,33740.5,null,3824,6306.13,8333.7900000000009,10029.620000000001,null,null,null,null,null,null,null,"2017-01-11T14:37:09",null,0.4,5,"Baker Criminal Traffic CGE CQ1-17"]
["Baker","Criminal Traffic","CGE CQ2-16",52168.5,52168.5,52168.5,52168.5,52168.5,11449.66,18561.54,20464.68,23406.080000000002,26303.68,null,null,null,null,null,null,"2017-01-11T14:37:09",null,0.4,5,"Baker Criminal Traffic CGE CQ2-16"]
["Baker","Criminal Traffic","CGE CQ2-17",38286.879999999997,38286.879999999997,38286.879999999997,null,null,5795.63,8564.92,14265.57,null,null,null,null,null,null,null,null,"2017-01-11T14:37:09",null,0.4,5,"Baker Criminal Traffic CGE CQ2-17"]
["Baker","Criminal Traffic","CGE CQ3-16",39754,40255,40255,40255,40255,8440.7099999999991,11816.02,15773.99,17889.490000000002,18622.82,null,null,null,null,null,null,"2017-01-11T14:37:09",null,0.4,5,"Baker Criminal Traffic CGE CQ3-16"]
["Baker","Criminal Traffic","CGE CQ3-17",46860.5,46860.5,null,null,null,4678.45,10131.9,null,null,null,null,null,null,null,null,null,"2017-01-11T14:37:09",null,0.4,5,"Baker Criminal Traffic CGE CQ3-17"]
["Baker","Criminal Traffic","CGE CQ4-16",46348.5,46348.5,46348.5,46348.5,46348.5,4270.3500000000004,8512.84,12978.3,15245.28,16492.62,null,null,null,null,null,null,"2017-01-11T14:37:09",null,0.4,5,"Baker Criminal Traffic CGE CQ4-16"]
["Baker","Criminal Traffic","CGE CQ4-17",42450,null,null,null,null,5851.04,null,null,null,null,null,null,null,null,null,null,"2017-01-11T14:37:09",null,0.4,5,"Baker Criminal Traffic CGE CQ4-17"]
["Baker","Family","CGE CQ1-16",13415,13007,13007,13007,13007,12587,12597,12597,12587,12597,null,null,null,null,null,null,"2017-01-11T14:37:09",null,0.75,10,"Baker Family CGE CQ1-16"]
["Baker","Family","CGE CQ1-17",19014,19014,19014,19014,null,17953,18846,18846,18846,null,null,null,null,null,null,null,"2017-01-11T14:37:09",null,0.75,10,"Baker Family CGE CQ1-17"]
["Baker","Family","CGE CQ2-16",24636,24636,24636,24636,24636,24228,24636,24576,24636,24636,null,null,null,null,null,null,"2017-01-11T14:37:09",null,0.75,10,"Baker Family CGE CQ2-16"]
["Baker","Family","CGE CQ2-17",20418,20418,20418,null,null,20418,20418,20418,null,null,null,null,null,null,null,null,"2017-01-11T14:37:09",null,0.75,10,"Baker Family CGE CQ2-17"]
["Baker","Family","CGE CQ3-16",19925,19925,19925,19925,19925,19905,19905,19905,19905,19905,null,null,null,null,null,null,"2017-01-11T14:37:09",null,0.75,10,"Baker Family CGE CQ3-16"]
["Baker","Family","CGE CQ3-17",20646,20646,null,null,null,20229,20229,null,null,null,null,null,null,null,null,null,"2017-01-11T14:37:09",null,0.75,10,"Baker Family CGE CQ3-17"]
["Baker","Family","CGE CQ4-16",17763,17763,17763,17763,17763,17763,17763,17763,17763,17763,null,null,null,null,null,null,"2017-01-11T14:37:09",null,0.75,10,"Baker Family CGE CQ4-16"]
["Baker","Family","CGE CQ4-17",23569,null,null,null,null,22703,null,null,null,null,null,null,null,null,null,null,"2017-01-11T14:37:09",null,0.75,10,"Baker Family CGE CQ4-17"]
["Baker","Juvenile Delinquency","CGE CQ1-16",2809.5,2809.5,2809.5,2809.5,2809.5,28.5,593.5,907.5,1289.5,1392.5,null,null,null,null,null,null,"2017-01-11T14:37:09",null,0.09,4,"Baker Juvenile Delinquency CGE CQ1-16"]
["Baker","Juvenile Delinquency","CGE CQ1-17",1282,1282,1282,1282,null,14,732,732,732,null,null,null,null,null,null,null,"2017-01-11T14:37:09",null,0.09,4,"Baker Juvenile Delinquency CGE CQ1-17"]
["Baker","Juvenile Delinquency","CGE CQ2-16",1967.53,1967.53,1967.53,1967.53,1967.53,216.5,525.5,525.5,525.5,525.5,null,null,null,null,null,null,"2017-01-11T14:37:09",null,0.09,4,"Baker Juvenile Delinquency CGE CQ2-16"]
["Baker","Juvenile Delinquency","CGE CQ2-17",121,121,121,null,null,21,59,109,null,null,null,null,null,null,null,null,"2017-01-11T14:37:09",null,0.09,4,"Baker Juvenile Delinquency CGE CQ2-17"]
["Baker","Juvenile Delinquency","CGE CQ3-16",2379.5,2379.5,2379.5,2379.5,2379.5,273.5,525.5,937.5,937.5,1040.5,null,null,null,null,null,null,"2017-01-11T14:37:09",null,0.09,4,"Baker Juvenile Delinquency CGE CQ3-16"]
["Baker","Juvenile Delinquency","CGE CQ3-17",3313.5,3313.5,null,null,null,592.5,1381.5,null,null,null,null,null,null,null,null,null,"2017-01-11T14:37:09",null,0.09,4,"Baker Juvenile Delinquency CGE CQ3-17"]
["Baker","Juvenile Delinquency","CGE CQ4-16",2429.5,2429.5,2429.5,2429.5,2429.5,153.5,479.5,1811.5,1811.5,2017.5,null,null,null,null,null,null,"2017-01-11T14:37:09",null,0.09,4,"Baker Juvenile Delinquency CGE CQ4-16"]
["Baker","Juvenile Delinquency","CGE CQ4-17",4429,null,null,null,null,304,null,null,null,null,null,null,null,null,null,null,"2017-01-11T14:37:09",null,0.09,4,"Baker Juvenile Delinquency CGE CQ4-17"]
["Baker","Probate","CGE CQ1-16",3742,3742,3742,3742,3742,3342,3742,3742,3342,3742,null,null,null,null,null,null,"2017-01-11T14:37:09",null,0.9,9,"Baker Probate CGE CQ1-16"]
["Baker","Probate","CGE CQ1-17",6309.5,6309.5,6309.5,6309.5,null,6309.5,6309.5,6309.5,6309.5,null,null,null,null,null,null,null,"2017-01-11T14:37:09",null,0.9,9,"Baker Probate CGE CQ1-17"]
["Baker","Probate","CGE CQ2-16",6033,6033,6033,6033,6033,6033,6033,6033,6033,6033,null,null,null,null,null,null,"2017-01-11T14:37:09",null,0.9,9,"Baker Probate CGE CQ2-16"]
["Baker","Probate","CGE CQ2-17",4051,4051,4051,null,null,4051,4051,4051,null,null,null,null,null,null,null,null,"2017-01-11T14:37:09",null,0.9,9,"Baker Probate CGE CQ2-17"]
["Baker","Probate","CGE CQ3-16",7028,7028,7028,7028,7028,7028,7028,7028,7028,7028,null,null,null,null,null,null,"2017-01-11T14:37:09",null,0.9,9,"Baker Probate CGE CQ3-16"]
["Baker","Probate","CGE CQ3-17",4824,4824,null,null,null,4824,4824,null,null,null,null,null,null,null,null,null,"2017-01-11T14:37:09",null,0.9,9,"Baker Probate CGE CQ3-17"]
["Baker","Probate","CGE CQ4-16",4324,4324,4324,4324,4324,4324,4324,4324,4324,4324,null,null,null,null,null,null,"2017-01-11T14:37:09",null,0.9,9,"Baker Probate CGE CQ4-16"]
["Baker","Probate","CGE CQ4-17",3084,null,null,null,null,3084,null,null,null,null,null,null,null,null,null,null,"2017-01-11T14:37:09",null,0.9,9,"Baker Probate CGE CQ4-17"]
["Bay","Circ Crim Drug Trfc Cases","CGE CQ1-16",207961,209506,209506,209506,209506,0,49,172.25,172.25,193.25,null,null,null,null,null,null,"2017-01-11T14:37:09",null,0.09,2,"Bay Circ Crim Drug Trfc Cases CGE CQ1-16"]
["Bay","Circ Crim Drug Trfc Cases","CGE CQ1-17",101111,101111,101111,101111,null,50,50,57,57,null,null,null,null,null,null,null,"2017-01-11T14:37:09",null,0.09,2,"Bay Circ Crim Drug Trfc Cases CGE CQ1-17"]
["Bay","Circ Crim Drug Trfc Cases","CGE CQ2-16",104854,104854,104854,104854,104854,56,80,80,80,80,null,null,null,null,null,null,"2017-01-11T14:37:09",null,0.09,2,"Bay Circ Crim Drug Trfc Cases CGE CQ2-16"]
["Bay","Circ Crim Drug Trfc Cases","CGE CQ2-17",511785,511785,511785,null,null,25,32,32,null,null,null,null,null,null,null,null,"2017-01-11T14:37:09",null,0.09,2,"Bay Circ Crim Drug Trfc Cases CGE CQ2-17"]
["Bay","Circ Crim Drug Trfc Cases","CGE CQ3-16",305213,305213,305213,305213,305213,99,145,145,145,152,null,null,null,null,null,null,"2017-01-11T14:37:09",null,0.09,2,"Bay Circ Crim Drug Trfc Cases CGE CQ3-16"]
["Bay","Circ Crim Drug Trfc Cases","CGE CQ3-17",158686,158686,null,null,null,131,231,null,null,null,null,null,null,null,null,null,"2017-01-11T14:37:09",null,0.09,2,"Bay Circ Crim Drug Trfc Cases CGE CQ3-17"]
["Bay","Circ Crim Drug Trfc Cases","CGE CQ4-16",262520,262520,262520,262520,262520,75,89,89,89,89,null,null,null,null,null,null,"2017-01-11T14:37:09",null,0.09,2,"Bay Circ Crim Drug Trfc Cases CGE CQ4-16"]
["Bay","Circ Crim Drug Trfc Cases","CGE CQ4-17",312168,null,null,null,null,71,null,null,null,null,null,null,null,null,null,null,"2017-01-11T14:37:09",null,0.09,2,"Bay Circ Crim Drug Trfc Cases CGE CQ4-17"]
["Bay","Circuit Civil","CGE CQ1-16",367893.31,367893.31,367893.31,367453.31,367453.31,365221.31,367189.31,367189.31,366749.31,366749.31,null,null,null,null,null,null,"2017-01-11T14:37:09",null,0.9,6,"Bay Circuit Civil CGE CQ1-16"]
["Bay","Circuit Civil","CGE CQ1-17",271192.34000000003,271192.34000000003,271192.34000000003,270911.34000000003,null,270592.84000000003,270592.84000000003,270922.07,270922.07,null,null,null,null,null,null,null,"2017-01-11T14:37:09",null,0.9,6,"Bay Circuit Civil CGE CQ1-17"]
["Bay","Circuit Civil","CGE CQ2-16",358801.74,357620.74,356433.74,356433.74,356433.74,355158.74,356538.74,356032.74,356032.74,356032.74,null,null,null,null,null,null,"2017-01-11T14:37:09",null,0.9,6,"Bay Circuit Civil CGE CQ2-16"]
["Bay","Circuit Civil","CGE CQ2-17",171,304595.69,304314.69,null,null,304314.69,304314.69,304314.69,null,null,null,null,null,null,null,null,"2017-01-11T14:37:09",null,0.9,6,"Bay Circuit Civil CGE CQ2-17"]
["Bay","Circuit Civil","CGE CQ3-16",333903.34000000003,332294.34000000003,332294.34000000003,332694.34000000003,333094.34000000003,332401.34000000003,331483.34000000003,331483.34000000003,331483.34000000003,331483.34000000003,null,null,null,null,null,null,"2017-01-11T14:37:09",null,0.9,6,"Bay Circuit Civil CGE CQ3-16"]
["Bay","Circuit Civil","CGE CQ3-17",294112.77,293831.77,null,null,null,293430.77,293430.77,null,null,null,null,null,null,null,null,null,"2017-01-11T14:37:09",null,0.9,6,"Bay Circuit Civil CGE CQ3-17"]
["Bay","Circuit Civil","CGE CQ4-16",390803.55,390403.55,390403.55,390403.55,389841.55,389973.05,389673.05,389673.05,389673.05,389673.05,null,null,null,null,null,null,"2017-01-11T14:37:09",null,0.9,6,"Bay Circuit Civil CGE CQ4-16"]
["Bay","Circuit Civil","CGE CQ4-17",297492.82,null,null,null,null,292940.32,null,null,null,null,null,null,null,null,null,null,"2017-01-11T14:37:09",null,0.9,6,"Bay Circuit Civil CGE CQ4-17"]
["Bay","Circuit Criminal","CGE CQ1-16",727790.24,728649.74,726818.74,727440.74,727690.74,16054.95,28579.06,40753,49626.080000000002,58041.32,null,null,null,null,null,null,"2017-01-11T14:37:09",null,0.09,1,"Bay Circuit Criminal CGE CQ1-16"]
["Bay","Circuit Criminal","CGE CQ1-17",762315.71,763820.71,764038.71,764038.71,null,16780.759999999998,32355.55,46410.64,52910.77,null,null,null,null,null,null,null,"2017-01-11T14:37:09",null,0.09,1,"Bay Circuit Criminal CGE CQ1-17"]
["Bay","Circuit Criminal","CGE CQ2-16",696943.56,696915.56,697118.56,697104.56,697347.56,21233.01,35199.32,43858.87,53898.83,68506.429999999993,null,null,null,null,null,null,"2017-01-11T14:37:09",null,0.09,1,"Bay Circuit Criminal CGE CQ2-16"]
["Bay","Circuit Criminal","CGE CQ2-17",1182625.02,1183908.02,1183933,null,null,22562.7,32728.94,42417.74,null,null,null,null,null,null,null,null,"2017-01-11T14:37:09",null,0.09,1,"Bay Circuit Criminal CGE CQ2-17"]
["Bay","Circuit Criminal","CGE CQ3-16",952863.55,950490.55,949538.55,939906.05,939920.05,26171.06,39576.379999999997,52787.93,71724.28,82433.83,null,null,null,null,null,null,"2017-01-11T14:37:09",null,0.09,1,"Bay Circuit Criminal CGE CQ3-16"]
["Bay","Circuit Criminal","CGE CQ3-17",828925.72,830041.22,null,null,null,10219.75,21796.46,null,null,null,null,null,null,null,null,null,"2017-01-11T14:37:09",null,0.09,1,"Bay Circuit Criminal CGE CQ3-17"]
["Bay","Circuit Criminal","CGE CQ4-16",991855.09,992832.09,992157.09,993234.09,993184.09,24073.95,41157.730000000003,57312.75,68997.41,80700.81,null,null,null,null,null,null,"2017-01-11T14:37:09",null,0.09,1,"Bay Circuit Criminal CGE CQ4-16"]
["Bay","Circuit Criminal","CGE CQ4-17",1012460.4,null,null,null,null,18682.45,null,null,null,null,null,null,null,null,null,null,"2017-01-11T14:37:09",null,0.09,1,"Bay Circuit Criminal CGE CQ4-17"]
["Bay","Civil Traffic","CGE CQ1-16",464193,689225.76,688046.01,681643.01,681643,64132.68,572220.81000000006,599673.96,609279.96,613254.94999999995,null,null,null,null,null,null,"2017-01-11T14:37:09",null,0.9,8,"Bay Civil Traffic CGE CQ1-16"]
["Bay","Civil Traffic","CGE CQ1-17",888893.43,845782.21,842492.21,842377.21,null,439232.27,716130.56,750068.96,758869.96,null,null,null,null,null,null,null,"2017-01-11T14:37:09",null,0.9,8,"Bay Civil Traffic CGE CQ1-17"]
["Bay","Civil Traffic","CGE CQ2-16",1582308.91,1560877.76,1454396.49,1453655.37,1453450.62,434720.99,1029127.56,1091853.0900000001,1120332.97,1143974.22,null,null,null,null,null,null,"2017-01-11T14:37:09",null,0.9,8,"Bay Civil Traffic CGE CQ2-16"]
["Bay","Civil Traffic","CGE CQ2-17",1021887.64,969092.27,967686.27,null,null,472441.33,763454.27,814268.77,null,null,null,null,null,null,null,null,"2017-01-11T14:37:09",null,0.9,8,"Bay Civil Traffic CGE CQ2-17"]
["Bay","Civil Traffic","CGE CQ3-16",1110335.93,1005728.5,1002434.9,1002016.9,1001993.9,497001.98,750502.95,788462.7,814271.2,824159.2,null,null,null,null,null,null,"2017-01-11T14:37:09",null,0.9,8,"Bay Civil Traffic CGE CQ3-16"]
["Bay","Civil Traffic","CGE CQ3-17",957767.88,923043.85,null,null,null,452308.91,721787.65,null,null,null,null,null,null,null,null,null,"2017-01-11T14:37:09",null,0.9,8,"Bay Civil Traffic CGE CQ3-17"]
["Bay","Civil Traffic","CGE CQ4-16",935012.5,887137.36,885445.56,884976.56,884861.56,480803.03,730835.16,772819.31,784846.81,790105.81,null,null,null,null,null,null,"2017-01-11T14:37:09",null,0.9,8,"Bay Civil Traffic CGE CQ4-16"]
["Bay","Civil Traffic","CGE CQ4-17",809189.71,null,null,null,null,406620.81,null,null,null,null,null,null,null,null,null,null,"2017-01-11T14:37:09",null,0.9,8,"Bay Civil Traffic CGE CQ4-17"]
["Bay","County Civil","CGE CQ1-16",201200.73,201200.73,201410.73,201410.73,172250.23,180576.78,174314.28,173844.28,173844.28,172110.23,null,null,null,null,null,null,"2017-01-11T14:37:09",null,0.9,7,{"$f":"A194&\" \"&B194&\" \"&C194","v":"Bay County Civil CGE CQ1-16"}]
["Bay","County Civil","CGE CQ1-17",177368.25,177203.25,177203.25,177203.25,null,177068.25,177203.25,177203.25,177203.25,null,null,null,null,null,null,null,"2017-01-11T14:37:09",null,0.9,7,"Bay County Civil CGE CQ1-17"]
["Bay","County Civil","CGE CQ2-16",204348.9,204348.9,204348.9,181064.4,181064.4,185319.4,181911.4,181911.4,181063.4,181063.4,null,null,null,null,null,null,"2017-01-11T14:37:09",null,0.9,7,"Bay County Civil CGE CQ2-16"]
["Bay","County Civil","CGE CQ2-17",171438.32,171659.32,171378.32,null,null,171133.32,171073.32,171073.32,null,null,null,null,null,null,null,null,"2017-01-11T14:37:09",null,0.9,7,"Bay County Civil CGE CQ2-17"]
["Bay","County Civil","CGE CQ3-16",237361.76,236651.76,201897.57,201897.57,201897.57,220207.08,211359.34,201772.57,201772.57,201772.57,null,null,null,null,null,null,"2017-01-11T14:37:09",null,0.9,7,"Bay County Civil CGE CQ3-16"]
["Bay","County Civil","CGE CQ3-17",176299.3,175859.3,null,null,null,175437.65,175227.65,null,null,null,null,null,null,null,null,null,"2017-01-11T14:37:09",null,0.9,7,"Bay County Civil CGE CQ3-17"]
["Bay","County Civil","CGE CQ4-16",202815.41,170770.71,170980.71,171540.71,171470.71,176449.34,170559.86,170979.86,171399.86,171469.86,null,null,null,null,null,null,"2017-01-11T14:37:09",null,0.9,7,"Bay County Civil CGE CQ4-16"]
["Bay","County Civil","CGE CQ4-17",178719.28,null,null,null,null,178719.28,null,null,null,null,null,null,null,null,null,null,"2017-01-11T14:37:09",null,0.9,7,"Bay County Civil CGE CQ4-17"]
["Bay","County Criminal","CGE CQ1-16",201200.73,598313.03,586860.03,574956.41,569683.48,180576.78,99285.66,149743.06,182356.76,216732.45,null,null,null,null,null,null,"2017-01-11T14:37:09",null,0.4,3,"Bay County Criminal CGE CQ1-16"]
["Bay","County Criminal","CGE CQ1-17",630023.9,615030.9,607077.9,603247.9,null,47739.42,103271.1,152310.1,182397.76,null,null,null,null,null,null,null,"2017-01-11T14:37:09",null,0.4,3,"Bay County Criminal CGE CQ1-17"]
["Bay","County Criminal","CGE CQ2-16",644064.5,630896.5,623041.15,620261.41,612655.41,55145.54,113163.66,164313.43,191249.36,212386.07,null,null,null,null,null,null,"2017-01-11T14:37:09",null,0.4,3,"Bay County Criminal CGE CQ2-16"]
["Bay","County Criminal","CGE CQ2-17",626192.47,617626.46,610514.46,null,null,52236.34,97472.21,138433.43,null,null,null,null,null,null,null,null,"2017-01-11T14:37:09",null,0.4,3,"Bay County Criminal CGE CQ2-17"]
["Bay","County Criminal","CGE CQ3-16",770955.85,757955.84,748153.3,743671.3,735384.3,88478.91,151040.51999999999,203568.61,245676.48,269131.53999999998,null,null,null,null,null,null,"2017-01-11T14:37:09",null,0.4,3,"Bay County Criminal CGE CQ3-16"]
["Bay","County Criminal","CGE CQ3-17",649966.53,640657.53,null,null,null,56642.13,109353.95,null,null,null,null,null,null,null,null,null,"2017-01-11T14:37:09",null,0.4,3,"Bay County Criminal CGE CQ3-17"]
["Bay","County Criminal","CGE CQ4-16",699312.64000000001,685225.24,676216.24,669650.24,664508.24,67975.19,123875.36,184058.26,214157.48,245693.46,null,null,null,null,null,null,"2017-01-11T14:37:09",null,0.4,3,"Bay County Criminal CGE CQ4-16"]
["Bay","County Criminal","CGE CQ4-17",669211.97,null,null,null,null,56977.24,null,null,null,null,null,null,null,null,null,null,"2017-01-11T14:37:09",null,0.4,3,"Bay County Criminal CGE CQ4-17"]
["Bay","Criminal Traffic","CGE CQ1-16",464193,453496.25,443625.25,437667,432932,64132.68,146142.01,207028.59,251748.65,279639,null,null,null,null,null,null,"2017-01-11T14:37:09",null,0.4,5,"Bay Criminal Traffic CGE CQ1-16"]
["Bay","Criminal Traffic","CGE CQ1-17",457971.99,448981.49,437089.49,433864.49,null,67985.19,145486.10999999999,207099.3,235985.35,null,null,null,null,null,null,null,"2017-01-11T14:37:09",null,0.4,5,"Bay Criminal Traffic CGE CQ1-17"]
["Bay","Criminal Traffic","CGE CQ2-16",569011.69999999995,561389.69999999995,546698.25,541033.25,536343.25,75403.360000000001,169203.54,243755.8,295539,344271.15,null,null,null,null,null,null,"2017-01-11T14:37:09",null,0.4,5,"Bay Criminal Traffic CGE CQ2-16"]
["Bay","Criminal Traffic","CGE CQ2-17",499033,489295.75,481954,null,null,87267.71,171311.35,231454.87,null,null,null,null,null,null,null,null,"2017-01-11T14:37:09",null,0.4,5,"Bay Criminal Traffic CGE CQ2-17"]
["Bay","Criminal Traffic","CGE CQ3-16",516793.75,512061,506439.25,499881.91,487812.16,78152.240000000005,153222.32,222468.53,280413.17,307499.98,null,null,null,null,null,null,"2017-01-11T14:37:09",null,0.4,5,"Bay Criminal Traffic CGE CQ3-16"]
["Bay","Criminal Traffic","CGE CQ3-17",398381.25,392581,null,null,null,54000.75,114488.33,null,null,null,null,null,null,null,null,null,"2017-01-11T14:37:09",null,0.4,5,"Bay Criminal Traffic CGE CQ3-17"]
["Bay","Criminal Traffic","CGE CQ4-16",479407,469111.35,464519.1,457872.1,453463.85,79664.649999999994,151176.68,226496.03,263061.68,291157.68,null,null,null,null,null,null,"2017-01-11T14:37:09",null,0.4,5,"Bay Criminal Traffic CGE CQ4-16"]
["Bay","Criminal Traffic","CGE CQ4-17",369591,null,null,null,null,64734.02,null,null,null,null,null,null,null,null,null,null,"2017-01-11T14:37:09",null,0.4,5,"Bay Criminal Traffic CGE CQ4-17"]
["Bay","Family","CGE CQ1-16",94867.5,94572.5,94572.5,95012.5,95012.5,92875.5,92875.5,92875.5,93315.5,93315.5,null,null,null,null,null,null,"2017-01-11T14:37:09",null,0.75,10,"Bay Family CGE CQ1-16"]
["Bay","Family","CGE CQ1-17",114328.5,114328.5,113533.5,113533.5,null,111135.5,111135.5,111135.5,111135.5,null,null,null,null,null,null,null,"2017-01-11T14:37:09",null,0.75,10,"Bay Family CGE CQ1-17"]
["Bay","Family","CGE CQ2-16",140205,139400,138706,138706,138706,136068,136092,136598,136995.5,136995.5,null,null,null,null,null,null,"2017-01-11T14:37:09",null,0.75,10,"Bay Family CGE CQ2-16"]
["Bay","Family","CGE CQ2-17",127744,127346.5,127346.5,null,null,121272,121275,121275,null,null,null,null,null,null,null,null,"2017-01-11T14:37:09",null,0.75,10,"Bay Family CGE CQ2-17"]
["Bay","Family","CGE CQ3-16",130310.5,130294.5,130294.5,130294.5,130294.5,127001.5,127455.5,127856,127856,127856,null,null,null,null,null,null,"2017-01-11T14:37:09",null,0.75,10,"Bay Family CGE CQ3-16"]
["Bay","Family","CGE CQ3-17",134555,133857.5,null,null,null,130095.5,130493,null,null,null,null,null,null,null,null,null,"2017-01-11T14:37:09",null,0.75,10,"Bay Family CGE CQ3-17"]
["Bay","Family","CGE CQ4-16",150627.5,148620,148620,148620,148620,142683,142683,142683,142683,142686,null,null,null,null,null,null,"2017-01-11T14:37:09",null,0.75,10,"Bay Family CGE CQ4-16"]
["Bay","Family","CGE CQ4-17",140274,null,null,null,null,133241,null,null,null,null,null,null,null,null,null,null,"2017-01-11T14:37:09",null,0.75,10,"Bay Family CGE CQ4-17"]
["Bay","Juvenile Delinquency","CGE CQ1-16",8760,8880,8830,8830,8830,730,1440,2430,2900,3450,null,null,null,null,null,null,"2017-01-11T14:37:09",null,0.09,4,"Bay Juvenile Delinquency CGE CQ1-16"]
["Bay","Juvenile Delinquency","CGE CQ1-17",11182,11182,11252,11252,null,1542,2152,2722,3832,null,null,null,null,null,null,null,"2017-01-11T14:37:09",null,0.09,4,"Bay Juvenile Delinquency CGE CQ1-17"]
["Bay","Juvenile Delinquency","CGE CQ2-16",7128,7128,7128,7128,7128,398,828,1408,2008,2158,null,null,null,null,null,null,"2017-01-11T14:37:09",null,0.09,4,"Bay Juvenile Delinquency CGE CQ2-16"]
["Bay","Juvenile Delinquency","CGE CQ2-17",10208,10448,10448,null,null,1228,3034.5,3804.5,null,null,null,null,null,null,null,null,"2017-01-11T14:37:09",null,0.09,4,"Bay Juvenile Delinquency CGE CQ2-17"]
["Bay","Juvenile Delinquency","CGE CQ3-16",10433,10433,10433,10383,10383,1443.55,2566.5500000000002,3116.55,3581,3851,null,null,null,null,null,null,"2017-01-11T14:37:09",null,0.09,4,"Bay Juvenile Delinquency CGE CQ3-16"]
["Bay","Juvenile Delinquency","CGE CQ3-17",7910,7910,null,null,null,960,1580,null,null,null,null,null,null,null,null,null,"2017-01-11T14:37:09",null,0.09,4,"Bay Juvenile Delinquency CGE CQ3-17"]
["Bay","Juvenile Delinquency","CGE CQ4-16",12318,12318,12318,12318,12318,1789.5,2609.5,3439.5,3579.5,4049.5,null,null,null,null,null,null,"2017-01-11T14:37:09",null,0.09,4,"Bay Juvenile Delinquency CGE CQ4-16"]
["Bay","Juvenile Delinquency","CGE CQ4-17",8360,null,null,null,null,280,null,null,null,null,null,null,null,null,null,null,"2017-01-11T14:37:09",null,0.09,4,"Bay Juvenile Delinquency CGE CQ4-17"]
["Bay","Probate","CGE CQ1-16",58142.75,58142.75,58142.75,58142.75,57907.75,57911.75,57911.75,57911.75,57911.75,57676.75,null,null,null,null,null,null,"2017-01-11T14:37:09",null,0.9,9,"Bay Probate CGE CQ1-16"]
["Bay","Probate","CGE CQ1-17",63988.5,63643.5,63643.5,63643.5,null,63526.5,63412.5,63412.5,63412.5,null,null,null,null,null,null,null,"2017-01-11T14:37:09",null,0.9,9,"Bay Probate CGE CQ1-17"]
["Bay","Probate","CGE CQ2-16",64596.24,64365.24,64465.24,63901.75,63881.75,63879.24,63580.24,63915.24,63419.75,63419.75,null,null,null,null,null,null,"2017-01-11T14:37:09",null,0.9,9,"Bay Probate CGE CQ2-16"]
["Bay","Probate","CGE CQ2-17",62198.05,61963.05,61833.05,null,null,61933.4,61698.400000000001,61528.4,null,null,null,null,null,null,null,null,"2017-01-11T14:37:09",null,0.9,9,"Bay Probate CGE CQ2-17"]
["Bay","Probate","CGE CQ3-16",91678.25,91358.25,71900.75,71900.75,71900.75,91246.25,90926.25,71690.75,71690.75,71690.75,null,null,null,null,null,null,"2017-01-11T14:37:09",null,0.9,9,"Bay Probate CGE CQ3-16"]
["Bay","Probate","CGE CQ3-17",72014,71669,null,null,null,72014,71669,null,null,null,null,null,null,null,null,null,"2017-01-11T14:37:09",null,0.9,9,"Bay Probate CGE CQ3-17"]
["Bay","Probate","CGE CQ4-16",67981.11,66969,66969,66969,66969,67115.11,66734,66734,66734,66734,null,null,null,null,null,null,"2017-01-11T14:37:09",null,0.9,9,"Bay Probate CGE CQ4-16"]
["Bay","Probate","CGE CQ4-17",67197.8,null,null,null,null,67197.8,null,null,null,null,null,null,null,null,null,null,"2017-01-11T14:37:09",null,0.9,9,"Bay Probate CGE CQ4-17"]
["Bradford","Circ Crim Drug Trfc Cases","CGE CQ1-16",0,0,0,0,0,0,0,0,0,0,null,null,null,null,null,null,"2017-01-11T14:37:09",null,0.09,2,"Bradford Circ Crim Drug Trfc Cases CGE CQ1-16"]
["Bradford","Circ Crim Drug Trfc Cases","CGE CQ1-17",0,0,null,null,null,0,0,null,null,null,null,null,null,null,null,null,"2017-01-11T14:37:09",null,0.09,2,"Bradford Circ Crim Drug Trfc Cases CGE CQ1-17"]
["Bradford","Circ Crim Drug Trfc Cases","CGE CQ2-16",0,0,0,0,0,0,0,0,0,0,null,null,null,null,null,null,"2017-01-11T14:37:09",null,0.09,2,"Bradford Circ Crim Drug Trfc Cases CGE CQ2-16"]
["Bradford","Circ Crim Drug Trfc Cases","CGE CQ2-17",0,null,null,null,null,0,null,null,null,null,null,null,null,null,null,null,"2017-01-11T14:37:09",null,0.09,2,"Bradford Circ Crim Drug Trfc Cases CGE CQ2-17"]
["Bradford","Circ Crim Drug Trfc Cases","CGE CQ3-16",0,0,0,0,null,0,0,0,0,null,null,null,null,null,null,null,"2017-01-11T14:37:09",null,0.09,2,"Bradford Circ Crim Drug Trfc Cases CGE CQ3-16"]
["Bradford","Circ Crim Drug Trfc Cases","CGE CQ3-17",null,null,null,null,null,null,null,null,null,null,null,null,null,null,null,null,"2017-01-11T14:37:09",null,0.09,2,"Bradford Circ Crim Drug Trfc Cases CGE CQ3-17"]
["Bradford","Circ Crim Drug Trfc Cases","CGE CQ4-16",0,0,0,null,null,0,0,0,null,null,null,null,null,null,null,null,"2017-01-11T14:37:09",null,0.09,2,"Bradford Circ Crim Drug Trfc Cases CGE CQ4-16"]
["Bradford","Circ Crim Drug Trfc Cases","CGE CQ4-17",null,null,null,null,null,null,null,null,null,null,null,null,null,null,null,null,"2017-01-11T14:37:09",null,0.09,2,"Bradford Circ Crim Drug Trfc Cases CGE CQ4-17"]
["Bradford","Circuit Civil","CGE CQ1-16",30470,30470,30470,30470,30470,26583,29267,29267,29267,29267,null,null,null,null,null,null,"2017-01-11T14:37:09",null,0.9,6,"Bradford Circuit Civil CGE CQ1-16"]
["Bradford","Circuit Civil","CGE CQ1-17",24382.5,24382.5,24382.5,24382.5,null,20712.5,20732.5,20782.349999999999,20782.349999999999,null,null,null,null,null,null,null,"2017-01-11T14:37:09",null,0.9,6,"Bradford Circuit Civil CGE CQ1-17"]
["Bradford","Circuit Civil","CGE CQ2-16",33026,33026,33026,33026,33026,32187,32187,32187,32187,32187,null,null,null,null,null,null,"2017-01-11T14:37:09",null,0.9,6,"Bradford Circuit Civil CGE CQ2-16"]
["Bradford","Circuit Civil","CGE CQ2-17",40859.5,40909.5,40909.5,null,null,37934.5,37984.5,37984.5,null,null,null,null,null,null,null,null,"2017-01-11T14:37:09",null,0.9,6,"Bradford Circuit Civil CGE CQ2-17"]
["Bradford","Circuit Civil","CGE CQ3-16",37349,36949,36949,36949,36949,36348,36348,36348,36348,36348,null,null,null,null,null,null,"2017-01-11T14:37:09",null,0.9,6,"Bradford Circuit Civil CGE CQ3-16"]
["Bradford","Circuit Civil","CGE CQ3-17",30545,30545,null,null,null,30545,30545,null,null,null,null,null,null,null,null,null,"2017-01-11T14:37:09",null,0.9,6,"Bradford Circuit Civil CGE CQ3-17"]
["Bradford","Circuit Civil","CGE CQ4-16",32494.5,32894.5,32894.5,32894.5,32894.5,29889.5,30329.5,30329.5,30329.5,30329.5,null,null,null,null,null,null,"2017-01-11T14:37:09",null,0.9,6,"Bradford Circuit Civil CGE CQ4-16"]
["Bradford","Circuit Civil","CGE CQ4-17",29571.5,null,null,null,null,27151.5,null,null,null,null,null,null,null,null,null,null,"2017-01-11T14:37:09",null,0.9,6,"Bradford Circuit Civil CGE CQ4-17"]
["Bradford","Circuit Criminal","CGE CQ1-16",96252,96252,96252,96252,96202,2706.93,8880.57,12764.51,15215.5,18084.919999999998,null,null,null,null,null,null,"2017-01-11T14:37:09",null,0.09,1,{"$f":"A258&\" \"&B258&\" \"&C258","v":"Bradford Circuit Criminal CGE CQ1-16"}]
["Bradford","Circuit Criminal","CGE CQ1-17",60291,60241,60491,60491,null,5126.7299999999996,6167.38,11447.54,15330.33,null,null,null,null,null,null,null,"2017-01-11T14:37:09",null,0.09,1,"Bradford Circuit Criminal CGE CQ1-17"]
["Bradford","Circuit Criminal","CGE CQ2-16",78726,78676,79344,79344,78426,9610,12838.25,16036.42,17828.53,20114.16,null,null,null,null,null,null,"2017-01-11T14:37:09",null,0.09,1,"Bradford Circuit Criminal CGE CQ2-16"]
["Bradford","Circuit Criminal","CGE CQ2-17",107311.43,107311.43,107455.43,null,null,6125.8,14714.59,22380.89,null,null,null,null,null,null,null,null,"2017-01-11T14:37:09",null,0.09,1,"Bradford Circuit Criminal CGE CQ2-17"]
["Bradford","Circuit Criminal","CGE CQ3-16",147305,147458,146990,146990,146990,4162.18,6971.38,10777.19,14036.07,16995.93,null,null,null,null,null,null,"2017-01-11T14:37:09",null,0.09,1,"Bradford Circuit Criminal CGE CQ3-16"]
["Bradford","Circuit Criminal","CGE CQ3-17",125426,125376,null,null,null,3684.35,8379.9500000000007,null,null,null,null,null,null,null,null,null,"2017-01-11T14:37:09",null,0.09,1,"Bradford Circuit Criminal CGE CQ3-17"]
["Bradford","Circuit Criminal","CGE CQ4-16",236962.64,237780.64,237780.64,237830.64,237930.64,3089.13,7930.06,12862.32,16876.82,18855.47,null,null,null,null,null,null,"2017-01-11T14:37:09",null,0.09,1,"Bradford Circuit Criminal CGE CQ4-16"]
["Bradford","Circuit Criminal","CGE CQ4-17",102918,null,null,null,null,7826.99,null,null,null,null,null,null,null,null,null,null,"2017-01-11T14:37:09",null,0.09,1,"Bradford Circuit Criminal CGE CQ4-17"]
["Bradford","Civil Traffic","CGE CQ1-16",502886.25,489464.5,486673.5,486332.5,486040.5,184236.5,381316.03,425023.5,437428.5,442706.5,null,null,null,null,null,null,"2017-01-11T14:37:09",null,0.9,8,"Bradford Civil Traffic CGE CQ1-16"]
["Bradford","Civil Traffic","CGE CQ1-17",396998.1,390012.6,387302.2,386683.2,null,120504.1,305675.59999999998,339273.2,350234.2,null,null,null,null,null,null,null,"2017-01-11T14:37:09",null,0.9,8,"Bradford Civil Traffic CGE CQ1-17"]
["Bradford","Civil Traffic","CGE CQ2-16",462449.05,452643.8,451508.8,451087.8,450939.8,157324.04999999999,352233.8,397629.8,405016.8,411862.8,null,null,null,null,null,null,"2017-01-11T14:37:09",null,0.9,8,"Bradford Civil Traffic CGE CQ2-16"]
["Bradford","Civil Traffic","CGE CQ2-17",425157.45,413631.35,410713.35,null,null,137202.85,327240.34999999998,362387.35,null,null,null,null,null,null,null,null,"2017-01-11T14:37:09",null,0.9,8,"Bradford Civil Traffic CGE CQ2-17"]
["Bradford","Civil Traffic","CGE CQ3-16",497643.8,490812.55,487792.55,487769.55,487769.55,173086.8,383068.55,424373.55,443098.55,447616.55,null,null,null,null,null,null,"2017-01-11T14:37:09",null,0.9,8,"Bradford Civil Traffic CGE CQ3-16"]
["Bradford","Civil Traffic","CGE CQ3-17",401806.79,394899.79,null,null,null,119739.64,296303.39,null,null,null,null,null,null,null,null,null,"2017-01-11T14:37:09",null,0.9,8,"Bradford Civil Traffic CGE CQ3-17"]
["Bradford","Civil Traffic","CGE CQ4-16",493538.65,482202.19,479979.19,479927.79,479904.79,151093.25,376117.19,424655.19,436185.79,442210.79,null,null,null,null,null,null,"2017-01-11T14:37:09",null,0.9,8,"Bradford Civil Traffic CGE CQ4-16"]
["Bradford","Civil Traffic","CGE CQ4-17",379462.6,null,null,null,null,117582.55,null,null,null,null,null,null,null,null,null,null,"2017-01-11T14:37:09",null,0.9,8,"Bradford Civil Traffic CGE CQ4-17"]
["Bradford","County Civil","CGE CQ1-16",27527,27527,27527,27527,27527,27052,27527,27527,27527,27527,null,null,null,null,null,null,"2017-01-11T14:37:09",null,0.9,7,"Bradford County Civil CGE CQ1-16"]
["Bradford","County Civil","CGE CQ1-17",19127.5,18932.5,18932.5,18932.5,null,17901.5,18551.5,18551.5,18551.5,null,null,null,null,null,null,null,"2017-01-11T14:37:09",null,0.9,7,"Bradford County Civil CGE CQ1-17"]
["Bradford","County Civil","CGE CQ2-16",16725,16125,16125,16125,16125,16550,16125,16125,16125,16125,null,null,null,null,null,null,"2017-01-11T14:37:09",null,0.9,7,"Bradford County Civil CGE CQ2-16"]
["Bradford","County Civil","CGE CQ2-17",27506,27506,27506,null,null,27496,27496,27496,null,null,null,null,null,null,null,null,"2017-01-11T14:37:09",null,0.9,7,"Bradford County Civil CGE CQ2-17"]
["Bradford","County Civil","CGE CQ3-16",25325,25325,25325,25325,25325,25315,25315,25315,25315,25315,null,null,null,null,null,null,"2017-01-11T14:37:09",null,0.9,7,"Bradford County Civil CGE CQ3-16"]
["Bradford","County Civil","CGE CQ3-17",28164,28164,null,null,null,28154,28154,null,null,null,null,null,null,null,null,null,"2017-01-11T14:37:09",null,0.9,7,"Bradford County Civil CGE CQ3-17"]
["Bradford","County Civil","CGE CQ4-16",28162.5,28162.5,28162.5,28162.5,28162.5,27633.5,28158.5,28158.5,28158.5,28158.5,null,null,null,null,null,null,"2017-01-11T14:37:09",null,0.9,7,"Bradford County Civil CGE CQ4-16"]
["Bradford","County Civil","CGE CQ4-17",28075,null,null,null,null,27455,null,null,null,null,null,null,null,null,null,null,"2017-01-11T14:37:09",null,0.9,7,"Bradford County Civil CGE CQ4-17"]
["Bradford","County Criminal","CGE CQ1-16",40211,40211,40211,40203,39214,4790.2,13082.83,16753.080000000002,18913.75,20206.75,null,null,null,null,null,null,"2017-01-11T14:37:09",null,0.4,3,"Bradford County Criminal CGE CQ1-16"]
["Bradford","County Criminal","CGE CQ1-17",26739.5,26839.5,26689.5,26689.5,null,2400.5,6736.5,8571.25,9580.75,null,null,null,null,null,null,null,"2017-01-11T14:37:09",null,0.4,3,"Bradford County Criminal CGE CQ1-17"]
["Bradford","County Criminal","CGE CQ2-16",37283.71,37060.71,36737.71,36537.71,35437.71,5165.21,8577.4599999999991,11816.96,13216.46,14584.71,null,null,null,null,null,null,"2017-01-11T14:37:09",null,0.4,3,"Bradford County Criminal CGE CQ2-16"]
["Bradford","County Criminal","CGE CQ2-17",42470.53,42181.24,42181.24,null,null,7903.26,14629.44,18461.650000000001,null,null,null,null,null,null,null,null,"2017-01-11T14:37:09",null,0.4,3,"Bradford County Criminal CGE CQ2-17"]
["Bradford","County Criminal","CGE CQ3-16",35059,34909,33065,33065,32340,2685.5,5521,8644,10892,12544,null,null,null,null,null,null,"2017-01-11T14:37:09",null,0.4,3,"Bradford County Criminal CGE CQ3-16"]
["Bradford","County Criminal","CGE CQ3-17",33661.42,33736.42,null,null,null,2905.58,7433.85,null,null,null,null,null,null,null,null,null,"2017-01-11T14:37:09",null,0.4,3,"Bradford County Criminal CGE CQ3-17"]
["Bradford","County Criminal","CGE CQ4-16",32444.75,32344.75,32246.75,30770.75,30422.75,3224.5,8187.25,10247.25,11417.75,12417.75,null,null,null,null,null,null,"2017-01-11T14:37:09",null,0.4,3,"Bradford County Criminal CGE CQ4-16"]
["Bradford","County Criminal","CGE CQ4-17",28191.16,null,null,null,null,3551.66,null,null,null,null,null,null,null,null,null,null,"2017-01-11T14:37:09",null,0.4,3,"Bradford County Criminal CGE CQ4-17"]
["Bradford","Criminal Traffic","CGE CQ1-16",47449.4,46678.400000000001,46578.400000000001,46255.4,46255.4,6114.9,17858.900000000001,22260.400000000001,28217.360000000001,30328.86,null,null,null,null,null,null,"2017-01-11T14:37:09",null,0.4,5,"Bradford Criminal Traffic CGE CQ1-16"]
["Bradford","Criminal Traffic","CGE CQ1-17",30317.5,29994.5,29621.5,29571.5,null,2794.5,7103.5,9804.5,12240.5,null,null,null,null,null,null,null,"2017-01-11T14:37:09",null,0.4,5,"Bradford Criminal Traffic CGE CQ1-17"]
["Bradford","Criminal Traffic","CGE CQ2-16",37258.589999999997,36933.589999999997,36933.589999999997,35879.589999999997,35706.589999999997,10285.34,16336.59,22983.59,24091.59,25459.59,null,null,null,null,null,null,"2017-01-11T14:37:09",null,0.4,5,"Bradford Criminal Traffic CGE CQ2-16"]
["Bradford","Criminal Traffic","CGE CQ2-17",28140.95,28140.95,28140.95,null,null,4792.7,9629.7000000000007,12030.7,null,null,null,null,null,null,null,null,"2017-01-11T14:37:09",null,0.4,5,"Bradford Criminal Traffic CGE CQ2-17"]
["Bradford","Criminal Traffic","CGE CQ3-16",44183.75,43412.75,42616.75,42616.75,42243.75,5123.75,16529.75,21138.75,26607.75,29241.75,null,null,null,null,null,null,"2017-01-11T14:37:09",null,0.4,5,"Bradford Criminal Traffic CGE CQ3-16"]
["Bradford","Criminal Traffic","CGE CQ3-17",23793,23893,null,null,null,4065.18,7194.36,null,null,null,null,null,null,null,null,null,"2017-01-11T14:37:09",null,0.4,5,"Bradford Criminal Traffic CGE CQ3-17"]
["Bradford","Criminal Traffic","CGE CQ4-16",38839.5,38839.5,38391.5,37595.5,37595.5,5024.25,12559.23,18230.080000000002,21321.38,22518.5,null,null,null,null,null,null,"2017-01-11T14:37:09",null,0.4,5,"Bradford Criminal Traffic CGE CQ4-16"]
["Bradford","Criminal Traffic","CGE CQ4-17",31456,null,null,null,null,10262,null,null,null,null,null,null,null,null,null,null,"2017-01-11T14:37:09",null,0.4,5,"Bradford Criminal Traffic CGE CQ4-17"]
["Bradford","Family","CGE CQ1-16",12075,12075,12075,12075,12075,10955,12054,12054,12054,12054,null,null,null,null,null,null,"2017-01-11T14:37:09",null,0.75,10,"Bradford Family CGE CQ1-16"]
["Bradford","Family","CGE CQ1-17",14371.5,14421.5,14421.5,14421.5,null,11995.5,12045.5,12045.5,12045.5,null,null,null,null,null,null,null,"2017-01-11T14:37:09",null,0.75,10,"Bradford Family CGE CQ1-17"]
["Bradford","Family","CGE CQ2-16",20745.5,20745.5,20745.5,20745.5,20745.5,18991.5,18991.5,18991.5,19209.5,19409.5,null,null,null,null,null,null,"2017-01-11T14:37:09",null,0.75,10,"Bradford Family CGE CQ2-16"]
["Bradford","Family","CGE CQ2-17",19209.5,18909.5,18909.5,null,null,17201.5,17313.5,17468.5,null,null,null,null,null,null,null,null,"2017-01-11T14:37:09",null,0.75,10,"Bradford Family CGE CQ2-17"]
["Bradford","Family","CGE CQ3-16",15949,15949,15949,15949,15949,14623.09,14892.59,15049.09,15199.59,15299.09,null,null,null,null,null,null,"2017-01-11T14:37:09",null,0.75,10,"Bradford Family CGE CQ3-16"]
["Bradford","Family","CGE CQ3-17",21198.5,21198.5,null,null,null,19266.5,19430.560000000001,null,null,null,null,null,null,null,null,null,"2017-01-11T14:37:09",null,0.75,10,"Bradford Family CGE CQ3-17"]
["Bradford","Family","CGE CQ4-16",16445.5,15629.5,15629.5,15629.5,15629.5,14500,14500,14500,14500,14500,null,null,null,null,null,null,"2017-01-11T14:37:09",null,0.75,10,"Bradford Family CGE CQ4-16"]
["Bradford","Family","CGE CQ4-17",16577.5,null,null,null,null,15751.5,null,null,null,null,null,null,null,null,null,null,"2017-01-11T14:37:09",null,0.75,10,"Bradford Family CGE CQ4-17"]
["Bradford","Juvenile Delinquency","CGE CQ1-16",1616,1616,1616,1616,1616,80,80,110,498,598,null,null,null,null,null,null,"2017-01-11T14:37:09",null,0.09,4,"Bradford Juvenile Delinquency CGE CQ1-16"]
["Bradford","Juvenile Delinquency","CGE CQ1-17",3102,3102,3102,2762,null,0,0,0,0,null,null,null,null,null,null,null,"2017-01-11T14:37:09",null,0.09,4,"Bradford Juvenile Delinquency CGE CQ1-17"]
["Bradford","Juvenile Delinquency","CGE CQ2-16",3337,3337,3575,3575,3133,0,0,0,240,240,null,null,null,null,null,null,"2017-01-11T14:37:09",null,0.09,4,"Bradford Juvenile Delinquency CGE CQ2-16"]
["Bradford","Juvenile Delinquency","CGE CQ2-17",2150,2150,2150,null,null,0,0,0,null,null,null,null,null,null,null,null,"2017-01-11T14:37:09",null,0.09,4,"Bradford Juvenile Delinquency CGE CQ2-17"]
["Bradford","Juvenile Delinquency","CGE CQ3-16",1754,1754,1754,1434,1434,0,240,478,478,478,null,null,null,null,null,null,"2017-01-11T14:37:09",null,0.09,4,"Bradford Juvenile Delinquency CGE CQ3-16"]
["Bradford","Juvenile Delinquency","CGE CQ3-17",1248,1248,null,null,null,0,0,null,null,null,null,null,null,null,null,null,"2017-01-11T14:37:09",null,0.09,4,"Bradford Juvenile Delinquency CGE CQ3-17"]
["Bradford","Juvenile Delinquency","CGE CQ4-16",3988,3668,3208,3208,2936,100,378,438,438,438,null,null,null,null,null,null,"2017-01-11T14:37:09",null,0.09,4,"Bradford Juvenile Delinquency CGE CQ4-16"]
["Bradford","Juvenile Delinquency","CGE CQ4-17",848,null,null,null,null,0,null,null,null,null,null,null,null,null,null,null,"2017-01-11T14:37:09",null,0.09,4,"Bradford Juvenile Delinquency CGE CQ4-17"]
["Bradford","Probate","CGE CQ1-16",7912,7912,7912,7912,7912,7912,7912,7912,7912,7912,null,null,null,null,null,null,"2017-01-11T14:37:09",null,0.9,9,"Bradford Probate CGE CQ1-16"]
["Bradford","Probate","CGE CQ1-17",5103,5103,5103,5103,null,5103,5103,5103,5103,null,null,null,null,null,null,null,"2017-01-11T14:37:09",null,0.9,9,"Bradford Probate CGE CQ1-17"]
["Bradford","Probate","CGE CQ2-16",7386,7386,7386,7386,7386,7386,7386,7386,7386,7386,null,null,null,null,null,null,"2017-01-11T14:37:09",null,0.9,9,"Bradford Probate CGE CQ2-16"]
["Bradford","Probate","CGE CQ2-17",7787,7787,7787,null,null,7787,7787,7787,null,null,null,null,null,null,null,null,"2017-01-11T14:37:09",null,0.9,9,"Bradford Probate CGE CQ2-17"]
["Bradford","Probate","CGE CQ3-16",8315,8315,8315,8315,8315,8315,8315,8315,8315,8315,null,null,null,null,null,null,"2017-01-11T14:37:09",null,0.9,9,"Bradford Probate CGE CQ3-16"]
["Bradford","Probate","CGE CQ3-17",4776,4776,null,null,null,4776,4776,null,null,null,null,null,null,null,null,null,"2017-01-11T14:37:09",null,0.9,9,"Bradford Probate CGE CQ3-17"]
["Bradford","Probate","CGE CQ4-16",8064,8064,8064,8064,8064,7319,8064,8064,8064,8064,null,null,null,null,null,null,"2017-01-11T14:37:09",null,0.9,9,"Bradford Probate CGE CQ4-16"]
["Bradford","Probate","CGE CQ4-17",6680,null,null,null,null,6680,null,null,null,null,null,null,null,null,null,null,"2017-01-11T14:37:09",null,0.9,9,"Bradford Probate CGE CQ4-17"]
["Brevard","Circ Crim Drug Trfc Cases","CGE CQ1-16",2308,2556,2506,2506,2506,222,200,200,200,200,null,null,null,null,null,null,"2017-01-11T14:37:09",null,0.09,2,{"$f":"A322&\" \"&B322&\" \"&C322","v":"Brevard Circ Crim Drug Trfc Cases CGE CQ1-16"}]
["Brevard","Circ Crim Drug Trfc Cases","CGE CQ1-17",107684.5,107784.5,107784.5,107784.5,null,286.5,286.5,286.5,286.5,null,null,null,null,null,null,null,"2017-01-11T14:37:09",null,0.09,2,"Brevard Circ Crim Drug Trfc Cases CGE CQ1-17"]
["Brevard","Circ Crim Drug Trfc Cases","CGE CQ2-16",213130,218080,213080,213080,213080,188,193,193,193,193,null,null,null,null,null,null,"2017-01-11T14:37:09",null,0.09,2,"Brevard Circ Crim Drug Trfc Cases CGE CQ2-16"]
["Brevard","Circ Crim Drug Trfc Cases","CGE CQ2-17",108478.5,108478.5,108478.5,null,null,273.5,320.5,320.5,null,null,null,null,null,null,null,null,"2017-01-11T14:37:09",null,0.09,2,"Brevard Circ Crim Drug Trfc Cases CGE CQ2-17"]
["Brevard","Circ Crim Drug Trfc Cases","CGE CQ3-16",108081.13,108031.13,108076.13,108076.13,108176.13,230,245,245,245,245,null,null,null,null,null,null,"2017-01-11T14:37:09",null,0.09,2,"Brevard Circ Crim Drug Trfc Cases CGE CQ3-16"]
["Brevard","Circ Crim Drug Trfc Cases","CGE CQ3-17",582206.5,582206.5,null,null,null,221.5,221.5,null,null,null,null,null,null,null,null,null,"2017-01-11T14:37:09",null,0.09,2,"Brevard Circ Crim Drug Trfc Cases CGE CQ3-17"]
["Brevard","Circ Crim Drug Trfc Cases","CGE CQ4-16",213292,213337,213337,213337,213337,255,320,320,320,320,null,null,null,null,null,null,"2017-01-11T14:37:09",null,0.09,2,"Brevard Circ Crim Drug Trfc Cases CGE CQ4-16"]
["Brevard","Circ Crim Drug Trfc Cases","CGE CQ4-17",321908.87,null,null,null,null,328,null,null,null,null,null,null,null,null,null,null,"2017-01-11T14:37:09",null,0.09,2,"Brevard Circ Crim Drug Trfc Cases CGE CQ4-17"]
["Brevard","Circuit Civil","CGE CQ1-16",856517.27,856517.27,856503.27,856503.27,856503.27,790725.48,838792.47,839265.79,837928.1,836441.57,null,null,null,null,null,null,"2017-01-11T14:37:09",null,0.9,6,"Brevard Circuit Civil CGE CQ1-16"]
["Brevard","Circuit Civil","CGE CQ1-17",834675.06,834224.06,833318.06,832516.06,null,763884.34,824144.15,823374.76,820913.99,null,null,null,null,null,null,null,"2017-01-11T14:37:09",null,0.9,6,"Brevard Circuit Civil CGE CQ1-17"]
["Brevard","Circuit Civil","CGE CQ2-16",886179.28,884858.28,882749.28,882749.28,881947.28,824060.58,873134,870183.99,869396.91,866784.93,null,null,null,null,null,null,"2017-01-11T14:37:09",null,0.9,6,"Brevard Circuit Civil CGE CQ2-16"]
["Brevard","Circuit Civil","CGE CQ2-17",918122.82,917216.82,916310.82,null,null,887414.34,910777.87,910501.86,null,null,null,null,null,null,null,null,"2017-01-11T14:37:09",null,0.9,6,"Brevard Circuit Civil CGE CQ2-17"]
["Brevard","Circuit Civil","CGE CQ3-16",873388.72,872941.72,869525.72,867312.72,865604.72,804230.19,851527.95,851126.02,843603.84,840653.85,null,null,null,null,null,null,"2017-01-11T14:37:09",null,0.9,6,"Brevard Circuit Civil CGE CQ3-16"]
["Brevard","Circuit Civil","CGE CQ3-17",805449.73,805349.73,null,null,null,759269.57,797870.81,null,null,null,null,null,null,null,null,null,"2017-01-11T14:37:09",null,0.9,6,"Brevard Circuit Civil CGE CQ3-17"]
["Brevard","Circuit Civil","CGE CQ4-16",1235738.98,1235267.98,1233455.98,1229430.98,1229430.98,1180053.94,1222686.53,1218705.8799999999,1214340.49,1212140.54,null,null,null,null,null,null,"2017-01-11T14:37:09",null,0.9,6,"Brevard Circuit Civil CGE CQ4-16"]
["Brevard","Circuit Civil","CGE CQ4-17",708383.15,null,null,null,null,652916.49,null,null,null,null,null,null,null,null,null,null,"2017-01-11T14:37:09",null,0.9,6,"Brevard Circuit Civil CGE CQ4-17"]
["Brevard","Circuit Criminal","CGE CQ1-16",579827.94999999995,560478.94999999995,551669.44999999995,547517.44999999995,544982.94999999995,41345.19,62561.24,74427.09,90308.160000000003,104158.79,null,null,null,null,null,null,"2017-01-11T14:37:09",null,0.09,1,"Brevard Circuit Criminal CGE CQ1-16"]
["Brevard","Circuit Criminal","CGE CQ1-17",772338.08,751439.58,749783.08,748893.58,null,36680.57,55980.75,71177.7,88245.27,null,null,null,null,null,null,null,"2017-01-11T14:37:09",null,0.09,1,"Brevard Circuit Criminal CGE CQ1-17"]
["Brevard","Circuit Criminal","CGE CQ2-16",738206.75,718324.75,711164.75,707314.25,703632.75,49748.85,66623.61,77617.34,91158.18,112127.61,null,null,null,null,null,null,"2017-01-11T14:37:09",null,0.09,1,"Brevard Circuit Criminal CGE CQ2-16"]
["Brevard","Circuit Criminal","CGE CQ2-17",757886.04,753292.04,752302.54,null,null,37669.129999999997,54437.51,66437.61,null,null,null,null,null,null,null,null,"2017-01-11T14:37:09",null,0.09,1,"Brevard Circuit Criminal CGE CQ2-17"]
["Brevard","Circuit Criminal","CGE CQ3-16",633945.31999999995,611800.31999999995,602853.81999999995,598346.81999999995,597360.81999999995,43536.800000000003,54585.760000000002,63795.17,89802.15,104258.97,null,null,null,null,null,null,"2017-01-11T14:37:09",null,0.09,1,"Brevard Circuit Criminal CGE CQ3-16"]
["Brevard","Circuit Criminal","CGE CQ3-17",1281107.55,1276093.55,null,null,null,40489.47,55557.77,null,null,null,null,null,null,null,null,null,"2017-01-11T14:37:09",null,0.09,1,"Brevard Circuit Criminal CGE CQ3-17"]
["Brevard","Circuit Criminal","CGE CQ4-16",817861.03,797374.03,789616.03,782081.53,779508.53,40869.19,54957.78,75361.61,93354.34,110478.31,null,null,null,null,null,null,"2017-01-11T14:37:09",null,0.09,1,"Brevard Circuit Criminal CGE CQ4-16"]
["Brevard","Circuit Criminal","CGE CQ4-17",1008113.74,null,null,null,null,41407.199999999997,null,null,null,null,null,null,null,null,null,null,"2017-01-11T14:37:09",null,0.09,1,"Brevard Circuit Criminal CGE CQ4-17"]
["Brevard","Civil Traffic","CGE CQ1-16",1624356.45,1528661.3,1519829.3,1519034.03,1518582.03,809749.26,1230519.72,1314145.3799999999,1345937.69,1360245.99,null,null,null,null,null,null,"2017-01-11T14:37:09",null,0.9,8,"Brevard Civil Traffic CGE CQ1-16"]
["Brevard","Civil Traffic","CGE CQ1-17",1367103.7,1306025.75,1302154,1301506,null,753746.82,1096736.53,1161086.08,1182441.47,null,null,null,null,null,null,null,"2017-01-11T14:37:09",null,0.9,8,"Brevard Civil Traffic CGE CQ1-17"]
["Brevard","Civil Traffic","CGE CQ2-16",1583874.7,1503688.54,1500816.54,1499468.82,1498997.98,840928.05,1212667.9099999999,1295296.43,1323210.8899999999,1347720.84,null,null,null,null,null,null,"2017-01-11T14:37:09",null,0.9,8,"Brevard Civil Traffic CGE CQ2-16"]
["Brevard","Civil Traffic","CGE CQ2-17",1557605.4,1492934.05,1486664.38,null,null,843113.9,1221989.6499999999,1305782.8600000001,null,null,null,null,null,null,null,null,"2017-01-11T14:37:09",null,0.9,8,"Brevard Civil Traffic CGE CQ2-17"]
["Brevard","Civil Traffic","CGE CQ3-16",1554541.1,1483449.63,1476708.13,1474795.04,1474319.54,799282.8,1167318.78,1260471.48,1310192.57,1325096.8899999999,null,null,null,null,null,null,"2017-01-11T14:37:09",null,0.9,8,"Brevard Civil Traffic CGE CQ3-16"]
["Brevard","Civil Traffic","CGE CQ3-17",1442106.93,1379772.58,null,null,null,773028.58,1113398.1299999999,null,null,null,null,null,null,null,null,null,"2017-01-11T14:37:09",null,0.9,8,"Brevard Civil Traffic CGE CQ3-17"]
["Brevard","Civil Traffic","CGE CQ4-16",1387136.4,1327502.68,1323582,1322961.68,1322176.68,726811.93,1046404.86,1160248.8600000001,1191985.9099999999,1210086.3999999999,null,null,null,null,null,null,"2017-01-11T14:37:09",null,0.9,8,"Brevard Civil Traffic CGE CQ4-16"]
["Brevard","Civil Traffic","CGE CQ4-17",1331806.75,null,null,null,null,713614.93,null,null,null,null,null,null,null,null,null,null,"2017-01-11T14:37:09",null,0.9,8,"Brevard Civil Traffic CGE CQ4-17"]
["Brevard","County Civil","CGE CQ1-16",432588.49,432493.49,432408.49,432408.49,432408.49,423305.53,431937.42,431937.42,431942.42,431942.42,null,null,null,null,null,null,"2017-01-11T14:37:09",null,0.9,7,"Brevard County Civil CGE CQ1-16"]
["Brevard","County Civil","CGE CQ1-17",486738.08,486738.08,486543.08,486543.08,null,474778.08,483042.08,483042.08,483042.08,null,null,null,null,null,null,null,"2017-01-11T14:37:09",null,0.9,7,"Brevard County Civil CGE CQ1-17"]
["Brevard","County Civil","CGE CQ2-16",505201.86,505193.86,505193.86,505193.86,505193.86,492109.86,503948.86,503898.86,504240.86,504240.86,null,null,null,null,null,null,"2017-01-11T14:37:09",null,0.9,7,"Brevard County Civil CGE CQ2-16"]
["Brevard","County Civil","CGE CQ2-17",490168.86,490168.86,490168.86,null,null,477367.87,487108.87,487214.87,null,null,null,null,null,null,null,null,"2017-01-11T14:37:09",null,0.9,7,"Brevard County Civil CGE CQ2-17"]
["Brevard","County Civil","CGE CQ3-16",531302.88,531302.88,531302.88,531302.88,531302.88,504157.79,527913.02,527969.05000000005,528139.73,528139.73,null,null,null,null,null,null,"2017-01-11T14:37:09",null,0.9,7,"Brevard County Civil CGE CQ3-16"]
["Brevard","County Civil","CGE CQ3-17",484686.28,484686.28,null,null,null,467669.3,483353.8,null,null,null,null,null,null,null,null,null,"2017-01-11T14:37:09",null,0.9,7,"Brevard County Civil CGE CQ3-17"]
["Brevard","County Civil","CGE CQ4-16",470250.32,470250.32,470250.32,470175.32,470175.32,448149.09,466999.59,467060.59,467060.59,467060.59,null,null,null,null,null,null,"2017-01-11T14:37:09",null,0.9,7,"Brevard County Civil CGE CQ4-16"]
["Brevard","County Civil","CGE CQ4-17",495466.56,null,null,null,null,475617.35,null,null,null,null,null,null,null,null,null,null,"2017-01-11T14:37:09",null,0.9,7,"Brevard County Civil CGE CQ4-17"]
["Brevard","County Criminal","CGE CQ1-16",428220,421237,418983,418633,418483,61568.06,96437.22,126634.26,143224.31,162825.82999999999,null,null,null,null,null,null,"2017-01-11T14:37:09",null,0.4,3,"Brevard County Criminal CGE CQ1-16"]
["Brevard","County Criminal","CGE CQ1-17",412342.25,405775.25,402343.75,400481.75,null,68907.64,100770.07,125321.91,140102.37,null,null,null,null,null,null,null,"2017-01-11T14:37:09",null,0.4,3,"Brevard County Criminal CGE CQ1-17"]
["Brevard","County Criminal","CGE CQ2-16",453592.65,448043.65,446698.65,446300.65,445831.65,73697.960000000006,113163.62,149463.4,172202.38,193150,null,null,null,null,null,null,"2017-01-11T14:37:09",null,0.4,3,"Brevard County Criminal CGE CQ2-16"]
["Brevard","County Criminal","CGE CQ2-17",468820,464906,463137.5,null,null,73063.27,106302.53,147027.32999999999,null,null,null,null,null,null,null,null,"2017-01-11T14:37:09",null,0.4,3,"Brevard County Criminal CGE CQ2-17"]
["Brevard","County Criminal","CGE CQ3-16",429970.2,422632.7,421498.7,420762.7,420140.7,81201.58,112062.86,143014.29,167223.04999999999,184878.22,null,null,null,null,null,null,"2017-01-11T14:37:09",null,0.4,3,"Brevard County Criminal CGE CQ3-16"]
["Brevard","County Criminal","CGE CQ3-17",465510.05,457785.55,null,null,null,65637.37,97549.49,null,null,null,null,null,null,null,null,null,"2017-01-11T14:37:09",null,0.4,3,"Brevard County Criminal CGE CQ3-17"]
["Brevard","County Criminal","CGE CQ4-16",459854.04,454533.04,452474.04,449912.04,448628.04,80615.100000000006,114056.79,152033.42000000001,171081.33,186955.31,null,null,null,null,null,null,"2017-01-11T14:37:09",null,0.4,3,"Brevard County Criminal CGE CQ4-16"]
["Brevard","County Criminal","CGE CQ4-17",455054.51,null,null,null,null,69149.919999999998,null,null,null,null,null,null,null,null,null,null,"2017-01-11T14:37:09",null,0.4,3,"Brevard County Criminal CGE CQ4-17"]
["Brevard","Criminal Traffic","CGE CQ1-16",700495.4,693315.9,687422.9,685723.9,684130.4,138135.35,221739.81,277898.52,336176.86,372042.39,null,null,null,null,null,null,"2017-01-11T14:37:09",null,0.4,5,"Brevard Criminal Traffic CGE CQ1-16"]
["Brevard","Criminal Traffic","CGE CQ1-17",522208.05,518822.05,515890.05,515092.05,null,107888.21,181939.71,236375.04000000001,266856.51,null,null,null,null,null,null,null,"2017-01-11T14:37:09",null,0.4,5,"Brevard Criminal Traffic CGE CQ1-17"]
["Brevard","Criminal Traffic","CGE CQ2-16",748089.87,740863.37,736735.23,734758.23,733130.23,165186.85,246922.76,317072.25,369846.43,425943.43,null,null,null,null,null,null,"2017-01-11T14:37:09",null,0.4,5,"Brevard Criminal Traffic CGE CQ2-16"]
["Brevard","Criminal Traffic","CGE CQ2-17",620836.30000000005,614418.55000000005,611717.55000000005,null,null,139399.06,200933.17,269501.42,null,null,null,null,null,null,null,null,"2017-01-11T14:37:09",null,0.4,5,"Brevard Criminal Traffic CGE CQ2-17"]
["Brevard","Criminal Traffic","CGE CQ3-16",676812.54,670213.29,667908.16,665731.16,662763.66,159917.99,229539.28,283255.81,346155.56,385005.7,null,null,null,null,null,null,"2017-01-11T14:37:09",null,0.4,5,"Brevard Criminal Traffic CGE CQ3-16"]
["Brevard","Criminal Traffic","CGE CQ3-17",659083.78,651314.78,null,null,null,121289.89,187579.73,null,null,null,null,null,null,null,null,null,"2017-01-11T14:37:09",null,0.4,5,"Brevard Criminal Traffic CGE CQ3-17"]
["Brevard","Criminal Traffic","CGE CQ4-16",599072.1,591529.6,585848.6,584901.6,584516.6,142075.03,205580.98,270817.49,313382.17,342617.33,null,null,null,null,null,null,"2017-01-11T14:37:09",null,0.4,5,"Brevard Criminal Traffic CGE CQ4-16"]
["Brevard","Criminal Traffic","CGE CQ4-17",604031.9,null,null,null,null,122862.77,null,null,null,null,null,null,null,null,null,null,"2017-01-11T14:37:09",null,0.4,5,"Brevard Criminal Traffic CGE CQ4-17"]
["Brevard","Family","CGE CQ1-16",275638.5,275223.5,275223.5,275223.5,275223.5,250309.21,257348.46,259900.81,260261.11,260576.31,null,null,null,null,null,null,"2017-01-11T14:37:09",null,0.75,10,"Brevard Family CGE CQ1-16"]
["Brevard","Family","CGE CQ1-17",321813.55,321813.55,321813.55,321813.55,null,274043.21000000002,285383.98,289122.57,289227.81,null,null,null,null,null,null,null,"2017-01-11T14:37:09",null,0.75,10,"Brevard Family CGE CQ1-17"]
["Brevard","Family","CGE CQ2-16",336510.1,336510.1,336510.1,336510.1,336510.1,301897.36,313130.08,315977.92,317079.27,318582.36,null,null,null,null,null,null,"2017-01-11T14:37:09",null,0.75,10,"Brevard Family CGE CQ2-16"]
["Brevard","Family","CGE CQ2-17",361179.44,361119.44,361059.44,null,null,301961.84000000003,317341.31,319056.58,null,null,null,null,null,null,null,null,"2017-01-11T14:37:09",null,0.75,10,"Brevard Family CGE CQ2-17"]
["Brevard","Family","CGE CQ3-16",355166.35,354971.35,354811.35,354811.35,354811.35,306162.81,325970.40999999997,330617.07,333886.75,334497.75,null,null,null,null,null,null,"2017-01-11T14:37:09",null,0.75,10,"Brevard Family CGE CQ3-16"]
["Brevard","Family","CGE CQ3-17",379513.75,379138.75,null,null,null,313007.90000000002,326509.28999999998,null,null,null,null,null,null,null,null,null,"2017-01-11T14:37:09",null,0.75,10,"Brevard Family CGE CQ3-17"]
["Brevard","Family","CGE CQ4-16",357496.5,357095.5,357095.5,357095.5,357095.5,295002.58,306411.96000000002,313489.09999999998,316182.05,317348.75,null,null,null,null,null,null,"2017-01-11T14:37:09",null,0.75,10,"Brevard Family CGE CQ4-16"]
["Brevard","Family","CGE CQ4-17",332178.09999999998,null,null,null,null,277834.52,null,null,null,null,null,null,null,null,null,null,"2017-01-11T14:37:09",null,0.75,10,"Brevard Family CGE CQ4-17"]
["Brevard","Juvenile Delinquency","CGE CQ1-16",29074,28724,27686,27686,27686,1981,2387,2632,2850,3088,null,null,null,null,null,null,"2017-01-11T14:37:09",null,0.09,4,{"$f":"A386&\" \"&B386&\" \"&C386","v":"Brevard Juvenile Delinquency CGE CQ1-16"}]
["Brevard","Juvenile Delinquency","CGE CQ1-17",28388.400000000001,28122.9,27788.6,27538.6,null,1346.1,2452.4,2778.4,2828.4,null,null,null,null,null,null,null,"2017-01-11T14:37:09",null,0.09,4,"Brevard Juvenile Delinquency CGE CQ1-17"]
["Brevard","Juvenile Delinquency","CGE CQ2-16",34978,34528,34478,34428,34240,1348,1892,2228,2272,2962,null,null,null,null,null,null,"2017-01-11T14:37:09",null,0.09,4,"Brevard Juvenile Delinquency CGE CQ2-16"]
["Brevard","Juvenile Delinquency","CGE CQ2-17",41790.75,41290.75,41240.75,null,null,1341.75,1995.25,2211.25,null,null,null,null,null,null,null,null,"2017-01-11T14:37:09",null,0.09,4,"Brevard Juvenile Delinquency CGE CQ2-17"]
["Brevard","Juvenile Delinquency","CGE CQ3-16",37466.85,36916.85,36916.85,36916.85,36916.85,1866.35,2325.85,2501.35,2975.35,3374.35,null,null,null,null,null,null,"2017-01-11T14:37:09",null,0.09,4,"Brevard Juvenile Delinquency CGE CQ3-16"]
["Brevard","Juvenile Delinquency","CGE CQ3-17",42424.25,41974.25,null,null,null,844.25,994.25,null,null,null,null,null,null,null,null,null,"2017-01-11T14:37:09",null,0.09,4,"Brevard Juvenile Delinquency CGE CQ3-17"]
["Brevard","Juvenile Delinquency","CGE CQ4-16",26564.7,26364.7,26306.2,26256.2,26156.2,969.7,1911.7,2583.6999999999998,3039.7,3059.7,null,null,null,null,null,null,"2017-01-11T14:37:09",null,0.09,4,"Brevard Juvenile Delinquency CGE CQ4-16"]
["Brevard","Juvenile Delinquency","CGE CQ4-17",40511.949999999997,null,null,null,null,703.95,null,null,null,null,null,null,null,null,null,null,"2017-01-11T14:37:09",null,0.09,4,"Brevard Juvenile Delinquency CGE CQ4-17"]
["Brevard","Probate","CGE CQ1-16",192352.5,192352.5,192352.5,192352.5,192352.5,188761.82,190840.5,190986.5,190965.5,190986.5,null,null,null,null,null,null,"2017-01-11T14:37:09",null,0.9,9,"Brevard Probate CGE CQ1-16"]
["Brevard","Probate","CGE CQ1-17",198583.85,198583.85,198583.85,198583.85,null,196189.85,197488.85,197659.85,197659.85,null,null,null,null,null,null,null,"2017-01-11T14:37:09",null,0.9,9,"Brevard Probate CGE CQ1-17"]
["Brevard","Probate","CGE CQ2-16",223989,223989,223989,223989,223989,217557.25,223046.25,222815.78,222815.78,222875.25,null,null,null,null,null,null,"2017-01-11T14:37:09",null,0.9,9,"Brevard Probate CGE CQ2-16"]
["Brevard","Probate","CGE CQ2-17",240099.20000000001,240099.20000000001,240099.20000000001,null,null,231727,238930,238724,null,null,null,null,null,null,null,null,"2017-01-11T14:37:09",null,0.9,9,"Brevard Probate CGE CQ2-17"]
["Brevard","Probate","CGE CQ3-16",237024.9,236624.9,236624.9,236624.9,236624.9,222888.9,234835.9,234883.34,234883.34,234633.34,null,null,null,null,null,null,"2017-01-11T14:37:09",null,0.9,9,"Brevard Probate CGE CQ3-16"]
["Brevard","Probate","CGE CQ3-17",237509.6,237509.6,null,null,null,227672.75,235580.25,null,null,null,null,null,null,null,null,null,"2017-01-11T14:37:09",null,0.9,9,"Brevard Probate CGE CQ3-17"]
["Brevard","Probate","CGE CQ4-16",223842.05,223842.05,223842.05,223842.05,223842.05,218002.14,222435.14,222435.17,222435.17,222351.87,null,null,null,null,null,null,"2017-01-11T14:37:09",null,0.9,9,"Brevard Probate CGE CQ4-16"]
["Brevard","Probate","CGE CQ4-17",233819.1,null,null,null,null,217428.79,null,null,null,null,null,null,null,null,null,null,"2017-01-11T14:37:09",null,0.9,9,"Brevard Probate CGE CQ4-17"]
["Broward","Circ Crim Drug Trfc Cases","CGE CQ1-16",662280.38,289735.21999999997,237932.42,292208.42,291574.62,1926.97,3439.22,4004.71,5162.05,5394.7,null,null,null,null,null,null,"2017-01-11T14:37:09",null,0.09,2,"Broward Circ Crim Drug Trfc Cases CGE CQ1-16"]
["Broward","Circ Crim Drug Trfc Cases","CGE CQ1-17",789824.88,699926.2,698430.2,700466.2,null,664.77,2487.73,2940.57,5773.26,null,null,null,null,null,null,null,"2017-01-11T14:37:09",null,0.09,2,"Broward Circ Crim Drug Trfc Cases CGE CQ1-17"]
["Broward","Circ Crim Drug Trfc Cases","CGE CQ2-16",49760564.899999999,49699618.25,49680934.450000003,49678879.149999999,653091.5,3086.94,5124.2299999999996,7058.92,8909.7999999999993,7674.82,null,null,null,null,null,null,"2017-01-11T14:37:09",null,0.09,2,"Broward Circ Crim Drug Trfc Cases CGE CQ2-16"]
["Broward","Circ Crim Drug Trfc Cases","CGE CQ2-17",895585.35,395649.35,896308.35,null,null,1110.02,1370.84,1555.15,null,null,null,null,null,null,null,null,"2017-01-11T14:37:09",null,0.09,2,"Broward Circ Crim Drug Trfc Cases CGE CQ2-17"]
["Broward","Circ Crim Drug Trfc Cases","CGE CQ3-16",1701703.7,1755621.5,1756121.5,1434718.8,1434918.8,2394.87,3110.59,4178.13,6022.78,8650.98,null,null,null,null,null,null,"2017-01-11T14:37:09",null,0.09,2,"Broward Circ Crim Drug Trfc Cases CGE CQ3-16"]
["Broward","Circ Crim Drug Trfc Cases","CGE CQ3-17",244968.85,244340.85,null,null,null,1521.23,1896.93,null,null,null,null,null,null,null,null,null,"2017-01-11T14:37:09",null,0.09,2,"Broward Circ Crim Drug Trfc Cases CGE CQ3-17"]
["Broward","Circ Crim Drug Trfc Cases","CGE CQ4-16",611095.63,610511.82999999996,249897.35,251772.35,251730.35,1184.4000000000001,2483.8200000000002,3627.49,4207.1099999999997,4424.62,null,null,null,null,null,null,"2017-01-11T14:37:09",null,0.09,2,"Broward Circ Crim Drug Trfc Cases CGE CQ4-16"]
["Broward","Circ Crim Drug Trfc Cases","CGE CQ4-17",243854.9,null,null,null,null,1691.16,null,null,null,null,null,null,null,null,null,null,"2017-01-11T14:37:09",null,0.09,2,"Broward Circ Crim Drug Trfc Cases CGE CQ4-17"]
["Broward","Circuit Civil","CGE CQ1-16",6068095.0300000003,6064952.0300000003,6064952.0300000003,6064952.0300000003,6064952.0300000003,6056933.3300000001,6054725.3300000001,6054499.3300000001,6054499.3300000001,6054499.3300000001,null,null,null,null,null,null,"2017-01-11T14:37:09",null,0.9,6,"Broward Circuit Civil CGE CQ1-16"]
["Broward","Circuit Civil","CGE CQ1-17",5540370.3300000001,5541177.8300000001,5544471.8300000001,5546710.3300000001,null,5525184.9299999997,5523763.4299999997,5529202.9299999997,5531471.4299999997,null,null,null,null,null,null,null,"2017-01-11T14:37:09",null,0.9,6,"Broward Circuit Civil CGE CQ1-17"]
["Broward","Circuit Civil","CGE CQ2-16",5570124.4100000001,5559889.6100000003,5559688.6100000003,5559688.6100000003,5559688.6100000003,5559224.4100000001,5539671.6100000003,5539539.1100000003,5539579.1100000003,5539619.1100000003,null,null,null,null,null,null,"2017-01-11T14:37:09",null,0.9,6,"Broward Circuit Civil CGE CQ2-16"]
["Broward","Circuit Civil","CGE CQ2-17",5093257.9800000004,5082200.18,5091736.68,null,null,5079234.9800000004,5068760.58,5078174.58,null,null,null,null,null,null,null,null,"2017-01-11T14:37:09",null,0.9,6,"Broward Circuit Civil CGE CQ2-17"]
["Broward","Circuit Civil","CGE CQ3-16",5737850.2999999998,5727497.2999999998,5703438.25,5704189.75,5704189.75,5698739.9500000002,5688499.75,5687326.25,5687564.75,5687566.75,null,null,null,null,null,null,"2017-01-11T14:37:09",null,0.9,6,"Broward Circuit Civil CGE CQ3-16"]
["Broward","Circuit Civil","CGE CQ3-17",5164726.6100000003,5112932.6100000003,null,null,null,5145731.3099999996,5096485.71,null,null,null,null,null,null,null,null,null,"2017-01-11T14:37:09",null,0.9,6,"Broward Circuit Civil CGE CQ3-17"]
["Broward","Circuit Civil","CGE CQ4-16",5796690.8099999996,5784833.8099999996,5789077.8099999996,5789077.8099999996,5792496.3099999996,5782297.1100000003,5770478.9100000001,5775261.4100000001,5775261.4100000001,5778679.9100000001,null,null,null,null,null,null,"2017-01-11T14:37:09",null,0.9,6,"Broward Circuit Civil CGE CQ4-16"]
["Broward","Circuit Civil","CGE CQ4-17",5059841.3899999997,null,null,null,null,5043150.3899999997,null,null,null,null,null,null,null,null,null,null,"2017-01-11T14:37:09",null,0.9,6,"Broward Circuit Civil CGE CQ4-17"]
["Broward","Circuit Criminal","CGE CQ1-16",3753631.01,2903228.37,2885186.95,2989776.07,2982908.67,96837.3,174513.67,239379.04,303174.11,339437.47,null,null,null,null,null,null,"2017-01-11T14:37:09",null,0.09,1,"Broward Circuit Criminal CGE CQ1-16"]
["Broward","Circuit Criminal","CGE CQ1-17",4035595.39,3599707.72,3622026.03,3649394.43,null,104087.89,192853.93,256271.1,318829.07,null,null,null,null,null,null,null,"2017-01-11T14:37:09",null,0.09,1,"Broward Circuit Criminal CGE CQ1-17"]
["Broward","Circuit Criminal","CGE CQ2-16",81264422,81227377.760000005,81251589.959999993,81219513.109999999,3363963.58,134251.79,246017.49,335989.93,400748.54,373738.38,null,null,null,null,null,null,"2017-01-11T14:37:09",null,0.09,1,"Broward Circuit Criminal CGE CQ2-16"]
["Broward","Circuit Criminal","CGE CQ2-17",3131424.77,2605282.5699999998,3135743.57,null,null,112091.14,173541.61,230686.77,null,null,null,null,null,null,null,null,"2017-01-11T14:37:09",null,0.09,1,"Broward Circuit Criminal CGE CQ2-17"]
["Broward","Circuit Criminal","CGE CQ3-16",4927428.93,5003326.9800000004,4979182.74,4334208.04,4356261.3600000003,109205.28,182440.15,220664.91,286634.65999999997,336068.45,null,null,null,null,null,null,"2017-01-11T14:37:09",null,0.09,1,"Broward Circuit Criminal CGE CQ3-16"]
["Broward","Circuit Criminal","CGE CQ3-17",3040993.75,3049999.05,null,null,null,94546.18,158969.57999999999,null,null,null,null,null,null,null,null,null,"2017-01-11T14:37:09",null,0.09,1,"Broward Circuit Criminal CGE CQ3-17"]
["Broward","Circuit Criminal","CGE CQ4-16",4071734.64,4035624.44,3324702.33,3332693.92,3336726.72,118992.06,181215.29,242184.73,301133.52,342672.51,null,null,null,null,null,null,"2017-01-11T14:37:09",null,0.09,1,"Broward Circuit Criminal CGE CQ4-16"]
["Broward","Circuit Criminal","CGE CQ4-17",2871526.77,null,null,null,null,97822.57,null,null,null,null,null,null,null,null,null,null,"2017-01-11T14:37:09",null,0.09,1,"Broward Circuit Criminal CGE CQ4-17"]
["Broward","Civil Traffic","CGE CQ1-16",13772066.09,11645747.560000001,10760543.460000001,10948008.51,10798320.41,3522949.66,5893606.7999999998,8387255.9000000004,9163839.3000000007,9437675.6600000001,null,null,null,null,null,null,"2017-01-11T14:37:09",null,0.9,8,"Broward Civil Traffic CGE CQ1-16"]
["Broward","Civil Traffic","CGE CQ1-17",10837339.359999999,8950028.4499999993,8667222.1999999993,8606049,null,2961663.26,5221318.51,7025032.1900000004,7433110.1399999997,null,null,null,null,null,null,null,"2017-01-11T14:37:09",null,0.9,8,"Broward Civil Traffic CGE CQ1-17"]
["Broward","Civil Traffic","CGE CQ2-16",17651385.91,14777067.289999999,14717017.32,14502661.710000001,10508361.050000001,3900070.84,6209665.1500000004,8506410.2899999991,9194414.4299999997,9070607.7699999996,null,null,null,null,null,null,"2017-01-11T14:37:09",null,0.9,8,"Broward Civil Traffic CGE CQ2-16"]
["Broward","Civil Traffic","CGE CQ2-17",11167186.6,8904109.75,8731923.8499999996,null,null,2944147.4,5221589.95,6733867.1100000003,null,null,null,null,null,null,null,null,"2017-01-11T14:37:09",null,0.9,8,"Broward Civil Traffic CGE CQ2-17"]
["Broward","Civil Traffic","CGE CQ3-16",11571752.33,9791991.75,9173674.5999999996,8972718.6799999997,8950052.2799999993,3070449.95,5312196.37,7163672.5899999999,7611143.4199999999,7843142.4699999997,null,null,null,null,null,null,"2017-01-11T14:37:09",null,0.9,8,"Broward Civil Traffic CGE CQ3-16"]
["Broward","Civil Traffic","CGE CQ3-17",10666870,8725991.9000000004,null,null,null,2899643.65,5363816.13,null,null,null,null,null,null,null,null,null,"2017-01-11T14:37:09",null,0.9,8,"Broward Civil Traffic CGE CQ3-17"]
["Broward","Civil Traffic","CGE CQ4-16",11429205.4,8536441.6600000001,8247997.1500000004,8196097.7999999998,8168106.0999999996,2779491.1,4923221.83,6604244.21,7040334.8700000001,7226069.5099999998,null,null,null,null,null,null,"2017-01-11T14:37:09",null,0.9,8,"Broward Civil Traffic CGE CQ4-16"]
["Broward","Civil Traffic","CGE CQ4-17",9670011.9000000004,null,null,null,null,2501728.12,null,null,null,null,null,null,null,null,null,null,"2017-01-11T14:37:09",null,0.9,8,"Broward Civil Traffic CGE CQ4-17"]
["Broward","County Civil","CGE CQ1-16",3442528.56,3442478.56,3442478.56,3442478.56,3442478.56,3441327.56,3440938.56,3440938.56,3440938.56,3440938.56,null,null,null,null,null,null,"2017-01-11T14:37:09",null,0.9,7,"Broward County Civil CGE CQ1-16"]
["Broward","County Civil","CGE CQ1-17",3520031.06,3520002.06,3520002.06,3520002.06,null,3518510.56,3518366.06,3518366.06,3518366.06,null,null,null,null,null,null,null,"2017-01-11T14:37:09",null,0.9,7,"Broward County Civil CGE CQ1-17"]
["Broward","County Civil","CGE CQ2-16",3531405.16,3530020.16,3529141.16,3529141.16,3529141.16,3530761.16,3529376.16,3528497.16,3528497.16,3528497.16,null,null,null,null,null,null,"2017-01-11T14:37:09",null,0.9,7,"Broward County Civil CGE CQ2-16"]
["Broward","County Civil","CGE CQ2-17",3485423.84,3484064.34,3483754.34,null,null,3482250.34,3480940.84,3480630.84,null,null,null,null,null,null,null,null,"2017-01-11T14:37:09",null,0.9,7,"Broward County Civil CGE CQ2-17"]
["Broward","County Civil","CGE CQ3-16",3764575.92,3764490.92,3764490.92,3764490.92,3764490.92,3763710.07,3763039.07,3763234.07,3763234.07,3763234.07,null,null,null,null,null,null,"2017-01-11T14:37:09",null,0.9,7,"Broward County Civil CGE CQ3-16"]
["Broward","County Civil","CGE CQ3-17",3410046.16,3408649.66,null,null,null,3409266.16,3407949.66,null,null,null,null,null,null,null,null,null,"2017-01-11T14:37:09",null,0.9,7,"Broward County Civil CGE CQ3-17"]
["Broward","County Civil","CGE CQ4-16",3421647.97,3421647.97,3421647.97,3421647.97,3421647.97,3419442.97,3419472.97,3419472.97,3419472.97,3419472.97,null,null,null,null,null,null,"2017-01-11T14:37:09",null,0.9,7,"Broward County Civil CGE CQ4-16"]
["Broward","County Civil","CGE CQ4-17",3564006.85,null,null,null,null,3562176.85,null,null,null,null,null,null,null,null,null,null,"2017-01-11T14:37:09",null,0.9,7,"Broward County Civil CGE CQ4-17"]
["Broward","County Criminal","CGE CQ1-16",2077272.17,2097346.64,2063252.59,2055867.11,2008527.16,283628.21000000002,528227.94999999995,661496.87,735662.54,786461.36,null,null,null,null,null,null,"2017-01-11T14:37:09",null,0.4,3,"Broward County Criminal CGE CQ1-16"]
["Broward","County Criminal","CGE CQ1-17",1924867.22,1891866.41,1877127.75,1852597.86,null,353995.73,575423.64,719264.72,777202.34,null,null,null,null,null,null,null,"2017-01-11T14:37:09",null,0.4,3,"Broward County Criminal CGE CQ1-17"]
["Broward","County Criminal","CGE CQ2-16",9517135.5500000007,9493916.1099999994,9473740.0899999999,9412361.7699999996,2248183.2400000002,416249.32,689051.15,849795.67,918606.37,933742.26,null,null,null,null,null,null,"2017-01-11T14:37:09",null,0.4,3,"Broward County Criminal CGE CQ2-16"]
["Broward","County Criminal","CGE CQ2-17",2265443.71,2229375.2400000002,2200005.94,null,null,419389.9,643330.22,783923.36,null,null,null,null,null,null,null,null,"2017-01-11T14:37:09",null,0.4,3,"Broward County Criminal CGE CQ2-17"]
["Broward","County Criminal","CGE CQ3-16",2096169.76,2180330.5099999998,2115913.5099999998,2089687.95,2062359.07,327840.25,564826.04,709663.39,795693.03,851747.89,null,null,null,null,null,null,"2017-01-11T14:37:09",null,0.4,3,"Broward County Criminal CGE CQ3-16"]
["Broward","County Criminal","CGE CQ3-17",2159560.37,2115170.84,null,null,null,369061.22,556269.81999999995,null,null,null,null,null,null,null,null,null,"2017-01-11T14:37:09",null,0.4,3,"Broward County Criminal CGE CQ3-17"]
["Broward","County Criminal","CGE CQ4-16",2020258.2,1943824.6,1932507.94,1906510.07,1885259.32,310409.40000000002,469689.18,636804.14,701182.33,755938.83,null,null,null,null,null,null,"2017-01-11T14:37:09",null,0.4,3,"Broward County Criminal CGE CQ4-16"]
["Broward","County Criminal","CGE CQ4-17",1893741.49,null,null,null,null,296773.17,null,null,null,null,null,null,null,null,null,null,"2017-01-11T14:37:09",null,0.4,3,"Broward County Criminal CGE CQ4-17"]
["Broward","Criminal Traffic","CGE CQ1-16",2246078.98,1929758.54,1898943.29,1896461.29,1850715.79,272957.12,695437.99,899956.24,986234.04,1042805.52,null,null,null,null,null,null,"2017-01-11T14:37:09",null,0.4,5,{"$f":"A450&\" \"&B450&\" \"&C450","v":"Broward Criminal Traffic CGE CQ1-16"}]
["Broward","Criminal Traffic","CGE CQ1-17",2101635.2999999998,1734560.21,1683419.71,1648998.21,null,259996.28,618716.44999999995,801287.38,868254.86,null,null,null,null,null,null,null,"2017-01-11T14:37:09",null,0.4,5,"Broward Criminal Traffic CGE CQ1-17"]
["Broward","Criminal Traffic","CGE CQ2-16",11229143.74,10979553.82,10937803.300000001,10814689,1996101.56,417670.2,955918.35,1271992.57,1426268.45,1135440.78,null,null,null,null,null,null,"2017-01-11T14:37:09",null,0.4,5,"Broward Criminal Traffic CGE CQ2-16"]
["Broward","Criminal Traffic","CGE CQ2-17",2345121.9,2107395.4500000002,2063188.7,null,null,315315.84999999998,656311.85,817224.55,null,null,null,null,null,null,null,null,"2017-01-11T14:37:09",null,0.4,5,"Broward Criminal Traffic CGE CQ2-17"]
["Broward","Criminal Traffic","CGE CQ3-16",2473884.98,2343894.85,2208831.54,1929026.65,1908147.15,311501.92,698816.07,908688.07,981698.15,1052472.3899999999,null,null,null,null,null,null,"2017-01-11T14:37:09",null,0.4,5,"Broward Criminal Traffic CGE CQ3-16"]
["Broward","Criminal Traffic","CGE CQ3-17",1985032.2,1741707.15,null,null,null,285938.40000000002,590450.15,null,null,null,null,null,null,null,null,null,"2017-01-11T14:37:09",null,0.4,5,"Broward Criminal Traffic CGE CQ3-17"]
["Broward","Criminal Traffic","CGE CQ4-16",2228120.7599999998,1927477.36,1682889.25,1663200.75,1643584.5,266237.15000000002,575120.64000000001,764960.85,849185.74,905363.34,null,null,null,null,null,null,"2017-01-11T14:37:09",null,0.4,5,"Broward Criminal Traffic CGE CQ4-16"]
["Broward","Criminal Traffic","CGE CQ4-17",1668991.15,null,null,null,null,233157.5,null,null,null,null,null,null,null,null,null,null,"2017-01-11T14:37:09",null,0.4,5,"Broward Criminal Traffic CGE CQ4-17"]
["Broward","Family","CGE CQ1-16",1041569.1,1041102.1,1041102.1,1041102.1,1041102.1,1027682.82,1030762.1,1031946.1,1033341.1,1033588.1,null,null,null,null,null,null,"2017-01-11T14:37:09",null,0.75,10,"Broward Family CGE CQ1-16"]
["Broward","Family","CGE CQ1-17",1022866.35,1022424.35,1022424.35,1039770.35,null,1007676.34,1010127.43,1011282.43,1029677.43,null,null,null,null,null,null,null,"2017-01-11T14:37:09",null,0.75,10,"Broward Family CGE CQ1-17"]
["Broward","Family","CGE CQ2-16",1105189.8999999999,1103958.8999999999,1103958.8999999999,1103958.8999999999,1103958.8999999999,1089892.7,1091866.1399999999,1094513.7,1095079.7,1095538.7,null,null,null,null,null,null,"2017-01-11T14:37:09",null,0.75,10,"Broward Family CGE CQ2-16"]
["Broward","Family","CGE CQ2-17",1088115.5,1088115.5,1103070,null,null,1078720.28,1080121.92,1096180.5,null,null,null,null,null,null,null,null,"2017-01-11T14:37:09",null,0.75,10,"Broward Family CGE CQ2-17"]
["Broward","Family","CGE CQ3-16",1153691.04,1153272.04,1152871.04,1152871.04,1152871.04,1139644.54,1141510.42,1142525.1100000001,1143757.1100000001,1144217.1100000001,null,null,null,null,null,null,"2017-01-11T14:37:09",null,0.75,10,"Broward Family CGE CQ3-16"]
["Broward","Family","CGE CQ3-17",1124350.7,1142313.2,null,null,null,1114929.3999999999,1133961.3,null,null,null,null,null,null,null,null,null,"2017-01-11T14:37:09",null,0.75,10,"Broward Family CGE CQ3-17"]
["Broward","Family","CGE CQ4-16",1077759.1100000001,1077745.1100000001,1077745.1100000001,1077745.1100000001,1097195.1100000001,1067893.51,1070212.55,1070705.47,1071967.07,1091570.07,null,null,null,null,null,null,"2017-01-11T14:37:09",null,0.75,10,"Broward Family CGE CQ4-16"]
["Broward","Family","CGE CQ4-17",1118264.75,null,null,null,null,1104201.3500000001,null,null,null,null,null,null,null,null,null,null,"2017-01-11T14:37:09",null,0.75,10,"Broward Family CGE CQ4-17"]
["Broward","Juvenile Delinquency","CGE CQ1-16",195744,195744,195744,195544,195344,7824,12097,13652,14453,14969,null,null,null,null,null,null,"2017-01-11T14:37:09",null,0.09,4,"Broward Juvenile Delinquency CGE CQ1-16"]
["Broward","Juvenile Delinquency","CGE CQ1-17",107337,107237,107137,106889,null,5317,6331,6505,6785,null,null,null,null,null,null,null,"2017-01-11T14:37:09",null,0.09,4,"Broward Juvenile Delinquency CGE CQ1-17"]
["Broward","Juvenile Delinquency","CGE CQ2-16",160094,160094,159844,159695,159595,5748,9037,10189,13871,15942,null,null,null,null,null,null,"2017-01-11T14:37:09",null,0.09,4,"Broward Juvenile Delinquency CGE CQ2-16"]
["Broward","Juvenile Delinquency","CGE CQ2-17",195862,194699,194299,null,null,7494,9684,11760,null,null,null,null,null,null,null,null,"2017-01-11T14:37:09",null,0.09,4,"Broward Juvenile Delinquency CGE CQ2-17"]
["Broward","Juvenile Delinquency","CGE CQ3-16",131767,131367,131067,130917,130599,5906,7431,7643,7823,8157,null,null,null,null,null,null,"2017-01-11T14:37:09",null,0.09,4,"Broward Juvenile Delinquency CGE CQ3-16"]
["Broward","Juvenile Delinquency","CGE CQ3-17",240229,239238,null,null,null,11009,12988,null,null,null,null,null,null,null,null,null,"2017-01-11T14:37:09",null,0.09,4,"Broward Juvenile Delinquency CGE CQ3-17"]
["Broward","Juvenile Delinquency","CGE CQ4-16",154335,153916,153566,153041,152251,3256,4290,5618,6659,6969,null,null,null,null,null,null,"2017-01-11T14:37:09",null,0.09,4,"Broward Juvenile Delinquency CGE CQ4-16"]
["Broward","Juvenile Delinquency","CGE CQ4-17",160175,null,null,null,null,3326,null,null,null,null,null,null,null,null,null,null,"2017-01-11T14:37:09",null,0.09,4,"Broward Juvenile Delinquency CGE CQ4-17"]
["Broward","Probate","CGE CQ1-16",503518.7,501966.7,499724.7,499635.7,498602.7,502083.7,500511.7,498269.7,498525.7,497827.7,null,null,null,null,null,null,"2017-01-11T14:37:09",null,0.9,9,"Broward Probate CGE CQ1-16"]
["Broward","Probate","CGE CQ1-17",536460.03,535140.5,533640.5,531743.5,null,534987.03,533452.5,531972.5,530166.5,null,null,null,null,null,null,null,"2017-01-11T14:37:09",null,0.9,9,"Broward Probate CGE CQ1-17"]
["Broward","Probate","CGE CQ2-16",568684.13,567494.63,567409.63,566772.63,566772.12,565574.63,564200.13,564158.13,563591.13,564210.62,null,null,null,null,null,null,"2017-01-11T14:37:09",null,0.9,9,"Broward Probate CGE CQ2-16"]
["Broward","Probate","CGE CQ2-17",511072.07,510440.07,510440.07,null,null,510114.07,509568.07,509569.07,null,null,null,null,null,null,null,null,"2017-01-11T14:37:09",null,0.9,9,"Broward Probate CGE CQ2-17"]
["Broward","Probate","CGE CQ3-16",625145.55000000005,624314.55000000005,624129.55000000005,624106.80000000005,623429.30000000005,622983.55000000005,621999.55000000005,621814.55000000005,622026.80000000005,622184.30000000005,null,null,null,null,null,null,"2017-01-11T14:37:09",null,0.9,9,"Broward Probate CGE CQ3-16"]
["Broward","Probate","CGE CQ3-17",574658.28,571780.28,null,null,null,573598.28,570656.28,null,null,null,null,null,null,null,null,null,"2017-01-11T14:37:09",null,0.9,9,"Broward Probate CGE CQ3-17"]
["Broward","Probate","CGE CQ4-16",507527.33,506297.33,505428.8,504796.8,504796.8,506374.33,505100.33,504232.8,503601.8,504103.8,null,null,null,null,null,null,"2017-01-11T14:37:09",null,0.9,9,"Broward Probate CGE CQ4-16"]
["Broward","Probate","CGE CQ4-17",569702,null,null,null,null,568315,null,null,null,null,null,null,null,null,null,null,"2017-01-11T14:37:09",null,0.9,9,"Broward Probate CGE CQ4-17"]
["Calhoun","Circ Crim Drug Trfc Cases","CGE CQ1-16",0,0,0,0,0,0,0,0,0,0,null,null,null,null,null,null,"2017-01-11T14:37:09",null,0.09,2,"Calhoun Circ Crim Drug Trfc Cases CGE CQ1-16"]
["Calhoun","Circ Crim Drug Trfc Cases","CGE CQ1-17",0,0,0,0,null,0,0,0,0,null,null,null,null,null,null,null,"2017-01-11T14:37:09",null,0.09,2,"Calhoun Circ Crim Drug Trfc Cases CGE CQ1-17"]
["Calhoun","Circ Crim Drug Trfc Cases","CGE CQ2-16",0,0,0,0,0,0,0,0,0,0,null,null,null,null,null,null,"2017-01-11T14:37:09",null,0.09,2,"Calhoun Circ Crim Drug Trfc Cases CGE CQ2-16"]
["Calhoun","Circ Crim Drug Trfc Cases","CGE CQ2-17",0,0,0,null,null,0,0,0,null,null,null,null,null,null,null,null,"2017-01-11T14:37:09",null,0.09,2,"Calhoun Circ Crim Drug Trfc Cases CGE CQ2-17"]
["Calhoun","Circ Crim Drug Trfc Cases","CGE CQ3-16",0,0,0,0,0,0,0,0,0,0,null,null,null,null,null,null,"2017-01-11T14:37:09",null,0.09,2,"Calhoun Circ Crim Drug Trfc Cases CGE CQ3-16"]
["Calhoun","Circ Crim Drug Trfc Cases","CGE CQ3-17",0,0,null,null,null,0,0,null,null,null,null,null,null,null,null,null,"2017-01-11T14:37:09",null,0.09,2,"Calhoun Circ Crim Drug Trfc Cases CGE CQ3-17"]
["Calhoun","Circ Crim Drug Trfc Cases","CGE CQ4-16",0,0,0,0,0,0,0,0,0,0,null,null,null,null,null,null,"2017-01-11T14:37:09",null,0.09,2,"Calhoun Circ Crim Drug Trfc Cases CGE CQ4-16"]
["Calhoun","Circ Crim Drug Trfc Cases","CGE CQ4-17",0,null,null,null,null,0,null,null,null,null,null,null,null,null,null,null,"2017-01-11T14:37:09",null,0.09,2,"Calhoun Circ Crim Drug Trfc Cases CGE CQ4-17"]
["Calhoun","Circuit Civil","CGE CQ1-16",17988,17988,17988,17988,17988,17988,17988,17988,17988,17988,null,null,null,null,null,null,"2017-01-11T14:37:09",null,0.9,6,"Calhoun Circuit Civil CGE CQ1-16"]
["Calhoun","Circuit Civil","CGE CQ1-17",15405,15405,15405,15405,null,14985,15405,15405,15405,null,null,null,null,null,null,null,"2017-01-11T14:37:09",null,0.9,6,"Calhoun Circuit Civil CGE CQ1-17"]
["Calhoun","Circuit Civil","CGE CQ2-16",12651,12651,12651,12651,12651,12641,12644,12644,12648,12648,null,null,null,null,null,null,"2017-01-11T14:37:09",null,0.9,6,"Calhoun Circuit Civil CGE CQ2-16"]
["Calhoun","Circuit Civil","CGE CQ2-17",12849,12849,12849,null,null,12849,12849,12849,null,null,null,null,null,null,null,null,"2017-01-11T14:37:09",null,0.9,6,"Calhoun Circuit Civil CGE CQ2-17"]
["Calhoun","Circuit Civil","CGE CQ3-16",15688,15688,15688,15688,15688,15688,15688,15688,15688,15688,null,null,null,null,null,null,"2017-01-11T14:37:09",null,0.9,6,"Calhoun Circuit Civil CGE CQ3-16"]
["Calhoun","Circuit Civil","CGE CQ3-17",7370,7370,null,null,null,7370,7370,null,null,null,null,null,null,null,null,null,"2017-01-11T14:37:09",null,0.9,6,"Calhoun Circuit Civil CGE CQ3-17"]
["Calhoun","Circuit Civil","CGE CQ4-16",9322,9322,9322,9322,9322,9322,9322,9322,9322,9322,null,null,null,null,null,null,"2017-01-11T14:37:09",null,0.9,6,"Calhoun Circuit Civil CGE CQ4-16"]
["Calhoun","Circuit Civil","CGE CQ4-17",8957,null,null,null,null,8957,null,null,null,null,null,null,null,null,null,null,"2017-01-11T14:37:09",null,0.9,6,"Calhoun Circuit Civil CGE CQ4-17"]
["Calhoun","Circuit Criminal","CGE CQ1-16",51020,51020,51020,50520,50520,168,306,775,1548,1981,null,null,null,null,null,null,"2017-01-11T14:37:09",null,0.09,1,"Calhoun Circuit Criminal CGE CQ1-16"]
["Calhoun","Circuit Criminal","CGE CQ1-17",56927,56777,56527,56477,null,453,1637,4147,6180,null,null,null,null,null,null,null,"2017-01-11T14:37:09",null,0.09,1,"Calhoun Circuit Criminal CGE CQ1-17"]
["Calhoun","Circuit Criminal","CGE CQ2-16",61088,61088,61088,61088,61088,1754,2286,2676,2929,3152,null,null,null,null,null,null,"2017-01-11T14:37:09",null,0.09,1,"Calhoun Circuit Criminal CGE CQ2-16"]
["Calhoun","Circuit Criminal","CGE CQ2-17",63992,63992,63992,null,null,4452,6462,7487,null,null,null,null,null,null,null,null,"2017-01-11T14:37:09",null,0.09,1,"Calhoun Circuit Criminal CGE CQ2-17"]
["Calhoun","Circuit Criminal","CGE CQ3-16",66482,66232,66232,66232,65982,1745,3299,3883,6016,7047,null,null,null,null,null,null,"2017-01-11T14:37:09",null,0.09,1,"Calhoun Circuit Criminal CGE CQ3-16"]
["Calhoun","Circuit Criminal","CGE CQ3-17",48569,48569,null,null,null,1193,1489,null,null,null,null,null,null,null,null,null,"2017-01-11T14:37:09",null,0.09,1,"Calhoun Circuit Criminal CGE CQ3-17"]
["Calhoun","Circuit Criminal","CGE CQ4-16",66473,66473,66473,66473,66423,1444,2034,5801,6871,7493,null,null,null,null,null,null,"2017-01-11T14:37:09",null,0.09,1,"Calhoun Circuit Criminal CGE CQ4-16"]
["Calhoun","Circuit Criminal","CGE CQ4-17",77646,null,null,null,null,1230,null,null,null,null,null,null,null,null,null,null,"2017-01-11T14:37:09",null,0.09,1,"Calhoun Circuit Criminal CGE CQ4-17"]
["Calhoun","Civil Traffic","CGE CQ1-16",54842,52366,48762,47955,47955,25909,40954,42841,43455,43881,null,null,null,null,null,null,"2017-01-11T14:37:09",null,0.9,8,"Calhoun Civil Traffic CGE CQ1-16"]
["Calhoun","Civil Traffic","CGE CQ1-17",36739,35242,31818,31393,null,18665,27806,28939,29227,null,null,null,null,null,null,null,"2017-01-11T14:37:09",null,0.9,8,"Calhoun Civil Traffic CGE CQ1-17"]
["Calhoun","Civil Traffic","CGE CQ2-16",71832,69191,64534,63644,63174,28578,51420,53415,54598,56840,null,null,null,null,null,null,"2017-01-11T14:37:09",null,0.9,8,"Calhoun Civil Traffic CGE CQ2-16"]
["Calhoun","Civil Traffic","CGE CQ2-17",36843,35341,33433,null,null,15218,24505,26636,null,null,null,null,null,null,null,null,"2017-01-11T14:37:09",null,0.9,8,"Calhoun Civil Traffic CGE CQ2-17"]
["Calhoun","Civil Traffic","CGE CQ3-16",44617,41978,40774,39530,39374,20498,29563,32637,33677,33933,null,null,null,null,null,null,"2017-01-11T14:37:09",null,0.9,8,"Calhoun Civil Traffic CGE CQ3-16"]
["Calhoun","Civil Traffic","CGE CQ3-17",60170,59121,null,null,null,28896,47937,null,null,null,null,null,null,null,null,null,"2017-01-11T14:37:09",null,0.9,8,"Calhoun Civil Traffic CGE CQ3-17"]
["Calhoun","Civil Traffic","CGE CQ4-16",44563,40791,38253,36230,36230,14839,29154,31324,32838,32838,null,null,null,null,null,null,"2017-01-11T14:37:09",null,0.9,8,"Calhoun Civil Traffic CGE CQ4-16"]
["Calhoun","Civil Traffic","CGE CQ4-17",35058,null,null,null,null,14398,null,null,null,null,null,null,null,null,null,null,"2017-01-11T14:37:09",null,0.9,8,"Calhoun Civil Traffic CGE CQ4-17"]
["Calhoun","County Civil","CGE CQ1-16",8102,8102,8102,8102,8102,8102,8102,8102,8102,8102,null,null,null,null,null,null,"2017-01-11T14:37:09",null,0.9,7,{"$f":"A514&\" \"&B514&\" \"&C514","v":"Calhoun County Civil CGE CQ1-16"}]
["Calhoun","County Civil","CGE CQ1-17",8680,8680,8680,8680,null,8680,8680,8680,8680,null,null,null,null,null,null,null,"2017-01-11T14:37:09",null,0.9,7,"Calhoun County Civil CGE CQ1-17"]
["Calhoun","County Civil","CGE CQ2-16",9565,9565,9565,9565,9565,9380,9565,9565,9565,9565,null,null,null,null,null,null,"2017-01-11T14:37:09",null,0.9,7,"Calhoun County Civil CGE CQ2-16"]
["Calhoun","County Civil","CGE CQ2-17",10050,10050,10050,null,null,10050,10050,10050,null,null,null,null,null,null,null,null,"2017-01-11T14:37:09",null,0.9,7,"Calhoun County Civil CGE CQ2-17"]
["Calhoun","County Civil","CGE CQ3-16",10025,10025,10025,10025,10025,9830,10025,10025,10025,10025,null,null,null,null,null,null,"2017-01-11T14:37:09",null,0.9,7,"Calhoun County Civil CGE CQ3-16"]
["Calhoun","County Civil","CGE CQ3-17",8042,8042,null,null,null,8042,8042,null,null,null,null,null,null,null,null,null,"2017-01-11T14:37:09",null,0.9,7,"Calhoun County Civil CGE CQ3-17"]
["Calhoun","County Civil","CGE CQ4-16",11424,11424,11424,11424,11424,11421,11421,11421,11421,11421,null,null,null,null,null,null,"2017-01-11T14:37:09",null,0.9,7,"Calhoun County Civil CGE CQ4-16"]
["Calhoun","County Civil","CGE CQ4-17",8485,null,null,null,null,8485,null,null,null,null,null,null,null,null,null,null,"2017-01-11T14:37:09",null,0.9,7,"Calhoun County Civil CGE CQ4-17"]
["Calhoun","County Criminal","CGE CQ1-16",9211,9211,9111,9114,9114,2235,3179,3759,3959,4139,null,null,null,null,null,null,"2017-01-11T14:37:09",null,0.4,3,"Calhoun County Criminal CGE CQ1-16"]
["Calhoun","County Criminal","CGE CQ1-17",8605,8480,8480,8455,null,432,1122,1498,1878,null,null,null,null,null,null,null,"2017-01-11T14:37:09",null,0.4,3,"Calhoun County Criminal CGE CQ1-17"]
["Calhoun","County Criminal","CGE CQ2-16",12182,12182,12182,12082,11316,722,1524,1816,1866,1966,null,null,null,null,null,null,"2017-01-11T14:37:09",null,0.4,3,"Calhoun County Criminal CGE CQ2-16"]
["Calhoun","County Criminal","CGE CQ2-17",9586,9586,9386,null,null,543,1343,1772,null,null,null,null,null,null,null,null,"2017-01-11T14:37:09",null,0.4,3,"Calhoun County Criminal CGE CQ2-17"]
["Calhoun","County Criminal","CGE CQ3-16",8084,7911,7748,7683,7620,1590,2262,2362,2362,2362,null,null,null,null,null,null,"2017-01-11T14:37:09",null,0.4,3,"Calhoun County Criminal CGE CQ3-16"]
["Calhoun","County Criminal","CGE CQ3-17",9216,8288,null,null,null,1099,1594,null,null,null,null,null,null,null,null,null,"2017-01-11T14:37:09",null,0.4,3,"Calhoun County Criminal CGE CQ3-17"]
["Calhoun","County Criminal","CGE CQ4-16",15528,15428,15403,15403,15023,2123,3946,5340,5465,5515,null,null,null,null,null,null,"2017-01-11T14:37:09",null,0.4,3,"Calhoun County Criminal CGE CQ4-16"]
["Calhoun","County Criminal","CGE CQ4-17",18378,null,null,null,null,1316,null,null,null,null,null,null,null,null,null,null,"2017-01-11T14:37:09",null,0.4,3,"Calhoun County Criminal CGE CQ4-17"]
["Calhoun","Criminal Traffic","CGE CQ1-16",14731,14134,14134,14134,14134,3953,6842,8909,9830,10641,null,null,null,null,null,null,"2017-01-11T14:37:09",null,0.4,5,"Calhoun Criminal Traffic CGE CQ1-16"]
["Calhoun","Criminal Traffic","CGE CQ1-17",6360,6260,6260,6260,null,945,2237,2592,2752,null,null,null,null,null,null,null,"2017-01-11T14:37:09",null,0.4,5,"Calhoun Criminal Traffic CGE CQ1-17"]
["Calhoun","Criminal Traffic","CGE CQ2-16",13091,13091,13066,13041,13041,4249,6010,7313,7428,7453,null,null,null,null,null,null,"2017-01-11T14:37:09",null,0.4,5,"Calhoun Criminal Traffic CGE CQ2-16"]
["Calhoun","Criminal Traffic","CGE CQ2-17",10583,10583,10558,null,null,4167,6316,7196,null,null,null,null,null,null,null,null,"2017-01-11T14:37:09",null,0.4,5,"Calhoun Criminal Traffic CGE CQ2-17"]
["Calhoun","Criminal Traffic","CGE CQ3-16",9659,9279,8899,8899,8899,1309,2771,3247,3347,3387,null,null,null,null,null,null,"2017-01-11T14:37:09",null,0.4,5,"Calhoun Criminal Traffic CGE CQ3-16"]
["Calhoun","Criminal Traffic","CGE CQ3-17",9031,9031,null,null,null,3289,5547,null,null,null,null,null,null,null,null,null,"2017-01-11T14:37:09",null,0.4,5,"Calhoun Criminal Traffic CGE CQ3-17"]
["Calhoun","Criminal Traffic","CGE CQ4-16",12153,12153,12128,12128,12128,2856,4949,6133,6318,6318,null,null,null,null,null,null,"2017-01-11T14:37:09",null,0.4,5,"Calhoun Criminal Traffic CGE CQ4-16"]
["Calhoun","Criminal Traffic","CGE CQ4-17",10742,null,null,null,null,2307,null,null,null,null,null,null,null,null,null,null,"2017-01-11T14:37:09",null,0.4,5,"Calhoun Criminal Traffic CGE CQ4-17"]
["Calhoun","Family","CGE CQ1-16",9338,9338,9338,9338,9338,9338,9338,9338,9338,9338,null,null,null,null,null,null,"2017-01-11T14:37:09",null,0.75,10,"Calhoun Family CGE CQ1-16"]
["Calhoun","Family","CGE CQ1-17",4106,4106,4106,4106,null,3806,3806,3806,3806,null,null,null,null,null,null,null,"2017-01-11T14:37:09",null,0.75,10,"Calhoun Family CGE CQ1-17"]
["Calhoun","Family","CGE CQ2-16",7498,7498,7498,7498,7498,7498,7498,7498,7498,7498,null,null,null,null,null,null,"2017-01-11T14:37:09",null,0.75,10,"Calhoun Family CGE CQ2-16"]
["Calhoun","Family","CGE CQ2-17",9284,9284,9284,null,null,9284,9284,9284,null,null,null,null,null,null,null,null,"2017-01-11T14:37:09",null,0.75,10,"Calhoun Family CGE CQ2-17"]
["Calhoun","Family","CGE CQ3-16",8216,8336,8336,8336,8336,8216,8216,8336,8336,8336,null,null,null,null,null,null,"2017-01-11T14:37:09",null,0.75,10,"Calhoun Family CGE CQ3-16"]
["Calhoun","Family","CGE CQ3-17",6040,6040,null,null,null,5632,5632,null,null,null,null,null,null,null,null,null,"2017-01-11T14:37:09",null,0.75,10,"Calhoun Family CGE CQ3-17"]
["Calhoun","Family","CGE CQ4-16",11020,11020,11020,11020,11020,10612,11020,11020,11020,11020,null,null,null,null,null,null,"2017-01-11T14:37:09",null,0.75,10,"Calhoun Family CGE CQ4-16"]
["Calhoun","Family","CGE CQ4-17",4374,null,null,null,null,4374,null,null,null,null,null,null,null,null,null,null,"2017-01-11T14:37:09",null,0.75,10,"Calhoun Family CGE CQ4-17"]
["Calhoun","Juvenile Delinquency","CGE CQ1-16",446,446,396,396,396,0,0,0,0,0,null,null,null,null,null,null,"2017-01-11T14:37:09",null,0.09,4,"Calhoun Juvenile Delinquency CGE CQ1-16"]
["Calhoun","Juvenile Delinquency","CGE CQ1-17",329,329,329,329,null,0,0,0,0,null,null,null,null,null,null,null,"2017-01-11T14:37:09",null,0.09,4,"Calhoun Juvenile Delinquency CGE CQ1-17"]
["Calhoun","Juvenile Delinquency","CGE CQ2-16",409,409,409,409,409,50,50,50,50,50,null,null,null,null,null,null,"2017-01-11T14:37:09",null,0.09,4,"Calhoun Juvenile Delinquency CGE CQ2-16"]
["Calhoun","Juvenile Delinquency","CGE CQ2-17",206,206,206,null,null,0,0,0,null,null,null,null,null,null,null,null,"2017-01-11T14:37:09",null,0.09,4,"Calhoun Juvenile Delinquency CGE CQ2-17"]
["Calhoun","Juvenile Delinquency","CGE CQ3-16",422,422,422,422,422,0,0,0,0,0,null,null,null,null,null,null,"2017-01-11T14:37:09",null,0.09,4,"Calhoun Juvenile Delinquency CGE CQ3-16"]
["Calhoun","Juvenile Delinquency","CGE CQ3-17",176,176,null,null,null,0,0,null,null,null,null,null,null,null,null,null,"2017-01-11T14:37:09",null,0.09,4,"Calhoun Juvenile Delinquency CGE CQ3-17"]
["Calhoun","Juvenile Delinquency","CGE CQ4-16",459,459,459,459,459,0,0,0,153,153,null,null,null,null,null,null,"2017-01-11T14:37:09",null,0.09,4,"Calhoun Juvenile Delinquency CGE CQ4-16"]
["Calhoun","Juvenile Delinquency","CGE CQ4-17",412,null,null,null,null,0,null,null,null,null,null,null,null,null,null,null,"2017-01-11T14:37:09",null,0.09,4,"Calhoun Juvenile Delinquency CGE CQ4-17"]
["Calhoun","Probate","CGE CQ1-16",2964,2964,2964,2964,2964,2964,2964,2964,2964,2964,null,null,null,null,null,null,"2017-01-11T14:37:09",null,0.9,9,"Calhoun Probate CGE CQ1-16"]
["Calhoun","Probate","CGE CQ1-17",3644,3644,3644,3644,null,3644,3644,3644,3644,null,null,null,null,null,null,null,"2017-01-11T14:37:09",null,0.9,9,"Calhoun Probate CGE CQ1-17"]
["Calhoun","Probate","CGE CQ2-16",4205,4205,4205,4205,4205,4164,4205,4205,4205,4205,null,null,null,null,null,null,"2017-01-11T14:37:09",null,0.9,9,"Calhoun Probate CGE CQ2-16"]
["Calhoun","Probate","CGE CQ2-17",6797,6797,6797,null,null,6797,6797,6797,null,null,null,null,null,null,null,null,"2017-01-11T14:37:09",null,0.9,9,"Calhoun Probate CGE CQ2-17"]
["Calhoun","Probate","CGE CQ3-16",5679,5679,5679,5679,5679,5679,5679,5679,5679,5679,null,null,null,null,null,null,"2017-01-11T14:37:09",null,0.9,9,"Calhoun Probate CGE CQ3-16"]
["Calhoun","Probate","CGE CQ3-17",4138,4138,null,null,null,3507,4138,null,null,null,null,null,null,null,null,null,"2017-01-11T14:37:09",null,0.9,9,"Calhoun Probate CGE CQ3-17"]
["Calhoun","Probate","CGE CQ4-16",1673,1673,1673,1673,1673,1673,1673,1673,1673,1673,null,null,null,null,null,null,"2017-01-11T14:37:09",null,0.9,9,"Calhoun Probate CGE CQ4-16"]
["Calhoun","Probate","CGE CQ4-17",2301,null,null,null,null,2301,null,null,null,null,null,null,null,null,null,null,"2017-01-11T14:37:09",null,0.9,9,"Calhoun Probate CGE CQ4-17"]
["Charlotte","Circ Crim Drug Trfc Cases","CGE CQ1-16",53897,53897,53897,53897,53115,0,0,0,0,0,null,null,null,null,null,null,"2017-01-11T14:37:09",null,0.09,2,"Charlotte Circ Crim Drug Trfc Cases CGE CQ1-16"]
["Charlotte","Circ Crim Drug Trfc Cases","CGE CQ1-17",3492883,3492883,3492883,3492883,null,0,0,0,0,null,null,null,null,null,null,null,"2017-01-11T14:37:09",null,0.09,2,"Charlotte Circ Crim Drug Trfc Cases CGE CQ1-17"]
["Charlotte","Circ Crim Drug Trfc Cases","CGE CQ2-16",715,715,715,711,711,0,0,0,0,0,null,null,null,null,null,null,"2017-01-11T14:37:09",null,0.09,2,"Charlotte Circ Crim Drug Trfc Cases CGE CQ2-16"]
["Charlotte","Circ Crim Drug Trfc Cases","CGE CQ2-17",26861,26861,26861,null,null,0,0,0,null,null,null,null,null,null,null,null,"2017-01-11T14:37:09",null,0.09,2,"Charlotte Circ Crim Drug Trfc Cases CGE CQ2-17"]
["Charlotte","Circ Crim Drug Trfc Cases","CGE CQ3-16",515,515,511,511,511,0,0,234.61,234.61,511,null,null,null,null,null,null,"2017-01-11T14:37:09",null,0.09,2,"Charlotte Circ Crim Drug Trfc Cases CGE CQ3-16"]
["Charlotte","Circ Crim Drug Trfc Cases","CGE CQ3-17",347872.5,347872.5,null,null,null,0,0,null,null,null,null,null,null,null,null,null,"2017-01-11T14:37:09",null,0.09,2,"Charlotte Circ Crim Drug Trfc Cases CGE CQ3-17"]
["Charlotte","Circ Crim Drug Trfc Cases","CGE CQ4-16",0,0,0,0,0,0,0,0,0,0,null,null,null,null,null,null,"2017-01-11T14:37:09",null,0.09,2,"Charlotte Circ Crim Drug Trfc Cases CGE CQ4-16"]
["Charlotte","Circ Crim Drug Trfc Cases","CGE CQ4-17",53511,null,null,null,null,0,null,null,null,null,null,null,null,null,null,null,"2017-01-11T14:37:09",null,0.09,2,"Charlotte Circ Crim Drug Trfc Cases CGE CQ4-17"]
["Charlotte","Circuit Civil","CGE CQ1-16",429798.43,426746.93,426746.93,426746.93,426746.93,426746.93,426746.93,426746.93,426746.93,426746.93,null,null,null,null,null,null,"2017-01-11T14:37:09",null,0.9,6,"Charlotte Circuit Civil CGE CQ1-16"]
["Charlotte","Circuit Civil","CGE CQ1-17",311848.89,311178.90999999997,311178.90999999997,311178.90999999997,null,311178.90999999997,311178.90999999997,311178.90999999997,311178.90999999997,null,null,null,null,null,null,null,"2017-01-11T14:37:09",null,0.9,6,"Charlotte Circuit Civil CGE CQ1-17"]
["Charlotte","Circuit Civil","CGE CQ2-16",412375.34,412375.34,412375.34,412152.01,412012.01,411775.34,411775.34,411775.34,411775.34,411775.34,null,null,null,null,null,null,"2017-01-11T14:37:09",null,0.9,6,"Charlotte Circuit Civil CGE CQ2-16"]
["Charlotte","Circuit Civil","CGE CQ2-17",289837.51,289437.51,289437.51,null,null,289437.51,289437.51,289437.51,null,null,null,null,null,null,null,null,"2017-01-11T14:37:09",null,0.9,6,"Charlotte Circuit Civil CGE CQ2-17"]
["Charlotte","Circuit Civil","CGE CQ3-16",460244.99,459788.78,459617.49,459617.49,459617.49,459617.49,459617.49,459617.49,459617.49,459617.49,null,null,null,null,null,null,"2017-01-11T14:37:09",null,0.9,6,"Charlotte Circuit Civil CGE CQ3-16"]
["Charlotte","Circuit Civil","CGE CQ3-17",288392.82,285578.53999999998,null,null,null,285578.53999999998,285578.53999999998,null,null,null,null,null,null,null,null,null,"2017-01-11T14:37:09",null,0.9,6,"Charlotte Circuit Civil CGE CQ3-17"]
["Charlotte","Circuit Civil","CGE CQ4-16",338056.61,337956.61,337956.61,337956.61,337956.61,337956.61,337956.61,337956.61,337956.61,337956.61,null,null,null,null,null,null,"2017-01-11T14:37:09",null,0.9,6,"Charlotte Circuit Civil CGE CQ4-16"]
["Charlotte","Circuit Civil","CGE CQ4-17",270639.8,null,null,null,null,267582.8,null,null,null,null,null,null,null,null,null,null,"2017-01-11T14:37:09",null,0.9,6,"Charlotte Circuit Civil CGE CQ4-17"]
["Charlotte","Circuit Criminal","CGE CQ1-16",402302.07,400067.38,399389.64,399158.09,398260.85,17543.759999999998,35552.400000000001,49981.14,56527.14,65411.89,null,null,null,null,null,null,"2017-01-11T14:37:09",null,0.09,1,{"$f":"A578&\" \"&B578&\" \"&C578","v":"Charlotte Circuit Criminal CGE CQ1-16"}]
["Charlotte","Circuit Criminal","CGE CQ1-17",3833022.27,3871233.2,3865708.24,3865708.24,null,19380.009999999998,40560.269999999997,53943.35,61130.18,null,null,null,null,null,null,null,"2017-01-11T14:37:09",null,0.09,1,"Charlotte Circuit Criminal CGE CQ1-17"]
["Charlotte","Circuit Criminal","CGE CQ2-16",314196.09999999998,311820.7,310124.02,305359.83,304871.23,20573.919999999998,38588.07,49287.59,56889.54,69308.75,null,null,null,null,null,null,"2017-01-11T14:37:09",null,0.09,1,"Charlotte Circuit Criminal CGE CQ2-16"]
["Charlotte","Circuit Criminal","CGE CQ2-17",344556.03,337313.04,332229.84000000003,null,null,24076.52,54779.92,65377.760000000002,null,null,null,null,null,null,null,null,"2017-01-11T14:37:09",null,0.09,1,"Charlotte Circuit Criminal CGE CQ2-17"]
["Charlotte","Circuit Criminal","CGE CQ3-16",329956.19,328340.96999999997,316006.81,313752.01,307207.27,25633.48,44836.18,52880.67,63602.51,72612.960000000006,null,null,null,null,null,null,"2017-01-11T14:37:09",null,0.09,1,"Charlotte Circuit Criminal CGE CQ3-16"]
["Charlotte","Circuit Criminal","CGE CQ3-17",663353.18000000005,662856.29,null,null,null,26135.62,40117.199999999997,null,null,null,null,null,null,null,null,null,"2017-01-11T14:37:09",null,0.09,1,"Charlotte Circuit Criminal CGE CQ3-17"]
["Charlotte","Circuit Criminal","CGE CQ4-16",215251.67,214067.59,211099.08,209594.81,203490.85,17568.189999999999,34399.620000000003,44115.46,50266.31,59589.23,null,null,null,null,null,null,"2017-01-11T14:37:09",null,0.09,1,"Charlotte Circuit Criminal CGE CQ4-16"]
["Charlotte","Circuit Criminal","CGE CQ4-17",495607.72,null,null,null,null,33769.89,null,null,null,null,null,null,null,null,null,null,"2017-01-11T14:37:09",null,0.09,1,"Charlotte Circuit Criminal CGE CQ4-17"]
["Charlotte","Civil Traffic","CGE CQ1-16",635721.9,561014.18999999994,547433.85,545770.14,544450.38,290252.93,467526.36,486599.67,492974.82,496045.68,null,null,null,null,null,null,"2017-01-11T14:37:09",null,0.9,8,"Charlotte Civil Traffic CGE CQ1-16"]
["Charlotte","Civil Traffic","CGE CQ1-17",639416.99,593552.11,588185.73,587562.64,null,339181.88,497050.11,516523.31,523230.65,null,null,null,null,null,null,null,"2017-01-11T14:37:09",null,0.9,8,"Charlotte Civil Traffic CGE CQ1-17"]
["Charlotte","Civil Traffic","CGE CQ2-16",643943.55000000005,580147.12,572320.53,571493.92000000004,571493.92000000004,351697.19,495563.39,514412.71,519996.71,526440.6,null,null,null,null,null,null,"2017-01-11T14:37:09",null,0.9,8,"Charlotte Civil Traffic CGE CQ2-16"]
["Charlotte","Civil Traffic","CGE CQ2-17",669904.04,622651.05000000005,615211.41,null,null,369157.79,531198.57999999996,546548.76,null,null,null,null,null,null,null,null,"2017-01-11T14:37:09",null,0.9,8,"Charlotte Civil Traffic CGE CQ2-17"]
["Charlotte","Civil Traffic","CGE CQ3-16",591198.06999999995,541358.18999999994,526609.53,525115.99,525064.61,280876.06,436930.49,457240.18,467241.04,472809.67,null,null,null,null,null,null,"2017-01-11T14:37:09",null,0.9,8,"Charlotte Civil Traffic CGE CQ3-16"]
["Charlotte","Civil Traffic","CGE CQ3-17",637112.79,579342.47,null,null,null,295603.02,469059.15,null,null,null,null,null,null,null,null,null,"2017-01-11T14:37:09",null,0.9,8,"Charlotte Civil Traffic CGE CQ3-17"]
["Charlotte","Civil Traffic","CGE CQ4-16",617631.85,547578.48,541240.52,540525.14,540525.14,287684.27,450397.01,474548.69,487651.23,491236.91,null,null,null,null,null,null,"2017-01-11T14:37:09",null,0.9,8,"Charlotte Civil Traffic CGE CQ4-16"]
["Charlotte","Civil Traffic","CGE CQ4-17",615182.78,null,null,null,null,273731.59999999998,null,null,null,null,null,null,null,null,null,null,"2017-01-11T14:37:09",null,0.9,8,"Charlotte Civil Traffic CGE CQ4-17"]
["Charlotte","County Civil","CGE CQ1-16",104359.74,104359.74,104359.74,104359.74,104244.99,104178.26,104178.26,104178.26,104178.26,104178.26,null,null,null,null,null,null,"2017-01-11T14:37:09",null,0.9,7,"Charlotte County Civil CGE CQ1-16"]
["Charlotte","County Civil","CGE CQ1-17",170486.84,170486.84,170486.84,170486.84,null,169605.84,169605.84,169605.84,169605.84,null,null,null,null,null,null,null,"2017-01-11T14:37:09",null,0.9,7,"Charlotte County Civil CGE CQ1-17"]
["Charlotte","County Civil","CGE CQ2-16",134136.15,134136.15,134136.15,134040.64000000001,134040.64000000001,133836.15,133836.15,133861.65,133861.65,133861.65,null,null,null,null,null,null,"2017-01-11T14:37:09",null,0.9,7,"Charlotte County Civil CGE CQ2-16"]
["Charlotte","County Civil","CGE CQ2-17",156280.18,157834.18,157834.18,null,null,154460.18,156529.18,156529.18,null,null,null,null,null,null,null,null,"2017-01-11T14:37:09",null,0.9,7,"Charlotte County Civil CGE CQ2-17"]
["Charlotte","County Civil","CGE CQ3-16",135164.47,134979.47,134979.47,134979.47,134979.47,134979.47,134979.47,134979.47,134979.47,134979.47,null,null,null,null,null,null,"2017-01-11T14:37:09",null,0.9,7,"Charlotte County Civil CGE CQ3-16"]
["Charlotte","County Civil","CGE CQ3-17",140641.92000000001,140641.92000000001,null,null,null,140514.89000000001,140516.17000000001,null,null,null,null,null,null,null,null,null,"2017-01-11T14:37:09",null,0.9,7,"Charlotte County Civil CGE CQ3-17"]
["Charlotte","County Civil","CGE CQ4-16",132440.47,132440.47,132440.47,132440.47,132440.47,132440.47,132440.47,132440.47,132440.47,132440.47,null,null,null,null,null,null,"2017-01-11T14:37:09",null,0.9,7,"Charlotte County Civil CGE CQ4-16"]
["Charlotte","County Civil","CGE CQ4-17",155525.62,null,null,null,null,155525.62,null,null,null,null,null,null,null,null,null,null,"2017-01-11T14:37:09",null,0.9,7,"Charlotte County Civil CGE CQ4-17"]
["Charlotte","County Criminal","CGE CQ1-16",248692.37,246263.44,241524.56,240655.19,238179.43,21804.15,50404.84,69921.16,81851.08,87805.09,null,null,null,null,null,null,"2017-01-11T14:37:09",null,0.4,3,"Charlotte County Criminal CGE CQ1-16"]
["Charlotte","County Criminal","CGE CQ1-17",248913.4,244714.56,243666.32,241999.14,null,20039.03,49304.19,68000.44,77135.289999999994,null,null,null,null,null,null,null,"2017-01-11T14:37:09",null,0.4,3,"Charlotte County Criminal CGE CQ1-17"]
["Charlotte","County Criminal","CGE CQ2-16",289768.55,287253.12,285111.19,282612.33,281958.08,38701.97,69388.75,99470.65,117124.11,125896.1,null,null,null,null,null,null,"2017-01-11T14:37:09",null,0.4,3,"Charlotte County Criminal CGE CQ2-16"]
["Charlotte","County Criminal","CGE CQ2-17",240724.24,238407.76,235097.14,null,null,26260.57,49065.96,67844.639999999999,null,null,null,null,null,null,null,null,"2017-01-11T14:37:09",null,0.4,3,"Charlotte County Criminal CGE CQ2-17"]
["Charlotte","County Criminal","CGE CQ3-16",254291.8,249637.3,244951.82,244179.85,243575.23,30395.49,54989.59,78808,93316.83,104003.12,null,null,null,null,null,null,"2017-01-11T14:37:09",null,0.4,3,"Charlotte County Criminal CGE CQ3-16"]
["Charlotte","County Criminal","CGE CQ3-17",245693.54,241694.6,null,null,null,26987.87,50705.57,null,null,null,null,null,null,null,null,null,"2017-01-11T14:37:09",null,0.4,3,"Charlotte County Criminal CGE CQ3-17"]
["Charlotte","County Criminal","CGE CQ4-16",217515.08,210417.86,207801.23,207653.24,207653.24,25333.11,48752.13,69324.58,77466.080000000002,89939.36,null,null,null,null,null,null,"2017-01-11T14:37:09",null,0.4,3,"Charlotte County Criminal CGE CQ4-16"]
["Charlotte","County Criminal","CGE CQ4-17",250619,null,null,null,null,33404.82,null,null,null,null,null,null,null,null,null,null,"2017-01-11T14:37:09",null,0.4,3,"Charlotte County Criminal CGE CQ4-17"]
["Charlotte","Criminal Traffic","CGE CQ1-16",287914.52,282063.68,278417.46000000002,275517.15000000002,274132.28999999998,56507.25,102973.71,146278.79999999999,158565.63,166847.72,null,null,null,null,null,null,"2017-01-11T14:37:09",null,0.4,5,"Charlotte Criminal Traffic CGE CQ1-16"]
["Charlotte","Criminal Traffic","CGE CQ1-17",297878.78000000003,288190.21999999997,281566.21999999997,276326.78999999998,null,61755.75,111737.60000000001,148052.5,165562.63,null,null,null,null,null,null,null,"2017-01-11T14:37:09",null,0.4,5,"Charlotte Criminal Traffic CGE CQ1-17"]
["Charlotte","Criminal Traffic","CGE CQ2-16",346432.46,335325.78999999998,328326.27,321992.42,321515.31,73069.09,111297.87,145857.91,166278.53,187460.78,null,null,null,null,null,null,"2017-01-11T14:37:09",null,0.4,5,"Charlotte Criminal Traffic CGE CQ2-16"]
["Charlotte","Criminal Traffic","CGE CQ2-17",284852.18,275809.87,268781.15999999997,null,null,87642.240000000005,129303.03999999999,151937.76999999999,null,null,null,null,null,null,null,null,"2017-01-11T14:37:09",null,0.4,5,"Charlotte Criminal Traffic CGE CQ2-17"]
["Charlotte","Criminal Traffic","CGE CQ3-16",352964.08,346940.46,338982.04,335881.91,335780.82,79790.44,124938.31,161333.44,196657.85,212186.19,null,null,null,null,null,null,"2017-01-11T14:37:09",null,0.4,5,"Charlotte Criminal Traffic CGE CQ3-16"]
["Charlotte","Criminal Traffic","CGE CQ3-17",283131.65000000002,273001.58,null,null,null,65974.05,102867.18,null,null,null,null,null,null,null,null,null,"2017-01-11T14:37:09",null,0.4,5,"Charlotte Criminal Traffic CGE CQ3-17"]
["Charlotte","Criminal Traffic","CGE CQ4-16",271438.59999999998,262305.2,256664.9,254890.1,254779.1,63877.75,99839.45,134117.45000000001,154309.6,166065.10999999999,null,null,null,null,null,null,"2017-01-11T14:37:09",null,0.4,5,"Charlotte Criminal Traffic CGE CQ4-16"]
["Charlotte","Criminal Traffic","CGE CQ4-17",296197.12,null,null,null,null,62736.52,null,null,null,null,null,null,null,null,null,null,"2017-01-11T14:37:09",null,0.4,5,"Charlotte Criminal Traffic CGE CQ4-17"]
["Charlotte","Family","CGE CQ1-16",68126.98,68126.98,68126.98,68126.98,68120.5,68086.98,68086.98,68086.98,68086.98,68086.98,null,null,null,null,null,null,"2017-01-11T14:37:09",null,0.75,10,"Charlotte Family CGE CQ1-16"]
["Charlotte","Family","CGE CQ1-17",66153,66153,66153,66153,null,66153,66153,66153,66153,null,null,null,null,null,null,null,"2017-01-11T14:37:09",null,0.75,10,"Charlotte Family CGE CQ1-17"]
["Charlotte","Family","CGE CQ2-16",79491.960000000006,79491.960000000006,79491.960000000006,79489,79489,79066.5,79066.5,79066.5,79066.5,79066.5,null,null,null,null,null,null,"2017-01-11T14:37:09",null,0.75,10,"Charlotte Family CGE CQ2-16"]
["Charlotte","Family","CGE CQ2-17",74764.5,74764.5,74764.5,null,null,74764.5,74764.5,74764.5,null,null,null,null,null,null,null,null,"2017-01-11T14:37:09",null,0.75,10,"Charlotte Family CGE CQ2-17"]
["Charlotte","Family","CGE CQ3-16",79296,79296,79218,79218,79218,78866,78866,78866,78866,78866,null,null,null,null,null,null,"2017-01-11T14:37:09",null,0.75,10,"Charlotte Family CGE CQ3-16"]
["Charlotte","Family","CGE CQ3-17",80717,80717,null,null,null,79541,79541,null,null,null,null,null,null,null,null,null,"2017-01-11T14:37:09",null,0.75,10,"Charlotte Family CGE CQ3-17"]
["Charlotte","Family","CGE CQ4-16",74659,74659,74659,74659,74659,74652,74652,74652,74652,74652,null,null,null,null,null,null,"2017-01-11T14:37:09",null,0.75,10,"Charlotte Family CGE CQ4-16"]
["Charlotte","Family","CGE CQ4-17",89075.5,null,null,null,null,88267.5,null,null,null,null,null,null,null,null,null,null,"2017-01-11T14:37:09",null,0.75,10,"Charlotte Family CGE CQ4-17"]
["Charlotte","Juvenile Delinquency","CGE CQ1-16",11563,11563,11563,11563,11563,1121,4316,4366,4546,4546,null,null,null,null,null,null,"2017-01-11T14:37:09",null,0.09,4,"Charlotte Juvenile Delinquency CGE CQ1-16"]
["Charlotte","Juvenile Delinquency","CGE CQ1-17",4094,4094,4094,3994,null,269,504,689,1089,null,null,null,null,null,null,null,"2017-01-11T14:37:09",null,0.09,4,"Charlotte Juvenile Delinquency CGE CQ1-17"]
["Charlotte","Juvenile Delinquency","CGE CQ2-16",9428,9428,9428,9428,9098,334,1439,3084,3084,3084,null,null,null,null,null,null,"2017-01-11T14:37:09",null,0.09,4,"Charlotte Juvenile Delinquency CGE CQ2-16"]
["Charlotte","Juvenile Delinquency","CGE CQ2-17",8565,8340,7475,null,null,176,726,961,null,null,null,null,null,null,null,null,"2017-01-11T14:37:09",null,0.09,4,"Charlotte Juvenile Delinquency CGE CQ2-17"]
["Charlotte","Juvenile Delinquency","CGE CQ3-16",3982,3882,3882,3882,3882,407,507,772,872,922,null,null,null,null,null,null,"2017-01-11T14:37:09",null,0.09,4,"Charlotte Juvenile Delinquency CGE CQ3-16"]
["Charlotte","Juvenile Delinquency","CGE CQ3-17",7826,6976,null,null,null,92,92,null,null,null,null,null,null,null,null,null,"2017-01-11T14:37:09",null,0.09,4,"Charlotte Juvenile Delinquency CGE CQ3-17"]
["Charlotte","Juvenile Delinquency","CGE CQ4-16",5254,4654,4654,4654,4254,269,434,434,534,534,null,null,null,null,null,null,"2017-01-11T14:37:09",null,0.09,4,"Charlotte Juvenile Delinquency CGE CQ4-16"]
["Charlotte","Juvenile Delinquency","CGE CQ4-17",12170,null,null,null,null,125,null,null,null,null,null,null,null,null,null,null,"2017-01-11T14:37:09",null,0.09,4,"Charlotte Juvenile Delinquency CGE CQ4-17"]
["Charlotte","Probate","CGE CQ1-16",96801.43,96801.43,96801.43,96801.43,96801.43,96401.43,96801.43,96801.43,96801.43,96801.43,null,null,null,null,null,null,"2017-01-11T14:37:09",null,0.9,9,"Charlotte Probate CGE CQ1-16"]
["Charlotte","Probate","CGE CQ1-17",95690.93,95690.93,95690.93,95690.93,null,95059.93,95228.93,95690.93,95690.93,null,null,null,null,null,null,null,"2017-01-11T14:37:09",null,0.9,9,"Charlotte Probate CGE CQ1-17"]
["Charlotte","Probate","CGE CQ2-16",111522.15,111522.15,111522.15,111522.15,111522.15,111522.15,111522.15,111522.15,111522.15,111522.15,null,null,null,null,null,null,"2017-01-11T14:37:09",null,0.9,9,"Charlotte Probate CGE CQ2-16"]
["Charlotte","Probate","CGE CQ2-17",94542.7,94542.7,94542.7,null,null,94542.7,94542.7,94542.7,null,null,null,null,null,null,null,null,"2017-01-11T14:37:09",null,0.9,9,"Charlotte Probate CGE CQ2-17"]
["Charlotte","Probate","CGE CQ3-16",111308.43,111308.43,111308.43,111308.43,111308.43,111308.43,111308.43,111308.43,111308.43,111308.43,null,null,null,null,null,null,"2017-01-11T14:37:09",null,0.9,9,"Charlotte Probate CGE CQ3-16"]
["Charlotte","Probate","CGE CQ3-17",100513.29,100513.29,null,null,null,100513.29,100513.29,null,null,null,null,null,null,null,null,null,"2017-01-11T14:37:09",null,0.9,9,"Charlotte Probate CGE CQ3-17"]
["Charlotte","Probate","CGE CQ4-16",97735.32,97562.32,97562.32,97562.32,97562.32,97562.32,97562.32,97562.32,97562.32,97562.32,null,null,null,null,null,null,"2017-01-11T14:37:09",null,0.9,9,"Charlotte Probate CGE CQ4-16"]
["Charlotte","Probate","CGE CQ4-17",97404.54,null,null,null,null,97228.54,null,null,null,null,null,null,null,null,null,null,"2017-01-11T14:37:09",null,0.9,9,"Charlotte Probate CGE CQ4-17"]
["Citrus","Circ Crim Drug Trfc Cases","CGE CQ1-16",160226,160626,160626,160576,160576,0,0,50,50,50,null,null,null,null,null,null,"2017-01-11T14:37:09",null,0.09,2,{"$f":"A642&\" \"&B642&\" \"&C642","v":"Citrus Circ Crim Drug Trfc Cases CGE CQ1-16"}]
["Citrus","Circ Crim Drug Trfc Cases","CGE CQ1-17",266962,266962,266962,266962,null,144,144,194,194,null,null,null,null,null,null,null,"2017-01-11T14:37:09",null,0.09,2,"Citrus Circ Crim Drug Trfc Cases CGE CQ1-17"]
["Citrus","Circ Crim Drug Trfc Cases","CGE CQ2-16",162972,214057,214107,214107,214107,919,919,919,1031.48,1348.74,null,null,null,null,null,null,"2017-01-11T14:37:09",null,0.09,2,"Citrus Circ Crim Drug Trfc Cases CGE CQ2-16"]
["Citrus","Circ Crim Drug Trfc Cases","CGE CQ2-17",360870,260870,210813,null,null,301,626,776,null,null,null,null,null,null,null,null,"2017-01-11T14:37:09",null,0.09,2,"Citrus Circ Crim Drug Trfc Cases CGE CQ2-17"]
["Citrus","Circ Crim Drug Trfc Cases","CGE CQ3-16",269272,271272,271872,271872,271872,126,2551,2551,2551,2551,null,null,null,null,null,null,"2017-01-11T14:37:09",null,0.09,2,"Citrus Circ Crim Drug Trfc Cases CGE CQ3-16"]
["Citrus","Circ Crim Drug Trfc Cases","CGE CQ3-17",933525.06,833475.06,null,null,null,339.06,339.06,null,null,null,null,null,null,null,null,null,"2017-01-11T14:37:09",null,0.09,2,"Citrus Circ Crim Drug Trfc Cases CGE CQ3-17"]
["Citrus","Circ Crim Drug Trfc Cases","CGE CQ4-16",370460,320460,320460,320410,320410,149,384,479,906.43,912.04,null,null,null,null,null,null,"2017-01-11T14:37:09",null,0.09,2,"Citrus Circ Crim Drug Trfc Cases CGE CQ4-16"]
["Citrus","Circ Crim Drug Trfc Cases","CGE CQ4-17",573405,null,null,null,null,2757,null,null,null,null,null,null,null,null,null,null,"2017-01-11T14:37:09",null,0.09,2,"Citrus Circ Crim Drug Trfc Cases CGE CQ4-17"]
["Citrus","Circuit Civil","CGE CQ1-16",290190.98,284095.98,283975.98,283965.98,283965.98,268078.21000000002,283087.61,283438.98,283438.98,283498.98,null,null,null,null,null,null,"2017-01-11T14:37:09",null,0.9,6,"Citrus Circuit Civil CGE CQ1-16"]
["Citrus","Circuit Civil","CGE CQ1-17",237159.75,236969.9,236519.9,236519.9,null,231765.75,235328.9,234949.9,234949.9,null,null,null,null,null,null,null,"2017-01-11T14:37:09",null,0.9,6,"Citrus Circuit Civil CGE CQ1-17"]
["Citrus","Circuit Civil","CGE CQ2-16",268696.57,266316.57,265741.57,265738.57,265854.52,250601.07,263423.07,264643.07,264656.57,264822.52,null,null,null,null,null,null,"2017-01-11T14:37:09",null,0.9,6,"Citrus Circuit Civil CGE CQ2-16"]
["Citrus","Circuit Civil","CGE CQ2-17",253333.97,253153.97,253003.97,null,null,246894.06,251225.97,251338.97,null,null,null,null,null,null,null,null,"2017-01-11T14:37:09",null,0.9,6,"Citrus Circuit Civil CGE CQ2-17"]
["Citrus","Circuit Civil","CGE CQ3-16",299766.56,297196.56,297120.31,297185.11,297185.11,285103.43,293631.43,294097.43,294231.23,294231.23,null,null,null,null,null,null,"2017-01-11T14:37:09",null,0.9,6,"Citrus Circuit Civil CGE CQ3-16"]
["Citrus","Circuit Civil","CGE CQ3-17",240254.21,240284.21,null,null,null,235655.76,238792.06,null,null,null,null,null,null,null,null,null,"2017-01-11T14:37:09",null,0.9,6,"Citrus Circuit Civil CGE CQ3-17"]
["Citrus","Circuit Civil","CGE CQ4-16",260816.86,257376.86,257503.76,256993.76,256993.76,247996.42,252261.42,252425.32,253493.82,253493.82,null,null,null,null,null,null,"2017-01-11T14:37:09",null,0.9,6,"Citrus Circuit Civil CGE CQ4-16"]
["Citrus","Circuit Civil","CGE CQ4-17",231190.17,null,null,null,null,222201.17,null,null,null,null,null,null,null,null,null,null,"2017-01-11T14:37:09",null,0.9,6,"Citrus Circuit Civil CGE CQ4-17"]
["Citrus","Circuit Criminal","CGE CQ1-16",370304.65,365373.65,362785.65,362337.65,361739.65,26340.89,37966.89,49639.199999999997,57764.95,66931.67,null,null,null,null,null,null,"2017-01-11T14:37:09",null,0.09,1,"Citrus Circuit Criminal CGE CQ1-16"]
["Citrus","Circuit Criminal","CGE CQ1-17",578385.56999999995,665198.86,665297.86,663787.86,null,23354.080000000002,43542.37,55408.37,63134.98,null,null,null,null,null,null,null,"2017-01-11T14:37:09",null,0.09,1,"Citrus Circuit Criminal CGE CQ1-17"]
["Citrus","Circuit Criminal","CGE CQ2-16",419337.9,416245.9,415797.9,414814.9,512108.9,35821.4,45338.49,52881.84,59583.56,78804.289999999994,null,null,null,null,null,null,"2017-01-11T14:37:09",null,0.09,1,"Citrus Circuit Criminal CGE CQ2-16"]
["Citrus","Circuit Criminal","CGE CQ2-17",731301.42,628241.42000000004,574402.92000000004,null,null,33733.67,52104.18,62544.61,null,null,null,null,null,null,null,null,"2017-01-11T14:37:09",null,0.09,1,"Citrus Circuit Criminal CGE CQ2-17"]
["Citrus","Circuit Criminal","CGE CQ3-16",475741.85,477299.1,475705.1,565579.1,563148.1,28290.6,38122.85,46198.85,63153.82,70870.48,null,null,null,null,null,null,"2017-01-11T14:37:09",null,0.09,1,"Citrus Circuit Criminal CGE CQ3-16"]
["Citrus","Circuit Criminal","CGE CQ3-17",1462076.9,1358411.37,null,null,null,23014.85,36847.5,null,null,null,null,null,null,null,null,null,"2017-01-11T14:37:09",null,0.09,1,"Citrus Circuit Criminal CGE CQ3-17"]
["Citrus","Circuit Criminal","CGE CQ4-16",650200.43000000005,598655.43000000005,666461.43000000005,664406.43000000005,663865.43000000005,21925.43,29840.43,49521.49,59837.18,64773.37,null,null,null,null,null,null,"2017-01-11T14:37:09",null,0.09,1,"Citrus Circuit Criminal CGE CQ4-16"]
["Citrus","Circuit Criminal","CGE CQ4-17",842085.02,null,null,null,null,25686.799999999999,null,null,null,null,null,null,null,null,null,null,"2017-01-11T14:37:09",null,0.09,1,"Citrus Circuit Criminal CGE CQ4-17"]
["Citrus","Civil Traffic","CGE CQ1-16",246211.55,240639.35,238404.35,238404.35,238404.35,146970.04999999999,211313.85,218285.85,221542.85,222087.85,null,null,null,null,null,null,"2017-01-11T14:37:09",null,0.9,8,"Citrus Civil Traffic CGE CQ1-16"]
["Citrus","Civil Traffic","CGE CQ1-17",219733.3,214190.5,212538.5,212231.5,null,128363.5,188098,191950,193426,null,null,null,null,null,null,null,"2017-01-11T14:37:09",null,0.9,8,"Citrus Civil Traffic CGE CQ1-17"]
["Citrus","Civil Traffic","CGE CQ2-16",254407.9,241543.4,241377.4,241211.4,241475.7,148632.20000000001,215572.9,222850.4,225043.9,227571.7,null,null,null,null,null,null,"2017-01-11T14:37:09",null,0.9,8,"Citrus Civil Traffic CGE CQ2-16"]
["Citrus","Civil Traffic","CGE CQ2-17",243782,228282.3,227472.3,null,null,146824.4,204719.8,208924.3,null,null,null,null,null,null,null,null,"2017-01-11T14:37:09",null,0.9,8,"Citrus Civil Traffic CGE CQ2-17"]
["Citrus","Civil Traffic","CGE CQ3-16",287793.3,278395.40000000002,278299.40000000002,278317.05,278317.05,176264.8,241574.43,250863.9,256929.05,258694.05,null,null,null,null,null,null,"2017-01-11T14:37:09",null,0.9,8,"Citrus Civil Traffic CGE CQ3-16"]
["Citrus","Civil Traffic","CGE CQ3-17",278152.09999999998,259479.6,null,null,null,150127.1,225954.6,null,null,null,null,null,null,null,null,null,"2017-01-11T14:37:09",null,0.9,8,"Citrus Civil Traffic CGE CQ3-17"]
["Citrus","Civil Traffic","CGE CQ4-16",242805.6,230461.9,229970.95,229970.95,229970.95,131588.4,195651.4,207807.45,209946.45,211444.45,null,null,null,null,null,null,"2017-01-11T14:37:09",null,0.9,8,"Citrus Civil Traffic CGE CQ4-16"]
["Citrus","Civil Traffic","CGE CQ4-17",306316.79999999999,null,null,null,null,167667.29999999999,null,null,null,null,null,null,null,null,null,null,"2017-01-11T14:37:09",null,0.9,8,"Citrus Civil Traffic CGE CQ4-17"]
["Citrus","County Civil","CGE CQ1-16",95216.05,95055.17,95055.17,95035.17,95035.17,94029.17,94594.17,94622.17,94622.17,94622.17,null,null,null,null,null,null,"2017-01-11T14:37:09",null,0.9,7,"Citrus County Civil CGE CQ1-16"]
["Citrus","County Civil","CGE CQ1-17",124413.86,124330.61,124330.61,124330.61,null,122993.86,123979.61,123979.61,123979.61,null,null,null,null,null,null,null,"2017-01-11T14:37:09",null,0.9,7,"Citrus County Civil CGE CQ1-17"]
["Citrus","County Civil","CGE CQ2-16",104475.23,104328.23,104028.23,104009.23,103687.18,102992.23,103074.23,103074.23,103074.23,103192.18,null,null,null,null,null,null,"2017-01-11T14:37:09",null,0.9,7,"Citrus County Civil CGE CQ2-16"]
["Citrus","County Civil","CGE CQ2-17",132626.04999999999,131916.04999999999,131831.04999999999,null,null,131134.04999999999,131769.04999999999,131769.04999999999,null,null,null,null,null,null,null,null,"2017-01-11T14:37:09",null,0.9,7,"Citrus County Civil CGE CQ2-17"]
["Citrus","County Civil","CGE CQ3-16",117505.34,117505.34,117505.34,117576.84,117576.84,116861.34,117302.34,117302.34,117363.84,117363.84,null,null,null,null,null,null,"2017-01-11T14:37:09",null,0.9,7,"Citrus County Civil CGE CQ3-16"]
["Citrus","County Civil","CGE CQ3-17",120604.92,120809.92,null,null,null,119933.48,120145.92,null,null,null,null,null,null,null,null,null,"2017-01-11T14:37:09",null,0.9,7,"Citrus County Civil CGE CQ3-17"]
["Citrus","County Civil","CGE CQ4-16",112187.42,112187.42,112238.27,112228.27,112228.27,111767.42,111784.42,111835.27,111835.27,111835.27,null,null,null,null,null,null,"2017-01-11T14:37:09",null,0.9,7,"Citrus County Civil CGE CQ4-16"]
["Citrus","County Civil","CGE CQ4-17",131955.85,null,null,null,null,125651.85,null,null,null,null,null,null,null,null,null,null,"2017-01-11T14:37:09",null,0.9,7,"Citrus County Civil CGE CQ4-17"]
["Citrus","County Criminal","CGE CQ1-16",125984.63,124441.63,124274.63,124232.63,124228.63,32281.48,48886.41,57930.91,63412.91,66677.41,null,null,null,null,null,null,"2017-01-11T14:37:09",null,0.4,3,"Citrus County Criminal CGE CQ1-16"]
["Citrus","County Criminal","CGE CQ1-17",155542.66,182082.66,181374.66,181373.14,null,31382.3,62370.91,77356.59,86402.41,null,null,null,null,null,null,null,"2017-01-11T14:37:09",null,0.4,3,"Citrus County Criminal CGE CQ1-17"]
["Citrus","County Criminal","CGE CQ2-16",131257.89000000001,129421.39,129772.39,129584.39,158954.39000000001,28656.62,43552.46,53333.99,58056.46,72483.460000000006,null,null,null,null,null,null,"2017-01-11T14:37:09",null,0.4,3,"Citrus County Criminal CGE CQ2-16"]
["Citrus","County Criminal","CGE CQ2-17",163419.51,161006.51,157232.51,null,null,43350.1,65946.75,74423.75,null,null,null,null,null,null,null,null,"2017-01-11T14:37:09",null,0.4,3,"Citrus County Criminal CGE CQ2-17"]
["Citrus","County Criminal","CGE CQ3-16",143713.60999999999,140141.60999999999,139881.60999999999,167087.67000000001,165721.67000000001,38842.980000000003,56216.21,66520.210000000006,82145.710000000006,87664.21,null,null,null,null,null,null,"2017-01-11T14:37:09",null,0.4,3,"Citrus County Criminal CGE CQ3-16"]
["Citrus","County Criminal","CGE CQ3-17",209555.47,205846.47,null,null,null,47147.03,72739.490000000005,null,null,null,null,null,null,null,null,null,"2017-01-11T14:37:09",null,0.4,3,"Citrus County Criminal CGE CQ3-17"]
["Citrus","County Criminal","CGE CQ4-16",135153.48000000001,133251.48000000001,155664.48000000001,155059.48000000001,155009.48000000001,42955.5,58619.99,72633.740000000005,77187.490000000005,82691.490000000005,null,null,null,null,null,null,"2017-01-11T14:37:09",null,0.4,3,"Citrus County Criminal CGE CQ4-16"]
["Citrus","County Criminal","CGE CQ4-17",200618.67,null,null,null,null,54692.23,null,null,null,null,null,null,null,null,null,null,"2017-01-11T14:37:09",null,0.4,3,"Citrus County Criminal CGE CQ4-17"]
["Citrus","Criminal Traffic","CGE CQ1-16",121015.94,120825.94,120775.94,120725.94,120725.94,27255.86,41304.53,50337.26,55605.89,58469.91,null,null,null,null,null,null,"2017-01-11T14:37:09",null,0.4,5,"Citrus Criminal Traffic CGE CQ1-16"]
["Citrus","Criminal Traffic","CGE CQ1-17",121396.94,137254.20000000001,136048.20000000001,136569.20000000001,null,31148.21,52815.92,62216.38,67545.09,null,null,null,null,null,null,null,"2017-01-11T14:37:09",null,0.4,5,"Citrus Criminal Traffic CGE CQ1-17"]
["Citrus","Criminal Traffic","CGE CQ2-16",124307.9,126247.8,125751.8,125751.8,143928.28,36576.92,48683.839999999997,59330.32,63724.82,77187.759999999995,null,null,null,null,null,null,"2017-01-11T14:37:09",null,0.4,5,"Citrus Criminal Traffic CGE CQ2-16"]
["Citrus","Criminal Traffic","CGE CQ2-17",116378.07,116371.07,115820.57,null,null,36058.22,50241.66,57113.41,null,null,null,null,null,null,null,null,"2017-01-11T14:37:09",null,0.4,5,"Citrus Criminal Traffic CGE CQ2-17"]
["Citrus","Criminal Traffic","CGE CQ3-16",101801.09,102027.09,102027.09,119047.09,119047.09,28045.439999999999,41916.660000000003,50642.15,61750.080000000002,64849.58,null,null,null,null,null,null,"2017-01-11T14:37:09",null,0.4,5,"Citrus Criminal Traffic CGE CQ3-16"]
["Citrus","Criminal Traffic","CGE CQ3-17",117413.56,117251.46,null,null,null,31869.91,45442.63,null,null,null,null,null,null,null,null,null,"2017-01-11T14:37:09",null,0.4,5,"Citrus Criminal Traffic CGE CQ3-17"]
["Citrus","Criminal Traffic","CGE CQ4-16",87654.66,87677.66,102226.66,102010.66,101992.66,24024.47,30933.97,42562.97,44989.97,47126.2,null,null,null,null,null,null,"2017-01-11T14:37:09",null,0.4,5,"Citrus Criminal Traffic CGE CQ4-16"]
["Citrus","Criminal Traffic","CGE CQ4-17",137747.15,null,null,null,null,27155.98,null,null,null,null,null,null,null,null,null,null,"2017-01-11T14:37:09",null,0.4,5,"Citrus Criminal Traffic CGE CQ4-17"]
["Citrus","Family","CGE CQ1-16",73963.679999999993,73261.679999999993,73261.679999999993,73261.679999999993,73261.679999999993,60240.53,68090.03,68468.03,68675.53,68783.03,null,null,null,null,null,null,"2017-01-11T14:37:09",null,0.75,10,"Citrus Family CGE CQ1-16"]
["Citrus","Family","CGE CQ1-17",71131.850000000006,69966.850000000006,69966.850000000006,69966.850000000006,null,54434.77,60390.27,61600.27,61600.27,null,null,null,null,null,null,null,"2017-01-11T14:37:09",null,0.75,10,"Citrus Family CGE CQ1-17"]
["Citrus","Family","CGE CQ2-16",84432.63,82000.13,81601.63,81661.63,81541.63,68708.149999999994,72709.13,73406.13,74608.63,74989.13,null,null,null,null,null,null,"2017-01-11T14:37:09",null,0.75,10,"Citrus Family CGE CQ2-16"]
["Citrus","Family","CGE CQ2-17",85764.89,83094.89,83094.89,null,null,73513.89,75467.39,75512.39,null,null,null,null,null,null,null,null,"2017-01-11T14:37:09",null,0.75,10,"Citrus Family CGE CQ2-17"]
["Citrus","Family","CGE CQ3-16",82230.75,80400.75,80040.75,79585.25,79585.25,62840.75,67691.25,68305.75,69536.75,69891.75,null,null,null,null,null,null,"2017-01-11T14:37:09",null,0.75,10,"Citrus Family CGE CQ3-16"]
["Citrus","Family","CGE CQ3-17",83154.86,81304.36,null,null,null,66111.679999999993,71049.83,null,null,null,null,null,null,null,null,null,"2017-01-11T14:37:09",null,0.75,10,"Citrus Family CGE CQ3-17"]
["Citrus","Family","CGE CQ4-16",76917.47,75376.97,75326.97,75206.97,75206.97,61907.47,66640.47,67303.47,67303.47,67303.47,null,null,null,null,null,null,"2017-01-11T14:37:09",null,0.75,10,"Citrus Family CGE CQ4-16"]
["Citrus","Family","CGE CQ4-17",75245.59,null,null,null,null,60193.59,null,null,null,null,null,null,null,null,null,null,"2017-01-11T14:37:09",null,0.75,10,"Citrus Family CGE CQ4-17"]
["Citrus","Juvenile Delinquency","CGE CQ1-16",4933,4933,4683,3994,3944,313,688,896,1156,1287.74,null,null,null,null,null,null,"2017-01-11T14:37:09",null,0.09,4,{"$f":"A706&\" \"&B706&\" \"&C706","v":"Citrus Juvenile Delinquency CGE CQ1-16"}]
["Citrus","Juvenile Delinquency","CGE CQ1-17",3617,5917,5867,5767,null,463,963,1537,1637,null,null,null,null,null,null,null,"2017-01-11T14:37:09",null,0.09,4,"Citrus Juvenile Delinquency CGE CQ1-17"]
["Citrus","Juvenile Delinquency","CGE CQ2-16",3037,2987,2987,2987,4487,722,1103,1103,1103,2023,null,null,null,null,null,null,"2017-01-11T14:37:09",null,0.09,4,"Citrus Juvenile Delinquency CGE CQ2-16"]
["Citrus","Juvenile Delinquency","CGE CQ2-17",3305,3493,3493,null,null,328,328,328,null,null,null,null,null,null,null,null,"2017-01-11T14:37:09",null,0.09,4,"Citrus Juvenile Delinquency CGE CQ2-17"]
["Citrus","Juvenile Delinquency","CGE CQ3-16",6125,5925,5925,9925,9925,1014,1443,1553.75,2563.75,2563.75,null,null,null,null,null,null,"2017-01-11T14:37:09",null,0.09,4,"Citrus Juvenile Delinquency CGE CQ3-16"]
["Citrus","Juvenile Delinquency","CGE CQ3-17",3553,3553,null,null,null,20,370,null,null,null,null,null,null,null,null,null,"2017-01-11T14:37:09",null,0.09,4,"Citrus Juvenile Delinquency CGE CQ3-17"]
["Citrus","Juvenile Delinquency","CGE CQ4-16",3681.5,3414.5,5518.5,5418.5,5368.5,417.5,467.5,1374.5,2424.5,3031,null,null,null,null,null,null,"2017-01-11T14:37:09",null,0.09,4,"Citrus Juvenile Delinquency CGE CQ4-16"]
["Citrus","Juvenile Delinquency","CGE CQ4-17",4013,null,null,null,null,245,null,null,null,null,null,null,null,null,null,null,"2017-01-11T14:37:09",null,0.09,4,"Citrus Juvenile Delinquency CGE CQ4-17"]
["Citrus","Probate","CGE CQ1-16",79289.11,76167.600000000006,76167.600000000006,75536.600000000006,74872.09,72299.05,73210.070000000007,73210.070000000007,73210.070000000007,74207.58,null,null,null,null,null,null,"2017-01-11T14:37:09",null,0.9,9,"Citrus Probate CGE CQ1-16"]
["Citrus","Probate","CGE CQ1-17",70716.41,70726.81,70725.81,70555.81,null,69401.740000000005,70102.81,70102.81,70102.81,null,null,null,null,null,null,null,"2017-01-11T14:37:09",null,0.9,9,"Citrus Probate CGE CQ1-17"]
["Citrus","Probate","CGE CQ2-16",81672.25,78392.210000000006,77761.210000000006,77130.210000000006,77176.41,75696,76096,76098.039999999994,76749.039999999994,77140.240000000005,null,null,null,null,null,null,"2017-01-11T14:37:09",null,0.9,9,"Citrus Probate CGE CQ2-16"]
["Citrus","Probate","CGE CQ2-17",86931.88,84923.87,84923.87,null,null,83658.92,83978.92,83990.92,null,null,null,null,null,null,null,null,"2017-01-11T14:37:09",null,0.9,9,"Citrus Probate CGE CQ2-17"]
["Citrus","Probate","CGE CQ3-16",79888.210000000006,79888.210000000006,79257.210000000006,79261.31,79261.31,78452.19,78620.210000000006,78725.210000000006,78834.31,78864.31,null,null,null,null,null,null,"2017-01-11T14:37:09",null,0.9,9,"Citrus Probate CGE CQ3-16"]
["Citrus","Probate","CGE CQ3-17",82191.62,80378.289999999994,null,null,null,78557.95,79399.62,null,null,null,null,null,null,null,null,null,"2017-01-11T14:37:09",null,0.9,9,"Citrus Probate CGE CQ3-17"]
["Citrus","Probate","CGE CQ4-16",91907.36,89948.83,89627.03,89625.03,89625.03,87469.83,87869.83,87548.03,87897.03,87897.03,null,null,null,null,null,null,"2017-01-11T14:37:09",null,0.9,9,"Citrus Probate CGE CQ4-16"]
["Citrus","Probate","CGE CQ4-17",67844.399999999994,null,null,null,null,66898.429999999993,null,null,null,null,null,null,null,null,null,null,"2017-01-11T14:37:09",null,0.9,9,"Citrus Probate CGE CQ4-17"]
["Clay","Circ Crim Drug Trfc Cases","CGE CQ1-16",null,null,null,null,null,null,null,null,null,null,null,null,null,null,null,null,"2017-01-11T14:37:09",null,0.09,2,"Clay Circ Crim Drug Trfc Cases CGE CQ1-16"]
["Clay","Circ Crim Drug Trfc Cases","CGE CQ1-17",1107257,1107257,712110,712110,null,272,284,259,259,null,null,null,null,null,null,null,"2017-01-11T14:37:09",null,0.09,2,"Clay Circ Crim Drug Trfc Cases CGE CQ1-17"]
["Clay","Circ Crim Drug Trfc Cases","CGE CQ2-16",766279,766279,766279,766279,766279,25572,25572,25572,25584,26206,null,null,null,null,null,null,"2017-01-11T14:37:09",null,0.09,2,"Clay Circ Crim Drug Trfc Cases CGE CQ2-16"]
["Clay","Circ Crim Drug Trfc Cases","CGE CQ2-17",159146,158796,158796,null,null,350,0,0,null,null,null,null,null,null,null,null,"2017-01-11T14:37:09",null,0.09,2,"Clay Circ Crim Drug Trfc Cases CGE CQ2-17"]
["Clay","Circ Crim Drug Trfc Cases","CGE CQ3-16",742728,216332,216332,216332,211299,3027,3872,4533,4633,27,null,null,null,null,null,null,"2017-01-11T14:37:09",null,0.09,2,"Clay Circ Crim Drug Trfc Cases CGE CQ3-16"]
["Clay","Circ Crim Drug Trfc Cases","CGE CQ3-17",53251,53251,null,null,null,30,39,null,null,null,null,null,null,null,null,null,"2017-01-11T14:37:09",null,0.09,2,"Clay Circ Crim Drug Trfc Cases CGE CQ3-17"]
["Clay","Circ Crim Drug Trfc Cases","CGE CQ4-16",633952,633952,633952,631410,631410,375,1436,1629,2,2,null,null,null,null,null,null,"2017-01-11T14:37:09",null,0.09,2,"Clay Circ Crim Drug Trfc Cases CGE CQ4-16"]
["Clay","Circ Crim Drug Trfc Cases","CGE CQ4-17",25,null,null,null,null,0,null,null,null,null,null,null,null,null,null,null,"2017-01-11T14:37:09",null,0.09,2,"Clay Circ Crim Drug Trfc Cases CGE CQ4-17"]
["Clay","Circuit Civil","CGE CQ1-16",408274,407334,405969,404947,404947,402917,406029,404614,403591,403591,null,null,null,null,null,null,"2017-01-11T14:37:09",null,0.9,6,"Clay Circuit Civil CGE CQ1-16"]
["Clay","Circuit Civil","CGE CQ1-17",300264,298604,298604,298554,null,298984,298554,298554,298554,null,null,null,null,null,null,null,"2017-01-11T14:37:09",null,0.9,6,"Clay Circuit Civil CGE CQ1-17"]
["Clay","Circuit Civil","CGE CQ2-16",394462,394062,394062,394062,394062,394030,394030,394030,394030,394030,null,null,null,null,null,null,"2017-01-11T14:37:09",null,0.9,6,"Clay Circuit Civil CGE CQ2-16"]
["Clay","Circuit Civil","CGE CQ2-17",309966,302156,300761,null,null,309556,301746,300761,null,null,null,null,null,null,null,null,"2017-01-11T14:37:09",null,0.9,6,"Clay Circuit Civil CGE CQ2-17"]
["Clay","Circuit Civil","CGE CQ3-16",375720,373780,373780,373780,372380,375138,373302,373312,373312,371912,null,null,null,null,null,null,"2017-01-11T14:37:09",null,0.9,6,"Clay Circuit Civil CGE CQ3-16"]
["Clay","Circuit Civil","CGE CQ3-17",354124,351234,null,null,null,350754,350824,null,null,null,null,null,null,null,null,null,"2017-01-11T14:37:09",null,0.9,6,"Clay Circuit Civil CGE CQ3-17"]
["Clay","Circuit Civil","CGE CQ4-16",340771,340126,340126,340126,339003,339782,339774,339774,339774,338662,null,null,null,null,null,null,"2017-01-11T14:37:09",null,0.9,6,"Clay Circuit Civil CGE CQ4-16"]
["Clay","Circuit Civil","CGE CQ4-17",337609,null,null,null,null,335753,null,null,null,null,null,null,null,null,null,null,"2017-01-11T14:37:09",null,0.9,6,"Clay Circuit Civil CGE CQ4-17"]
["Clay","Circuit Criminal","CGE CQ1-16",332758,275778,275728,275678,275678,21460,31260,36020,44639,49427,null,null,null,null,null,null,"2017-01-11T14:37:09",null,0.09,1,"Clay Circuit Criminal CGE CQ1-16"]
["Clay","Circuit Criminal","CGE CQ1-17",1281527,1277107,1277107,1276484,null,12237,20987,26458,30579,null,null,null,null,null,null,null,"2017-01-11T14:37:09",null,0.09,1,"Clay Circuit Criminal CGE CQ1-17"]
["Clay","Circuit Criminal","CGE CQ2-16",1424281,1424281,1424069,1424069,1424069,188349,197998,205986,212918,220950,null,null,null,null,null,null,"2017-01-11T14:37:09",null,0.09,1,"Clay Circuit Criminal CGE CQ2-16"]
["Clay","Circuit Criminal","CGE CQ2-17",377462,377056,377056,null,null,53404,62852,68334,null,null,null,null,null,null,null,null,"2017-01-11T14:37:09",null,0.09,1,"Clay Circuit Criminal CGE CQ2-17"]
["Clay","Circuit Criminal","CGE CQ3-16",980901,452457,452457,452457,452457,41363,59903,65378,74471,80755,null,null,null,null,null,null,"2017-01-11T14:37:09",null,0.09,1,"Clay Circuit Criminal CGE CQ3-16"]
["Clay","Circuit Criminal","CGE CQ3-17",374957,374281,null,null,null,156735,171112,null,null,null,null,null,null,null,null,null,"2017-01-11T14:37:09",null,0.09,1,"Clay Circuit Criminal CGE CQ3-17"]
["Clay","Circuit Criminal","CGE CQ4-16",914810,914805,914805,914805,913609,43911,53888,63084,67375,77557,null,null,null,null,null,null,"2017-01-11T14:37:09",null,0.09,1,"Clay Circuit Criminal CGE CQ4-16"]
["Clay","Circuit Criminal","CGE CQ4-17",206357,null,null,null,null,42012,null,null,null,null,null,null,null,null,null,null,"2017-01-11T14:37:09",null,0.09,1,"Clay Circuit Criminal CGE CQ4-17"]
["Clay","Civil Traffic","CGE CQ1-16",851349,743871,720269,713630,703066,242328,570617,619123,632314,639233,null,null,null,null,null,null,"2017-01-11T14:37:09",null,0.9,8,"Clay Civil Traffic CGE CQ1-16"]
["Clay","Civil Traffic","CGE CQ1-17",965070,859410,807493,797816,null,273434,627597,693980,707619,null,null,null,null,null,null,null,"2017-01-11T14:37:09",null,0.9,8,"Clay Civil Traffic CGE CQ1-17"]
["Clay","Civil Traffic","CGE CQ2-16",855425,760497,735360,723067,717974,323349,569737,615292,628306,643832,null,null,null,null,null,null,"2017-01-11T14:37:09",null,0.9,8,"Clay Civil Traffic CGE CQ2-16"]
["Clay","Civil Traffic","CGE CQ2-17",1128730,1021242,981926,null,null,396187,775902,839268,null,null,null,null,null,null,null,null,"2017-01-11T14:37:09",null,0.9,8,"Clay Civil Traffic CGE CQ2-17"]
["Clay","Civil Traffic","CGE CQ3-16",1042706,944823,904498,893339,887981,326449,707809,767738,796942,807434,null,null,null,null,null,null,"2017-01-11T14:37:09",null,0.9,8,"Clay Civil Traffic CGE CQ3-16"]
["Clay","Civil Traffic","CGE CQ3-17",1093538,988226,null,null,null,348732,726707,null,null,null,null,null,null,null,null,null,"2017-01-11T14:37:09",null,0.9,8,"Clay Civil Traffic CGE CQ3-17"]
["Clay","Civil Traffic","CGE CQ4-16",1016165,922493,877266,868357,863531,353020,675646,747898,772991,782699,null,null,null,null,null,null,"2017-01-11T14:37:09",null,0.9,8,"Clay Civil Traffic CGE CQ4-16"]
["Clay","Civil Traffic","CGE CQ4-17",1071273,null,null,null,null,308430,null,null,null,null,null,null,null,null,null,null,"2017-01-11T14:37:09",null,0.9,8,"Clay Civil Traffic CGE CQ4-17"]
["Clay","County Civil","CGE CQ1-16",175206,174989,174989,173876,174989,175204,174989,174989,173876,174989,null,null,null,null,null,null,"2017-01-11T14:37:09",null,0.9,7,"Clay County Civil CGE CQ1-16"]
["Clay","County Civil","CGE CQ1-17",159534,159534,159534,159534,null,159002,159534,159534,159534,null,null,null,null,null,null,null,"2017-01-11T14:37:09",null,0.9,7,"Clay County Civil CGE CQ1-17"]
["Clay","County Civil","CGE CQ2-16",135134,135134,134214,135134,135134,134913,134923,134208,135128,135128,null,null,null,null,null,null,"2017-01-11T14:37:09",null,0.9,7,"Clay County Civil CGE CQ2-16"]
["Clay","County Civil","CGE CQ2-17",144344,143849,143849,null,null,144159,143849,143849,null,null,null,null,null,null,null,null,"2017-01-11T14:37:09",null,0.9,7,"Clay County Civil CGE CQ2-17"]
["Clay","County Civil","CGE CQ3-16",166020,163695,165650,165350,165650,165350,163695,165350,165350,165350,null,null,null,null,null,null,"2017-01-11T14:37:09",null,0.9,7,"Clay County Civil CGE CQ3-16"]
["Clay","County Civil","CGE CQ3-17",152101,151791,null,null,null,152101,151791,null,null,null,null,null,null,null,null,null,"2017-01-11T14:37:09",null,0.9,7,"Clay County Civil CGE CQ3-17"]
["Clay","County Civil","CGE CQ4-16",138113,137978,137978,137978,137978,137704,137978,137978,137978,137978,null,null,null,null,null,null,"2017-01-11T14:37:09",null,0.9,7,"Clay County Civil CGE CQ4-16"]
["Clay","County Civil","CGE CQ4-17",160516,null,null,null,null,160516,null,null,null,null,null,null,null,null,null,null,"2017-01-11T14:37:09",null,0.9,7,"Clay County Civil CGE CQ4-17"]
["Clay","County Criminal","CGE CQ1-16",215016,212066,211782,210858,210069,38785,83201,101000,114428,120650,null,null,null,null,null,null,"2017-01-11T14:37:09",null,0.4,3,"Clay County Criminal CGE CQ1-16"]
["Clay","County Criminal","CGE CQ1-17",227930,227902,226967,226261,null,39850,85227,107808,121425,null,null,null,null,null,null,null,"2017-01-11T14:37:09",null,0.4,3,"Clay County Criminal CGE CQ1-17"]
["Clay","County Criminal","CGE CQ2-16",201516,201449,195236,195160,195160,48340,85390,102905,111592,118211,null,null,null,null,null,null,"2017-01-11T14:37:09",null,0.4,3,"Clay County Criminal CGE CQ2-16"]
["Clay","County Criminal","CGE CQ2-17",251282,249955,249536,null,null,52117,98702,126111,null,null,null,null,null,null,null,null,"2017-01-11T14:37:09",null,0.4,3,"Clay County Criminal CGE CQ2-17"]
["Clay","County Criminal","CGE CQ3-16",203692,199217,199203,199203,197798,36244,72041,85098,98982,106359,null,null,null,null,null,null,"2017-01-11T14:37:09",null,0.4,3,"Clay County Criminal CGE CQ3-16"]
["Clay","County Criminal","CGE CQ3-17",236176,236148,null,null,null,52240,88989,null,null,null,null,null,null,null,null,null,"2017-01-11T14:37:09",null,0.4,3,"Clay County Criminal CGE CQ3-17"]
["Clay","County Criminal","CGE CQ4-16",245265,245251,245251,244901,242483,41548,79680,105346,117392,121361,null,null,null,null,null,null,"2017-01-11T14:37:09",null,0.4,3,"Clay County Criminal CGE CQ4-16"]
["Clay","County Criminal","CGE CQ4-17",190798,null,null,null,null,39303,null,null,null,null,null,null,null,null,null,null,"2017-01-11T14:37:09",null,0.4,3,"Clay County Criminal CGE CQ4-17"]
["Clay","Criminal Traffic","CGE CQ1-16",217755,216694,216615,216551,216480,54507,108331,132203,144468,150460,null,null,null,null,null,null,"2017-01-11T14:37:09",null,0.4,5,{"$f":"A770&\" \"&B770&\" \"&C770","v":"Clay Criminal Traffic CGE CQ1-16"}]
["Clay","Criminal Traffic","CGE CQ1-17",243447,242443,242411,240999,null,60440,117040,136783,151704,null,null,null,null,null,null,null,"2017-01-11T14:37:09",null,0.4,5,"Clay Criminal Traffic CGE CQ1-17"]
["Clay","Criminal Traffic","CGE CQ2-16",259830,259102,259070,259070,259006,72816,129362,155288,170392,179759,null,null,null,null,null,null,"2017-01-11T14:37:09",null,0.4,5,"Clay Criminal Traffic CGE CQ2-16"]
["Clay","Criminal Traffic","CGE CQ2-17",258036,258036,257578,null,null,67540,126054,154207,null,null,null,null,null,null,null,null,"2017-01-11T14:37:09",null,0.4,5,"Clay Criminal Traffic CGE CQ2-17"]
["Clay","Criminal Traffic","CGE CQ3-16",234688,234247,234183,234119,234119,51163,106151,133104,157511,165847,null,null,null,null,null,null,"2017-01-11T14:37:09",null,0.4,5,"Clay Criminal Traffic CGE CQ3-16"]
["Clay","Criminal Traffic","CGE CQ3-17",227149,226118,null,null,null,56786,103006,null,null,null,null,null,null,null,null,null,"2017-01-11T14:37:09",null,0.4,5,"Clay Criminal Traffic CGE CQ3-17"]
["Clay","Criminal Traffic","CGE CQ4-16",277673,277603,276650,276650,276618,71919,121473,156979,173768,186147,null,null,null,null,null,null,"2017-01-11T14:37:09",null,0.4,5,"Clay Criminal Traffic CGE CQ4-16"]
["Clay","Criminal Traffic","CGE CQ4-17",235216,null,null,null,null,63119,null,null,null,null,null,null,null,null,null,null,"2017-01-11T14:37:09",null,0.4,5,"Clay Criminal Traffic CGE CQ4-17"]
["Clay","Family","CGE CQ1-16",98032,95440,95390,95390,95490,94092,94092,94042,94042,94042,null,null,null,null,null,null,"2017-01-11T14:37:09",null,0.75,10,"Clay Family CGE CQ1-16"]
["Clay","Family","CGE CQ1-17",130383,128097,128097,127930,null,127870,127875,127875,127875,null,null,null,null,null,null,null,"2017-01-11T14:37:09",null,0.75,10,"Clay Family CGE CQ1-17"]
["Clay","Family","CGE CQ2-16",135941,132883,132883,132465,132465,132435,132675,132675,132257,132257,null,null,null,null,null,null,"2017-01-11T14:37:09",null,0.75,10,"Clay Family CGE CQ2-16"]
["Clay","Family","CGE CQ2-17",131329,131034,127708,null,null,127590,127295,127295,null,null,null,null,null,null,null,null,"2017-01-11T14:37:09",null,0.75,10,"Clay Family CGE CQ2-17"]
["Clay","Family","CGE CQ3-16",126461,124169,124169,124169,124169,124079,124079,124079,124079,124079,null,null,null,null,null,null,"2017-01-11T14:37:09",null,0.75,10,"Clay Family CGE CQ3-16"]
["Clay","Family","CGE CQ3-17",127904,126265,null,null,null,126265,126265,null,null,null,null,null,null,null,null,null,"2017-01-11T14:37:09",null,0.75,10,"Clay Family CGE CQ3-17"]
["Clay","Family","CGE CQ4-16",137145,136743,136335,136335,136335,136293,136293,136293,136293,136293,null,null,null,null,null,null,"2017-01-11T14:37:09",null,0.75,10,"Clay Family CGE CQ4-16"]
["Clay","Family","CGE CQ4-17",149463,null,null,null,null,148253,null,null,null,null,null,null,null,null,null,null,"2017-01-11T14:37:09",null,0.75,10,"Clay Family CGE CQ4-17"]
["Clay","Juvenile Delinquency","CGE CQ1-16",33631,29881,29881,23342,23896,1587,5480,6682,6796,8732,null,null,null,null,null,null,"2017-01-11T14:37:09",null,0.09,4,"Clay Juvenile Delinquency CGE CQ1-16"]
["Clay","Juvenile Delinquency","CGE CQ1-17",27522,27522,27522,27522,null,708,3438,5588,6943,null,null,null,null,null,null,null,"2017-01-11T14:37:09",null,0.09,4,"Clay Juvenile Delinquency CGE CQ1-17"]
["Clay","Juvenile Delinquency","CGE CQ2-16",25070,25070,20646,22950,22950,3676,6538,9052,11178,12044,null,null,null,null,null,null,"2017-01-11T14:37:09",null,0.09,4,"Clay Juvenile Delinquency CGE CQ2-16"]
["Clay","Juvenile Delinquency","CGE CQ2-17",23129,22761,22761,null,null,6879,9241,9931,null,null,null,null,null,null,null,null,"2017-01-11T14:37:09",null,0.09,4,"Clay Juvenile Delinquency CGE CQ2-17"]
["Clay","Juvenile Delinquency","CGE CQ3-16",20206,15653,19555,19555,19555,2096,3772,6470,8287,9589,null,null,null,null,null,null,"2017-01-11T14:37:09",null,0.09,4,"Clay Juvenile Delinquency CGE CQ3-16"]
["Clay","Juvenile Delinquency","CGE CQ3-17",24230,23947,null,null,null,3728,7116,null,null,null,null,null,null,null,null,null,"2017-01-11T14:37:09",null,0.09,4,"Clay Juvenile Delinquency CGE CQ3-17"]
["Clay","Juvenile Delinquency","CGE CQ4-16",27862,31184,30816,30816,30816,3755,5253,7560,8825,9113,null,null,null,null,null,null,"2017-01-11T14:37:09",null,0.09,4,"Clay Juvenile Delinquency CGE CQ4-16"]
["Clay","Juvenile Delinquency","CGE CQ4-17",48700,null,null,null,null,1163,null,null,null,null,null,null,null,null,null,null,"2017-01-11T14:37:09",null,0.09,4,"Clay Juvenile Delinquency CGE CQ4-17"]
["Clay","Probate","CGE CQ1-16",47987,46744,46744,46744,46744,46694,46744,46744,46744,46744,null,null,null,null,null,null,"2017-01-11T14:37:09",null,0.9,9,"Clay Probate CGE CQ1-16"]
["Clay","Probate","CGE CQ1-17",43740,43740,43740,43740,null,43740,43740,43740,43740,null,null,null,null,null,null,null,"2017-01-11T14:37:09",null,0.9,9,"Clay Probate CGE CQ1-17"]
["Clay","Probate","CGE CQ2-16",41269,41267,41258,41258,41258,41202,41258,41258,41258,41258,null,null,null,null,null,null,"2017-01-11T14:37:09",null,0.9,9,"Clay Probate CGE CQ2-16"]
["Clay","Probate","CGE CQ2-17",38569,38224,38222,null,null,38567,38222,38222,null,null,null,null,null,null,null,null,"2017-01-11T14:37:09",null,0.9,9,"Clay Probate CGE CQ2-17"]
["Clay","Probate","CGE CQ3-16",49787,49787,49787,49787,49787,49777,49787,49787,49787,49787,null,null,null,null,null,null,"2017-01-11T14:37:09",null,0.9,9,"Clay Probate CGE CQ3-16"]
["Clay","Probate","CGE CQ3-17",46856,46452,null,null,null,46852,46452,null,null,null,null,null,null,null,null,null,"2017-01-11T14:37:09",null,0.9,9,"Clay Probate CGE CQ3-17"]
["Clay","Probate","CGE CQ4-16",41299,41299,41292,41292,41285,41285,41285,41285,41285,41285,null,null,null,null,null,null,"2017-01-11T14:37:09",null,0.9,9,"Clay Probate CGE CQ4-16"]
["Clay","Probate","CGE CQ4-17",52200,null,null,null,null,52143,null,null,null,null,null,null,null,null,null,null,"2017-01-11T14:37:09",null,0.9,9,"Clay Probate CGE CQ4-17"]
["Collier","Circ Crim Drug Trfc Cases","CGE CQ1-16",163690,163598,163640,163640,163618.04,42,42,92,92,95.04,null,null,null,null,null,null,"2017-01-11T14:37:09",null,0.09,2,"Collier Circ Crim Drug Trfc Cases CGE CQ1-16"]
["Collier","Circ Crim Drug Trfc Cases","CGE CQ1-17",243017.22,243422.77,219981.96,221373.85,null,27368.22,27873.77,29432.959999999999,30874.85,null,null,null,null,null,null,null,"2017-01-11T14:37:09",null,0.09,2,"Collier Circ Crim Drug Trfc Cases CGE CQ1-17"]
["Collier","Circ Crim Drug Trfc Cases","CGE CQ2-16",319535,319420.74,319420.74,319541.56,319478.93,0,233.74,233.74,354.56,408.93,null,null,null,null,null,null,"2017-01-11T14:37:09",null,0.09,2,"Collier Circ Crim Drug Trfc Cases CGE CQ2-16"]
["Collier","Circ Crim Drug Trfc Cases","CGE CQ2-17",53107,53107,53107,null,null,42,42,92,null,null,null,null,null,null,null,null,"2017-01-11T14:37:09",null,0.09,2,"Collier Circ Crim Drug Trfc Cases CGE CQ2-17"]
["Collier","Circ Crim Drug Trfc Cases","CGE CQ3-16",1060023.3,985166.5,902496.73,902563.17,902302.82,607.29999999999995,27712.5,1153.73,1273.17,1360.82,null,null,null,null,null,null,"2017-01-11T14:37:09",null,0.09,2,"Collier Circ Crim Drug Trfc Cases CGE CQ3-16"]
["Collier","Circ Crim Drug Trfc Cases","CGE CQ3-17",447,447,null,null,null,47,47,null,null,null,null,null,null,null,null,null,"2017-01-11T14:37:09",null,0.09,2,"Collier Circ Crim Drug Trfc Cases CGE CQ3-17"]
["Collier","Circ Crim Drug Trfc Cases","CGE CQ4-16",160286.43,160312.19,160262.19,160274.71,160325.29,86.03,111.79,111.79,360.31,410.89,null,null,null,null,null,null,"2017-01-11T14:37:09",null,0.09,2,"Collier Circ Crim Drug Trfc Cases CGE CQ4-16"]
["Collier","Circ Crim Drug Trfc Cases","CGE CQ4-17",211385,null,null,null,null,50,null,null,null,null,null,null,null,null,null,null,"2017-01-11T14:37:09",null,0.09,2,"Collier Circ Crim Drug Trfc Cases CGE CQ4-17"]
["Collier","Circuit Civil","CGE CQ1-16",2526327.13,2522190.6800000002,2519312.4300000002,2519968.2000000002,2515968.89,2499171.4900000002,2498714.14,2496833.4,2498070.67,2495376.36,null,null,null,null,null,null,"2017-01-11T14:37:09",null,0.9,6,"Collier Circuit Civil CGE CQ1-16"]
["Collier","Circuit Civil","CGE CQ1-17",2389026.56,2388579.25,2386105.5299999998,2385109.33,null,2347250.34,2364032.63,2367275.11,2367773.91,null,null,null,null,null,null,null,"2017-01-11T14:37:09",null,0.9,6,"Collier Circuit Civil CGE CQ1-17"]
["Collier","Circuit Civil","CGE CQ2-16",1707733.52,1706160.04,1710316.72,1705585.8,1705946.9,1683235.5,1686639.22,1693245.9,1689889.98,1690608.1,null,null,null,null,null,null,"2017-01-11T14:37:09",null,0.9,6,"Collier Circuit Civil CGE CQ2-16"]
["Collier","Circuit Civil","CGE CQ2-17",1727229.43,1732621.03,1731716.28,null,null,1697495.99,1718358.89,1718231.14,null,null,null,null,null,null,null,null,"2017-01-11T14:37:09",null,0.9,6,"Collier Circuit Civil CGE CQ2-17"]
["Collier","Circuit Civil","CGE CQ3-16",2373169.6800000002,2377360.06,2374931.27,2372854.88,2372034.5499999998,2324251.42,2347376.16,2348483.0699999998,2348136.38,2348316.75,null,null,null,null,null,null,"2017-01-11T14:37:09",null,0.9,6,"Collier Circuit Civil CGE CQ3-16"]
["Collier","Circuit Civil","CGE CQ3-17",1757051.71,1757130.35,null,null,null,1737269.55,1741310.27,null,null,null,null,null,null,null,null,null,"2017-01-11T14:37:09",null,0.9,6,"Collier Circuit Civil CGE CQ3-17"]
["Collier","Circuit Civil","CGE CQ4-16",3871110.32,3867880.76,3864042.39,3860135.26,3856342.06,3830760.28,3842700.92,3840866.09,3840224.66,3836775.16,null,null,null,null,null,null,"2017-01-11T14:37:09",null,0.9,6,"Collier Circuit Civil CGE CQ4-16"]
["Collier","Circuit Civil","CGE CQ4-17",1703785.32,null,null,null,null,1681996.12,null,null,null,null,null,null,null,null,null,null,"2017-01-11T14:37:09",null,0.9,6,"Collier Circuit Civil CGE CQ4-17"]
["Collier","Circuit Criminal","CGE CQ1-16",507685.63,506751.13,505573.47,500616.52,499670.56,63476.29,77951.89,89179.03,97522.08,108547.02,null,null,null,null,null,null,"2017-01-11T14:37:09",null,0.09,1,"Collier Circuit Criminal CGE CQ1-16"]
["Collier","Circuit Criminal","CGE CQ1-17",573044.79,570018.77,544528.41,545121.86,null,107059.47,115723.05,124084.62,135144.67000000001,null,null,null,null,null,null,null,"2017-01-11T14:37:09",null,0.09,1,"Collier Circuit Criminal CGE CQ1-17"]
["Collier","Circuit Criminal","CGE CQ2-16",591319.6,586279.19999999995,584769.78,583168.79,580621.21,18204,30751.4,39058.879999999997,46488.39,52809.41,null,null,null,null,null,null,"2017-01-11T14:37:09",null,0.09,1,"Collier Circuit Criminal CGE CQ2-16"]
["Collier","Circuit Criminal","CGE CQ2-17",375325.02,372298.77,368262.49,null,null,52780.75,64967.5,72789.42,null,null,null,null,null,null,null,null,"2017-01-11T14:37:09",null,0.09,1,"Collier Circuit Criminal CGE CQ2-17"]
["Collier","Circuit Criminal","CGE CQ3-16",1423007.95,1339863.49,1251233.3899999999,1248497.54,1245807.8500000001,30947.72,64884.86,46293.83,60558.71,66434.37,null,null,null,null,null,null,"2017-01-11T14:37:09",null,0.09,1,"Collier Circuit Criminal CGE CQ3-16"]
["Collier","Circuit Criminal","CGE CQ3-17",346934.07,342281.41,null,null,null,110181.07,125624.41,null,null,null,null,null,null,null,null,null,"2017-01-11T14:37:09",null,0.09,1,"Collier Circuit Criminal CGE CQ3-17"]
["Collier","Circuit Criminal","CGE CQ4-16",456526.6,451044.72,450279.73,448190.48,446218.92,52024.13,64520.2,73625.009999999995,82657.61,91515.38,null,null,null,null,null,null,"2017-01-11T14:37:09",null,0.09,1,"Collier Circuit Criminal CGE CQ4-16"]
["Collier","Circuit Criminal","CGE CQ4-17",501360.98,null,null,null,null,39228.86,null,null,null,null,null,null,null,null,null,null,"2017-01-11T14:37:09",null,0.09,1,"Collier Circuit Criminal CGE CQ4-17"]
["Collier","Civil Traffic","CGE CQ1-16",1747986.31,1778563.11,1787606.74,1796853.11,1800871.75,878728.38,1581304.14,1654910.46,1686078.7,1704793.87,null,null,null,null,null,null,"2017-01-11T14:37:09",null,0.9,8,"Collier Civil Traffic CGE CQ1-16"]
["Collier","Civil Traffic","CGE CQ1-17",1894440.24,1973700.44,1988773.28,1998597.06,null,925236.81,1730980.95,1820432.51,1858684.37,null,null,null,null,null,null,null,"2017-01-11T14:37:09",null,0.9,8,"Collier Civil Traffic CGE CQ1-17"]
["Collier","Civil Traffic","CGE CQ2-16",1610752.07,1623338.88,1633399.68,1640268.97,1643055.58,876923.86,1445673.08,1514028.37,1539475.49,1553932.32,null,null,null,null,null,null,"2017-01-11T14:37:09",null,0.9,8,"Collier Civil Traffic CGE CQ2-16"]
["Collier","Civil Traffic","CGE CQ2-17",1814173.42,1815330.16,1827413.1,null,null,1115766.3400000001,1614323.52,1680266.55,null,null,null,null,null,null,null,null,"2017-01-11T14:37:09",null,0.9,8,"Collier Civil Traffic CGE CQ2-17"]
["Collier","Civil Traffic","CGE CQ3-16",1804137.73,1802734.24,1816018.9,1830393.02,1833451.72,873369.12,1574293.84,1662119.48,1716593.43,1731995.38,null,null,null,null,null,null,"2017-01-11T14:37:09",null,0.9,8,"Collier Civil Traffic CGE CQ3-16"]
["Collier","Civil Traffic","CGE CQ3-17",1750256.53,1761810.41,null,null,null,1016925.13,1549251.97,null,null,null,null,null,null,null,null,null,"2017-01-11T14:37:09",null,0.9,8,"Collier Civil Traffic CGE CQ3-17"]
["Collier","Civil Traffic","CGE CQ4-16",1753785.7,1771926.22,1790206.88,1797419.53,1802386.36,859716.06,1541802.14,1656921.34,1686128.53,1701529.38,null,null,null,null,null,null,"2017-01-11T14:37:09",null,0.9,8,"Collier Civil Traffic CGE CQ4-16"]
["Collier","Civil Traffic","CGE CQ4-17",1532217.69,null,null,null,null,872500.32,null,null,null,null,null,null,null,null,null,null,"2017-01-11T14:37:09",null,0.9,8,"Collier Civil Traffic CGE CQ4-17"]
["Collier","County Civil","CGE CQ1-16",391802.04,391242.04,390912.04,390862.04,390862.04,386125.04,386025.04,386265.04,386265.04,386265.04,null,null,null,null,null,null,"2017-01-11T14:37:09",null,0.9,7,{"$f":"A834&\" \"&B834&\" \"&C834","v":"Collier County Civil CGE CQ1-16"}]
["Collier","County Civil","CGE CQ1-17",315483.93,315208.93,314828.93,314778.93,null,310483.84000000003,310335.84000000003,310255.84000000003,310255.84000000003,null,null,null,null,null,null,null,"2017-01-11T14:37:09",null,0.9,7,"Collier County Civil CGE CQ1-17"]
["Collier","County Civil","CGE CQ2-16",297926.78999999998,298251.78999999998,298226.78999999998,298226.78999999998,298226.78999999998,294058.71000000002,294706.21000000002,294706.21000000002,294706.21000000002,294706.21000000002,null,null,null,null,null,null,"2017-01-11T14:37:09",null,0.9,7,"Collier County Civil CGE CQ2-16"]
["Collier","County Civil","CGE CQ2-17",294082.12,294295.84000000003,294295.84000000003,null,null,292022.12,292815.84000000003,292818.34000000003,null,null,null,null,null,null,null,null,"2017-01-11T14:37:09",null,0.9,7,"Collier County Civil CGE CQ2-17"]
["Collier","County Civil","CGE CQ3-16",290633.36,289663.35999999999,288773.36,288598.36,288378.36,286201.36,285886.36,285291.36,285166.36,284996.36,null,null,null,null,null,null,"2017-01-11T14:37:09",null,0.9,7,"Collier County Civil CGE CQ3-16"]
["Collier","County Civil","CGE CQ3-17",307806.48,307969.48,null,null,null,304077.56,305139.34999999998,null,null,null,null,null,null,null,null,null,"2017-01-11T14:37:09",null,0.9,7,"Collier County Civil CGE CQ3-17"]
["Collier","County Civil","CGE CQ4-16",297413.43,296675.93,296450.93,296450.93,296450.93,292639.93,293007.43,292832.43,292932.43,292932.43,null,null,null,null,null,null,"2017-01-11T14:37:09",null,0.9,7,"Collier County Civil CGE CQ4-16"]
["Collier","County Civil","CGE CQ4-17",295714.07,null,null,null,null,293336.07,null,null,null,null,null,null,null,null,null,null,"2017-01-11T14:37:09",null,0.9,7,"Collier County Civil CGE CQ4-17"]
["Collier","County Criminal","CGE CQ1-16",228889.13,230028.19,229016.23,229575.47,228915.67,59584.23,88162.11,106705.17,113875.29,119233.99,null,null,null,null,null,null,"2017-01-11T14:37:09",null,0.4,3,"Collier County Criminal CGE CQ1-16"]
["Collier","County Criminal","CGE CQ1-17",274784.19,272176.3,270733.81,270527.83,null,100251.29,131890,147750.04999999999,154405.32999999999,null,null,null,null,null,null,null,"2017-01-11T14:37:09",null,0.4,3,"Collier County Criminal CGE CQ1-17"]
["Collier","County Criminal","CGE CQ2-16",271865.33,269805.3,265230.71000000002,264704.03999999998,265492.34000000003,88932.08,114702.29,128364.78,135218.76999999999,143073.56,null,null,null,null,null,null,"2017-01-11T14:37:09",null,0.4,3,"Collier County Criminal CGE CQ2-16"]
["Collier","County Criminal","CGE CQ2-17",262181.78999999998,259796.72,259505.18,null,null,83497.69,109014.42,126250.28,null,null,null,null,null,null,null,null,"2017-01-11T14:37:09",null,0.4,3,"Collier County Criminal CGE CQ2-17"]
["Collier","County Criminal","CGE CQ3-16",257803.05,256885.18,255507.22,253754.23999999999,253698.19,71589.55,97457.08,113681.48,121163.21,128998.5,null,null,null,null,null,null,"2017-01-11T14:37:09",null,0.4,3,"Collier County Criminal CGE CQ3-16"]
["Collier","County Criminal","CGE CQ3-17",320135.28999999998,316042.59000000003,null,null,null,115904.79,147349.49,null,null,null,null,null,null,null,null,null,"2017-01-11T14:37:09",null,0.4,3,"Collier County Criminal CGE CQ3-17"]
["Collier","County Criminal","CGE CQ4-16",265961.65999999997,263302.23,262490.67,261327.26,261068.06,66015.31,92974.18,116969.77,127343.48,136135.16,null,null,null,null,null,null,"2017-01-11T14:37:09",null,0.4,3,"Collier County Criminal CGE CQ4-16"]
["Collier","County Criminal","CGE CQ4-17",269976.94,null,null,null,null,113479.74,null,null,null,null,null,null,null,null,null,null,"2017-01-11T14:37:09",null,0.4,3,"Collier County Criminal CGE CQ4-17"]
["Collier","Criminal Traffic","CGE CQ1-16",529709.18999999994,513644.67,520226.38,522377.87,523708.78,173270.48,277846.84999999998,337956.66,368170.6,407881.69,null,null,null,null,null,null,"2017-01-11T14:37:09",null,0.4,5,"Collier Criminal Traffic CGE CQ1-16"]
["Collier","Criminal Traffic","CGE CQ1-17",547837.51,541512.25,544483.35,549628.56999999995,null,171059.61,284505,336943.55,374981.27,null,null,null,null,null,null,null,"2017-01-11T14:37:09",null,0.4,5,"Collier Criminal Traffic CGE CQ1-17"]
["Collier","Criminal Traffic","CGE CQ2-16",591142.78,581149.06999999995,576221.43999999994,581648.28,584451.18000000005,224117.66,315177.55,353914.87,382465.77,449850.7,null,null,null,null,null,null,"2017-01-11T14:37:09",null,0.4,5,"Collier Criminal Traffic CGE CQ2-16"]
["Collier","Criminal Traffic","CGE CQ2-17",593520.18999999994,585488.54,580886.19999999995,null,null,243324.53,344876.69,386738.15,null,null,null,null,null,null,null,null,"2017-01-11T14:37:09",null,0.4,5,"Collier Criminal Traffic CGE CQ2-17"]
["Collier","Criminal Traffic","CGE CQ3-16",628092,630785.48,626423.93000000005,627493.1,634028.9,223753.60000000001,346653.28,394088.43,448382.47,500753.4,null,null,null,null,null,null,"2017-01-11T14:37:09",null,0.4,5,"Collier Criminal Traffic CGE CQ3-16"]
["Collier","Criminal Traffic","CGE CQ3-17",604045.57999999996,600621.59,null,null,null,254637.83,348493.94,null,null,null,null,null,null,null,null,null,"2017-01-11T14:37:09",null,0.4,5,"Collier Criminal Traffic CGE CQ3-17"]
["Collier","Criminal Traffic","CGE CQ4-16",613872.84,590976.31999999995,601913.84,607924.09,617011.53,224243.4,317370.19,382430.97,433793.01,481683.15,null,null,null,null,null,null,"2017-01-11T14:37:09",null,0.4,5,"Collier Criminal Traffic CGE CQ4-16"]
["Collier","Criminal Traffic","CGE CQ4-17",479941.55,null,null,null,null,177603.44,null,null,null,null,null,null,null,null,null,null,"2017-01-11T14:37:09",null,0.4,5,"Collier Criminal Traffic CGE CQ4-17"]
["Collier","Family","CGE CQ1-16",173261.02,170547.52,170283,169491.83,169175.17,150883.04,151751.04000000001,152487.01999999999,152741.35,152774.69,null,null,null,null,null,null,"2017-01-11T14:37:09",null,0.75,10,"Collier Family CGE CQ1-16"]
["Collier","Family","CGE CQ1-17",184729.21,183634.21,182462.45,181907.45,null,162131.67000000001,162823.17000000001,162873.91,162973.91,null,null,null,null,null,null,null,"2017-01-11T14:37:09",null,0.75,10,"Collier Family CGE CQ1-17"]
["Collier","Family","CGE CQ2-16",191625.25,188264.89,187002.06,186236.65,186172.6,174797.75,174207.39,174259.56,174339.15,174425.1,null,null,null,null,null,null,"2017-01-11T14:37:09",null,0.75,10,"Collier Family CGE CQ2-16"]
["Collier","Family","CGE CQ2-17",198824.08,197095.58,194361.58,null,null,183462.08,184387.08,183979.08,null,null,null,null,null,null,null,null,"2017-01-11T14:37:09",null,0.75,10,"Collier Family CGE CQ2-17"]
["Collier","Family","CGE CQ3-16",198472,196150.13,193980.73,193959.06,193722.39,178620,179713.63,179807.23,179785.56,179848.89,null,null,null,null,null,null,"2017-01-11T14:37:09",null,0.75,10,"Collier Family CGE CQ3-16"]
["Collier","Family","CGE CQ3-17",206501.06,204358.06,null,null,null,190394.57,191300.07,null,null,null,null,null,null,null,null,null,"2017-01-11T14:37:09",null,0.75,10,"Collier Family CGE CQ3-17"]
["Collier","Family","CGE CQ4-16",200261.78,197635.78,196517.83,196383.57,196088.57,182594.28,183119.78,183137.83,183163.57,183138.57,null,null,null,null,null,null,"2017-01-11T14:37:09",null,0.75,10,"Collier Family CGE CQ4-16"]
["Collier","Family","CGE CQ4-17",190979,null,null,null,null,178741,null,null,null,null,null,null,null,null,null,null,"2017-01-11T14:37:09",null,0.75,10,"Collier Family CGE CQ4-17"]
["Collier","Juvenile Delinquency","CGE CQ1-16",13874.5,13979.49,13691.99,13641.99,13547.09,894.5,1839.49,2321.9899999999998,2321.9899999999998,3127.09,null,null,null,null,null,null,"2017-01-11T14:37:09",null,0.09,4,"Collier Juvenile Delinquency CGE CQ1-16"]
["Collier","Juvenile Delinquency","CGE CQ1-17",20699.12,20068.95,19954.03,19589.03,null,1029.52,1504.35,2074.4299999999998,2459.4299999999998,null,null,null,null,null,null,null,"2017-01-11T14:37:09",null,0.09,4,"Collier Juvenile Delinquency CGE CQ1-17"]
["Collier","Juvenile Delinquency","CGE CQ2-16",17447.150000000001,17109.650000000001,16734.689999999999,16439.89,16427.39,1238.23,3070.73,3270.73,3410.73,3498.23,null,null,null,null,null,null,"2017-01-11T14:37:09",null,0.09,4,"Collier Juvenile Delinquency CGE CQ2-16"]
["Collier","Juvenile Delinquency","CGE CQ2-17",13926.5,13443.72,13140.37,null,null,1338,2293.3200000000002,2705.17,null,null,null,null,null,null,null,null,"2017-01-11T14:37:09",null,0.09,4,"Collier Juvenile Delinquency CGE CQ2-17"]
["Collier","Juvenile Delinquency","CGE CQ3-16",19228.400000000001,18871.560000000001,18687.830000000002,18587.830000000002,18587.830000000002,1083,1926.56,2612.83,2847.83,3012.83,null,null,null,null,null,null,"2017-01-11T14:37:09",null,0.09,4,"Collier Juvenile Delinquency CGE CQ3-16"]
["Collier","Juvenile Delinquency","CGE CQ3-17",19814.96,19618.02,null,null,null,1926.06,2829.52,null,null,null,null,null,null,null,null,null,"2017-01-11T14:37:09",null,0.09,4,"Collier Juvenile Delinquency CGE CQ3-17"]
["Collier","Juvenile Delinquency","CGE CQ4-16",18472.75,17822.650000000001,17745.09,17764.77,17614.77,1290,2960.5,3098.14,3432.82,3432.82,null,null,null,null,null,null,"2017-01-11T14:37:09",null,0.09,4,"Collier Juvenile Delinquency CGE CQ4-16"]
["Collier","Juvenile Delinquency","CGE CQ4-17",23833.88,null,null,null,null,761.43,null,null,null,null,null,null,null,null,null,null,"2017-01-11T14:37:09",null,0.09,4,"Collier Juvenile Delinquency CGE CQ4-17"]
["Collier","Probate","CGE CQ1-16",144775.54,144910.74,144910.74,144899.32,144941.32,143213.74,143448.74,143448.74,143457.32,143477.32,null,null,null,null,null,null,"2017-01-11T14:37:09",null,0.9,9,"Collier Probate CGE CQ1-16"]
["Collier","Probate","CGE CQ1-17",152203.5,152244.5,152589.5,152589.5,null,149751.5,150003.5,150023.5,150023.5,null,null,null,null,null,null,null,"2017-01-11T14:37:09",null,0.9,9,"Collier Probate CGE CQ1-17"]
["Collier","Probate","CGE CQ2-16",165838.5,165879.5,165879.5,165875.5,165666.5,163802.5,164159.5,164159.5,164159.5,164159.5,null,null,null,null,null,null,"2017-01-11T14:37:09",null,0.9,9,"Collier Probate CGE CQ2-16"]
["Collier","Probate","CGE CQ2-17",174211.5,173741.5,173741.5,null,null,171318,172037,172037,null,null,null,null,null,null,null,null,"2017-01-11T14:37:09",null,0.9,9,"Collier Probate CGE CQ2-17"]
["Collier","Probate","CGE CQ3-16",161590.82999999999,161690.82999999999,161688.82999999999,161688.82999999999,161018.82999999999,159570.82999999999,160367.82999999999,160367.82999999999,160367.82999999999,160117.82999999999,null,null,null,null,null,null,"2017-01-11T14:37:09",null,0.9,9,"Collier Probate CGE CQ3-16"]
["Collier","Probate","CGE CQ3-17",158517.73000000001,158282.73000000001,null,null,null,157590.73000000001,158095.73000000001,null,null,null,null,null,null,null,null,null,"2017-01-11T14:37:09",null,0.9,9,"Collier Probate CGE CQ3-17"]
["Collier","Probate","CGE CQ4-16",170923.34,169870.34,169870.34,169870.34,169887.5,168331.34,168736.34,168736.34,168736.34,169003.5,null,null,null,null,null,null,"2017-01-11T14:37:09",null,0.9,9,"Collier Probate CGE CQ4-16"]
["Collier","Probate","CGE CQ4-17",152224.9,null,null,null,null,149840.9,null,null,null,null,null,null,null,null,null,null,"2017-01-11T14:37:09",null,0.9,9,"Collier Probate CGE CQ4-17"]
["Columbia","Circ Crim Drug Trfc Cases","CGE CQ1-16",0,0,0,0,null,0,0,0,0,null,null,null,null,null,null,null,"2017-01-11T14:37:09",null,0.09,2,"Columbia Circ Crim Drug Trfc Cases CGE CQ1-16"]
["Columbia","Circ Crim Drug Trfc Cases","CGE CQ1-17",null,null,null,null,null,null,null,null,null,null,null,null,null,null,null,null,"2017-01-11T14:37:09",null,0.09,2,"Columbia Circ Crim Drug Trfc Cases CGE CQ1-17"]
["Columbia","Circ Crim Drug Trfc Cases","CGE CQ2-16",0,0,0,null,null,0,0,0,null,null,null,null,null,null,null,null,"2017-01-11T14:37:09",null,0.09,2,"Columbia Circ Crim Drug Trfc Cases CGE CQ2-16"]
["Columbia","Circ Crim Drug Trfc Cases","CGE CQ2-17",null,null,null,null,null,null,null,null,null,null,null,null,null,null,null,null,"2017-01-11T14:37:09",null,0.09,2,"Columbia Circ Crim Drug Trfc Cases CGE CQ2-17"]
["Columbia","Circ Crim Drug Trfc Cases","CGE CQ3-16",0,0,null,null,null,0,0,null,null,null,null,null,null,null,null,null,"2017-01-11T14:37:09",null,0.09,2,"Columbia Circ Crim Drug Trfc Cases CGE CQ3-16"]
["Columbia","Circ Crim Drug Trfc Cases","CGE CQ3-17",53468,53468,null,null,null,0,0,null,null,null,null,null,null,null,null,null,"2017-01-11T14:37:09",null,0.09,2,"Columbia Circ Crim Drug Trfc Cases CGE CQ3-17"]
["Columbia","Circ Crim Drug Trfc Cases","CGE CQ4-16",0,null,null,null,null,0,null,null,null,null,null,null,null,null,null,null,"2017-01-11T14:37:09",null,0.09,2,"Columbia Circ Crim Drug Trfc Cases CGE CQ4-16"]
["Columbia","Circ Crim Drug Trfc Cases","CGE CQ4-17",106786,null,null,null,null,null,null,null,null,null,null,null,null,null,null,null,"2017-01-11T14:37:09",null,0.09,2,"Columbia Circ Crim Drug Trfc Cases CGE CQ4-17"]
["Columbia","Circuit Civil","CGE CQ1-16",90263.5,90263.5,90263.5,90263.5,90263.5,87796,89863.5,89863.5,89863.5,89863.5,null,null,null,null,null,null,"2017-01-11T14:37:09",null,0.9,6,"Columbia Circuit Civil CGE CQ1-16"]
["Columbia","Circuit Civil","CGE CQ1-17",75148.5,75148.5,75148.5,75148.5,null,71927.5,72327.5,72327.5,72327.5,null,null,null,null,null,null,null,"2017-01-11T14:37:09",null,0.9,6,"Columbia Circuit Civil CGE CQ1-17"]
["Columbia","Circuit Civil","CGE CQ2-16",77056.399999999994,77056.399999999994,77056.399999999994,77056.399999999994,77056.399999999994,74414.5,75471.399999999994,75535.97,75535.97,75535.97,null,null,null,null,null,null,"2017-01-11T14:37:09",null,0.9,6,"Columbia Circuit Civil CGE CQ2-16"]
["Columbia","Circuit Civil","CGE CQ2-17",78958.36,78958.36,78958.36,null,null,77758.36,77758.36,77758.36,null,null,null,null,null,null,null,null,"2017-01-11T14:37:09",null,0.9,6,"Columbia Circuit Civil CGE CQ2-17"]
["Columbia","Circuit Civil","CGE CQ3-16",96712.98,96312.98,96312.98,96312.98,96312.98,94157.27,95102.27,95102.27,95102.27,95102.27,null,null,null,null,null,null,"2017-01-11T14:37:09",null,0.9,6,"Columbia Circuit Civil CGE CQ3-16"]
["Columbia","Circuit Civil","CGE CQ3-17",82802.52,82402.52,null,null,null,75854.64,76388.63,null,null,null,null,null,null,null,null,null,"2017-01-11T14:37:09",null,0.9,6,"Columbia Circuit Civil CGE CQ3-17"]
["Columbia","Circuit Civil","CGE CQ4-16",85355.79,85355.79,85355.79,85355.79,84955.79,81297.289999999994,81955.42,82005.42,82225.16,82225.16,null,null,null,null,null,null,"2017-01-11T14:37:09",null,0.9,6,"Columbia Circuit Civil CGE CQ4-16"]
["Columbia","Circuit Civil","CGE CQ4-17",64499,null,null,null,null,61420.06,null,null,null,null,null,null,null,null,null,null,"2017-01-11T14:37:09",null,0.9,6,"Columbia Circuit Civil CGE CQ4-17"]
["Columbia","Circuit Criminal","CGE CQ1-16",156416.26999999999,155490.57,155490.57,155490.57,155490.57,2093.88,7143.51,13746.33,17359.14,20551.48,null,null,null,null,null,null,"2017-01-11T14:37:09",null,0.09,1,{"$f":"A898&\" \"&B898&\" \"&C898","v":"Columbia Circuit Criminal CGE CQ1-16"}]
["Columbia","Circuit Criminal","CGE CQ1-17",230055.07,228019.07,228019.07,228019.07,null,2279.6,9067.23,15675.56,21512.22,null,null,null,null,null,null,null,"2017-01-11T14:37:09",null,0.09,1,"Columbia Circuit Criminal CGE CQ1-17"]
["Columbia","Circuit Criminal","CGE CQ2-16",160524.04,163243.04,163243.04,163193.04,162243.04,3408.04,7251.58,10853.7,13776.81,18821.78,null,null,null,null,null,null,"2017-01-11T14:37:09",null,0.09,1,"Columbia Circuit Criminal CGE CQ2-16"]
["Columbia","Circuit Criminal","CGE CQ2-17",160457,160207,159219,null,null,3283.36,9048.99,12730,null,null,null,null,null,null,null,null,"2017-01-11T14:37:09",null,0.09,1,"Columbia Circuit Criminal CGE CQ2-17"]
["Columbia","Circuit Criminal","CGE CQ3-16",179703.89,179253.89,179626.89,179476.89,179476.89,5621.38,8948.86,13180.77,18378.5,25193.200000000001,null,null,null,null,null,null,"2017-01-11T14:37:09",null,0.09,1,"Columbia Circuit Criminal CGE CQ3-16"]
["Columbia","Circuit Criminal","CGE CQ3-17",232556.5,232456.5,null,null,null,2883.3,9872.27,null,null,null,null,null,null,null,null,null,"2017-01-11T14:37:09",null,0.09,1,"Columbia Circuit Criminal CGE CQ3-17"]
["Columbia","Circuit Criminal","CGE CQ4-16",168209.73,169027.73,169027.73,168877.73,168677.73,1959.73,7616.16,12799.26,18599.09,23621.33,null,null,null,null,null,null,"2017-01-11T14:37:09",null,0.09,1,"Columbia Circuit Criminal CGE CQ4-16"]
["Columbia","Circuit Criminal","CGE CQ4-17",269791,null,null,null,null,5907.2,null,null,null,null,null,null,null,null,null,null,"2017-01-11T14:37:09",null,0.09,1,"Columbia Circuit Criminal CGE CQ4-17"]
["Columbia","Civil Traffic","CGE CQ1-16",590115.75,573154.75,571441.75,571327.75,571140.75,295275.75,484279.5,519281.5,526288.5,530276.5,null,null,null,null,null,null,"2017-01-11T14:37:09",null,0.9,8,"Columbia Civil Traffic CGE CQ1-16"]
["Columbia","Civil Traffic","CGE CQ1-17",392745.25,379976.15,378711.15,377017.15,null,172702.25,304652.15000000002,328510.15000000002,337964.05,null,null,null,null,null,null,null,"2017-01-11T14:37:09",null,0.9,8,"Columbia Civil Traffic CGE CQ1-17"]
["Columbia","Civil Traffic","CGE CQ2-16",490540.5,476561.75,475058.75,474201.75,474060.25,269437,397822.5,414308.75,423704.19,433129.36,null,null,null,null,null,null,"2017-01-11T14:37:09",null,0.9,8,"Columbia Civil Traffic CGE CQ2-16"]
["Columbia","Civil Traffic","CGE CQ2-17",377579,368375,365548,null,null,203186.33,294643.5,316677.5,null,null,null,null,null,null,null,null,"2017-01-11T14:37:09",null,0.9,8,"Columbia Civil Traffic CGE CQ2-17"]
["Columbia","Civil Traffic","CGE CQ3-16",649534,627645.5,626346.5,625102.5,624992.5,313975.74,513314.02,543917.93999999994,564644.72,571676.96,null,null,null,null,null,null,"2017-01-11T14:37:09",null,0.9,8,"Columbia Civil Traffic CGE CQ3-16"]
["Columbia","Civil Traffic","CGE CQ3-17",408101.75,397054.75,null,null,null,203316.54,311505.53999999998,null,null,null,null,null,null,null,null,null,"2017-01-11T14:37:09",null,0.9,8,"Columbia Civil Traffic CGE CQ3-17"]
["Columbia","Civil Traffic","CGE CQ4-16",473592,455370,453538,452830,452620,201450.92,357261.39,394455.15,406799.25,411179.8,null,null,null,null,null,null,"2017-01-11T14:37:09",null,0.9,8,"Columbia Civil Traffic CGE CQ4-16"]
["Columbia","Civil Traffic","CGE CQ4-17",297199.5,null,null,null,null,141201,null,null,null,null,null,null,null,null,null,null,"2017-01-11T14:37:09",null,0.9,8,"Columbia Civil Traffic CGE CQ4-17"]
["Columbia","County Civil","CGE CQ1-16",62707.4,62187.4,62187.4,62187.4,62187.4,60004.9,61444.9,61444.9,61444.9,61444.9,null,null,null,null,null,null,"2017-01-11T14:37:09",null,0.9,7,"Columbia County Civil CGE CQ1-16"]
["Columbia","County Civil","CGE CQ1-17",77394.3,77404.3,77404.3,77404.3,null,76479.3,77404.3,77404.3,77404.3,null,null,null,null,null,null,null,"2017-01-11T14:37:09",null,0.9,7,"Columbia County Civil CGE CQ1-17"]
["Columbia","County Civil","CGE CQ2-16",65232.63,65437.63,65437.63,65437.63,65437.63,65097.63,65437.63,65437.63,65437.63,65437.63,null,null,null,null,null,null,"2017-01-11T14:37:09",null,0.9,7,"Columbia County Civil CGE CQ2-16"]
["Columbia","County Civil","CGE CQ2-17",69481.72,69296.72,69296.72,null,null,68003.72,68993.72,68993.72,null,null,null,null,null,null,null,null,"2017-01-11T14:37:09",null,0.9,7,"Columbia County Civil CGE CQ2-17"]
["Columbia","County Civil","CGE CQ3-16",74134.25,74134.25,74134.25,74134.25,74134.25,72258.75,73493.75,73493.75,73493.75,73493.75,null,null,null,null,null,null,"2017-01-11T14:37:09",null,0.9,7,"Columbia County Civil CGE CQ3-16"]
["Columbia","County Civil","CGE CQ3-17",73370.320000000007,73370.320000000007,null,null,null,72513.320000000007,72783.320000000007,null,null,null,null,null,null,null,null,null,"2017-01-11T14:37:09",null,0.9,7,"Columbia County Civil CGE CQ3-17"]
["Columbia","County Civil","CGE CQ4-16",74857.22,74857.22,74857.22,74857.22,74857.22,74257.22,74437.22,74437.22,74437.22,74437.22,null,null,null,null,null,null,"2017-01-11T14:37:09",null,0.9,7,"Columbia County Civil CGE CQ4-16"]
["Columbia","County Civil","CGE CQ4-17",72260.31,null,null,null,null,71920.31,null,null,null,null,null,null,null,null,null,null,"2017-01-11T14:37:09",null,0.9,7,"Columbia County Civil CGE CQ4-17"]
["Columbia","County Criminal","CGE CQ1-16",82712.25,81170.25,79295.25,78562.25,77794.78,4929.5,10841,19227,20574,22832,null,null,null,null,null,null,"2017-01-11T14:37:09",null,0.4,3,"Columbia County Criminal CGE CQ1-16"]
["Columbia","County Criminal","CGE CQ1-17",108748.75,108643.75,108370.25,108370.25,null,8271.25,13634.5,22371.77,31617.17,null,null,null,null,null,null,null,"2017-01-11T14:37:09",null,0.4,3,"Columbia County Criminal CGE CQ1-17"]
["Columbia","County Criminal","CGE CQ2-16",82525.5,80990,80950,80910,80582,10247.25,16973.25,18453.25,22716.5,25927.75,null,null,null,null,null,null,"2017-01-11T14:37:09",null,0.4,3,"Columbia County Criminal CGE CQ2-16"]
["Columbia","County Criminal","CGE CQ2-17",102207.5,101097.5,100391.78,null,null,9204,19454.25,25552,null,null,null,null,null,null,null,null,"2017-01-11T14:37:09",null,0.4,3,"Columbia County Criminal CGE CQ2-17"]
["Columbia","County Criminal","CGE CQ3-16",86087.75,85823.75,85773.75,85683.75,85158.25,11261.75,14570,19133.5,25041.35,30865.85,null,null,null,null,null,null,"2017-01-11T14:37:09",null,0.4,3,"Columbia County Criminal CGE CQ3-16"]
["Columbia","County Criminal","CGE CQ3-17",117350,116974,null,null,null,16074.25,23932.75,null,null,null,null,null,null,null,null,null,"2017-01-11T14:37:09",null,0.4,3,"Columbia County Criminal CGE CQ3-17"]
["Columbia","County Criminal","CGE CQ4-16",95731.25,95273.25,94385.25,94385.25,93679.25,8027.25,12000.5,22242,28565.83,35543.879999999997,null,null,null,null,null,null,"2017-01-11T14:37:09",null,0.4,3,"Columbia County Criminal CGE CQ4-16"]
["Columbia","County Criminal","CGE CQ4-17",90877.59,null,null,null,null,20607.59,null,null,null,null,null,null,null,null,null,null,"2017-01-11T14:37:09",null,0.4,3,"Columbia County Criminal CGE CQ4-17"]
["Columbia","Criminal Traffic","CGE CQ1-16",105066.3,104334.8,103973.8,102581.8,102120.8,18810.5,31734.75,44024,46621.7,54099.199999999997,null,null,null,null,null,null,"2017-01-11T14:37:09",null,0.4,5,"Columbia Criminal Traffic CGE CQ1-16"]
["Columbia","Criminal Traffic","CGE CQ1-17",84976.5,84440.5,84390.5,84340.5,null,15126.25,29265.25,39585.75,45932.1,null,null,null,null,null,null,null,"2017-01-11T14:37:09",null,0.4,5,"Columbia Criminal Traffic CGE CQ1-17"]
["Columbia","Criminal Traffic","CGE CQ2-16",112543,113491.75,112171.5,112147.75,111383.25,21420.75,38512.25,43315,53946.75,58914.65,null,null,null,null,null,null,"2017-01-11T14:37:09",null,0.4,5,"Columbia Criminal Traffic CGE CQ2-16"]
["Columbia","Criminal Traffic","CGE CQ2-17",92768,92024,91383,null,null,25126.75,37094.75,48317.75,null,null,null,null,null,null,null,null,"2017-01-11T14:37:09",null,0.4,5,"Columbia Criminal Traffic CGE CQ2-17"]
["Columbia","Criminal Traffic","CGE CQ3-16",116237,115712,115687,113635,113610,25972.25,35218.25,46062.75,57366.25,68158.5,null,null,null,null,null,null,"2017-01-11T14:37:09",null,0.4,5,"Columbia Criminal Traffic CGE CQ3-16"]
["Columbia","Criminal Traffic","CGE CQ3-17",92258,92258,null,null,null,22176.5,33206.5,null,null,null,null,null,null,null,null,null,"2017-01-11T14:37:09",null,0.4,5,"Columbia Criminal Traffic CGE CQ3-17"]
["Columbia","Criminal Traffic","CGE CQ4-16",128520.5,128347.5,127789,127714,126414.38,19969.75,28097.5,44181.75,58664.5,66861.399999999994,null,null,null,null,null,null,"2017-01-11T14:37:09",null,0.4,5,"Columbia Criminal Traffic CGE CQ4-16"]
["Columbia","Criminal Traffic","CGE CQ4-17",100100,null,null,null,null,23640.5,null,null,null,null,null,null,null,null,null,null,"2017-01-11T14:37:09",null,0.4,5,"Columbia Criminal Traffic CGE CQ4-17"]
["Columbia","Family","CGE CQ1-16",26786,26368,26368,26368,26368,25900,26318,26318,26318,26318,null,null,null,null,null,null,"2017-01-11T14:37:09",null,0.75,10,"Columbia Family CGE CQ1-16"]
["Columbia","Family","CGE CQ1-17",38268,38268,38268,38268,null,37832,37860,37860,37860,null,null,null,null,null,null,null,"2017-01-11T14:37:09",null,0.75,10,"Columbia Family CGE CQ1-17"]
["Columbia","Family","CGE CQ2-16",36589,36181,36181,36181,36181,35473,35473,35473,35473,35473,null,null,null,null,null,null,"2017-01-11T14:37:09",null,0.75,10,"Columbia Family CGE CQ2-16"]
["Columbia","Family","CGE CQ2-17",38992,38692,38692,null,null,38016.5,38016.5,38016.5,null,null,null,null,null,null,null,null,"2017-01-11T14:37:09",null,0.75,10,"Columbia Family CGE CQ2-17"]
["Columbia","Family","CGE CQ3-16",51257,51317,51317,51317,51317,50231,50339,50431,50491,50491,null,null,null,null,null,null,"2017-01-11T14:37:09",null,0.75,10,"Columbia Family CGE CQ3-16"]
["Columbia","Family","CGE CQ3-17",41869,41461,null,null,null,39926,39986,null,null,null,null,null,null,null,null,null,"2017-01-11T14:37:09",null,0.75,10,"Columbia Family CGE CQ3-17"]
["Columbia","Family","CGE CQ4-16",48357,46377,46327,46327,46327,44618,44906.1,45144.05,45172.45,45207.95,null,null,null,null,null,null,"2017-01-11T14:37:09",null,0.75,10,"Columbia Family CGE CQ4-16"]
["Columbia","Family","CGE CQ4-17",39177,null,null,null,null,37057,null,null,null,null,null,null,null,null,null,null,"2017-01-11T14:37:09",null,0.75,10,"Columbia Family CGE CQ4-17"]
["Columbia","Juvenile Delinquency","CGE CQ1-16",547,547,547,547,547,107,127,127,127,177,null,null,null,null,null,null,"2017-01-11T14:37:09",null,0.09,4,"Columbia Juvenile Delinquency CGE CQ1-16"]
["Columbia","Juvenile Delinquency","CGE CQ1-17",1200,1250,1150,1150,null,150,150,150,150,null,null,null,null,null,null,null,"2017-01-11T14:37:09",null,0.09,4,"Columbia Juvenile Delinquency CGE CQ1-17"]
["Columbia","Juvenile Delinquency","CGE CQ2-16",316,316,316,316,316,100,150,150,150,150,null,null,null,null,null,null,"2017-01-11T14:37:09",null,0.09,4,"Columbia Juvenile Delinquency CGE CQ2-16"]
["Columbia","Juvenile Delinquency","CGE CQ2-17",1100,900,900,null,null,50,100,100,null,null,null,null,null,null,null,null,"2017-01-11T14:37:09",null,0.09,4,"Columbia Juvenile Delinquency CGE CQ2-17"]
["Columbia","Juvenile Delinquency","CGE CQ3-16",1750,1750,1750,1600,1600,900,900,900,900,900,null,null,null,null,null,null,"2017-01-11T14:37:09",null,0.09,4,"Columbia Juvenile Delinquency CGE CQ3-16"]
["Columbia","Juvenile Delinquency","CGE CQ3-17",1441.5,1391.5,null,null,null,103.5,153.5,null,null,null,null,null,null,null,null,null,"2017-01-11T14:37:09",null,0.09,4,"Columbia Juvenile Delinquency CGE CQ3-17"]
["Columbia","Juvenile Delinquency","CGE CQ4-16",2357,2357,2357,2207,2207,128.5,253.5,1807,1807,1807,null,null,null,null,null,null,"2017-01-11T14:37:09",null,0.09,4,"Columbia Juvenile Delinquency CGE CQ4-16"]
["Columbia","Juvenile Delinquency","CGE CQ4-17",400,null,null,null,null,50,null,null,null,null,null,null,null,null,null,null,"2017-01-11T14:37:09",null,0.09,4,"Columbia Juvenile Delinquency CGE CQ4-17"]
["Columbia","Probate","CGE CQ1-16",20900,20900,20900,20900,20900,20438,20438,20438,20438,20438,null,null,null,null,null,null,"2017-01-11T14:37:09",null,0.9,9,"Columbia Probate CGE CQ1-16"]
["Columbia","Probate","CGE CQ1-17",19308,19308,19308,19308,null,19308,19308,19308,19308,null,null,null,null,null,null,null,"2017-01-11T14:37:09",null,0.9,9,"Columbia Probate CGE CQ1-17"]
["Columbia","Probate","CGE CQ2-16",20760.91,20760.91,20760.91,20760.91,20760.91,20298.91,20298.91,20298.91,20298.91,20298.91,null,null,null,null,null,null,"2017-01-11T14:37:09",null,0.9,9,"Columbia Probate CGE CQ2-16"]
["Columbia","Probate","CGE CQ2-17",22862.07,22862.07,22862.07,null,null,22462.07,22862.07,22862.07,null,null,null,null,null,null,null,null,"2017-01-11T14:37:09",null,0.9,9,"Columbia Probate CGE CQ2-17"]
["Columbia","Probate","CGE CQ3-16",27654,27564,27564,27564,27564,27564,27564,27564,27564,27564,null,null,null,null,null,null,"2017-01-11T14:37:09",null,0.9,9,"Columbia Probate CGE CQ3-16"]
["Columbia","Probate","CGE CQ3-17",20204,20204,null,null,null,20204,20204,null,null,null,null,null,null,null,null,null,"2017-01-11T14:37:09",null,0.9,9,"Columbia Probate CGE CQ3-17"]
["Columbia","Probate","CGE CQ4-16",22896,22896,22896,22896,22896,22551,22896,22896,22896,22896,null,null,null,null,null,null,"2017-01-11T14:37:09",null,0.9,9,"Columbia Probate CGE CQ4-16"]
["Columbia","Probate","CGE CQ4-17",18609,null,null,null,null,17875,null,null,null,null,null,null,null,null,null,null,"2017-01-11T14:37:09",null,0.9,9,"Columbia Probate CGE CQ4-17"]
["Dade","Circ Crim Drug Trfc Cases","CGE CQ1-16",555485,555485,555485,555485,555485,3337,5779,8263,10785,13830,null,null,null,null,null,null,"2017-01-11T14:37:09",null,0.09,2,{"$f":"A962&\" \"&B962&\" \"&C962","v":"Dade Circ Crim Drug Trfc Cases CGE CQ1-16"}]
["Dade","Circ Crim Drug Trfc Cases","CGE CQ1-17",838263,838263,838263,838263,null,2924,7589,8747,10410,null,null,null,null,null,null,null,"2017-01-11T14:37:09",null,0.09,2,"Dade Circ Crim Drug Trfc Cases CGE CQ1-17"]
["Dade","Circ Crim Drug Trfc Cases","CGE CQ2-16",582585,582585,582585,582585,582585,1118,4316,5575,6309,9827,null,null,null,null,null,null,"2017-01-11T14:37:09",null,0.09,2,"Dade Circ Crim Drug Trfc Cases CGE CQ2-16"]
["Dade","Circ Crim Drug Trfc Cases","CGE CQ2-17",611814,611814,611814,null,null,3241,4669,5432,null,null,null,null,null,null,null,null,"2017-01-11T14:37:09",null,0.09,2,"Dade Circ Crim Drug Trfc Cases CGE CQ2-17"]
["Dade","Circ Crim Drug Trfc Cases","CGE CQ3-16",1715067,1715067,1715067,1715067,1715067,2028,3509,4939,10264,12499,null,null,null,null,null,null,"2017-01-11T14:37:09",null,0.09,2,"Dade Circ Crim Drug Trfc Cases CGE CQ3-16"]
["Dade","Circ Crim Drug Trfc Cases","CGE CQ3-17",1060826,1060826,null,null,null,6667,10072,null,null,null,null,null,null,null,null,null,"2017-01-11T14:37:09",null,0.09,2,"Dade Circ Crim Drug Trfc Cases CGE CQ3-17"]
["Dade","Circ Crim Drug Trfc Cases","CGE CQ4-16",110169,110169,110169,110169,110169,1746,4995,6829,9035,10562,null,null,null,null,null,null,"2017-01-11T14:37:09",null,0.09,2,"Dade Circ Crim Drug Trfc Cases CGE CQ4-16"]
["Dade","Circ Crim Drug Trfc Cases","CGE CQ4-17",1146505,null,null,null,null,3988,null,null,null,null,null,null,null,null,null,null,"2017-01-11T14:37:09",null,0.09,2,"Dade Circ Crim Drug Trfc Cases CGE CQ4-17"]
["Dade","Circuit Civil","CGE CQ1-16",4580878,4580878,4580878,4580878,4580878,4580878,4580878,4580878,4580878,4580878,null,null,null,null,null,null,"2017-01-11T14:37:09",null,0.9,6,"Dade Circuit Civil CGE CQ1-16"]
["Dade","Circuit Civil","CGE CQ1-17",4340160,4340160,4340160,4340160,null,4340160,4340160,4340160,4340160,null,null,null,null,null,null,null,"2017-01-11T14:37:09",null,0.9,6,"Dade Circuit Civil CGE CQ1-17"]
["Dade","Circuit Civil","CGE CQ2-16",4359440,4359440,4359440,4359440,4359440,4359440,4359440,4359440,4359440,4359440,null,null,null,null,null,null,"2017-01-11T14:37:09",null,0.9,6,"Dade Circuit Civil CGE CQ2-16"]
["Dade","Circuit Civil","CGE CQ2-17",4691989,4691989,4691989,null,null,4691989,4691989,4691989,null,null,null,null,null,null,null,null,"2017-01-11T14:37:09",null,0.9,6,"Dade Circuit Civil CGE CQ2-17"]
["Dade","Circuit Civil","CGE CQ3-16",4363165,4363165,4363165,4363165,4363165,4363165,4363165,4363165,4363165,4363165,null,null,null,null,null,null,"2017-01-11T14:37:09",null,0.9,6,"Dade Circuit Civil CGE CQ3-16"]
["Dade","Circuit Civil","CGE CQ3-17",4609216,4609216,null,null,null,4609216,4609216,null,null,null,null,null,null,null,null,null,"2017-01-11T14:37:09",null,0.9,6,"Dade Circuit Civil CGE CQ3-17"]
["Dade","Circuit Civil","CGE CQ4-16",4653856,4653856,4653856,4653856,4653856,4653856,4653856,4653856,4653856,4653856,null,null,null,null,null,null,"2017-01-11T14:37:09",null,0.9,6,"Dade Circuit Civil CGE CQ4-16"]
["Dade","Circuit Civil","CGE CQ4-17",5071766,null,null,null,null,5071766,null,null,null,null,null,null,null,null,null,null,"2017-01-11T14:37:09",null,0.9,6,"Dade Circuit Civil CGE CQ4-17"]
["Dade","Circuit Criminal","CGE CQ1-16",2864015,2864015,2864015,2864015,2864015,103132,182107,243774,294168,353259,null,null,null,null,null,null,"2017-01-11T14:37:09",null,0.09,1,"Dade Circuit Criminal CGE CQ1-16"]
["Dade","Circuit Criminal","CGE CQ1-17",3141298,3141298,3141298,3141298,null,84265,155940,205510,263452,null,null,null,null,null,null,null,"2017-01-11T14:37:09",null,0.09,1,"Dade Circuit Criminal CGE CQ1-17"]
["Dade","Circuit Criminal","CGE CQ2-16",3060414,3060414,3060414,3060414,3060414,143362,228058,285849,332789,399895,null,null,null,null,null,null,"2017-01-11T14:37:09",null,0.09,1,"Dade Circuit Criminal CGE CQ2-16"]
["Dade","Circuit Criminal","CGE CQ2-17",2922280,2922280,2922280,null,null,110985,190430,241109,null,null,null,null,null,null,null,null,"2017-01-11T14:37:09",null,0.09,1,"Dade Circuit Criminal CGE CQ2-17"]
["Dade","Circuit Criminal","CGE CQ3-16",4356462,4356462,4356462,4356462,4356462,112659,195772,265255,339209,433688,null,null,null,null,null,null,"2017-01-11T14:37:09",null,0.09,1,"Dade Circuit Criminal CGE CQ3-16"]
["Dade","Circuit Criminal","CGE CQ3-17",3321177,3321177,null,null,null,103680,166745,null,null,null,null,null,null,null,null,null,"2017-01-11T14:37:09",null,0.09,1,"Dade Circuit Criminal CGE CQ3-17"]
["Dade","Circuit Criminal","CGE CQ4-16",2643864,2643864,2643864,2643864,2643864,100008,176064,256433,314168,377015,null,null,null,null,null,null,"2017-01-11T14:37:09",null,0.09,1,"Dade Circuit Criminal CGE CQ4-16"]
["Dade","Circuit Criminal","CGE CQ4-17",3289910,null,null,null,null,82361,null,null,null,null,null,null,null,null,null,null,"2017-01-11T14:37:09",null,0.09,1,"Dade Circuit Criminal CGE CQ4-17"]
["Dade","Civil Traffic","CGE CQ1-16",14681584.5,14681584.5,14681584.5,14681584.5,14681584.5,6473163.0499999998,10100599.33,10860854.279999999,11269587.689999999,11519155.789999999,null,null,null,null,null,null,"2017-01-11T14:37:09",null,0.9,8,"Dade Civil Traffic CGE CQ1-16"]
["Dade","Civil Traffic","CGE CQ1-17",17045175.510000002,17045175.510000002,17045175.510000002,17045175.510000002,null,5936726.0599999996,10303705.119999999,11276901.02,11777538.109999999,null,null,null,null,null,null,null,"2017-01-11T14:37:09",null,0.9,8,"Dade Civil Traffic CGE CQ1-17"]
["Dade","Civil Traffic","CGE CQ2-16",14297819.529999999,14297819.529999999,14297819.529999999,14297819.529999999,14297819.529999999,7285385.0499999998,10676800.859999999,11377824.880000001,11751497.01,12089163.91,null,null,null,null,null,null,"2017-01-11T14:37:09",null,0.9,8,"Dade Civil Traffic CGE CQ2-16"]
["Dade","Civil Traffic","CGE CQ2-17",17787676.57,17787676.57,17787676.57,null,null,7775087.0700000003,12217528.92,13308556.800000001,null,null,null,null,null,null,null,null,"2017-01-11T14:37:09",null,0.9,8,"Dade Civil Traffic CGE CQ2-17"]
["Dade","Civil Traffic","CGE CQ3-16",15885482.119999999,15885482.119999999,15885482.119999999,15885482.119999999,15885482.119999999,6639384.0999999996,10333984.199999999,11081645.15,11693696.390000001,11975168.189999999,null,null,null,null,null,null,"2017-01-11T14:37:09",null,0.9,8,"Dade Civil Traffic CGE CQ3-16"]
["Dade","Civil Traffic","CGE CQ3-17",18387948.579999998,18387948.579999998,null,null,null,7077421.2800000003,11297205.199999999,null,null,null,null,null,null,null,null,null,"2017-01-11T14:37:09",null,0.9,8,"Dade Civil Traffic CGE CQ3-17"]
["Dade","Civil Traffic","CGE CQ4-16",17922836.710000001,17922836.710000001,17922836.710000001,17922836.710000001,17922836.710000001,6949556.4900000002,10638855.6,11879777.67,12444017.98,12730055.98,null,null,null,null,null,null,"2017-01-11T14:37:09",null,0.9,8,"Dade Civil Traffic CGE CQ4-16"]
["Dade","Civil Traffic","CGE CQ4-17",17622081.030000001,null,null,null,null,6741380.9400000004,null,null,null,null,null,null,null,null,null,null,"2017-01-11T14:37:09",null,0.9,8,"Dade Civil Traffic CGE CQ4-17"]
["Dade","County Civil","CGE CQ1-16",4012578,4012578,4012578,4012578,4012578,4012578,4012578,4012578,4012578,4012578,null,null,null,null,null,null,"2017-01-11T14:37:09",null,0.9,7,"Dade County Civil CGE CQ1-16"]
["Dade","County Civil","CGE CQ1-17",3747218,3747218,3747218,3747218,null,3747218,3747218,3747218,3747218,null,null,null,null,null,null,null,"2017-01-11T14:37:09",null,0.9,7,"Dade County Civil CGE CQ1-17"]
["Dade","County Civil","CGE CQ2-16",3579361,3579361,3579361,3579361,3579361,3579361,3579361,3579361,3579361,3579361,null,null,null,null,null,null,"2017-01-11T14:37:09",null,0.9,7,"Dade County Civil CGE CQ2-16"]
["Dade","County Civil","CGE CQ2-17",3939641,3939641,3939641,null,null,3939641,3939641,3939641,null,null,null,null,null,null,null,null,"2017-01-11T14:37:09",null,0.9,7,"Dade County Civil CGE CQ2-17"]
["Dade","County Civil","CGE CQ3-16",4185885,4185885,4185885,4185885,4185885,4185885,4185885,4185885,4185885,4185885,null,null,null,null,null,null,"2017-01-11T14:37:09",null,0.9,7,"Dade County Civil CGE CQ3-16"]
["Dade","County Civil","CGE CQ3-17",3685810,3685810,null,null,null,3685810,3685810,null,null,null,null,null,null,null,null,null,"2017-01-11T14:37:09",null,0.9,7,"Dade County Civil CGE CQ3-17"]
["Dade","County Civil","CGE CQ4-16",4018564,4018564,4018564,4018564,4018564,4018564,4018564,4018564,4018564,4018564,null,null,null,null,null,null,"2017-01-11T14:37:09",null,0.9,7,"Dade County Civil CGE CQ4-16"]
["Dade","County Criminal","CGE CQ1-16",1594064,1594064,1594064,1594064,1594064,130986,268722,330134,361026,384600,null,null,null,null,null,null,"2017-01-11T14:37:09",null,0.4,3,"Dade County Criminal CGE CQ1-16"]
["Dade","County Criminal","CGE CQ3-17",1145588,1145588,null,null,null,91859,144348,null,null,null,null,null,null,null,null,null,"2017-01-11T14:37:09",null,0.4,3,"Dade County Criminal CGE CQ3-17"]
["Dade","Criminal Traffic","CGE CQ2-16",2574312.23,2574312.23,2574312.23,2574312.23,2574312.23,433960.59,886322.58,1053872.05,1138806.22,1275271.72,null,null,null,null,null,null,"2017-01-11T14:37:09",null,0.4,5,"Dade Criminal Traffic CGE CQ2-16"]
["Dade","Criminal Traffic","CGE CQ2-17",1962430.44,1962430.44,1962430.44,null,null,308022.65000000002,510619.68,669613.01,null,null,null,null,null,null,null,null,"2017-01-11T14:37:09",null,0.4,5,"Dade Criminal Traffic CGE CQ2-17"]
["Dade","Family","CGE CQ1-16",1362942,1362942,1362942,1362942,1362942,1362942,1362942,1362942,1362942,1362942,null,null,null,null,null,null,"2017-01-11T14:37:09",null,0.75,10,"Dade Family CGE CQ1-16"]
["Dade","Family","CGE CQ3-17",1658002,1658002,null,null,null,1658002,1658002,null,null,null,null,null,null,null,null,null,"2017-01-11T14:37:09",null,0.75,10,"Dade Family CGE CQ3-17"]
["Dade","Juvenile Delinquency","CGE CQ2-16",70165,70165,70165,70165,70165,5850,9338,9936,9936,10551,null,null,null,null,null,null,"2017-01-11T14:37:09",null,0.09,4,"Dade Juvenile Delinquency CGE CQ2-16"]
["Dade","Juvenile Delinquency","CGE CQ2-17",86422,86422,86422,null,null,7367,10683,10958,null,null,null,null,null,null,null,null,"2017-01-11T14:37:09",null,0.09,4,"Dade Juvenile Delinquency CGE CQ2-17"]
["Dade","Probate","CGE CQ1-16",429271,429271,429271,429271,429271,429271,429271,429271,429271,429271,null,null,null,null,null,null,"2017-01-11T14:37:09",null,0.9,9,"Dade Probate CGE CQ1-16"]
["Dade","Probate","CGE CQ4-17",470763,null,null,null,null,470763,null,null,null,null,null,null,null,null,null,null,"2017-01-11T14:37:09",null,0.9,9,"Dade Probate CGE CQ4-17"]
["Desoto","Circ Crim Drug Trfc Cases","CGE CQ2-17",null,null,304590.12,null,null,null,null,425,null,null,null,null,null,null,null,null,"2017-01-11T14:37:09",null,0.09,2,"Desoto Circ Crim Drug Trfc Cases CGE CQ2-17"]
["Desoto","Circ Crim Drug Trfc Cases","CGE CQ3-16",0,0,null,null,null,0,0,null,null,null,null,null,null,null,null,null,"2017-01-11T14:37:09",null,0.09,2,"Desoto Circ Crim Drug Trfc Cases CGE CQ3-16"]
["Desoto","Circuit Civil","CGE CQ1-17",35470.5,35470.5,35470.5,35470.5,null,35070.5,35070.5,35070.5,35070.5,null,null,null,null,null,null,null,"2017-01-11T14:37:09",null,0.9,6,"Desoto Circuit Civil CGE CQ1-17"]
["Desoto","Circuit Civil","CGE CQ4-16",29542.5,29542.5,30542.5,30542.5,30542.5,29542.5,29542.5,30542.5,30542.5,30542.5,null,null,null,null,null,null,"2017-01-11T14:37:09",null,0.9,6,"Desoto Circuit Civil CGE CQ4-16"]
["Desoto","Circuit Criminal","CGE CQ2-17",456402.57,456402.57,455852.57,null,null,14380,20908,25095.96,null,null,null,null,null,null,null,null,"2017-01-11T14:37:09",null,0.09,1,"Desoto Circuit Criminal CGE CQ2-17"]
["Desoto","Circuit Criminal","CGE CQ3-16",165096.95000000001,165096.95000000001,165096.95000000001,164746.95000000001,164561.95000000001,7108.95,10579.89,13456.93,19519.990000000002,23857,null,null,null,null,null,null,"2017-01-11T14:37:09",null,0.09,1,"Desoto Circuit Criminal CGE CQ3-16"]
["Desoto","Civil Traffic","CGE CQ1-17",145561.75,142839,142688,142688,null,69982.5,122354,130364,132742,null,null,null,null,null,null,null,"2017-01-11T14:37:09",null,0.9,8,"Desoto Civil Traffic CGE CQ1-17"]
["Desoto","Civil Traffic","CGE CQ4-16",146939.20000000001,145396.5,144867.5,144616.5,144616.5,75944.95,126925.5,133936.5,135194.25,136173.25,null,null,null,null,null,null,"2017-01-11T14:37:09",null,0.9,8,"Desoto Civil Traffic CGE CQ4-16"]
["Desoto","County Civil","CGE CQ2-16",19151,19151,19151,19151,19151,19151,19151,19151,19151,19151,null,null,null,null,null,null,"2017-01-11T14:37:09",null,0.9,7,"Desoto County Civil CGE CQ2-16"]
["Desoto","County Civil","CGE CQ3-17",23831,23831,null,null,null,22961,23146,null,null,null,null,null,null,null,null,null,"2017-01-11T14:37:09",null,0.9,7,"Desoto County Civil CGE CQ3-17"]
["Desoto","County Criminal","CGE CQ2-16",65659.31,65656.31,66081.31,66081.31,66106.31,15141.5,19172.5,21562,21979.5,26461.48,null,null,null,null,null,null,"2017-01-11T14:37:09",null,0.4,3,"Desoto County Criminal CGE CQ2-16"]
["Desoto","County Criminal","CGE CQ4-17",53986.5,null,null,null,null,6675,null,null,null,null,null,null,null,null,null,null,"2017-01-11T14:37:09",null,0.4,3,"Desoto County Criminal CGE CQ4-17"]
["Desoto","Criminal Traffic","CGE CQ3-16",55679.67,55654.67,55637.13,55637.13,55637.13,21065.93,25800.57,31481.03,35558.03,37754.42,null,null,null,null,null,null,"2017-01-11T14:37:09",null,0.4,5,"Desoto Criminal Traffic CGE CQ3-16"]
["Desoto","Criminal Traffic","CGE CQ3-17",52551.69,52551.69,null,null,null,19812.25,27838.75,null,null,null,null,null,null,null,null,null,"2017-01-11T14:37:09",null,0.4,5,"Desoto Criminal Traffic CGE CQ3-17"]
["Desoto","Family","CGE CQ2-16",24433.5,24833.5,24833.5,24833.5,25251.5,21833,22538,22938,22938,23607,null,null,null,null,null,null,"2017-01-11T14:37:09",null,0.75,10,"Desoto Family CGE CQ2-16"]
["Desoto","Family","CGE CQ4-17",19993.5,null,null,null,null,19428.5,null,null,null,null,null,null,null,null,null,null,"2017-01-11T14:37:09",null,0.75,10,"Desoto Family CGE CQ4-17"]
["Desoto","Juvenile Delinquency","CGE CQ3-16",2965,2965,2965,2965,2965,145,685,835,835,835,null,null,null,null,null,null,"2017-01-11T14:37:09",null,0.09,4,"Desoto Juvenile Delinquency CGE CQ3-16"]
["Desoto","Juvenile Delinquency","CGE CQ4-16",8559,8694,9409,9544,9544,179,629,679,739,1069,null,null,null,null,null,null,"2017-01-11T14:37:09",null,0.09,4,"Desoto Juvenile Delinquency CGE CQ4-16"]
["Desoto","Probate","CGE CQ2-17",7562,7562,7562,null,null,6931,7562,7562,null,null,null,null,null,null,null,null,"2017-01-11T14:37:09",null,0.9,9,"Desoto Probate CGE CQ2-17"]
["Dixie","Circ Crim Drug Trfc Cases","CGE CQ1-16",0,0,0,0,0,"Qtr 1","Qtr 2","Qtr 3","Qtr 4","Qtr 5",null,null,null,null,null,null,"2017-01-11T14:37:09",null,0.09,2,"Dixie Circ Crim Drug Trfc Cases CGE CQ1-16"]
["Dixie","Circ Crim Drug Trfc Cases","CGE CQ3-17",null,null,null,null,null,"Qtr 1","Qtr 2",null,null,null,null,null,null,null,null,null,"2017-01-11T14:37:09",null,0.09,2,"Dixie Circ Crim Drug Trfc Cases CGE CQ3-17"]
["Dixie","Circ Crim Drug Trfc Cases","CGE CQ4-16",0,null,null,null,null,"Qtr 1","Qtr 2","Qtr 3","Qtr 4","Qtr 5",null,null,null,null,null,null,"2017-01-11T14:37:09",null,0.09,2,"Dixie Circ Crim Drug Trfc Cases CGE CQ4-16"]
["Dixie","Circuit Civil","CGE CQ2-17",11387,11387,11787,null,null,11387,11387,11787,null,null,null,null,null,null,null,null,"2017-01-11T14:37:09",null,0.9,6,"Dixie Circuit Civil CGE CQ2-17"]
["Dixie","Circuit Criminal","CGE CQ1-16",56088,111881,56098,56098,56088,3017,12780,8640,8882,3017,null,null,null,null,null,null,"2017-01-11T14:37:09",null,0.09,1,"Dixie Circuit Criminal CGE CQ1-16"]
["Dixie","Circuit Criminal","CGE CQ3-17",40479,40479,null,null,null,11130,12534,null,null,null,null,null,null,null,null,null,"2017-01-11T14:37:09",null,0.09,1,"Dixie Circuit Criminal CGE CQ3-17"]
["Dixie","Circuit Criminal","CGE CQ4-16",16755,16755,15965,16855,16465,1566,1566,1814,1566,2525,null,null,null,null,null,null,"2017-01-11T14:37:09",null,0.09,1,"Dixie Circuit Criminal CGE CQ4-16"]
["Dixie","Civil Traffic","CGE CQ4-16",66086,66086,63550,66086,63361,27583,27583,51379,27583,53621,null,null,null,null,null,null,"2017-01-11T14:37:09",null,0.9,8,"Dixie Civil Traffic CGE CQ4-16"]
["Dixie","County Civil","CGE CQ1-17",9180,9355,9180,9355,null,9180,9355,9180,9355,null,null,null,null,null,null,null,"2017-01-11T14:37:09",null,0.9,7,"Dixie County Civil CGE CQ1-17"]
["Dixie","County Civil","CGE CQ4-16",8400,8400,8400,8400,8400,8400,8400,8400,8400,8400,null,null,null,null,null,null,"2017-01-11T14:37:09",null,0.9,7,"Dixie County Civil CGE CQ4-16"]
["Dixie","County Civil","CGE CQ4-17",11952,null,null,null,null,11952,null,null,null,null,null,null,null,null,null,null,"2017-01-11T14:37:09",null,0.9,7,"Dixie County Civil CGE CQ4-17"]
["Dixie","County Criminal","CGE CQ3-16",18381,18381,18381,18067,18381,1865,2155,1865,7021,1865,null,null,null,null,null,null,"2017-01-11T14:37:09",null,0.4,3,"Dixie County Criminal CGE CQ3-16"]
["Dixie","Criminal Traffic","CGE CQ1-17",17369,17369,17369,17369,null,3249,4428,3249,5592,null,null,null,null,null,null,null,"2017-01-11T14:37:09",null,0.4,5,"Dixie Criminal Traffic CGE CQ1-17"]
["Dixie","Criminal Traffic","CGE CQ4-16",13053,13053,11862,13053,11862,1399,1399,4236,1399,4326,null,null,null,null,null,null,"2017-01-11T14:37:09",null,0.4,5,"Dixie Criminal Traffic CGE CQ4-16"]
["Dixie","Criminal Traffic","CGE CQ4-17",10553,null,null,null,null,2714,null,null,null,null,null,null,null,null,null,null,"2017-01-11T14:37:09",null,0.4,5,"Dixie Criminal Traffic CGE CQ4-17"]
["Dixie","Family","CGE CQ3-16",9622,9622,9622,9622,9622,9622,9622,9622,9622,9622,null,null,null,null,null,null,"2017-01-11T14:37:09",null,0.75,10,"Dixie Family CGE CQ3-16"]
["Dixie","Juvenile Delinquency","CGE CQ2-16",1264,1264,1014,1264,764,0,0,0,0,0,null,null,null,null,null,null,"2017-01-11T14:37:09",null,0.09,4,"Dixie Juvenile Delinquency CGE CQ2-16"]
["Dixie","Juvenile Delinquency","CGE CQ4-17",0,null,null,null,null,0,null,null,null,null,null,null,null,null,null,null,"2017-01-11T14:37:09",null,0.09,4,"Dixie Juvenile Delinquency CGE CQ4-17"]
["Dixie","Probate","CGE CQ1-16",5580,11765,5580,5580,5580,5580,11765,5580,5580,5580,null,null,null,null,null,null,"2017-01-11T14:37:09",null,0.9,9,"Dixie Probate CGE CQ1-16"]
["Dixie","Probate","CGE CQ3-17",6798,6798,null,null,null,6798,6798,null,null,null,null,null,null,null,null,null,"2017-01-11T14:37:09",null,0.9,9,"Dixie Probate CGE CQ3-17"]
["Duval","Circ Crim Drug Trfc Cases","CGE CQ2-16",1403997,1403897,1403797,1395877,1395877,789.56,1398.75,1753.51,8852.92,11814.44,null,null,null,null,null,null,"2017-01-11T14:37:09",null,0.09,2,"Duval Circ Crim Drug Trfc Cases CGE CQ2-16"]
["Duval","Circ Crim Drug Trfc Cases","CGE CQ4-17",2544076.52,null,null,null,null,292.92,null,null,null,null,null,null,null,null,null,null,"2017-01-11T14:37:09",null,0.09,2,"Duval Circ Crim Drug Trfc Cases CGE CQ4-17"]
["Duval","Circuit Civil","CGE CQ1-16",2117486.64,2115527.64,2114793.64,2389683.04,2096085.64,2082392.26,2082874.37,2082808.37,2344365.13,2067059.35,null,null,null,null,null,null,"2017-01-11T14:37:09",null,0.9,6,"Duval Circuit Civil CGE CQ1-16"]
["Duval","Circuit Civil","CGE CQ3-17",1759566.1,1745474.6,null,null,null,1742963.97,1736947.6,null,null,null,null,null,null,null,null,null,"2017-01-11T14:37:09",null,0.9,6,"Duval Circuit Civil CGE CQ3-17"]
["Duval","Circuit Criminal","CGE CQ2-16",1285379.08,1276518.08,1274107.08,2672534.85,2672534.85,26509.43,55654.05,78913.22,108726.38,145891.45000000001,null,null,null,null,null,null,"2017-01-11T14:37:09",null,0.09,1,"Duval Circuit Criminal CGE CQ2-16"]
["Duval","Circuit Criminal","CGE CQ3-17",3594911.54,3583353.92,null,null,null,133293.72,155699.23000000001,null,null,null,null,null,null,null,null,null,"2017-01-11T14:37:09",null,0.09,1,"Duval Circuit Criminal CGE CQ3-17"]
["Duval","Civil Traffic","CGE CQ1-17",4856064.9400000004,4856064.91,4866885.66,4867656.66,null,1928139.49,3522891.41,3897391.42,4034315.51,null,null,null,null,null,null,null,"2017-01-11T14:37:09",null,0.9,8,"Duval Civil Traffic CGE CQ1-17"]
["Duval","Civil Traffic","CGE CQ4-16",5191610.32,5260399.8099999996,5260399.8099999996,5262337.8099999996,5261774.8099999996,2060172.05,3643370.8,4176784.12,4330339.66,4405466.82,null,null,null,null,null,null,"2017-01-11T14:37:09",null,0.9,8,"Duval Civil Traffic CGE CQ4-16"]
["Duval","County Civil","CGE CQ2-17",1269749.92,1424025.35,1421754.85,null,null,1257460.67,1417517.46,1416047.46,null,null,null,null,null,null,null,null,"2017-01-11T14:37:09",null,0.9,7,"Duval County Civil CGE CQ2-17"]
["Duval","County Criminal","CGE CQ1-16",1346004.66,1344586.66,1344447.66,1343614.66,1332206.6399999999,1111745.8999999999,247601.24,306174.48,341115.12,362018.19,null,null,null,null,null,null,"2017-01-11T14:37:09",null,0.4,3,"Duval County Criminal CGE CQ1-16"]
["Duval","County Criminal","CGE CQ1-17",1105509.56,1105509.56,1103563.56,1097052.06,null,99424.95,212249.1,257498.87,286414.03000000003,null,null,null,null,null,null,null,"2017-01-11T14:37:09",null,0.4,3,"Duval County Criminal CGE CQ1-17"]
["Duval","County Criminal","CGE CQ4-16",1278028.1299999999,1282104.1299999999,1282104.1299999999,1281988.1299999999,1282383.1299999999,114326.3,216168.04,287382.38,320130.15999999997,342357.86,null,null,null,null,null,null,"2017-01-11T14:37:09",null,0.4,3,"Duval County Criminal CGE CQ4-16"]
["Duval","Criminal Traffic","CGE CQ2-17",2204755.5499999998,2151020.15,2145719.6800000002,null,null,418015.95,814118.83,1018316.57,null,null,null,null,null,null,null,null,"2017-01-11T14:37:09",null,0.4,5,"Duval Criminal Traffic CGE CQ2-17"]
["Duval","Family","CGE CQ1-16",462276.8,462711.8,461893.8,461582.8,454085.9,443320.06,445239.06,445654.9,446497.9,444784.9,null,null,null,null,null,null,"2017-01-11T14:37:09",null,0.75,10,"Duval Family CGE CQ1-16"]
["Duval","Family","CGE CQ1-17",491756,491756,493964,484531,null,474899.5,476954.5,479149.5,479959.5,null,null,null,null,null,null,null,"2017-01-11T14:37:09",null,0.75,10,"Duval Family CGE CQ1-17"]
["Duval","Family","CGE CQ4-17",576330.68999999994,null,null,null,null,569947.68999999994,null,null,null,null,null,null,null,null,null,null,"2017-01-11T14:37:09",null,0.75,10,"Duval Family CGE CQ4-17"]
["Duval","Juvenile Delinquency","CGE CQ3-16",85522.94,86072.94,85150.6,85150.6,85158.6,5187.9399999999996,8665.6,9916.94,12939.75,14397.75,null,null,null,null,null,null,"2017-01-11T14:37:09",null,0.09,4,"Duval Juvenile Delinquency CGE CQ3-16"]
["Duval","Probate","CGE CQ1-17",229080.1,229080.1,238645.1,236402.1,null,220180.1,222540.1,232278.1,233161.1,null,null,null,null,null,null,null,"2017-01-11T14:37:09",null,0.9,9,"Duval Probate CGE CQ1-17"]
["Duval","Probate","CGE CQ2-16",267986.44,267586.44,266826.44,255586.95,255586.95,257824.44,260378.44,260378.44,249896.84,249896.84,null,null,null,null,null,null,"2017-01-11T14:37:09",null,0.9,9,"Duval Probate CGE CQ2-16"]
["Duval","Probate","CGE CQ4-17",228709.03,null,null,null,null,223709.61,null,null,null,null,null,null,null,null,null,null,"2017-01-11T14:37:09",null,0.9,9,"Duval Probate CGE CQ4-17"]
["Escambia","Circ Crim Drug Trfc Cases","CGE CQ3-16",239197,239197,264187,264137,264137,142,154,144,144,144,null,null,null,null,null,null,"2017-01-11T14:37:09",null,0.09,2,"Escambia Circ Crim Drug Trfc Cases CGE CQ3-16"]
["Escambia","Circuit Civil","CGE CQ1-17",408129.19,408189.19,406884.19,404674.19,null,398883.49,401675.95,401574.19,399364.69,null,null,null,null,null,null,null,"2017-01-11T14:37:09",null,0.9,6,"Escambia Circuit Civil CGE CQ1-17"]
["Escambia","Circuit Civil","CGE CQ2-16",494415.6,494050.6,492440.43,489015.43,489015.43,482596.23,487056.73,486601.73,483179.23,483179.23,null,null,null,null,null,null,"2017-01-11T14:37:09",null,0.9,6,"Escambia Circuit Civil CGE CQ2-16"]
["Escambia","Circuit Criminal","CGE CQ1-17",1876591.33,1873177.83,1871445.83,1869772.83,null,42789.84,66714.759999999995,84327.8,100554.72,null,null,null,null,null,null,null,"2017-01-11T14:37:09",null,0.09,1,"Escambia Circuit Criminal CGE CQ1-17"]
["Escambia","Circuit Criminal","CGE CQ3-17",792665.62,937375.91,null,null,null,168374.77,57941.93,null,null,null,null,null,null,null,null,null,"2017-01-11T14:37:09",null,0.09,1,"Escambia Circuit Criminal CGE CQ3-17"]
["Escambia","Civil Traffic","CGE CQ2-16",1341798.72,1416199.22,1415464.42,1416585.42,1418837.92,718543.35999999999,1165569.45,1217065.53,1238003.79,1264258.8500000001,null,null,null,null,null,null,"2017-01-11T14:37:09",null,0.9,8,"Escambia Civil Traffic CGE CQ2-16"]
["Escambia","Civil Traffic","CGE CQ2-17",1459004.07,1497978.46,1496053.66,null,null,787747.25,1212552.3799999999,1264864.52,null,null,null,null,null,null,null,null,"2017-01-11T14:37:09",null,0.9,8,"Escambia Civil Traffic CGE CQ2-17"]
["Escambia","County Civil","CGE CQ1-16",241284.75,241234.75,241234.75,241234.75,241234.75,239209.25,240275.25,240275.25,240275.25,240275.25,null,null,null,null,null,null,"2017-01-11T14:37:09",null,0.9,7,"Escambia County Civil CGE CQ1-16"]
["Escambia","County Civil","CGE CQ3-17",268892.51,268892.51,null,null,null,267746.56,268137.01,null,null,null,null,null,null,null,null,null,"2017-01-11T14:37:09",null,0.9,7,"Escambia County Civil CGE CQ3-17"]
["Escambia","County Criminal","CGE CQ2-16",583452.73,583656.43000000005,575970,578488.67000000004,572486.55000000005,120447.12,168172.38,196129.47,221316.62,259106.97,null,null,null,null,null,null,"2017-01-11T14:37:09",null,0.4,3,"Escambia County Criminal CGE CQ2-16"]
["Escambia","County Criminal","CGE CQ2-17",649549.13,645621.1,641605.05000000005,null,null,145450.48000000001,197742.03,230490.53,null,null,null,null,null,null,null,null,"2017-01-11T14:37:09",null,0.4,3,"Escambia County Criminal CGE CQ2-17"]
["Escambia","Criminal Traffic","CGE CQ1-16",294351.52,292486.52,288831.02,287627.82,287698.3,65868.639999999999,118663.29,142120.12,152050.66,157833.04,null,null,null,null,null,null,"2017-01-11T14:37:09",null,0.4,5,"Escambia Criminal Traffic CGE CQ1-16"]
["Escambia","Criminal Traffic","CGE CQ3-16",296314.25,293836.25,291859.25,291071.25,290370,70577.77,114717.84,131913.09,144088.32000000001,150233.9,null,null,null,null,null,null,"2017-01-11T14:37:09",null,0.4,5,"Escambia Criminal Traffic CGE CQ3-16"]
["Escambia","Family","CGE CQ2-17",213340.67,209635.92,209429.52,null,null,195889.23,197237.38,197545.19,null,null,null,null,null,null,null,null,"2017-01-11T14:37:09",null,0.75,10,"Escambia Family CGE CQ2-17"]
["Escambia","Family","CGE CQ3-16",212334.26,205345.76,204088.26,202197.26,201176.76,184693.34,186037.46,187280.66,187390.36,187588.31,null,null,null,null,null,null,"2017-01-11T14:37:09",null,0.75,10,"Escambia Family CGE CQ3-16"]
["Escambia","Juvenile Delinquency","CGE CQ1-17",112702.39999999999,112451.15,110103.37,108007.42,null,4367.3999999999996,8563.4,10660.15,11542.15,null,null,null,null,null,null,null,"2017-01-11T14:37:09",null,0.09,4,"Escambia Juvenile Delinquency CGE CQ1-17"]
["Escambia","Juvenile Delinquency","CGE CQ4-16",115516.35,115881.35,115181.1,113580.05,111046.52,6085.4,6991,8252,10214.35,10522.85,null,null,null,null,null,null,"2017-01-11T14:37:09",null,0.09,4,"Escambia Juvenile Delinquency CGE CQ4-16"]
["Escambia","Probate","CGE CQ2-17",120655.13,119821.56,119821.56,null,null,115636.81,118758.81,118758.81,null,null,null,null,null,null,null,null,"2017-01-11T14:37:09",null,0.9,9,"Escambia Probate CGE CQ2-17"]
["Escambia","Probate","CGE CQ3-16",108493.44,108160.44,107563.44,107563.44,107563.44,107696.44,107900.44,107543.44,107543.44,107543.44,null,null,null,null,null,null,"2017-01-11T14:37:09",null,0.9,9,"Escambia Probate CGE CQ3-16"]
["Flagler","Circ Crim Drug Trfc Cases","CGE CQ1-17",53168,53168,53168,53168,null,0,0,0,0,null,null,null,null,null,null,null,"2017-01-11T14:37:09",null,0.09,2,"Flagler Circ Crim Drug Trfc Cases CGE CQ1-17"]
["Flagler","Circ Crim Drug Trfc Cases","CGE CQ4-16",50668,50668,50668,50668,50668,0,0,0,0,0,null,null,null,null,null,null,"2017-01-11T14:37:09",null,0.09,2,"Flagler Circ Crim Drug Trfc Cases CGE CQ4-16"]
["Flagler","Circuit Civil","CGE CQ1-16",218039.85,218039.85,218039.85,218039.85,218039.85,218037.35,218039.85,218039.85,218039.85,218039.85,null,null,null,null,null,null,"2017-01-11T14:37:09",null,0.9,6,"Flagler Circuit Civil CGE CQ1-16"]
["Flagler","Circuit Civil","CGE CQ3-17",190085.82,190092.82,null,null,null,190085.82,190092.82,null,null,null,null,null,null,null,null,null,"2017-01-11T14:37:09",null,0.9,6,"Flagler Circuit Civil CGE CQ3-17"]
["Flagler","Circuit Criminal","CGE CQ2-16",75560.5,76889.5,109923.5,110859.5,110945.67,1949.48,4831.74,9847.9599999999991,13108.78,16624.61,null,null,null,null,null,null,"2017-01-11T14:37:09",null,0.09,1,"Flagler Circuit Criminal CGE CQ2-16"]
["Flagler","Circuit Criminal","CGE CQ4-17",145473.5,null,null,null,null,2105.9499999999998,null,null,null,null,null,null,null,null,null,null,"2017-01-11T14:37:09",null,0.09,1,"Flagler Circuit Criminal CGE CQ4-17"]
["Flagler","Civil Traffic","CGE CQ3-16",304338.95,284449.34999999998,281225.34999999998,280448.34999999998,280133.34999999998,148271.6,244190.62,251782.93,260833.55,263399.09999999998,null,null,null,null,null,null,"2017-01-11T14:37:09",null,0.9,8,"Flagler Civil Traffic CGE CQ3-16"]
["Flagler","Civil Traffic","CGE CQ3-17",267230.12,249223.65,null,null,null,130919.82,209158.65,null,null,null,null,null,null,null,null,null,"2017-01-11T14:37:09",null,0.9,8,"Flagler Civil Traffic CGE CQ3-17"]
["Flagler","County Civil","CGE CQ2-16",76691.960000000006,76211.960000000006,76211.960000000006,76211.960000000006,76211.960000000006,76691.960000000006,76211.960000000006,76211.960000000006,76211.960000000006,76211.960000000006,null,null,null,null,null,null,"2017-01-11T14:37:09",null,0.9,7,"Flagler County Civil CGE CQ2-16"]
["Flagler","County Civil","CGE CQ4-17",83945.41,null,null,null,null,83945.41,null,null,null,null,null,null,null,null,null,null,"2017-01-11T14:37:09",null,0.9,7,"Flagler County Civil CGE CQ4-17"]
["Flagler","County Criminal","CGE CQ3-16",60530.5,70394.5,70564.5,70514.5,70564.5,12669.75,21934.2,30534.86,32488.5,36394.58,null,null,null,null,null,null,"2017-01-11T14:37:09",null,0.4,3,"Flagler County Criminal CGE CQ3-16"]
["Flagler","Criminal Traffic","CGE CQ1-16",88369,86902,86802,100252,100252,33609.910000000003,52583.68,60556.25,73169.45,76796.45,null,null,null,null,null,null,"2017-01-11T14:37:09",null,0.4,5,{"$f":"A1410&\" \"&B1410&\" \"&C1410","v":"Flagler Criminal Traffic CGE CQ1-16"}]
["Flagler","Criminal Traffic","CGE CQ2-17",100897,100581,100125,null,null,24718.47,40956.379999999997,50782.7,null,null,null,null,null,null,null,null,"2017-01-11T14:37:09",null,0.4,5,"Flagler Criminal Traffic CGE CQ2-17"]
["Flagler","Family","CGE CQ1-16",44339,43931,43931,43931,43931,43450,43868,43868,43868,43868,null,null,null,null,null,null,"2017-01-11T14:37:09",null,0.75,10,"Flagler Family CGE CQ1-16"]
["Flagler","Family","CGE CQ3-17",56472.5,56054.5,null,null,null,53837.120000000003,54592.36,null,null,null,null,null,null,null,null,null,"2017-01-11T14:37:09",null,0.75,10,"Flagler Family CGE CQ3-17"]
["Flagler","Family","CGE CQ4-16",66593,66583,66583,66583,66583,59611.43,61859.01,63655.51,64117.19,64217.19,null,null,null,null,null,null,"2017-01-11T14:37:09",null,0.75,10,"Flagler Family CGE CQ4-16"]
["Flagler","Juvenile Delinquency","CGE CQ2-17",2786,2686,2686,null,null,0,88,88,null,null,null,null,null,null,null,null,"2017-01-11T14:37:09",null,0.09,4,"Flagler Juvenile Delinquency CGE CQ2-17"]
["Flagler","Probate","CGE CQ1-16",45802.98,45802.98,45571.98,45571.98,45571.98,45792.98,45792.98,45561.98,45561.98,45561.98,null,null,null,null,null,null,"2017-01-11T14:37:09",null,0.9,9,"Flagler Probate CGE CQ1-16"]
["Flagler","Probate","CGE CQ3-17",45358.5,45358.5,null,null,null,45108.5,45358.5,null,null,null,null,null,null,null,null,null,"2017-01-11T14:37:09",null,0.9,9,"Flagler Probate CGE CQ3-17"]
["Flagler","Probate","CGE CQ4-16",37078,36678,36678,36678,36678,36278,36678,36678,36678,36678,null,null,null,null,null,null,"2017-01-11T14:37:09",null,0.9,9,"Flagler Probate CGE CQ4-16"]
["Franklin","Circ Crim Drug Trfc Cases","CGE CQ3-16",0,0,0,0,0,0,0,0,0,null,null,null,null,null,null,null,"2017-01-11T14:37:09",null,0.09,2,"Franklin Circ Crim Drug Trfc Cases CGE CQ3-16"]
["Franklin","Circuit Civil","CGE CQ1-17",21114.5,21114.5,21114.5,21114.5,null,21114.5,21114.5,21114.5,21114.5,null,null,null,null,null,null,null,"2017-01-11T14:37:09",null,0.9,6,"Franklin Circuit Civil CGE CQ1-17"]
["Franklin","Circuit Civil","CGE CQ4-16",21798.5,21798.5,21798.5,21798.5,21798.5,21378.5,21798.5,21798.5,21798.5,21798.5,null,null,null,null,null,null,"2017-01-11T14:37:09",null,0.9,6,"Franklin Circuit Civil CGE CQ4-16"]
["Franklin","Circuit Civil","CGE CQ4-17",20465,null,null,null,null,20465,null,null,null,null,null,null,null,null,null,null,"2017-01-11T14:37:09",null,0.9,6,"Franklin Circuit Civil CGE CQ4-17"]
["Franklin","Circuit Criminal","CGE CQ3-16",54766,54766,54766,54766,54766,571.5,2241.63,3536.42,4946.5600000000004,5848.68,null,null,null,null,null,null,"2017-01-11T14:37:09",null,0.09,1,"Franklin Circuit Criminal CGE CQ3-16"]
["Franklin","Civil Traffic","CGE CQ1-17",47864.4,45409.9,44551.4,44127.4,null,21820.46,36996.9,38675.4,39183.4,null,null,null,null,null,null,null,"2017-01-11T14:37:09",null,0.9,8,"Franklin Civil Traffic CGE CQ1-17"]
["Franklin","Civil Traffic","CGE CQ4-16",46223,44025.5,43657.5,43657.5,43611.5,27349,38507.5,39860,40931,41414,null,null,null,null,null,null,"2017-01-11T14:37:09",null,0.9,8,"Franklin Civil Traffic CGE CQ4-16"]
["Franklin","Civil Traffic","CGE CQ4-17",40659.4,null,null,null,null,24945,null,null,null,null,null,null,null,null,null,null,"2017-01-11T14:37:09",null,0.9,8,"Franklin Civil Traffic CGE CQ4-17"]
["Franklin","County Civil","CGE CQ3-16",7055,7055,7055,7055,7055,7055,7055,7055,7055,7055,null,null,null,null,null,null,"2017-01-11T14:37:09",null,0.9,7,"Franklin County Civil CGE CQ3-16"]
["Franklin","County Civil","CGE CQ4-17",5285,null,null,null,null,5285,null,null,null,null,null,null,null,null,null,null,"2017-01-11T14:37:09",null,0.9,7,"Franklin County Civil CGE CQ4-17"]
["Franklin","County Criminal","CGE CQ4-17",26681,null,null,null,null,10032,null,null,null,null,null,null,null,null,null,null,"2017-01-11T14:37:09",null,0.4,3,"Franklin County Criminal CGE CQ4-17"]
["Franklin","Criminal Traffic","CGE CQ1-16",20322,20322,20322,20322,20322,7199,9925,10860,12866,13483,null,null,null,null,null,null,"2017-01-11T14:37:09",null,0.4,5,"Franklin Criminal Traffic CGE CQ1-16"]
["Franklin","Criminal Traffic","CGE CQ3-17",24353.25,24353.25,null,null,null,8476,11380,null,null,null,null,null,null,null,null,null,"2017-01-11T14:37:09",null,0.4,5,"Franklin Criminal Traffic CGE CQ3-17"]
["Franklin","Family","CGE CQ2-16",6644,6524,6524,6524,6524,6524,6524,6524,6524,6524,null,null,null,null,null,null,"2017-01-11T14:37:09",null,0.75,10,"Franklin Family CGE CQ2-16"]
["Franklin","Family","CGE CQ4-17",4479.5,null,null,null,null,4479.5,null,null,null,null,null,null,null,null,null,null,"2017-01-11T14:37:09",null,0.75,10,"Franklin Family CGE CQ4-17"]
["Franklin","Juvenile Delinquency","CGE CQ1-16",1357,1357,1357,1357,1207,57,257,257,257,557,null,null,null,null,null,null,"2017-01-11T14:37:09",null,0.09,4,"Franklin Juvenile Delinquency CGE CQ1-16"]
["Franklin","Juvenile Delinquency","CGE CQ3-17",150,150,null,null,null,0,0,null,null,null,null,null,null,null,null,null,"2017-01-11T14:37:09",null,0.09,4,"Franklin Juvenile Delinquency CGE CQ3-17"]
["Franklin","Probate","CGE CQ2-16",6712,6712,6712,6712,6712,6712,6712,6712,6712,6712,null,null,null,null,null,null,"2017-01-11T14:37:09",null,0.9,9,"Franklin Probate CGE CQ2-16"]
["Gadsden","Circ Crim Drug Trfc Cases","CGE CQ1-16",36196,35006,34906,34386,34386,4136,7845,9125,11167,12467,null,null,null,null,null,null,"2017-01-11T14:37:09",null,0.09,2,"Gadsden Circ Crim Drug Trfc Cases CGE CQ1-16"]
["Gadsden","Circ Crim Drug Trfc Cases","CGE CQ1-17",36183,35838,35538,34963,null,3506,4911,5761,6326,null,null,null,null,null,null,null,"2017-01-11T14:37:09",null,0.09,2,"Gadsden Circ Crim Drug Trfc Cases CGE CQ1-17"]
["Gadsden","Circ Crim Drug Trfc Cases","CGE CQ4-16",33824,33024,32934,32934,32934,2791,5676,7111,8056,9702.3700000000008,null,null,null,null,null,null,"2017-01-11T14:37:09",null,0.09,2,"Gadsden Circ Crim Drug Trfc Cases CGE CQ4-16"]
["Gadsden","Circuit Civil","CGE CQ2-17",69524.2,69524.2,69524.2,null,null,68449.75,68512.75,68512.75,null,null,null,null,null,null,null,null,"2017-01-11T14:37:09",null,0.9,6,"Gadsden Circuit Civil CGE CQ2-17"]
["Gadsden","Circuit Criminal","CGE CQ1-16",90096.2,91571.199999999997,90871.2,90671.2,90671.2,4317,9253,12532,14889,17362,null,null,null,null,null,null,"2017-01-11T14:37:09",null,0.09,1,{"$f":"A1538&\" \"&B1538&\" \"&C1538","v":"Gadsden Circuit Criminal CGE CQ1-16"}]
["Gadsden","Circuit Criminal","CGE CQ1-17",87122,89022,88597,89197,null,2543,4324,5964,7592,null,null,null,null,null,null,null,"2017-01-11T14:37:09",null,0.09,1,"Gadsden Circuit Criminal CGE CQ1-17"]
["Gadsden","Circuit Criminal","CGE CQ4-16",87803,88443,88443,88443,88443,4532,6496,9107,11355,13332.94,null,null,null,null,null,null,"2017-01-11T14:37:09",null,0.09,1,"Gadsden Circuit Criminal CGE CQ4-16"]
["Gadsden","Civil Traffic","CGE CQ2-17",460806.5,444757.5,442174.5,null,null,182278.5,329435.46000000002,341817.5,null,null,null,null,null,null,null,null,"2017-01-11T14:37:09",null,0.9,8,"Gadsden Civil Traffic CGE CQ2-17"]
["Gadsden","County Civil","CGE CQ1-16",33601.760000000002,33601.760000000002,33601.760000000002,33601.760000000002,33601.760000000002,29424.41,33079.410000000003,33079.410000000003,33079.410000000003,33079.410000000003,null,null,null,null,null,null,"2017-01-11T14:37:09",null,0.9,7,"Gadsden County Civil CGE CQ1-16"]
["Gadsden","County Civil","CGE CQ2-17",33358.879999999997,33358.879999999997,33358.879999999997,null,null,31995.88,33183.879999999997,33183.879999999997,null,null,null,null,null,null,null,null,"2017-01-11T14:37:09",null,0.9,7,"Gadsden County Civil CGE CQ2-17"]
["Gadsden","County Civil","CGE CQ4-17",56150.04,null,null,null,null,35830.04,null,null,null,null,null,null,null,null,null,null,"2017-01-11T14:37:09",null,0.9,7,"Gadsden County Civil CGE CQ4-17"]
["Gadsden","County Criminal","CGE CQ3-16",55017,52402,51752,51302,50612,6628,11293,14190,17397,19996,null,null,null,null,null,null,"2017-01-11T14:37:09",null,0.4,3,"Gadsden County Criminal CGE CQ3-16"]
["Gadsden","Criminal Traffic","CGE CQ1-17",97239,94772,93332,93137,null,26818.05,46289.760000000002,54415.74,57127.54,null,null,null,null,null,null,null,"2017-01-11T14:37:09",null,0.4,5,"Gadsden Criminal Traffic CGE CQ1-17"]
["Gadsden","Criminal Traffic","CGE CQ2-16",94943,94744.22,92219.97,90276.97,89936.97,19837.47,37439.019999999997,44533.06,51058.39,56423.360000000001,null,null,null,null,null,null,"2017-01-11T14:37:09",null,0.4,5,"Gadsden Criminal Traffic CGE CQ2-16"]
["Gadsden","Criminal Traffic","CGE CQ4-17",83532.350000000006,null,null,null,null,17584.599999999999,null,null,null,null,null,null,null,null,null,null,"2017-01-11T14:37:09",null,0.4,5,"Gadsden Criminal Traffic CGE CQ4-17"]
["Gadsden","Family","CGE CQ3-16",19190.45,18772.95,18722.95,18722.95,18722.95,16887.95,16960.95,16960.95,16982.95,16982.95,null,null,null,null,null,null,"2017-01-11T14:37:09",null,0.75,10,"Gadsden Family CGE CQ3-16"]
["Gadsden","Juvenile Delinquency","CGE CQ1-17",2190,2190,2190,2190,null,0,0,0,30,null,null,null,null,null,null,null,"2017-01-11T14:37:09",null,0.09,4,"Gadsden Juvenile Delinquency CGE CQ1-17"]
["Gadsden","Juvenile Delinquency","CGE CQ2-16",4270,4270,4270,4270,4270,300,350,350,750,813.5,null,null,null,null,null,null,"2017-01-11T14:37:09",null,0.09,4,"Gadsden Juvenile Delinquency CGE CQ2-16"]
["Gadsden","Juvenile Delinquency","CGE CQ4-17",3390,null,null,null,null,163,null,null,null,null,null,null,null,null,null,null,"2017-01-11T14:37:09",null,0.09,4,"Gadsden Juvenile Delinquency CGE CQ4-17"]
["Gadsden","Probate","CGE CQ3-17",13354.05,13354.05,null,null,null,13085.95,13339.6,null,null,null,null,null,null,null,null,null,"2017-01-11T14:37:09",null,0.9,9,"Gadsden Probate CGE CQ3-17"]
["Gilchrist","Circ Crim Drug Trfc Cases","CGE CQ2-16",0,0,0,0,0,0,0,0,0,0,null,null,null,null,null,null,"2017-01-11T14:37:09",null,0.09,2,"Gilchrist Circ Crim Drug Trfc Cases CGE CQ2-16"]
["Gilchrist","Circ Crim Drug Trfc Cases","CGE CQ2-17",0,0,null,null,null,0,0,null,null,null,null,null,null,null,null,null,"2017-01-11T14:37:09",null,0.09,2,"Gilchrist Circ Crim Drug Trfc Cases CGE CQ2-17"]
["Gilchrist","Circuit Civil","CGE CQ1-16",23397,23399,23397,23397,23397,23397,23399,23397,23397,23397,null,null,null,null,null,null,"2017-01-11T14:37:09",null,0.9,6,"Gilchrist Circuit Civil CGE CQ1-16"]
["Gilchrist","Circuit Civil","CGE CQ3-17",14662,15062,null,null,null,14662,15062,null,null,null,null,null,null,null,null,null,"2017-01-11T14:37:09",null,0.9,6,"Gilchrist Circuit Civil CGE CQ3-17"]
["Gilchrist","Circuit Criminal","CGE CQ2-16",26195,26195,26197,26247,26247,1146,3013,3791,5085,5790,null,null,null,null,null,null,"2017-01-11T14:37:09",null,0.09,1,"Gilchrist Circuit Criminal CGE CQ2-16"]
["Gilchrist","Circuit Criminal","CGE CQ2-17",15511,15511,15511,null,null,695,1129,1129,null,null,null,null,null,null,null,null,"2017-01-11T14:37:09",null,0.09,1,"Gilchrist Circuit Criminal CGE CQ2-17"]
["Gilchrist","Civil Traffic","CGE CQ1-16",23243,21796,21320,21320,21320,9826,18137,19502,19700,19854,null,null,null,null,null,null,"2017-01-11T14:37:09",null,0.9,8,"Gilchrist Civil Traffic CGE CQ1-16"]
["Gilchrist","Civil Traffic","CGE CQ4-17",51557,null,null,null,null,27089,null,null,null,null,null,null,null,null,null,null,"2017-01-11T14:37:09",null,0.9,8,"Gilchrist Civil Traffic CGE CQ4-17"]
["Gilchrist","County Civil","CGE CQ2-17",9126,9126,9126,null,null,9126,9126,9126,null,null,null,null,null,null,null,null,"2017-01-11T14:37:09",null,0.9,7,"Gilchrist County Civil CGE CQ2-17"]
["Gilchrist","County Civil","CGE CQ3-16",9465,9465,9465,9465,9465,9459,9459,9459,9459,9459,null,null,null,null,null,null,"2017-01-11T14:37:09",null,0.9,7,"Gilchrist County Civil CGE CQ3-16"]
["Gilchrist","County Criminal","CGE CQ1-17",11398,11398,11398,11398,null,1187,4210,5040,5564,null,null,null,null,null,null,null,"2017-01-11T14:37:09",null,0.4,3,"Gilchrist County Criminal CGE CQ1-17"]
["Gilchrist","County Criminal","CGE CQ4-16",24701,24806,24824,24824,23791,3255,6229,8904,11757,14008,null,null,null,null,null,null,"2017-01-11T14:37:09",null,0.4,3,"Gilchrist County Criminal CGE CQ4-16"]
["Gilchrist","Criminal Traffic","CGE CQ2-17",18582,18557,18557,null,null,3234,7038,8806,null,null,null,null,null,null,null,null,"2017-01-11T14:37:09",null,0.4,5,"Gilchrist Criminal Traffic CGE CQ2-17"]
["Gilchrist","Criminal Traffic","CGE CQ3-16",16566,16566,16566,16566,16566,3747,4161,5985,9054,9341,null,null,null,null,null,null,"2017-01-11T14:37:09",null,0.4,5,"Gilchrist Criminal Traffic CGE CQ3-16"]
["Gilchrist","Family","CGE CQ1-17",10262,10262,10262,10262,null,10250,10250,10250,10250,null,null,null,null,null,null,null,"2017-01-11T14:37:09",null,0.75,10,"Gilchrist Family CGE CQ1-17"]
["Gilchrist","Family","CGE CQ4-16",13302,13302,13302,13302,13302,11778,11778,11778,11778,11778,null,null,null,null,null,null,"2017-01-11T14:37:09",null,0.75,10,"Gilchrist Family CGE CQ4-16"]
["Gilchrist","Juvenile Delinquency","CGE CQ2-16",3128,3128,2641,2641,2641,21,441,591,591,591,null,null,null,null,null,null,"2017-01-11T14:37:09",null,0.09,4,"Gilchrist Juvenile Delinquency CGE CQ2-16"]
["Gilchrist","Juvenile Delinquency","CGE CQ3-17",250,250,null,null,null,0,0,null,null,null,null,null,null,null,null,null,"2017-01-11T14:37:09",null,0.09,4,"Gilchrist Juvenile Delinquency CGE CQ3-17"]
["Gilchrist","Probate","CGE CQ2-16",5893,5893,5893,5893,5893,5893,5893,5893,5893,5893,null,null,null,null,null,null,"2017-01-11T14:37:09",null,0.9,9,"Gilchrist Probate CGE CQ2-16"]
["Gilchrist","Probate","CGE CQ4-17",5903,null,null,null,null,5903,null,null,null,null,null,null,null,null,null,null,"2017-01-11T14:37:09",null,0.9,9,"Gilchrist Probate CGE CQ4-17"]
["Glades","Circ Crim Drug Trfc Cases","CGE CQ3-16",53050,53050,53050,53050,53050,0,0,0,0,0,null,null,null,null,null,null,"2017-01-11T14:37:09",null,0.09,2,"Glades Circ Crim Drug Trfc Cases CGE CQ3-16"]
["Glades","Circ Crim Drug Trfc Cases","CGE CQ3-17",0,null,null,null,null,0,null,null,null,null,null,null,null,null,null,null,"2017-01-11T14:37:09",null,0.09,2,"Glades Circ Crim Drug Trfc Cases CGE CQ3-17"]
["Glades","Circuit Civil","CGE CQ2-16",15304.19,15744.19,15744.19,15744.19,15744.19,15282.69,15744.19,15744.19,15744.19,15744.19,null,null,null,null,null,null,"2017-01-11T14:37:09",null,0.9,6,"Glades Circuit Civil CGE CQ2-16"]
["Glades","Circuit Civil","CGE CQ4-17",13342.5,null,null,null,null,13342.5,null,null,null,null,null,null,null,null,null,null,"2017-01-11T14:37:09",null,0.9,6,"Glades Circuit Civil CGE CQ4-17"]
["Glades","Circuit Criminal","CGE CQ3-16",113938.35,113938.35,113938.35,113938.35,113938.35,492.38,1715.77,2506.38,2560.38,2802.68,null,null,null,null,null,null,"2017-01-11T14:37:09",null,0.09,1,"Glades Circuit Criminal CGE CQ3-16"]
["Glades","Circuit Criminal","CGE CQ4-16",18176.349999999999,18126.349999999999,18126.349999999999,18176.349999999999,18176.349999999999,2309.44,3556.51,5030.4799999999996,6551.52,7746.85,null,null,null,null,null,null,"2017-01-11T14:37:09",null,0.09,1,"Glades Circuit Criminal CGE CQ4-16"]
["Glades","Civil Traffic","CGE CQ2-17",267696.40000000002,257093.15,253393.15,null,null,99690.15,183056.9,224536.9,null,null,null,null,null,null,null,null,"2017-01-11T14:37:09",null,0.9,8,"Glades Civil Traffic CGE CQ2-17"]
["Glades","County Civil","CGE CQ1-16",2541,2541,2541,2541,2541,2541,2541,2541,2541,2541,null,null,null,null,null,null,"2017-01-11T14:37:09",null,0.9,7,"Glades County Civil CGE CQ1-16"]
["Glades","County Civil","CGE CQ3-17",4305,4305,null,null,null,4305,4305,null,null,null,null,null,null,null,null,null,"2017-01-11T14:37:09",null,0.9,7,"Glades County Civil CGE CQ3-17"]
["Glades","County Civil","CGE CQ4-16",5766.75,5766.75,5766.75,5766.75,5766.75,5571.75,5571.75,5571.75,5571.75,5571.75,null,null,null,null,null,null,"2017-01-11T14:37:09",null,0.9,7,"Glades County Civil CGE CQ4-16"]
["Glades","County Criminal","CGE CQ2-17",13047.5,12207.5,12507.5,null,null,4014,4519,5014,null,null,null,null,null,null,null,null,"2017-01-11T14:37:09",null,0.4,3,"Glades County Criminal CGE CQ2-17"]
["Glades","Criminal Traffic","CGE CQ1-16",24216.5,23773.75,23107.63,23107.63,23107.63,5892,9257,10705.5,10900.5,11025.5,null,null,null,null,null,null,"2017-01-11T14:37:09",null,0.4,5,{"$f":"A1730&\" \"&B1730&\" \"&C1730","v":"Glades Criminal Traffic CGE CQ1-16"}]
["Glades","Criminal Traffic","CGE CQ3-17",28714.75,28714.75,null,null,null,6448,10846,null,null,null,null,null,null,null,null,null,"2017-01-11T14:37:09",null,0.4,5,"Glades Criminal Traffic CGE CQ3-17"]
["Glades","Criminal Traffic","CGE CQ4-16",17176.5,17176.5,17176.5,17176.5,17176.5,3987,6558,8027,8287,9087.5,null,null,null,null,null,null,"2017-01-11T14:37:09",null,0.4,5,"Glades Criminal Traffic CGE CQ4-16"]
["Glades","Family","CGE CQ4-16",4168,4168,4168,4168,4168,3383,3383,3775.5,3775.5,3775.5,null,null,null,null,null,null,"2017-01-11T14:37:09",null,0.75,10,"Glades Family CGE CQ4-16"]
["Glades","Juvenile Delinquency","CGE CQ1-17",410,410,410,410,null,70,70,120,120,null,null,null,null,null,null,null,"2017-01-11T14:37:09",null,0.09,4,"Glades Juvenile Delinquency CGE CQ1-17"]
["Glades","Juvenile Delinquency","CGE CQ4-16",0,0,0,0,0,0,0,0,0,0,null,null,null,null,null,null,"2017-01-11T14:37:09",null,0.09,4,"Glades Juvenile Delinquency CGE CQ4-16"]
["Glades","Juvenile Delinquency","CGE CQ4-17",0,null,null,null,null,0,null,null,null,null,null,null,null,null,null,null,"2017-01-11T14:37:09",null,0.09,4,"Glades Juvenile Delinquency CGE CQ4-17"]
["Glades","Probate","CGE CQ3-16",3521,3521,3521,3521,3521,2735,3480,3480,3480,3480,null,null,null,null,null,null,"2017-01-11T14:37:09",null,0.9,9,"Glades Probate CGE CQ3-16"]
["Gulf","Circ Crim Drug Trfc Cases","CGE CQ1-17",0,0,0,0,null,0,0,0,0,null,null,null,null,null,null,null,"2017-01-11T14:37:09",null,0.09,2,"Gulf Circ Crim Drug Trfc Cases CGE CQ1-17"]
["Gulf","Circ Crim Drug Trfc Cases","CGE CQ4-16",0,0,0,0,0,0,0,0,0,0,null,null,null,null,null,null,"2017-01-11T14:37:09",null,0.09,2,"Gulf Circ Crim Drug Trfc Cases CGE CQ4-16"]
["Gulf","Circ Crim Drug Trfc Cases","CGE CQ4-17",106680,null,null,null,null,0,null,null,null,null,null,null,null,null,null,null,"2017-01-11T14:37:09",null,0.09,2,"Gulf Circ Crim Drug Trfc Cases CGE CQ4-17"]
["Gulf","Circuit Civil","CGE CQ3-16",17826.349999999999,17826.349999999999,17826.349999999999,17826.349999999999,17826.349999999999,17826.349999999999,17826.349999999999,17826.349999999999,17826.349999999999,17826.349999999999,null,null,null,null,null,null,"2017-01-11T14:37:09",null,0.9,6,"Gulf Circuit Civil CGE CQ3-16"]
["Gulf","Circuit Criminal","CGE CQ2-16",70403,70428,69069.45,69069.45,69069.45,2316.71,6461.7,9899.58,11968.33,16555.52,null,null,null,null,null,null,"2017-01-11T14:37:09",null,0.09,1,"Gulf Circuit Criminal CGE CQ2-16"]
["Gulf","Circuit Criminal","CGE CQ4-17",68158.83,null,null,null,null,2013.62,null,null,null,null,null,null,null,null,null,null,"2017-01-11T14:37:09",null,0.09,1,"Gulf Circuit Criminal CGE CQ4-17"]
["Gulf","Civil Traffic","CGE CQ1-16",15431.2,15089.2,15089.2,15089.2,15089.2,7416.2,13147.2,13634.2,14214.2,14292.2,null,null,null,null,null,null,"2017-01-11T14:37:09",null,0.9,8,"Gulf Civil Traffic CGE CQ1-16"]
["Gulf","Civil Traffic","CGE CQ3-17",32293,32029,null,null,null,19837,27718,null,null,null,null,null,null,null,null,null,"2017-01-11T14:37:09",null,0.9,8,"Gulf Civil Traffic CGE CQ3-17"]
["Gulf","County Civil","CGE CQ2-16",8072.96,8072.96,8072.96,8072.96,8072.96,8072.96,8072.96,8072.96,8072.96,8072.96,null,null,null,null,null,null,"2017-01-11T14:37:09",null,0.9,7,"Gulf County Civil CGE CQ2-16"]
["Gulf","County Civil","CGE CQ4-17",7762,null,null,null,null,7762,null,null,null,null,null,null,null,null,null,null,"2017-01-11T14:37:09",null,0.9,7,"Gulf County Civil CGE CQ4-17"]
["Gulf","County Criminal","CGE CQ1-16",12421.06,12421.06,12421.06,12421.06,12421.06,2753.56,4993.5600000000004,5877.06,6892.06,7789.06,null,null,null,null,null,null,"2017-01-11T14:37:09",null,0.4,3,"Gulf County Criminal CGE CQ1-16"]
["Gulf","County Criminal","CGE CQ3-17",20375.61,19870.61,null,null,null,4039.38,9319.3799999999992,null,null,null,null,null,null,null,null,null,"2017-01-11T14:37:09",null,0.4,3,"Gulf County Criminal CGE CQ3-17"]
["Gulf","Criminal Traffic","CGE CQ2-16",16431.73,16431.73,16431.73,16431.73,16431.73,6898.58,10927.58,12617.78,12859.78,13547.78,null,null,null,null,null,null,"2017-01-11T14:37:09",null,0.4,5,"Gulf Criminal Traffic CGE CQ2-16"]
["Gulf","Criminal Traffic","CGE CQ3-17",17658,17658,null,null,null,5162.8,11905.4,null,null,null,null,null,null,null,null,null,"2017-01-11T14:37:09",null,0.4,5,"Gulf Criminal Traffic CGE CQ3-17"]
["Gulf","Family","CGE CQ1-17",8495.7999999999993,8495.7999999999993,8495.7999999999993,8495.7999999999993,null,7885.8,7885.8,7885.8,7885.8,null,null,null,null,null,null,null,"2017-01-11T14:37:09",null,0.75,10,"Gulf Family CGE CQ1-17"]
["Gulf","Family","CGE CQ4-16",8585.7999999999993,8285.7999999999993,7877.8,7877.8,7877.8,7777.8,7777.8,7777.8,7777.8,7777.8,null,null,null,null,null,null,"2017-01-11T14:37:09",null,0.75,10,"Gulf Family CGE CQ4-16"]
["Gulf","Juvenile Delinquency","CGE CQ2-17",60.5,60.5,60.5,null,null,10.5,10.5,10.5,null,null,null,null,null,null,null,null,"2017-01-11T14:37:09",null,0.09,4,"Gulf Juvenile Delinquency CGE CQ2-17"]
["Gulf","Probate","CGE CQ1-16",7389,7389,7389,7389,7389,7389,7389,7389,7389,7389,null,null,null,null,null,null,"2017-01-11T14:37:09",null,0.9,9,"Gulf Probate CGE CQ1-16"]
["Gulf","Probate","CGE CQ1-17",8425,8425,8425,8425,null,8425,8425,8425,8425,null,null,null,null,null,null,null,"2017-01-11T14:37:09",null,0.9,9,"Gulf Probate CGE CQ1-17"]
["Gulf","Probate","CGE CQ4-16",5474,5474,5474,5474,5474,5474,5474,5474,5474,5474,null,null,null,null,null,null,"2017-01-11T14:37:09",null,0.9,9,"Gulf Probate CGE CQ4-16"]
["Hamilton","Circ Crim Drug Trfc Cases","CGE CQ2-17",0,0,null,null,null,0,0,null,null,null,null,null,null,null,null,null,"2017-01-11T14:37:09",null,0.09,2,"Hamilton Circ Crim Drug Trfc Cases CGE CQ2-17"]
["Hamilton","Circuit Civil","CGE CQ1-16",62570.9,62570.9,62570.9,62570.9,62570.9,62110.9,62160.9,62160.9,62160.9,62160.9,null,null,null,null,null,null,"2017-01-11T14:37:09",null,0.9,6,"Hamilton Circuit Civil CGE CQ1-16"]
["Hamilton","Circuit Civil","CGE CQ1-17",39880,39880,39880,39880,null,35460,38660,38660,38660,null,null,null,null,null,null,null,"2017-01-11T14:37:09",null,0.9,6,"Hamilton Circuit Civil CGE CQ1-17"]
["Hamilton","Circuit Civil","CGE CQ4-17",12987,null,null,null,null,10247,null,null,null,null,null,null,null,null,null,null,"2017-01-11T14:37:09",null,0.9,6,"Hamilton Circuit Civil CGE CQ4-17"]
["Hamilton","Circuit Criminal","CGE CQ3-16",16642.759999999998,16642.759999999998,16642.759999999998,17192.759999999998,17372.759999999998,439.32,874.58,1387.79,1870.8,2774.44,null,null,null,null,null,null,"2017-01-11T14:37:09",null,0.09,1,"Hamilton Circuit Criminal CGE CQ3-16"]
["Hamilton","Civil Traffic","CGE CQ1-17",117287,114269.5,114269.5,114800,null,61467.75,90128.5,94949.1,96756.1,null,null,null,null,null,null,null,"2017-01-11T14:37:09",null,0.9,8,"Hamilton Civil Traffic CGE CQ1-17"]
["Hamilton","Civil Traffic","CGE CQ2-16",146158,136814.31,136934.31,136034.31,135908.31,55064,105227.31,112051.31,116035.31,118077.31,null,null,null,null,null,null,"2017-01-11T14:37:09",null,0.9,8,"Hamilton Civil Traffic CGE CQ2-16"]
["Hamilton","Civil Traffic","CGE CQ4-17",140098.48000000001,null,null,null,null,54448.480000000003,null,null,null,null,null,null,null,null,null,null,"2017-01-11T14:37:09",null,0.9,8,"Hamilton Civil Traffic CGE CQ4-17"]
["Hamilton","County Civil","CGE CQ3-16",8164.52,8164.52,8164.52,8164.52,8164.52,7564.52,7864.52,7864.52,7864.52,7864.52,null,null,null,null,null,null,"2017-01-11T14:37:09",null,0.9,7,"Hamilton County Civil CGE CQ3-16"]
["Hamilton","County Criminal","CGE CQ1-17",11895,11895,11895,11895,null,3942,4752,5210,5210,null,null,null,null,null,null,null,"2017-01-11T14:37:09",null,0.4,3,"Hamilton County Criminal CGE CQ1-17"]
["Hamilton","County Criminal","CGE CQ2-16",9643.5,9641.5,9581.5,10260.5,10243.5,2560.5,3268.5,4294.5,6118.5,6776.5,null,null,null,null,null,null,"2017-01-11T14:37:09",null,0.4,3,"Hamilton County Criminal CGE CQ2-16"]
["Hamilton","Criminal Traffic","CGE CQ1-17",36716.5,36733.5,36633.5,36633.5,null,14268,17063,19449,19449,null,null,null,null,null,null,null,"2017-01-11T14:37:09",null,0.4,5,"Hamilton Criminal Traffic CGE CQ1-17"]
["Hamilton","Criminal Traffic","CGE CQ3-17",37777,37777,null,null,null,14736.5,18574,null,null,null,null,null,null,null,null,null,"2017-01-11T14:37:09",null,0.4,5,"Hamilton Criminal Traffic CGE CQ3-17"]
["Hamilton","Family","CGE CQ2-16",6491,6491,6491,6491,6491,6196,6196,6196,6196,6196,null,null,null,null,null,null,"2017-01-11T14:37:09",null,0.75,10,"Hamilton Family CGE CQ2-16"]
["Hamilton","Family","CGE CQ2-17",7622,7622,7622,null,null,6078,6496,6496,null,null,null,null,null,null,null,null,"2017-01-11T14:37:09",null,0.75,10,"Hamilton Family CGE CQ2-17"]
["Hamilton","Juvenile Delinquency","CGE CQ1-16",0,0,0,0,0,0,0,0,0,0,null,null,null,null,null,null,"2017-01-11T14:37:09",null,0.09,4,"Hamilton Juvenile Delinquency CGE CQ1-16"]
["Hamilton","Juvenile Delinquency","CGE CQ3-17",0,0,null,null,null,0,0,null,null,null,null,null,null,null,null,null,"2017-01-11T14:37:09",null,0.09,4,"Hamilton Juvenile Delinquency CGE CQ3-17"]
["Hamilton","Probate","CGE CQ2-16",4876,4876,4876,4876,4876,4531,4876,4876,4876,4876,null,null,null,null,null,null,"2017-01-11T14:37:09",null,0.9,9,"Hamilton Probate CGE CQ2-16"]
["Hamilton","Probate","CGE CQ2-17",5368,5368,5368,null,null,5368,5368,5368,null,null,null,null,null,null,null,null,"2017-01-11T14:37:09",null,0.9,9,"Hamilton Probate CGE CQ2-17"]
["Hardee","Circ Crim Drug Trfc Cases","CGE CQ1-16",0,0,0,0,0,0,0,0,0,0,null,null,null,null,null,null,"2017-01-11T14:37:09",null,0.09,2,{"$f":"A1922&\" \"&B1922&\" \"&C1922","v":"Hardee Circ Crim Drug Trfc Cases CGE CQ1-16"}]
["Hardee","Circ Crim Drug Trfc Cases","CGE CQ3-16",0,0,53840,53840,53840,0,0,0,0,0,null,null,null,null,null,null,"2017-01-11T14:37:09",null,0.09,2,"Hardee Circ Crim Drug Trfc Cases CGE CQ3-16"]
["Hardee","Circuit Civil","CGE CQ2-17",143647.89000000001,143647.89000000001,143647.89000000001,null,null,143197.89000000001,143247.89000000001,143247.89000000001,null,null,null,null,null,null,null,null,"2017-01-11T14:37:09",null,0.9,6,"Hardee Circuit Civil CGE CQ2-17"]
["Hardee","Circuit Civil","CGE CQ3-16",268063.92,268063.92,268063.92,268063.92,165576.37,164323.37,164323.37,164323.37,164323.37,164323.37,null,null,null,null,null,null,"2017-01-11T14:37:09",null,0.9,6,"Hardee Circuit Civil CGE CQ3-16"]
["Hardee","Circuit Criminal","CGE CQ1-17",66877.16,66827.16,66827.16,66777.16,null,1635.94,3013.48,4747.38,6421.31,null,null,null,null,null,null,null,"2017-01-11T14:37:09",null,0.09,1,"Hardee Circuit Criminal CGE CQ1-17"]
["Hardee","Circuit Criminal","CGE CQ4-16",114460.47,114460.47,114460.47,114260.47,114260.47,2070.9,7079.74,12570.71,16215.24,17397.349999999999,null,null,null,null,null,null,"2017-01-11T14:37:09",null,0.09,1,"Hardee Circuit Criminal CGE CQ4-16"]
["Hardee","Civil Traffic","CGE CQ2-17",213316.75,208201.75,207983.75,null,null,101339.5,178220.75,191246.92,null,null,null,null,null,null,null,null,"2017-01-11T14:37:09",null,0.9,8,"Hardee Civil Traffic CGE CQ2-17"]
["Hardee","Civil Traffic","CGE CQ3-16",203701.25,200004.75,198961.75,198961.75,198971.75,103798.25,167399.75,177432.95,183533.74,185630.52,null,null,null,null,null,null,"2017-01-11T14:37:09",null,0.9,8,"Hardee Civil Traffic CGE CQ3-16"]
["Hardee","County Civil","CGE CQ1-17",16257.37,16907.37,16907.37,16907.37,null,16257.37,16257.37,16257.37,16257.37,null,null,null,null,null,null,null,"2017-01-11T14:37:09",null,0.9,7,"Hardee County Civil CGE CQ1-17"]
["Hardee","County Civil","CGE CQ4-16",14480,14480,14480,14480,14480,14160,14160,14160,14160,14160,null,null,null,null,null,null,"2017-01-11T14:37:09",null,0.9,7,"Hardee County Civil CGE CQ4-16"]
["Hardee","County Criminal","CGE CQ1-16",35960,35600,35600,34823,34823,4884,8374,9379,10224,11445,null,null,null,null,null,null,"2017-01-11T14:37:09",null,0.4,3,"Hardee County Criminal CGE CQ1-16"]
["Hardee","County Criminal","CGE CQ3-17",27766.11,27476.11,null,null,null,6444.11,9288.11,null,null,null,null,null,null,null,null,null,"2017-01-11T14:37:09",null,0.4,3,"Hardee County Criminal CGE CQ3-17"]
["Hardee","Criminal Traffic","CGE CQ2-16",84002,84282,84282,82451.63,81259.23,41269,54894.03,58375.33,62001.23,67308.23,null,null,null,null,null,null,"2017-01-11T14:37:09",null,0.4,5,"Hardee Criminal Traffic CGE CQ2-16"]
["Hardee","Criminal Traffic","CGE CQ4-17",44768.89,null,null,null,null,18963.55,null,null,null,null,null,null,null,null,null,null,"2017-01-11T14:37:09",null,0.4,5,"Hardee Criminal Traffic CGE CQ4-17"]
["Hardee","Family","CGE CQ3-16",9328,8920,8920,8920,8570,6052,6452,6452,6452,6812,null,null,null,null,null,null,"2017-01-11T14:37:09",null,0.75,10,"Hardee Family CGE CQ3-16"]
["Hardee","Family","CGE CQ3-17",11404.45,10578.45,null,null,null,9372.4500000000007,9667.4500000000007,null,null,null,null,null,null,null,null,null,"2017-01-11T14:37:09",null,0.75,10,"Hardee Family CGE CQ3-17"]
["Hardee","Juvenile Delinquency","CGE CQ2-16",1264,1214,1214,1164,1164,671,771,921,921,921,null,null,null,null,null,null,"2017-01-11T14:37:09",null,0.09,4,"Hardee Juvenile Delinquency CGE CQ2-16"]
["Hardee","Juvenile Delinquency","CGE CQ4-17",1312.66,null,null,null,null,22.66,null,null,null,null,null,null,null,null,null,null,"2017-01-11T14:37:09",null,0.09,4,"Hardee Juvenile Delinquency CGE CQ4-17"]
["Hardee","Probate","CGE CQ3-16",9189,9189,9189,9189,9189,9189,9189,9189,9189,9189,null,null,null,null,null,null,"2017-01-11T14:37:09",null,0.9,9,"Hardee Probate CGE CQ3-16"]
["Hendry","Circ Crim Drug Trfc Cases","CGE CQ1-16",0,0,0,0,0,0,0,0,0,0,null,null,null,null,null,null,"2017-01-11T14:37:09",null,0.09,2,"Hendry Circ Crim Drug Trfc Cases CGE CQ1-16"]
["Hendry","Circ Crim Drug Trfc Cases","CGE CQ2-17",0,0,0,null,null,0,0,0,null,null,null,null,null,null,null,null,"2017-01-11T14:37:09",null,0.09,2,"Hendry Circ Crim Drug Trfc Cases CGE CQ2-17"]
["Hendry","Circuit Civil","CGE CQ1-16",46368.5,46368.5,45968.5,45968.5,45968.5,43500,43958.5,43958.5,43958.5,43958.5,null,null,null,null,null,null,"2017-01-11T14:37:09",null,0.9,6,"Hendry Circuit Civil CGE CQ1-16"]
["Hendry","Circuit Civil","CGE CQ3-17",38099,38099,null,null,null,38099,38149,null,null,null,null,null,null,null,null,null,"2017-01-11T14:37:09",null,0.9,6,"Hendry Circuit Civil CGE CQ3-17"]
["Hendry","Circuit Civil","CGE CQ4-16",40293,39893,39893,39893,39893,39083,39493,39493,39493,39493,null,null,null,null,null,null,"2017-01-11T14:37:09",null,0.9,6,"Hendry Circuit Civil CGE CQ4-16"]
["Hendry","Circuit Criminal","CGE CQ2-17",60385.5,60385.5,60385.5,null,null,3827.4,10629.68,17576.68,null,null,null,null,null,null,null,null,"2017-01-11T14:37:09",null,0.09,1,"Hendry Circuit Criminal CGE CQ2-17"]
["Hendry","Civil Traffic","CGE CQ1-16",222481.25,222481.25,222481.25,222481.25,222481.25,90681.71,161520.85,192590.85,199806.85,202526.85,null,null,null,null,null,null,"2017-01-11T14:37:09",null,0.9,8,"Hendry Civil Traffic CGE CQ1-16"]
["Hendry","Civil Traffic","CGE CQ3-17",232925.7,232925.7,null,null,null,85825.7,150465.57,null,null,null,null,null,null,null,null,null,"2017-01-11T14:37:09",null,0.9,8,"Hendry Civil Traffic CGE CQ3-17"]
["Hendry","Civil Traffic","CGE CQ4-16",270473.40000000002,258203.8,251626.8,251207.8,250864.8,106216.5,177741.09,207872.27,221358.23,225615.1,null,null,null,null,null,null,"2017-01-11T14:37:09",null,0.9,8,"Hendry Civil Traffic CGE CQ4-16"]
["Hendry","County Civil","CGE CQ3-16",28838,28838,28838,28838,28838,27913,27913,27913,27913,27913,null,null,null,null,null,null,"2017-01-11T14:37:09",null,0.9,7,"Hendry County Civil CGE CQ3-16"]
["Hendry","County Criminal","CGE CQ1-17",91370.05,89115.55,86902.55,84877.55,null,27054.99,36512.58,42688.58,46041.91,null,null,null,null,null,null,null,"2017-01-11T14:37:09",null,0.4,3,"Hendry County Criminal CGE CQ1-17"]
["Hendry","County Criminal","CGE CQ4-16",102673.5,98448,93984,89695.5,86403.82,23589.85,33619.870000000003,43747.85,47838.36,49714.01,null,null,null,null,null,null,"2017-01-11T14:37:09",null,0.4,3,"Hendry County Criminal CGE CQ4-16"]
["Hendry","County Criminal","CGE CQ4-17",77223.5,null,null,null,null,18404.16,null,null,null,null,null,null,null,null,null,null,"2017-01-11T14:37:09",null,0.4,3,"Hendry County Criminal CGE CQ4-17"]
["Hendry","Criminal Traffic","CGE CQ3-16",194394.5,189127.5,182945.39,178907.06,176796.06,76155.289999999994,112627.15,126576.9,134271.01999999999,141750.84,null,null,null,null,null,null,"2017-01-11T14:37:09",null,0.4,5,"Hendry Criminal Traffic CGE CQ3-16"]
["Hendry","Family","CGE CQ1-17",19548.25,19140.25,19140.25,19140.25,null,17916.25,17916.25,17916.25,17916.25,null,null,null,null,null,null,null,"2017-01-11T14:37:09",null,0.75,10,"Hendry Family CGE CQ1-17"]
["Hendry","Family","CGE CQ4-16",23013.45,23013.45,22605.45,22605.45,22605.45,20157.45,20565.45,20565.45,20565.45,20565.45,null,null,null,null,null,null,"2017-01-11T14:37:09",null,0.75,10,"Hendry Family CGE CQ4-16"]
["Hendry","Family","CGE CQ4-17",24314.5,null,null,null,null,23186.5,null,null,null,null,null,null,null,null,null,null,"2017-01-11T14:37:09",null,0.75,10,"Hendry Family CGE CQ4-17"]
["Hendry","Juvenile Delinquency","CGE CQ3-16",1750,1750,1750,1750,1750,0,0,50,50,50,null,null,null,null,null,null,"2017-01-11T14:37:09",null,0.09,4,"Hendry Juvenile Delinquency CGE CQ3-16"]
["Hendry","Juvenile Delinquency","CGE CQ4-17",456,null,null,null,null,6,null,null,null,null,null,null,null,null,null,null,"2017-01-11T14:37:09",null,0.09,4,"Hendry Juvenile Delinquency CGE CQ4-17"]
["Hendry","Probate","CGE CQ4-17",9417,null,null,null,null,9417,null,null,null,null,null,null,null,null,null,null,"2017-01-11T14:37:09",null,0.9,9,"Hendry Probate CGE CQ4-17"]
["Hernando","Circ Crim Drug Trfc Cases","CGE CQ1-16",212147,212147,212147,212147,212147,0,0,0,0,0,null,null,null,null,null,null,"2017-01-11T14:37:09",null,0.09,2,"Hernando Circ Crim Drug Trfc Cases CGE CQ1-16"]
["Hernando","Circ Crim Drug Trfc Cases","CGE CQ3-17",106993.2,107506.2,null,null,null,0,0,null,null,null,null,null,null,null,null,null,"2017-01-11T14:37:09",null,0.09,2,"Hernando Circ Crim Drug Trfc Cases CGE CQ3-17"]
["Hernando","Circuit Civil","CGE CQ2-16",335740,334940,334940,334940,334940,328345.5,334033,334033,334033,334033,null,null,null,null,null,null,"2017-01-11T14:37:09",null,0.9,6,"Hernando Circuit Civil CGE CQ2-16"]
["Hernando","Circuit Civil","CGE CQ4-17",335695.18,null,null,null,null,330855.67999999999,null,null,null,null,null,null,null,null,null,null,"2017-01-11T14:37:09",null,0.9,6,"Hernando Circuit Civil CGE CQ4-17"]
["Hernando","Circuit Criminal","CGE CQ1-16",650412.05000000005,651334.05000000005,643927.05000000005,642518.15,641178.15,17223.96,29899.29,37504.839999999997,43115,51063.81,null,null,null,null,null,null,"2017-01-11T14:37:09",null,0.09,1,"Hernando Circuit Criminal CGE CQ1-16"]
["Hernando","Circuit Criminal","CGE CQ3-17",680740.16,674999.16,null,null,null,30665.88,43440.38,null,null,null,null,null,null,null,null,null,"2017-01-11T14:37:09",null,0.09,1,"Hernando Circuit Criminal CGE CQ3-17"]
["Hernando","Civil Traffic","CGE CQ2-16",998019.03,1299577.78,1131776.83,1052094.83,1043107.83,540874.1,803118.94,872099.08,901289.25,925417.17,null,null,null,null,null,null,"2017-01-11T14:37:09",null,0.9,8,"Hernando Civil Traffic CGE CQ2-16"]
["Hernando","County Civil","CGE CQ1-16",151805.85,151805.85,151805.85,152105.85,152105.85,151115.22,151735.22,151735.22,151735.22,151735.22,null,null,null,null,null,null,"2017-01-11T14:37:09",null,0.9,7,{"$f":"A2114&\" \"&B2114&\" \"&C2114","v":"Hernando County Civil CGE CQ1-16"}]
["Hernando","County Civil","CGE CQ1-17",217335.72,216995.72,216995.72,216995.72,null,214476.22,215678.72,215678.72,215678.72,null,null,null,null,null,null,null,"2017-01-11T14:37:09",null,0.9,7,"Hernando County Civil CGE CQ1-17"]
["Hernando","County Civil","CGE CQ4-16",210796.19,209796.19,209486.19,209486.19,209486.19,207741.19,208951.19,208641.19,208626.76,208626.76,null,null,null,null,null,null,"2017-01-11T14:37:09",null,0.9,7,"Hernando County Civil CGE CQ4-16"]
["Hernando","County Criminal","CGE CQ2-17",321637.27,321192.46999999997,318974.46999999997,null,null,75805.02,123143.21,148583.35999999999,null,null,null,null,null,null,null,null,"2017-01-11T14:37:09",null,0.4,3,"Hernando County Criminal CGE CQ2-17"]
["Hernando","Criminal Traffic","CGE CQ1-16",245876.28,245416.28,243613.28,243544.29,243085.18,81221.59,138764.60999999999,158917.95000000001,165448.67000000001,169430.95,null,null,null,null,null,null,"2017-01-11T14:37:09",null,0.4,5,"Hernando Criminal Traffic CGE CQ1-16"]
["Hernando","Criminal Traffic","CGE CQ1-17",203379.48,203221.23,202572.23,202134.23,null,80048.34,113917.24,129824.12,138047.98000000001,null,null,null,null,null,null,null,"2017-01-11T14:37:09",null,0.4,5,"Hernando Criminal Traffic CGE CQ1-17"]
["Hernando","Criminal Traffic","CGE CQ4-16",220923.7,219740.7,219399.7,219449.7,219790.7,80453.22,116587.64,139353.51999999999,147631.85,152308.81,null,null,null,null,null,null,"2017-01-11T14:37:09",null,0.4,5,"Hernando Criminal Traffic CGE CQ4-16"]
["Hernando","Family","CGE CQ2-17",99590.6,99604.6,99604.6,null,null,90381.6,94536.6,94536.6,null,null,null,null,null,null,null,null,"2017-01-11T14:37:09",null,0.75,10,"Hernando Family CGE CQ2-17"]
["Hernando","Juvenile Delinquency","CGE CQ1-16",5377.97,5377.97,5239.97,5239.97,5239.97,439.97,611.45000000000005,620.97,620.97,620.97,null,null,null,null,null,null,"2017-01-11T14:37:09",null,0.09,4,"Hernando Juvenile Delinquency CGE CQ1-16"]
["Hernando","Juvenile Delinquency","CGE CQ2-17",10370.5,10320.5,10752.5,null,null,409.5,459.5,509.5,null,null,null,null,null,null,null,null,"2017-01-11T14:37:09",null,0.09,4,"Hernando Juvenile Delinquency CGE CQ2-17"]
["Hernando","Juvenile Delinquency","CGE CQ4-17",10988.72,null,null,null,null,614,null,null,null,null,null,null,null,null,null,null,"2017-01-11T14:37:09",null,0.09,4,"Hernando Juvenile Delinquency CGE CQ4-17"]
["Hernando","Probate","CGE CQ3-16",96991.360000000001,96906.36,96906.36,96906.36,96906.36,94987.36,95961.35,95961.36,95961.36,95961.36,null,null,null,null,null,null,"2017-01-11T14:37:09",null,0.9,9,"Hernando Probate CGE CQ3-16"]
["Highlands","Circ Crim Drug Trfc Cases","CGE CQ1-17",0,0,0,0,null,0,0,0,0,null,null,null,null,null,null,null,"2017-01-11T14:37:09",null,0.09,2,"Highlands Circ Crim Drug Trfc Cases CGE CQ1-17"]
["Highlands","Circ Crim Drug Trfc Cases","CGE CQ2-16",100000,100000,100000,100000,100000,0,0,0,0,0,null,null,null,null,null,null,"2017-01-11T14:37:09",null,0.09,2,"Highlands Circ Crim Drug Trfc Cases CGE CQ2-16"]
["Highlands","Circ Crim Drug Trfc Cases","CGE CQ4-17",0,null,null,null,null,0,null,null,null,null,null,null,null,null,null,null,"2017-01-11T14:37:09",null,0.09,2,"Highlands Circ Crim Drug Trfc Cases CGE CQ4-17"]
["Highlands","Circuit Civil","CGE CQ3-16",122337.7,122580.2,122580.2,122580.2,122580.2,122337.7,122580.2,122580.2,122580.2,122580.2,null,null,null,null,null,null,"2017-01-11T14:37:09",null,0.9,6,"Highlands Circuit Civil CGE CQ3-16"]
["Highlands","Circuit Criminal","CGE CQ1-17",228466.71,228316.71,230852.71,230802.71,null,5015.82,7605.4,13353.89,18283.12,null,null,null,null,null,null,null,"2017-01-11T14:37:09",null,0.09,1,"Highlands Circuit Criminal CGE CQ1-17"]
["Highlands","Circuit Criminal","CGE CQ2-16",363097.44,363247.44,363497.44,363775.44,363825.44,2707.48,6889.56,9103.4,11752.41,14275.53,null,null,null,null,null,null,"2017-01-11T14:37:09",null,0.09,1,"Highlands Circuit Criminal CGE CQ2-16"]
["Highlands","Circuit Criminal","CGE CQ4-17",236310.79,null,null,null,null,7119.44,null,null,null,null,null,null,null,null,null,null,"2017-01-11T14:37:09",null,0.09,1,"Highlands Circuit Criminal CGE CQ4-17"]
["Highlands","Civil Traffic","CGE CQ3-17",265393.25,265543.25,null,null,null,127619.75,206753.25,null,null,null,null,null,null,null,null,null,"2017-01-11T14:37:09",null,0.9,8,"Highlands Civil Traffic CGE CQ3-17"]
["Highlands","County Civil","CGE CQ2-16",76240.320000000007,76250.320000000007,76250.320000000007,76250.320000000007,76250.320000000007,76055.320000000007,76250.320000000007,76250.320000000007,76250.320000000007,76250.320000000007,null,null,null,null,null,null,"2017-01-11T14:37:09",null,0.9,7,"Highlands County Civil CGE CQ2-16"]
["Highlands","County Civil","CGE CQ2-17",81234.69,81234.69,81234.69,null,null,80914.69,81234.69,81234.69,null,null,null,null,null,null,null,null,"2017-01-11T14:37:09",null,0.9,7,"Highlands County Civil CGE CQ2-17"]
["Highlands","County Criminal","CGE CQ1-16",103961.8,104049.8,103966.8,103966.8,103966.8,9373.0499999999993,14794.05,20314.509999999998,23580.54,29473.51,null,null,null,null,null,null,"2017-01-11T14:37:09",null,0.4,3,"Highlands County Criminal CGE CQ1-16"]
["Highlands","County Criminal","CGE CQ3-17",130375.75,130275.75,null,null,null,10952.25,15879.25,null,null,null,null,null,null,null,null,null,"2017-01-11T14:37:09",null,0.4,3,"Highlands County Criminal CGE CQ3-17"]
["Highlands","Criminal Traffic","CGE CQ2-16",141376.75,141356.75,141356.75,141356.75,171662.25,25170.25,41402.68,51462.59,55619.199999999997,65039.75,null,null,null,null,null,null,"2017-01-11T14:37:09",null,0.4,5,"Highlands Criminal Traffic CGE CQ2-16"]
["Highlands","Criminal Traffic","CGE CQ2-17",141378,141378,141378,null,null,27324.25,45775.25,59696.5,null,null,null,null,null,null,null,null,"2017-01-11T14:37:09",null,0.4,5,"Highlands Criminal Traffic CGE CQ2-17"]
["Highlands","Family","CGE CQ1-16",35023,35994.5,35994.5,35994.5,36094.5,32657,33628.5,33628.5,33628.5,33628.5,null,null,null,null,null,null,"2017-01-11T14:37:09",null,0.75,10,"Highlands Family CGE CQ1-16"]
["Highlands","Family","CGE CQ4-17",42784,null,null,null,null,37633,null,null,null,null,null,null,null,null,null,null,"2017-01-11T14:37:09",null,0.75,10,"Highlands Family CGE CQ4-17"]
["Highlands","Juvenile Delinquency","CGE CQ2-17",23387.91,23610.91,23610.91,null,null,1094.5,2342.02,3321.5,null,null,null,null,null,null,null,null,"2017-01-11T14:37:09",null,0.09,4,"Highlands Juvenile Delinquency CGE CQ2-17"]
["Highlands","Juvenile Delinquency","CGE CQ3-16",14454.5,13761.47,12919.17,12719.17,12519.17,595.5,657.14,1210.1400000000001,1645.07,2025.54,null,null,null,null,null,null,"2017-01-11T14:37:09",null,0.09,4,"Highlands Juvenile Delinquency CGE CQ3-16"]
["Highlands","Probate","CGE CQ1-17",36156.5,36156.5,36156.5,36156.5,null,35925.5,35925.5,35925.5,35925.5,null,null,null,null,null,null,null,"2017-01-11T14:37:09",null,0.9,9,"Highlands Probate CGE CQ1-17"]
["Highlands","Probate","CGE CQ4-16",55845,55845,55845,55849,55849,55383,55383,55383,55383,55383,null,null,null,null,null,null,"2017-01-11T14:37:09",null,0.9,9,"Highlands Probate CGE CQ4-16"]
["Hillsborough","Circ Crim Drug Trfc Cases","CGE CQ2-17",4863921,4863921,4863921,null,null,87.74,989.16,795.99,null,null,null,null,null,null,null,null,"2017-01-11T14:37:09",null,0.09,2,"Hillsborough Circ Crim Drug Trfc Cases CGE CQ2-17"]
["Hillsborough","Circ Crim Drug Trfc Cases","CGE CQ3-16",11083957,11083957,11083957,11083957,11083957,76.92,10903.85,1258.1600000000001,829.89,1231.75,null,null,null,null,null,null,"2017-01-11T14:37:09",null,0.09,2,"Hillsborough Circ Crim Drug Trfc Cases CGE CQ3-16"]
["Hillsborough","Circuit Civil","CGE CQ1-17",2516050,2507951,2507851,2507681,null,2415698,2466328,2473252,2475425,null,null,null,null,null,null,null,"2017-01-11T14:37:09",null,0.9,6,"Hillsborough Circuit Civil CGE CQ1-17"]
["Hillsborough","Circuit Civil","CGE CQ4-16",2693072,2687157,2686749,2686349,2686349,2618954,2645737,2654122,2655605,2655814,null,null,null,null,null,null,"2017-01-11T14:37:09",null,0.9,6,"Hillsborough Circuit Civil CGE CQ4-16"]
["Hillsborough","Circuit Criminal","CGE CQ2-16",7290202,7254166,7244455,7239099,7121019,239252,287843,342947,389499,427088,null,null,null,null,null,null,"2017-01-11T14:37:09",null,0.09,1,"Hillsborough Circuit Criminal CGE CQ2-16"]
["Hillsborough","Circuit Criminal","CGE CQ3-17",8064336,8094138,null,null,null,254154,336021,null,null,null,null,null,null,null,null,null,"2017-01-11T14:37:09",null,0.09,1,"Hillsborough Circuit Criminal CGE CQ3-17"]
["Hillsborough","Civil Traffic","CGE CQ2-16",8198371,6428749,6154503,6089543,6036149,2896763,4383783,4688131,4789455,4896842,null,null,null,null,null,null,"2017-01-11T14:37:09",null,0.9,8,"Hillsborough Civil Traffic CGE CQ2-16"]
["Hillsborough","Civil Traffic","CGE CQ4-17",9647183,null,null,null,null,3148603,null,null,null,null,null,null,null,null,null,null,"2017-01-11T14:37:09",null,0.9,8,"Hillsborough Civil Traffic CGE CQ4-17"]
["Hillsborough","County Civil","CGE CQ3-16",2161769,2159169,2159172,2159172,2158862,2109526,2109631,2109975,2110025,2110107,null,null,null,null,null,null,"2017-01-11T14:37:09",null,0.9,7,"Hillsborough County Civil CGE CQ3-16"]
["Hillsborough","County Civil","CGE CQ3-17",1957301,1954586,null,null,null,1941228,1941146,null,null,null,null,null,null,null,null,null,"2017-01-11T14:37:09",null,0.9,7,"Hillsborough County Civil CGE CQ3-17"]
["Hillsborough","County Criminal","CGE CQ2-16",1565860,1484515,1467413,1461202,1457159,154398,283160,333265,358583,374348,null,null,null,null,null,null,"2017-01-11T14:37:09",null,0.4,3,"Hillsborough County Criminal CGE CQ2-16"]
["Hillsborough","County Criminal","CGE CQ4-17",1857260,null,null,null,null,382156,null,null,null,null,null,null,null,null,null,null,"2017-01-11T14:37:09",null,0.4,3,"Hillsborough County Criminal CGE CQ4-17"]
["Hillsborough","Criminal Traffic","CGE CQ3-16",8325252,7004844,6667970,6544693,6496007,3018491,4374748,4816764,5131421,5245641,null,null,null,null,null,null,"2017-01-11T14:37:09",null,0.4,5,"Hillsborough Criminal Traffic CGE CQ3-16"]
["Hillsborough","Criminal Traffic","CGE CQ4-16",10463289,9054853,8317832,8129401,8058135,3261422,5003718,5879322,6182106,6315795,null,null,null,null,null,null,"2017-01-11T14:37:09",null,0.4,5,"Hillsborough Criminal Traffic CGE CQ4-16"]
["Hillsborough","Family","CGE CQ2-17",766128,755217,752334,null,null,713404,719629,722267,null,null,null,null,null,null,null,null,"2017-01-11T14:37:09",null,0.75,10,"Hillsborough Family CGE CQ2-17"]
["Hillsborough","Juvenile Delinquency","CGE CQ1-16",107122,105379,104681,104582,104482,5542,10868,13785,14938,15777,null,null,null,null,null,null,"2017-01-11T14:37:09",null,0.09,4,{"$f":"A2306&\" \"&B2306&\" \"&C2306","v":"Hillsborough Juvenile Delinquency CGE CQ1-16"}]
["Hillsborough","Juvenile Delinquency","CGE CQ3-17",115359,112124,null,null,null,5036,9470,null,null,null,null,null,null,null,null,null,"2017-01-11T14:37:09",null,0.09,4,"Hillsborough Juvenile Delinquency CGE CQ3-17"]
["Hillsborough","Juvenile Delinquency","CGE CQ4-16",118436,117836,117436,117236,117086,5702,11977,16049,18282,18982,null,null,null,null,null,null,"2017-01-11T14:37:09",null,0.09,4,"Hillsborough Juvenile Delinquency CGE CQ4-16"]
["Hillsborough","Probate","CGE CQ2-17",337298,336267,336182,null,null,325635,329132,329827,null,null,null,null,null,null,null,null,"2017-01-11T14:37:09",null,0.9,9,"Hillsborough Probate CGE CQ2-17"]
["Holmes","Circ Crim Drug Trfc Cases","CGE CQ1-16",53093,53093,53093,53093,53093,0,0,0,0,0,null,null,null,null,null,null,"2017-01-11T14:37:09",null,0.09,2,"Holmes Circ Crim Drug Trfc Cases CGE CQ1-16"]
["Holmes","Circ Crim Drug Trfc Cases","CGE CQ3-17",0,0,null,null,null,0,0,null,null,null,null,null,null,null,null,null,"2017-01-11T14:37:09",null,0.09,2,"Holmes Circ Crim Drug Trfc Cases CGE CQ3-17"]
["Holmes","Circ Crim Drug Trfc Cases","CGE CQ4-16",0,0,0,0,0,0,0,0,0,0,null,null,null,null,null,null,"2017-01-11T14:37:09",null,0.09,2,"Holmes Circ Crim Drug Trfc Cases CGE CQ4-16"]
["Holmes","Circuit Civil","CGE CQ4-16",108010,108010,108010,108010,108010,106810,106810,106810,106810,106810,null,null,null,null,null,null,"2017-01-11T14:37:09",null,0.9,6,"Holmes Circuit Civil CGE CQ4-16"]
["Holmes","Circuit Criminal","CGE CQ1-17",165239.84,165139.84,165089.84,164539.84,null,1427.43,8216.2999999999993,13008.45,14932.96,null,null,null,null,null,null,null,"2017-01-11T14:37:09",null,0.09,1,"Holmes Circuit Criminal CGE CQ1-17"]
["Holmes","Circuit Criminal","CGE CQ4-16",236886,234716,234166,233666,230800.81,2340.37,8745.6,15034.09,20976.6,23913.72,null,null,null,null,null,null,"2017-01-11T14:37:09",null,0.09,1,"Holmes Circuit Criminal CGE CQ4-16"]
["Holmes","Circuit Criminal","CGE CQ4-17",327081.81,null,null,null,null,2865.34,null,null,null,null,null,null,null,null,null,null,"2017-01-11T14:37:09",null,0.09,1,"Holmes Circuit Criminal CGE CQ4-17"]
["Holmes","Civil Traffic","CGE CQ3-16",134869.15,134254.39999999999,135405.4,135405.4,135405.4,71991.490000000005,114043.41,119328.15,122808.4,123400.4,null,null,null,null,null,null,"2017-01-11T14:37:09",null,0.9,8,"Holmes Civil Traffic CGE CQ3-16"]
["Holmes","County Civil","CGE CQ1-17",15081.5,15081.5,15081.5,15081.5,null,15081.5,15081.5,15081.5,15081.5,null,null,null,null,null,null,null,"2017-01-11T14:37:09",null,0.9,7,"Holmes County Civil CGE CQ1-17"]
["Holmes","County Civil","CGE CQ4-16",11440.5,11440.5,11440.5,11440.5,11440.5,11440.5,11440.5,11440.5,11440.5,11440.5,null,null,null,null,null,null,"2017-01-11T14:37:09",null,0.9,7,"Holmes County Civil CGE CQ4-16"]
["Holmes","County Civil","CGE CQ4-17",13097,null,null,null,null,13097,null,null,null,null,null,null,null,null,null,null,"2017-01-11T14:37:09",null,0.9,7,"Holmes County Civil CGE CQ4-17"]
["Holmes","County Criminal","CGE CQ3-16",41871.730000000003,41871.730000000003,41245.339999999997,40771.339999999997,40066.339999999997,8111.94,15738.78,19036.95,21532.400000000001,22359.35,null,null,null,null,null,null,"2017-01-11T14:37:09",null,0.4,3,"Holmes County Criminal CGE CQ3-16"]
["Holmes","Criminal Traffic","CGE CQ2-16",24933.25,24933.25,24933.25,24933.25,24933.25,7462.44,12923.6,14949.35,15836.85,17397.47,null,null,null,null,null,null,"2017-01-11T14:37:09",null,0.4,5,"Holmes Criminal Traffic CGE CQ2-16"]
["Holmes","Criminal Traffic","CGE CQ4-17",37733.51,null,null,null,null,7576.16,null,null,null,null,null,null,null,null,null,null,"2017-01-11T14:37:09",null,0.4,5,"Holmes Criminal Traffic CGE CQ4-17"]
["Holmes","Family","CGE CQ1-16",16080.56,16080.56,16080.56,16080.56,16080.56,14148.56,14273.56,14273.56,14273.56,14273.56,null,null,null,null,null,null,"2017-01-11T14:37:09",null,0.75,10,"Holmes Family CGE CQ1-16"]
["Holmes","Family","CGE CQ3-17",14482.95,14482.95,null,null,null,13116.95,13116.95,null,null,null,null,null,null,null,null,null,"2017-01-11T14:37:09",null,0.75,10,"Holmes Family CGE CQ3-17"]
["Holmes","Juvenile Delinquency","CGE CQ2-16",639,639,639,639,639,0,213,326,326,326,null,null,null,null,null,null,"2017-01-11T14:37:09",null,0.09,4,"Holmes Juvenile Delinquency CGE CQ2-16"]
["Holmes","Juvenile Delinquency","CGE CQ4-17",300,null,null,null,null,0,null,null,null,null,null,null,null,null,null,null,"2017-01-11T14:37:09",null,0.09,4,"Holmes Juvenile Delinquency CGE CQ4-17"]
["Holmes","Probate","CGE CQ1-16",8859,8859,8859,8859,8859,8859,8859,8859,8859,8859,null,null,null,null,null,null,"2017-01-11T14:37:09",null,0.9,9,"Holmes Probate CGE CQ1-16"]
["Holmes","Probate","CGE CQ3-17",5213,5213,null,null,null,5213,5213,null,null,null,null,null,null,null,null,null,"2017-01-11T14:37:09",null,0.9,9,"Holmes Probate CGE CQ3-17"]
["Indian River","Circ Crim Drug Trfc Cases","CGE CQ2-16",1016659.91,1016659.91,1016659.91,1016659.91,1016659.91,131.97999999999999,664.62,664.62,664.62,664.62,null,null,null,null,null,null,"2017-01-11T14:37:09",null,0.09,2,"Indian River Circ Crim Drug Trfc Cases CGE CQ2-16"]
["Indian River","Circ Crim Drug Trfc Cases","CGE CQ3-17",941,941,null,null,null,0,0,null,null,null,null,null,null,null,null,null,"2017-01-11T14:37:09",null,0.09,2,"Indian River Circ Crim Drug Trfc Cases CGE CQ3-17"]
["Indian River","Circuit Civil","CGE CQ1-17",213666.53,213166.53,213166.53,213166.53,null,207505.03,212771.53,212771.53,212771.53,null,null,null,null,null,null,null,"2017-01-11T14:37:09",null,0.9,6,"Indian River Circuit Civil CGE CQ1-17"]
["Indian River","Circuit Civil","CGE CQ4-16",254874.46,254424.46,254024.46,254024.46,254024.46,244726,253068.5,253853.96,253853.96,253853.96,null,null,null,null,null,null,"2017-01-11T14:37:09",null,0.9,6,"Indian River Circuit Civil CGE CQ4-16"]
["Indian River","Circuit Criminal","CGE CQ2-17",364387.24,362723.24,362312.74,null,null,15214.49,18561.650000000001,21341.46,null,null,null,null,null,null,null,null,"2017-01-11T14:37:09",null,0.09,1,"Indian River Circuit Criminal CGE CQ2-17"]
["Indian River","Civil Traffic","CGE CQ1-16",800190.09,784160.72,782942.22,782842.22,782852.26,445477.13,686586.04,723495.19,733141.48,737861.65,null,null,null,null,null,null,"2017-01-11T14:37:09",null,0.9,8,"Indian River Civil Traffic CGE CQ1-16"]
["Indian River","Civil Traffic","CGE CQ1-17",636346.38,620272.88,618632.88,618459.88,null,322450.40999999997,535749.57999999996,561936.21,570290.21,null,null,null,null,null,null,null,"2017-01-11T14:37:09",null,0.9,8,"Indian River Civil Traffic CGE CQ1-17"]
["Indian River","Civil Traffic","CGE CQ4-16",591321.79,613277.64,613199.64,612578.64,612431.64,340556.65,518323.3,557268.53,566540.37,569712.27,null,null,null,null,null,null,"2017-01-11T14:37:09",null,0.9,8,"Indian River Civil Traffic CGE CQ4-16"]
["Indian River","County Civil","CGE CQ2-17",132693.75,132499.75,132499.75,null,null,126295.25,132324.75,132374.75,null,null,null,null,null,null,null,null,"2017-01-11T14:37:09",null,0.9,7,"Indian River County Civil CGE CQ2-17"]
["Indian River","County Criminal","CGE CQ1-16",144285.03,144065.03,143927.57999999999,162105.29999999999,164698.26999999999,41245.440000000002,67541.990000000005,76479.37,89067.12,93372.29,null,null,null,null,null,null,"2017-01-11T14:37:09",null,0.4,3,"Indian River County Criminal CGE CQ1-16"]
["Indian River","County Criminal","CGE CQ1-17",195485.7,194852.46,194815.58,194376.08,null,59949.24,93064.58,106164.87,112344.79,null,null,null,null,null,null,null,"2017-01-11T14:37:09",null,0.4,3,"Indian River County Criminal CGE CQ1-17"]
["Indian River","County Criminal","CGE CQ4-17",190511.79,null,null,null,null,50240.25,null,null,null,null,null,null,null,null,null,null,"2017-01-11T14:37:09",null,0.4,3,"Indian River County Criminal CGE CQ4-17"]
["Indian River","Criminal Traffic","CGE CQ3-16",231613.17,249171.58,249487.18,249375.93,249375.93,92176.65,145221.67000000001,166952.16,186988.95,194455.63,null,null,null,null,null,null,"2017-01-11T14:37:09",null,0.4,5,"Indian River Criminal Traffic CGE CQ3-16"]
["Indian River","Family","CGE CQ1-17",64129.62,63718.12,63718.12,63718.12,null,61091.62,62304.62,62304.62,62309.62,null,null,null,null,null,null,null,"2017-01-11T14:37:09",null,0.75,10,"Indian River Family CGE CQ1-17"]
["Indian River","Family","CGE CQ2-16",92820.55,92525.55,92480.79,92474.54,92472.16,87735.02,91671.02,91676.26,91670.01,91670.01,null,null,null,null,null,null,"2017-01-11T14:37:09",null,0.75,10,"Indian River Family CGE CQ2-16"]
["Indian River","Family","CGE CQ4-17",83603.58,null,null,null,null,76542.59,null,null,null,null,null,null,null,null,null,null,"2017-01-11T14:37:09",null,0.75,10,"Indian River Family CGE CQ4-17"]
["Indian River","Juvenile Delinquency","CGE CQ3-16",24676,24676,25206.5,24953,24953,1767.5,2514.1999999999998,3719.44,4885.68,5046.45,null,null,null,null,null,null,"2017-01-11T14:37:09",null,0.09,4,"Indian River Juvenile Delinquency CGE CQ3-16"]
["Indian River","Probate","CGE CQ1-17",78754,77554,77554,77319,null,76011.5,77319,77319,77319,null,null,null,null,null,null,null,"2017-01-11T14:37:09",null,0.9,9,"Indian River Probate CGE CQ1-17"]
["Indian River","Probate","CGE CQ2-16",91497.5,90862.5,90053.5,90053.5,90053.5,85241.5,90053.5,90053.5,90053.5,90053.5,null,null,null,null,null,null,"2017-01-11T14:37:09",null,0.9,9,"Indian River Probate CGE CQ2-16"]
["Jackson","Circ Crim Drug Trfc Cases","CGE CQ1-17",null,null,null,null,null,"Qtr 1","Qtr 2","Qtr 3","Qtr 4",null,null,null,null,null,null,null,"2017-01-11T14:37:09",null,0.09,2,"Jackson Circ Crim Drug Trfc Cases CGE CQ1-17"]
["Jackson","Circ Crim Drug Trfc Cases","CGE CQ3-17",0,0,null,null,null,"Qtr 1","Qtr 2",null,null,null,null,null,null,null,null,null,"2017-01-11T14:37:09",null,0.09,2,"Jackson Circ Crim Drug Trfc Cases CGE CQ3-17"]
["Jackson","Circuit Civil","CGE CQ2-16",68597.990000000005,68597.990000000005,68647.990000000005,68647.990000000005,68647.990000000005,67962.990000000005,68592.990000000005,68642.990000000005,68642.990000000005,68642.990000000005,null,null,null,null,null,null,"2017-01-11T14:37:09",null,0.9,6,"Jackson Circuit Civil CGE CQ2-16"]
["Jackson","Circuit Civil","CGE CQ2-17",40352,40352,40352,null,null,40349,40352,40352,null,null,null,null,null,null,null,null,"2017-01-11T14:37:09",null,0.9,6,"Jackson Circuit Civil CGE CQ2-17"]
["Jackson","Circuit Criminal","CGE CQ1-16",121444.5,121444.5,121444.5,121444.5,120574.82,753.1,5662.33,11673.19,14322.86,16930.240000000002,null,null,null,null,null,null,"2017-01-11T14:37:09",null,0.09,1,{"$f":"A2498&\" \"&B2498&\" \"&C2498","v":"Jackson Circuit Criminal CGE CQ1-16"}]
["Jackson","Circuit Criminal","CGE CQ3-17",408493.25,408493.25,null,null,null,2661.59,5651.22,null,null,null,null,null,null,null,null,null,"2017-01-11T14:37:09",null,0.09,1,"Jackson Circuit Criminal CGE CQ3-17"]
["Jackson","Civil Traffic","CGE CQ2-16",398194.25,403409.25,404026.25,402944.25,402683.25,175341.25,323887.25,346412.25,354095.25,364233.25,null,null,null,null,null,null,"2017-01-11T14:37:09",null,0.9,8,"Jackson Civil Traffic CGE CQ2-16"]
["Jackson","Civil Traffic","CGE CQ2-17",379650.8,375782.05,374766.05,null,null,176095.3,310639.59999999998,327507.8,null,null,null,null,null,null,null,null,"2017-01-11T14:37:09",null,0.9,8,"Jackson Civil Traffic CGE CQ2-17"]
["Jackson","County Civil","CGE CQ1-16",35748.75,35748.75,35748.75,35748.75,35748.75,34818.75,35748.75,35748.75,35748.75,35748.75,null,null,null,null,null,null,"2017-01-11T14:37:09",null,0.9,7,"Jackson County Civil CGE CQ1-16"]
["Jackson","County Civil","CGE CQ3-16",38267,38264,38264,38264,38264,38264,38264,38264,38264,38264,null,null,null,null,null,null,"2017-01-11T14:37:09",null,0.9,7,"Jackson County Civil CGE CQ3-16"]
["Jackson","County Criminal","CGE CQ2-17",20020.86,18138.86,17843.86,null,null,4802.04,8840.86,10312.86,null,null,null,null,null,null,null,null,"2017-01-11T14:37:09",null,0.4,3,"Jackson County Criminal CGE CQ2-17"]
["Jackson","County Criminal","CGE CQ3-16",38777.5,35851,35181,33394,33029,9262,15634,18488,21280,21867,null,null,null,null,null,null,"2017-01-11T14:37:09",null,0.4,3,"Jackson County Criminal CGE CQ3-16"]
["Jackson","Criminal Traffic","CGE CQ1-17",36636.5,33878.5,31336.5,31036.5,null,15023.5,21864.5,23940.5,24713.5,null,null,null,null,null,null,null,"2017-01-11T14:37:09",null,0.4,5,"Jackson Criminal Traffic CGE CQ1-17"]
["Jackson","Criminal Traffic","CGE CQ4-16",40719,37893,37593,37570,37570,19323,24768,29730,30914,31662,null,null,null,null,null,null,"2017-01-11T14:37:09",null,0.4,5,"Jackson Criminal Traffic CGE CQ4-16"]
["Jackson","Family","CGE CQ2-17",33878,33878,33878,null,null,33070,33070,33070,null,null,null,null,null,null,null,null,"2017-01-11T14:37:09",null,0.75,10,"Jackson Family CGE CQ2-17"]
["Jackson","Family","CGE CQ3-16",21827.32,981,981,981,981,21827.32,981,981,981,981,null,null,null,null,null,null,"2017-01-11T14:37:09",null,0.75,10,"Jackson Family CGE CQ3-16"]
["Jackson","Juvenile Delinquency","CGE CQ1-17",1495,1495,1495,1495,null,0,0,0,0,null,null,null,null,null,null,null,"2017-01-11T14:37:09",null,0.09,4,"Jackson Juvenile Delinquency CGE CQ1-17"]
["Jackson","Juvenile Delinquency","CGE CQ4-16",1338.5,1338.5,1103.5,1103.5,1103.5,318.5,318.5,318.5,318.5,318.5,null,null,null,null,null,null,"2017-01-11T14:37:09",null,0.09,4,"Jackson Juvenile Delinquency CGE CQ4-16"]
["Jackson","Probate","CGE CQ1-16",14945,14945,14945,14945,14945,14945,14945,14945,14945,14945,null,null,null,null,null,null,"2017-01-11T14:37:09",null,0.9,9,"Jackson Probate CGE CQ1-16"]
["Jackson","Probate","CGE CQ3-17",23159.47,23159.47,null,null,null,21897.47,22697.47,null,null,null,null,null,null,null,null,null,"2017-01-11T14:37:09",null,0.9,9,"Jackson Probate CGE CQ3-17"]
["Jefferson","Circ Crim Drug Trfc Cases","CGE CQ2-16",0,0,0,0,0,0,0,0,0,0,null,null,null,null,null,null,"2017-01-11T14:37:09",null,0.09,2,"Jefferson Circ Crim Drug Trfc Cases CGE CQ2-16"]
["Jefferson","Circ Crim Drug Trfc Cases","CGE CQ4-17",0,null,null,null,null,0,null,null,null,null,null,null,null,null,null,null,"2017-01-11T14:37:09",null,0.09,2,"Jefferson Circ Crim Drug Trfc Cases CGE CQ4-17"]
["Jefferson","Circuit Civil","CGE CQ3-16",20200,20150,20150,20150,20150,19791,20150,20150,20150,20150,null,null,null,null,null,null,"2017-01-11T14:37:09",null,0.9,6,"Jefferson Circuit Civil CGE CQ3-16"]
["Jefferson","Circuit Civil","CGE CQ3-17",17637,17637,null,null,null,17637,17637,null,null,null,null,null,null,null,null,null,"2017-01-11T14:37:09",null,0.9,6,"Jefferson Circuit Civil CGE CQ3-17"]
["Jefferson","Circuit Criminal","CGE CQ2-16",23621.75,23621.75,22840.25,22458.5,22456.58,2550,3211.31,4950.1400000000003,6363.99,7254.86,null,null,null,null,null,null,"2017-01-11T14:37:09",null,0.09,1,"Jefferson Circuit Criminal CGE CQ2-16"]
["Jefferson","Circuit Criminal","CGE CQ4-17",8162.75,null,null,null,null,832.59,null,null,null,null,null,null,null,null,null,null,"2017-01-11T14:37:09",null,0.09,1,"Jefferson Circuit Criminal CGE CQ4-17"]
["Jefferson","Civil Traffic","CGE CQ3-16",210514,198785.5,198034.5,198011.5,197578,82276.5,162703,171320,175957,179627,null,null,null,null,null,null,"2017-01-11T14:37:09",null,0.9,8,"Jefferson Civil Traffic CGE CQ3-16"]
["Jefferson","County Civil","CGE CQ1-16",6546,6546,6546,6546,6546,6546,6546,6546,6546,6546,null,null,null,null,null,null,"2017-01-11T14:37:09",null,0.9,7,"Jefferson County Civil CGE CQ1-16"]
["Jefferson","County Civil","CGE CQ2-17",5125,5125,5125,null,null,4620,4620,4620,null,null,null,null,null,null,null,null,"2017-01-11T14:37:09",null,0.9,7,"Jefferson County Civil CGE CQ2-17"]
["Jefferson","County Criminal","CGE CQ1-16",7069,6537.25,6537.25,6537.25,6537.25,1385,2275.75,3446.5,3526.5,3626.5,null,null,null,null,null,null,"2017-01-11T14:37:09",null,0.4,3,"Jefferson County Criminal CGE CQ1-16"]
["Jefferson","County Criminal","CGE CQ3-17",5401.75,5168.75,null,null,null,1894,2094,null,null,null,null,null,null,null,null,null,"2017-01-11T14:37:09",null,0.4,3,"Jefferson County Criminal CGE CQ3-17"]
["Jefferson","County Criminal","CGE CQ4-16",5123.75,4989.75,4619,4619,4619,1139,2377.5,2653.5,3395.5,3470.5,null,null,null,null,null,null,"2017-01-11T14:37:09",null,0.4,3,"Jefferson County Criminal CGE CQ4-16"]
["Jefferson","Criminal Traffic","CGE CQ2-17",21554,17247,17247,null,null,4419,6894,8569,null,null,null,null,null,null,null,null,"2017-01-11T14:37:09",null,0.4,5,"Jefferson Criminal Traffic CGE CQ2-17"]
["Jefferson","Family","CGE CQ1-16",6318,6318,6318,6318,6318,5475.5,5526,5525.5,5525.5,5525.5,null,null,null,null,null,null,"2017-01-11T14:37:09",null,0.75,10,"Jefferson Family CGE CQ1-16"]
["Jefferson","Family","CGE CQ3-17",6876.5,6876.5,null,null,null,5061.5,5559.5,null,null,null,null,null,null,null,null,null,"2017-01-11T14:37:09",null,0.75,10,"Jefferson Family CGE CQ3-17"]
["Jefferson","Family","CGE CQ4-16",8744.5,8744.5,8744.5,8347,8347,8247,8274,8274,8274,8274,null,null,null,null,null,null,"2017-01-11T14:37:09",null,0.75,10,"Jefferson Family CGE CQ4-16"]
["Jefferson","Juvenile Delinquency","CGE CQ3-16",0,0,0,0,0,0,0,0,0,0,null,null,null,null,null,null,"2017-01-11T14:37:09",null,0.09,4,"Jefferson Juvenile Delinquency CGE CQ3-16"]
["Jefferson","Probate","CGE CQ1-17",4699,4699,4699,4599,null,4699,4699,4699,4699,null,null,null,null,null,null,null,"2017-01-11T14:37:09",null,0.9,9,"Jefferson Probate CGE CQ1-17"]
["Jefferson","Probate","CGE CQ4-16",4707,4707,4707,4707,4707,4707,4707,4707,4707,4707,null,null,null,null,null,null,"2017-01-11T14:37:09",null,0.9,9,"Jefferson Probate CGE CQ4-16"]
["Jefferson","Probate","CGE CQ4-17",3354,null,null,null,null,3354,null,null,null,null,null,null,null,null,null,null,"2017-01-11T14:37:09",null,0.9,9,"Jefferson Probate CGE CQ4-17"]
["Lafayette","Circ Crim Drug Trfc Cases","CGE CQ3-16",0,0,100250,100250,100250,100250,100250,0,0,0,null,null,null,null,null,null,"2017-01-11T14:37:09",null,0.09,2,"Lafayette Circ Crim Drug Trfc Cases CGE CQ3-16"]
["Lafayette","Circuit Civil","CGE CQ1-17",6260,6260,6260,6260,null,4295,6260,6260,6260,null,null,null,null,null,null,null,"2017-01-11T14:37:09",null,0.9,6,"Lafayette Circuit Civil CGE CQ1-17"]
["Lafayette","Circuit Civil","CGE CQ4-16",6675,6675,6675,6675,6675,6275,6275,6275,6275,6275,null,null,null,null,null,null,"2017-01-11T14:37:09",null,0.9,6,"Lafayette Circuit Civil CGE CQ4-16"]
["Lafayette","Circuit Civil","CGE CQ4-17",3535,null,null,null,null,2630,null,null,null,null,null,null,null,null,null,null,"2017-01-11T14:37:09",null,0.9,6,"Lafayette Circuit Civil CGE CQ4-17"]
["Lafayette","Circuit Criminal","CGE CQ3-16",151955.04999999999,151955.04999999999,151955.04999999999,151955.04999999999,151955.04999999999,98.08,665.4,846.63,1247.43,1391.67,null,null,null,null,null,null,"2017-01-11T14:37:09",null,0.09,1,"Lafayette Circuit Criminal CGE CQ3-16"]
["Lafayette","Circuit Criminal","CGE CQ4-17",19359.62,null,null,null,null,50,null,null,null,null,null,null,null,null,null,null,"2017-01-11T14:37:09",null,0.09,1,"Lafayette Circuit Criminal CGE CQ4-17"]
["Lafayette","Civil Traffic","CGE CQ4-17",12842.4,null,null,null,null,5959.4,null,null,null,null,null,null,null,null,null,null,"2017-01-11T14:37:09",null,0.9,8,"Lafayette Civil Traffic CGE CQ4-17"]
["Lafayette","County Civil","CGE CQ1-16",5333,5333,5333,5333,5333,5323,5323,5323,5323,5323,null,null,null,null,null,null,"2017-01-11T14:37:09",null,0.9,7,"Lafayette County Civil CGE CQ1-16"]
["Lafayette","County Civil","CGE CQ3-17",4714,4714,null,null,null,4714,4714,null,null,null,null,null,null,null,null,null,"2017-01-11T14:37:09",null,0.9,7,"Lafayette County Civil CGE CQ3-17"]
["Lafayette","County Criminal","CGE CQ2-16",10728.5,10728.5,10728.5,10728.5,10728.5,1383,1383,1555,3387,6568,null,null,null,null,null,null,"2017-01-11T14:37:09",null,0.4,3,"Lafayette County Criminal CGE CQ2-16"]
["Lafayette","County Criminal","CGE CQ4-17",4908,null,null,null,null,270,null,null,null,null,null,null,null,null,null,null,"2017-01-11T14:37:09",null,0.4,3,"Lafayette County Criminal CGE CQ4-17"]
["Lafayette","Criminal Traffic","CGE CQ1-16",2189.75,2189.75,2189.75,2189.75,2189.75,553,1153,1546,1546,1546,null,null,null,null,null,null,"2017-01-11T14:37:09",null,0.4,5,{"$f":"A2690&\" \"&B2690&\" \"&C2690","v":"Lafayette Criminal Traffic CGE CQ1-16"}]
["Lafayette","Criminal Traffic","CGE CQ3-17",6479,6479,null,null,null,2850,3924,null,null,null,null,null,null,null,null,null,"2017-01-11T14:37:09",null,0.4,5,"Lafayette Criminal Traffic CGE CQ3-17"]
["Lafayette","Family","CGE CQ2-16",4254,4254,4254,4254,4254,4254,4254,4254,4254,4254,null,null,null,null,null,null,"2017-01-11T14:37:09",null,0.75,10,"Lafayette Family CGE CQ2-16"]
["Lafayette","Juvenile Delinquency","CGE CQ1-16",250,250,250,250,250,150,250,250,250,250,null,null,null,null,null,null,"2017-01-11T14:37:09",null,0.09,4,"Lafayette Juvenile Delinquency CGE CQ1-16"]
["Lafayette","Juvenile Delinquency","CGE CQ1-17",70,70,70,70,null,0,0,70,70,null,null,null,null,null,null,null,"2017-01-11T14:37:09",null,0.09,4,"Lafayette Juvenile Delinquency CGE CQ1-17"]
["Lafayette","Juvenile Delinquency","CGE CQ4-16",0,0,0,0,0,0,0,0,0,0,null,null,null,null,null,null,"2017-01-11T14:37:09",null,0.09,4,"Lafayette Juvenile Delinquency CGE CQ4-16"]
["Lafayette","Probate","CGE CQ2-17",2650,2650,2650,null,null,2650,2650,2650,null,null,null,null,null,null,null,null,"2017-01-11T14:37:09",null,0.9,9,"Lafayette Probate CGE CQ2-17"]
["Lake","Circ Crim Drug Trfc Cases","CGE CQ1-16",950000,850000,850000,850000,850000,0,94.33,219.41,294.41000000000003,294.41000000000003,null,null,null,null,null,null,"2017-01-11T14:37:09",null,0.09,2,"Lake Circ Crim Drug Trfc Cases CGE CQ1-16"]
["Lake","Circ Crim Drug Trfc Cases","CGE CQ1-17",100250,100250,100250,100250,null,0,0,1467.29,1467.29,null,null,null,null,null,null,null,"2017-01-11T14:37:09",null,0.09,2,"Lake Circ Crim Drug Trfc Cases CGE CQ1-17"]
["Lake","Circ Crim Drug Trfc Cases","CGE CQ4-16",250000,250000,250000,250000,250000,0,0,0,0,0,null,null,null,null,null,null,"2017-01-11T14:37:09",null,0.09,2,"Lake Circ Crim Drug Trfc Cases CGE CQ4-16"]
["Lake","Circuit Civil","CGE CQ2-17",545751.37,545496.37,545496.37,null,null,537982.86,538449.36,538501.86,null,null,null,null,null,null,null,null,"2017-01-11T14:37:09",null,0.9,6,"Lake Circuit Civil CGE CQ2-17"]
["Lake","Circuit Criminal","CGE CQ1-16",2021344.19,1918490.69,1917685.69,1767316.69,1716152.19,31977.040000000001,65360.12,83438.22,101288.48,117167.24,null,null,null,null,null,null,"2017-01-11T14:37:09",null,0.09,1,"Lake Circuit Criminal CGE CQ1-16"]
["Lake","Circuit Criminal","CGE CQ2-17",1143376.4099999999,1141102.4099999999,1140502.4099999999,null,null,22658.13,41329.199999999997,53764.02,null,null,null,null,null,null,null,null,"2017-01-11T14:37:09",null,0.09,1,"Lake Circuit Criminal CGE CQ2-17"]
["Lake","Circuit Criminal","CGE CQ4-17",1730425.94,null,null,null,null,25195.119999999999,null,null,null,null,null,null,null,null,null,null,"2017-01-11T14:37:09",null,0.09,1,"Lake Circuit Criminal CGE CQ4-17"]
["Lake","Civil Traffic","CGE CQ3-16",1701825.97,1502182.43,1482267.32,1480883.3,1478303.8,810785.22,1224306.71,1291561.78,1340917.8400000001,1355290.6,null,null,null,null,null,null,"2017-01-11T14:37:09",null,0.9,8,"Lake Civil Traffic CGE CQ3-16"]
["Lake","County Civil","CGE CQ1-17",263471.09999999998,263471.09999999998,263471.09999999998,263422.09999999998,null,262336.03000000003,262339.25,262339.25,262339.25,null,null,null,null,null,null,null,"2017-01-11T14:37:09",null,0.9,7,"Lake County Civil CGE CQ1-17"]
["Lake","County Civil","CGE CQ2-16",311628.17,311608.17,311138.17,311138.17,311138.17,308462.78999999998,311007.18,311007.18,311007.18,311007.18,null,null,null,null,null,null,"2017-01-11T14:37:09",null,0.9,7,"Lake County Civil CGE CQ2-16"]
["Lake","County Civil","CGE CQ4-17",266920.74,null,null,null,null,266288.45,null,null,null,null,null,null,null,null,null,null,"2017-01-11T14:37:09",null,0.9,7,"Lake County Civil CGE CQ4-17"]
["Lake","County Criminal","CGE CQ3-16",643374.62,633761.12,629564.12,627439.12,626964.12,79076.350000000006,128845.59,158291.04,177765.56,189023.23,null,null,null,null,null,null,"2017-01-11T14:37:09",null,0.4,3,"Lake County Criminal CGE CQ3-16"]
["Lake","Criminal Traffic","CGE CQ1-17",385016.42,382701.32,382041.73,381758.73,null,109877.1,160798.92000000001,186140.89,198413.8,null,null,null,null,null,null,null,"2017-01-11T14:37:09",null,0.4,5,"Lake Criminal Traffic CGE CQ1-17"]
["Lake","Criminal Traffic","CGE CQ2-16",460496.09,457235.09,454163.51,454087.51,453825.01,135843.76,189278.68,228734.43,249856.78,268991.31,null,null,null,null,null,null,"2017-01-11T14:37:09",null,0.4,5,"Lake Criminal Traffic CGE CQ2-16"]
["Lake","Criminal Traffic","CGE CQ4-17",306070.48,null,null,null,null,82655.37,null,null,null,null,null,null,null,null,null,null,"2017-01-11T14:37:09",null,0.4,5,"Lake Criminal Traffic CGE CQ4-17"]
["Lake","Family","CGE CQ3-17",194235.9,190702.9,null,null,null,172197.35,178112.47,null,null,null,null,null,null,null,null,null,"2017-01-11T14:37:09",null,0.75,10,"Lake Family CGE CQ3-17"]
["Lake","Juvenile Delinquency","CGE CQ2-16",8520.5,8520.5,8520.5,8520.5,8520.5,879.5,1412.5,1683.82,1792.15,1792.15,null,null,null,null,null,null,"2017-01-11T14:37:09",null,0.09,4,"Lake Juvenile Delinquency CGE CQ2-16"]
["Lake","Juvenile Delinquency","CGE CQ2-17",30528.799999999999,30478.799999999999,30478.799999999999,null,null,526.5,1478.12,1946.12,null,null,null,null,null,null,null,null,"2017-01-11T14:37:09",null,0.09,4,"Lake Juvenile Delinquency CGE CQ2-17"]
["Lake","Probate","CGE CQ1-16",105427.34,105427.34,105427.34,105427.34,105427.34,104796.34,104796.34,104796.34,105427.34,105427.34,null,null,null,null,null,null,"2017-01-11T14:37:09",null,0.9,9,"Lake Probate CGE CQ1-16"]
["Lake","Probate","CGE CQ3-17",117839.15,117039.15,null,null,null,114979.06,114979.06,null,null,null,null,null,null,null,null,null,"2017-01-11T14:37:09",null,0.9,9,"Lake Probate CGE CQ3-17"]
["Lee","Circ Crim Drug Trfc Cases","CGE CQ2-16",740190,740090,739990,739994,739790,50,50,50,50,50,null,null,null,null,null,null,"2017-01-11T14:37:09",null,0.09,2,"Lee Circ Crim Drug Trfc Cases CGE CQ2-16"]
["Lee","Circ Crim Drug Trfc Cases","CGE CQ2-17",1057851,1056845,1056845,null,null,33,33,33,null,null,null,null,null,null,null,null,"2017-01-11T14:37:09",null,0.09,2,"Lee Circ Crim Drug Trfc Cases CGE CQ2-17"]
["Lee","Circuit Civil","CGE CQ1-16",1760696,1757497,1757214,1757214,1754540,1707485,1717912,1721642,1723706,1722415,null,null,null,null,null,null,"2017-01-11T14:37:09",null,0.9,6,"Lee Circuit Civil CGE CQ1-16"]
["Lee","Circuit Civil","CGE CQ4-17",1092106,null,null,null,null,1071427,null,null,null,null,null,null,null,null,null,null,"2017-01-11T14:37:09",null,0.9,6,"Lee Circuit Civil CGE CQ4-17"]
["Lee","Circuit Criminal","CGE CQ2-17",1678912,1667726,1666312,null,null,17092,50076,73877,null,null,null,null,null,null,null,null,"2017-01-11T14:37:09",null,0.09,1,"Lee Circuit Criminal CGE CQ2-17"]
["Lee","Circuit Criminal","CGE CQ3-16",3715917,3837614,3535373,3524455,3522803,22251,64490,81497,111190,134925,null,null,null,null,null,null,"2017-01-11T14:37:09",null,0.09,1,"Lee Circuit Criminal CGE CQ3-16"]
["Lee","Civil Traffic","CGE CQ1-17",4990790,3959835,3742676,3691859,null,1969274,2834721,3015369,3095457,null,null,null,null,null,null,null,"2017-01-11T14:37:09",null,0.9,8,"Lee Civil Traffic CGE CQ1-17"]
["Lee","Civil Traffic","CGE CQ4-16",4833024,3977559,3721364,3641402,3613629,1808405,2628239,2897742,2995092,3047776,null,null,null,null,null,null,"2017-01-11T14:37:09",null,0.9,8,"Lee Civil Traffic CGE CQ4-16"]
["Lee","County Civil","CGE CQ2-17",611618,611122,611122,null,null,609454,609287,609349,null,null,null,null,null,null,null,null,"2017-01-11T14:37:09",null,0.9,7,"Lee County Civil CGE CQ2-17"]
["Lee","County Civil","CGE CQ3-16",612991,612626,610601,610226,610226,609877,610393,608676,608001,608028,null,null,null,null,null,null,"2017-01-11T14:37:09",null,0.9,7,"Lee County Civil CGE CQ3-16"]
["Lee","County Criminal","CGE CQ1-17",477334,446089,438615,435893,null,63131,134961,170406,180559,null,null,null,null,null,null,null,"2017-01-11T14:37:09",null,0.4,3,"Lee County Criminal CGE CQ1-17"]
["Lee","County Criminal","CGE CQ4-16",540178,421460,415621,413324,411319,77903,119370,156520,171750,182144,null,null,null,null,null,null,"2017-01-11T14:37:09",null,0.4,3,"Lee County Criminal CGE CQ4-16"]
["Lee","Criminal Traffic","CGE CQ2-16",955133,945330,966516,897906,894634,347092,493897,592145,631663,676920,null,null,null,null,null,null,"2017-01-11T14:37:09",null,0.4,5,"Lee Criminal Traffic CGE CQ2-16"]
["Lee","Criminal Traffic","CGE CQ3-17",971415,963472,null,null,null,360140,486005,null,null,null,null,null,null,null,null,null,"2017-01-11T14:37:09",null,0.4,5,"Lee Criminal Traffic CGE CQ3-17"]
["Lee","Family","CGE CQ2-16",435078,422309,421290,432493,432248,410108,412540,413139,418366,418363,null,null,null,null,null,null,"2017-01-11T14:37:09",null,0.75,10,"Lee Family CGE CQ2-16"]
["Lee","Family","CGE CQ4-17",449075,null,null,null,null,417603,null,null,null,null,null,null,null,null,null,null,"2017-01-11T14:37:09",null,0.75,10,"Lee Family CGE CQ4-17"]
["Lee","Juvenile Delinquency","CGE CQ3-16",71763,82088,33870,52209,52209,10452,13342,7296,11873,12069,null,null,null,null,null,null,"2017-01-11T14:37:09",null,0.09,4,"Lee Juvenile Delinquency CGE CQ3-16"]
["Lee","Juvenile Delinquency","CGE CQ3-17",46171,21761,null,null,null,15735,2693,null,null,null,null,null,null,null,null,null,"2017-01-11T14:37:09",null,0.09,4,"Lee Juvenile Delinquency CGE CQ3-17"]
["Lee","Probate","CGE CQ2-16",274881,269971,269971,269971,269971,270168,269400,269400,269400,269400,null,null,null,null,null,null,"2017-01-11T14:37:09",null,0.9,9,"Lee Probate CGE CQ2-16"]
["Lee","Probate","CGE CQ4-17",262239,null,null,null,null,261092,null,null,null,null,null,null,null,null,null,null,"2017-01-11T14:37:09",null,0.9,9,"Lee Probate CGE CQ4-17"]
["Leon","Circ Crim Drug Trfc Cases","CGE CQ3-16",56039.94,56039.94,56039.94,56039.94,56039.94,17,34,34,605.42999999999995,623.29,null,null,null,null,null,null,"2017-01-11T14:37:09",null,0.09,2,"Leon Circ Crim Drug Trfc Cases CGE CQ3-16"]
["Leon","Circ Crim Drug Trfc Cases","CGE CQ4-16",217199.74,217199.74,217199.74,217199.74,217199.74,588,588,605,605,854.09,null,null,null,null,null,null,"2017-01-11T14:37:09",null,0.09,2,"Leon Circ Crim Drug Trfc Cases CGE CQ4-16"]
["Leon","Circuit Civil","CGE CQ2-17",494855.69,482645.69,483395.69,null,null,434456.69,440571.42,440627.42,null,null,null,null,null,null,null,null,"2017-01-11T14:37:09",null,0.9,6,"Leon Circuit Civil CGE CQ2-17"]
["Leon","Circuit Criminal","CGE CQ1-16",1010150.55,1007817.82,1009420.12,1008092.26,1012775.37,55526.63,78509.16,94371.35,108050.39,122527.42,null,null,null,null,null,null,"2017-01-11T14:37:09",null,0.09,1,"Leon Circuit Criminal CGE CQ1-16"]
["Leon","Circuit Criminal","CGE CQ3-17",1445984.28,1448768.47,null,null,null,105862.17,129428.07,null,null,null,null,null,null,null,null,null,"2017-01-11T14:37:09",null,0.09,1,"Leon Circuit Criminal CGE CQ3-17"]
["Leon","Circuit Criminal","CGE CQ4-16",1109868.67,1207482.72,1205531.92,1203473.58,1202674.94,84873.16,171008.69,197200.85,217752.35,229679.01,null,null,null,null,null,null,"2017-01-11T14:37:09",null,0.09,1,"Leon Circuit Criminal CGE CQ4-16"]
["Leon","Civil Traffic","CGE CQ2-17",1738891.13,1666353.13,1631191.13,null,null,762644.13,1288119.3799999999,1416496.03,null,null,null,null,null,null,null,null,"2017-01-11T14:37:09",null,0.9,8,"Leon Civil Traffic CGE CQ2-17"]
["Leon","County Civil","CGE CQ1-16",313708.24,313678.24,313668.24,313618.24,313063.24,305387.24,309023.24,309013.24,309198.24,309323.24,null,null,null,null,null,null,"2017-01-11T14:37:09",null,0.9,7,"Leon County Civil CGE CQ1-16"]
["Leon","County Civil","CGE CQ3-17",316129.74,315067.74,null,null,null,308363.74,310052.74,null,null,null,null,null,null,null,null,null,"2017-01-11T14:37:09",null,0.9,7,"Leon County Civil CGE CQ3-17"]
["Leon","County Civil","CGE CQ4-16",304906.84000000003,282255.98,282191.88,282191.88,282191.88,297437.55,278078.63,278155.24,278255.24,278280.24,null,null,null,null,null,null,"2017-01-11T14:37:09",null,0.9,7,"Leon County Civil CGE CQ4-16"]
["Leon","County Criminal","CGE CQ4-16",434164.65,366014.54,363575.91,363691.61,362986.28,68206.03,96555.47,112382.3,121950.79,128091.09,null,null,null,null,null,null,"2017-01-11T14:37:09",null,0.4,3,"Leon County Criminal CGE CQ4-16"]
["Leon","Criminal Traffic","CGE CQ1-17",328478.65999999997,327765.71999999997,326228.03999999998,325764.78999999998,null,91359.61,121669.12,140442.32,150698.17000000001,null,null,null,null,null,null,null,"2017-01-11T14:37:09",null,0.4,5,"Leon Criminal Traffic CGE CQ1-17"]
["Leon","Criminal Traffic","CGE CQ4-16",345008.68,353977.08,352243.4,350837.84,350597.94,69028.37,119628.77,144025.99,157791.72,169683.05,null,null,null,null,null,null,"2017-01-11T14:37:09",null,0.4,5,"Leon Criminal Traffic CGE CQ4-16"]
["Leon","Criminal Traffic","CGE CQ4-17",297903.96000000002,null,null,null,null,85190.31,null,null,null,null,null,null,null,null,null,null,"2017-01-11T14:37:09",null,0.4,5,"Leon Criminal Traffic CGE CQ4-17"]
["Leon","Family","CGE CQ3-16",131404.20000000001,129261.7,129236.7,129236.7,129211.7,111419.9,113006.26,113341.75999999999,113552.26,113752.26,null,null,null,null,null,null,"2017-01-11T14:37:09",null,0.75,10,"Leon Family CGE CQ3-16"]
["Leon","Juvenile Delinquency","CGE CQ1-17",22020.95,6331,6331,6331,null,480.95,5981,5981,5981,null,null,null,null,null,null,null,"2017-01-11T14:37:09",null,0.09,4,"Leon Juvenile Delinquency CGE CQ1-17"]
["Leon","Juvenile Delinquency","CGE CQ4-16",15772.5,19871.400000000001,4914.25,4914.25,4914.25,656.5,1611.4,4314.25,4314.25,4314.25,null,null,null,null,null,null,"2017-01-11T14:37:09",null,0.09,4,"Leon Juvenile Delinquency CGE CQ4-16"]
["Leon","Juvenile Delinquency","CGE CQ4-17",42531.87,null,null,null,null,2352.79,null,null,null,null,null,null,null,null,null,null,"2017-01-11T14:37:09",null,0.09,4,"Leon Juvenile Delinquency CGE CQ4-17"]
["Leon","Probate","CGE CQ3-16",74000,73765,71780,71718,71633,68902,70843,70843,70843,70758,null,null,null,null,null,null,"2017-01-11T14:37:09",null,0.9,9,"Leon Probate CGE CQ3-16"]
["Levy","Circ Crim Drug Trfc Cases","CGE CQ2-16",0,0,0,null,null,0,0,0,null,null,null,null,null,null,null,null,"2017-01-11T14:37:09",null,0.09,2,"Levy Circ Crim Drug Trfc Cases CGE CQ2-16"]
["Levy","Circ Crim Drug Trfc Cases","CGE CQ4-17",null,null,null,null,null,null,null,null,null,null,null,null,null,null,null,null,"2017-01-11T14:37:09",null,0.09,2,"Levy Circ Crim Drug Trfc Cases CGE CQ4-17"]
["Levy","Circuit Civil","CGE CQ1-16",64024.7,64104.7,64014.7,64014.7,64014.7,61049.7,63294.7,63294.7,63319.7,63319.7,null,null,null,null,null,null,"2017-01-11T14:37:09",null,0.9,6,"Levy Circuit Civil CGE CQ1-16"]
["Levy","Circuit Civil","CGE CQ3-17",48014.78,46764.78,null,null,null,42184.28,45969.78,null,null,null,null,null,null,null,null,null,"2017-01-11T14:37:09",null,0.9,6,"Levy Circuit Civil CGE CQ3-17"]
["Levy","Circuit Criminal","CGE CQ2-16",98771.5,108391.5,108341.5,107575.5,107475.5,1510,3201.22,6225.32,7691.78,12676.39,null,null,null,null,null,null,"2017-01-11T14:37:09",null,0.09,1,"Levy Circuit Criminal CGE CQ2-16"]
["Levy","Circuit Criminal","CGE CQ4-17",111946.3,null,null,null,null,290.3,null,null,null,null,null,null,null,null,null,null,"2017-01-11T14:37:09",null,0.09,1,"Levy Circuit Criminal CGE CQ4-17"]
["Levy","Civil Traffic","CGE CQ1-16",164833.60000000001,163274.85999999999,112328.86,163244.85999999999,163244.85999999999,65584.62,95186.94,98981.46,100717.61,101534.61,null,null,null,null,null,null,"2017-01-11T14:37:09",null,0.9,8,"Levy Civil Traffic CGE CQ1-16"]
["Levy","Civil Traffic","CGE CQ3-17",173165.2,169474.3,null,null,null,75354.600000000006,106865.3,null,null,null,null,null,null,null,null,null,"2017-01-11T14:37:09",null,0.9,8,"Levy Civil Traffic CGE CQ3-17"]
["Levy","County Civil","CGE CQ2-16",35584,35284,35469,35469,35469,31014,35134,35134,35134,35134,null,null,null,null,null,null,"2017-01-11T14:37:09",null,0.9,7,"Levy County Civil CGE CQ2-16"]
["Levy","County Civil","CGE CQ3-17",30185.11,30185.11,null,null,null,27250.11,28840.11,null,null,null,null,null,null,null,null,null,"2017-01-11T14:37:09",null,0.9,7,"Levy County Civil CGE CQ3-17"]
["Levy","County Criminal","CGE CQ1-17",36391.300000000003,35060.879999999997,34712.58,34018.480000000003,null,6200.8,10349.629999999999,12058.38,13420.53,null,null,null,null,null,null,null,"2017-01-11T14:37:09",null,0.4,3,"Levy County Criminal CGE CQ1-17"]
["Levy","County Criminal","CGE CQ4-16",33642.449999999997,28327.95,27094.7,26364.7,26092.2,3721.7,9286.44,11698.85,13804.95,14220.45,null,null,null,null,null,null,"2017-01-11T14:37:09",null,0.4,3,"Levy County Criminal CGE CQ4-16"]
["Levy","Criminal Traffic","CGE CQ2-17",46420,45871.5,43313.5,null,null,5498.25,13004.25,17917.25,null,null,null,null,null,null,null,null,"2017-01-11T14:37:09",null,0.4,5,"Levy Criminal Traffic CGE CQ2-17"]
["Levy","Family","CGE CQ1-16",31660.84,35782.839999999997,30957.84,35782.839999999997,35732.839999999997,25672.09,28641.51,28884.51,28994.51,28994.51,null,null,null,null,null,null,"2017-01-11T14:37:09",null,0.75,10,"Levy Family CGE CQ1-16"]
["Levy","Family","CGE CQ1-17",28525.5,28525.5,28525.5,28525.5,null,20164.45,21994.69,22662.13,22900.13,null,null,null,null,null,null,null,"2017-01-11T14:37:09",null,0.75,10,"Levy Family CGE CQ1-17"]
["Levy","Family","CGE CQ4-16",29478.58,29478.58,29478.58,29478.58,29478.58,22473.63,26201.68,26329.34,26496.22,26496.22,null,null,null,null,null,null,"2017-01-11T14:37:09",null,0.75,10,"Levy Family CGE CQ4-16"]
["Levy","Juvenile Delinquency","CGE CQ2-17",1156,1156,1156,null,null,636,921,921,null,null,null,null,null,null,null,null,"2017-01-11T14:37:09",null,0.09,4,"Levy Juvenile Delinquency CGE CQ2-17"]
["Levy","Probate","CGE CQ1-16",12473.5,12619.5,12388.5,12619.5,12619.5,12182.5,12138.5,12138.5,12138.5,12138.5,null,null,null,null,null,null,"2017-01-11T14:37:09",null,0.9,9,"Levy Probate CGE CQ1-16"]
["Levy","Probate","CGE CQ1-17",13000.5,13000.5,13000.5,13000.5,null,11444.5,13000.5,13000.5,13000.5,null,null,null,null,null,null,null,"2017-01-11T14:37:09",null,0.9,9,"Levy Probate CGE CQ1-17"]
["Levy","Probate","CGE CQ4-17",12914.5,null,null,null,null,11421.5,null,null,null,null,null,null,null,null,null,null,"2017-01-11T14:37:09",null,0.9,9,"Levy Probate CGE CQ4-17"]
["Liberty","Circ Crim Drug Trfc Cases","CGE CQ3-16",875,875,875,875,875,0,0,0,0,0,null,null,null,null,null,null,"2017-01-11T14:37:09",null,0.09,2,"Liberty Circ Crim Drug Trfc Cases CGE CQ3-16"]
["Liberty","Circuit Civil","CGE CQ1-17",4375,4375,4375,4375,null,2775,2775,2874.4,2874.4,null,null,null,null,null,null,null,"2017-01-11T14:37:09",null,0.9,6,"Liberty Circuit Civil CGE CQ1-17"]
["Liberty","Circuit Civil","CGE CQ2-16",4858,4858,4858,4858,4858,4458,4458,4458,4458,4458,null,null,null,null,null,null,"2017-01-11T14:37:09",null,0.9,6,"Liberty Circuit Civil CGE CQ2-16"]
["Liberty","Circuit Civil","CGE CQ4-17",4442.5,null,null,null,null,4042.5,null,null,null,null,null,null,null,null,null,null,"2017-01-11T14:37:09",null,0.9,6,"Liberty Circuit Civil CGE CQ4-17"]
["Liberty","Circuit Criminal","CGE CQ3-16",17159.5,16434.5,16434.5,16434.5,16434.5,875.5,1048.81,1541.23,1763.6,2373.62,null,null,null,null,null,null,"2017-01-11T14:37:09",null,0.09,1,"Liberty Circuit Criminal CGE CQ3-16"]
["Liberty","Civil Traffic","CGE CQ1-17",27594,24229.5,24206.5,24206.5,null,11060,19572.5,20283.5,20729.5,null,null,null,null,null,null,null,"2017-01-11T14:37:09",null,0.9,8,"Liberty Civil Traffic CGE CQ1-17"]
["Liberty","Civil Traffic","CGE CQ2-16",17734,17040,16371.5,16371.5,16210.5,6966,13431,14282.5,14305.5,14477.5,null,null,null,null,null,null,"2017-01-11T14:37:09",null,0.9,8,"Liberty Civil Traffic CGE CQ2-16"]
["Liberty","County Civil","CGE CQ1-17",4133,4133,4133,3873,null,3873,3873,3873,3873,null,null,null,null,null,null,null,"2017-01-11T14:37:09",null,0.9,7,"Liberty County Civil CGE CQ1-17"]
["Liberty","County Civil","CGE CQ3-17",6490,6490,null,null,null,6490,6490,null,null,null,null,null,null,null,null,null,"2017-01-11T14:37:09",null,0.9,7,"Liberty County Civil CGE CQ3-17"]
["Liberty","County Criminal","CGE CQ2-16",8704.5,8704.5,8704.5,8704.5,8704.5,4045.5,5890.5,7639.5,7639.5,7789.5,null,null,null,null,null,null,"2017-01-11T14:37:09",null,0.4,3,"Liberty County Criminal CGE CQ2-16"]
["Liberty","County Criminal","CGE CQ2-17",6309,6309,6309,null,null,3071,4320,5415,null,null,null,null,null,null,null,null,"2017-01-11T14:37:09",null,0.4,3,"Liberty County Criminal CGE CQ2-17"]
["Liberty","Criminal Traffic","CGE CQ1-16",11055,11025,10925,10925,10925,2850,5395,7243,8799,8799,null,null,null,null,null,null,"2017-01-11T14:37:09",null,0.4,5,"Liberty Criminal Traffic CGE CQ1-16"]
["Liberty","Criminal Traffic","CGE CQ3-17",7161,7161,null,null,null,3750,4613,null,null,null,null,null,null,null,null,null,"2017-01-11T14:37:09",null,0.4,5,"Liberty Criminal Traffic CGE CQ3-17"]
["Liberty","Family","CGE CQ2-16",3554,3146,3146,3146,3146,2746,2746,2746,2746,2746,null,null,null,null,null,null,"2017-01-11T14:37:09",null,0.75,10,"Liberty Family CGE CQ2-16"]
["Liberty","Family","CGE CQ2-17",3300,3300,3300,null,null,3300,3300,3300,null,null,null,null,null,null,null,null,"2017-01-11T14:37:09",null,0.75,10,"Liberty Family CGE CQ2-17"]
["Liberty","Juvenile Delinquency","CGE CQ1-16",2515.5,2518.5,2518.5,2518.5,2518.5,0.5,203.5,203.5,253.5,423.5,null,null,null,null,null,null,"2017-01-11T14:37:09",null,0.09,4,"Liberty Juvenile Delinquency CGE CQ1-16"]
["Liberty","Juvenile Delinquency","CGE CQ3-16",1131,1131,1131,1131,1131,14,14,14,14,14,null,null,null,null,null,null,"2017-01-11T14:37:09",null,0.09,4,"Liberty Juvenile Delinquency CGE CQ3-16"]
["Liberty","Probate","CGE CQ2-17",1872,1872,1872,null,null,1872,1872,1872,null,null,null,null,null,null,null,null,"2017-01-11T14:37:09",null,0.9,9,"Liberty Probate CGE CQ2-17"]
["Liberty","Probate","CGE CQ3-16",775,775,775,775,775,775,775,775,775,775,null,null,null,null,null,null,"2017-01-11T14:37:09",null,0.9,9,"Liberty Probate CGE CQ3-16"]
["Madison","Circ Crim Drug Trfc Cases","CGE CQ1-17",null,null,null,null,null,null,null,null,null,null,null,null,null,null,null,null,"2017-01-11T14:37:09",null,0.09,2,"Madison Circ Crim Drug Trfc Cases CGE CQ1-17"]
["Madison","Circ Crim Drug Trfc Cases","CGE CQ4-16",0,null,null,null,null,0,null,null,null,null,null,null,null,null,null,null,"2017-01-11T14:37:09",null,0.09,2,"Madison Circ Crim Drug Trfc Cases CGE CQ4-16"]
["Madison","Circuit Civil","CGE CQ2-17",37452,37052,37052,null,null,36252,36252,36252,null,null,null,null,null,null,null,null,"2017-01-11T14:37:09",null,0.9,6,"Madison Circuit Civil CGE CQ2-17"]
["Madison","Circuit Civil","CGE CQ3-16",10860,10860,10860,10860,10860,10460,10460,10460,10460,10460,null,null,null,null,null,null,"2017-01-11T14:37:09",null,0.9,6,"Madison Circuit Civil CGE CQ3-16"]
["Madison","Circuit Criminal","CGE CQ1-17",97881,97931,97251,96381,null,1191.33,4483.88,7517.5,10106.379999999999,null,null,null,null,null,null,null,"2017-01-11T14:37:09",null,0.09,1,"Madison Circuit Criminal CGE CQ1-17"]
["Madison","Circuit Criminal","CGE CQ4-16",142228,142148,142470.5,143625.5,144093.5,1181.6600000000001,3285.89,5433.9,7081.36,10318.44,null,null,null,null,null,null,"2017-01-11T14:37:09",null,0.09,1,"Madison Circuit Criminal CGE CQ4-16"]
["Madison","Civil Traffic","CGE CQ1-16",521088.96,509233.46,507016.46,504179.46,502390.46,152618.10999999999,255620.61,270897.11,288421.33,297669.36,null,null,null,null,null,null,"2017-01-11T14:37:09",null,0.9,8,"Madison Civil Traffic CGE CQ1-16"]
["Madison","Civil Traffic","CGE CQ3-17",524166.11,515289.31,null,null,null,210735.71,360882.91,null,null,null,null,null,null,null,null,null,"2017-01-11T14:37:09",null,0.9,8,"Madison Civil Traffic CGE CQ3-17"]
["Madison","County Civil","CGE CQ2-16",17618.03,17618.03,17618.03,17618.03,17618.03,16357.03,16657.03,16657.03,16657.03,16657.03,null,null,null,null,null,null,"2017-01-11T14:37:09",null,0.9,7,"Madison County Civil CGE CQ2-16"]
["Madison","County Civil","CGE CQ4-17",16197.2,null,null,null,null,16197.2,null,null,null,null,null,null,null,null,null,null,"2017-01-11T14:37:09",null,0.9,7,"Madison County Civil CGE CQ4-17"]
["Madison","County Criminal","CGE CQ3-16",18668.03,18618.03,19770.53,20140.53,20150.53,3873.53,4933.53,7013.03,9123.5300000000007,10476.030000000001,null,null,null,null,null,null,"2017-01-11T14:37:09",null,0.4,3,"Madison County Criminal CGE CQ3-16"]
["Madison","County Criminal","CGE CQ3-17",17008.5,17008.5,null,null,null,2270.5,2965.5,null,null,null,null,null,null,null,null,null,"2017-01-11T14:37:09",null,0.4,3,"Madison County Criminal CGE CQ3-17"]
["Madison","Criminal Traffic","CGE CQ2-16",40176,40249.1,41255.800000000003,40930.800000000003,40932.800000000003,6384.6,13182.7,22144.82,25221.02,28519.42,null,null,null,null,null,null,"2017-01-11T14:37:09",null,0.4,5,"Madison Criminal Traffic CGE CQ2-16"]
["Madison","Criminal Traffic","CGE CQ4-17",41172.9,null,null,null,null,8372.5,null,null,null,null,null,null,null,null,null,null,"2017-01-11T14:37:09",null,0.4,5,"Madison Criminal Traffic CGE CQ4-17"]
["Madison","Family","CGE CQ3-16",10107.5,9807.5,9807.5,9807.5,9807.5,9064.5,9064.5,9064.5,9064.5,9064.5,null,null,null,null,null,null,"2017-01-11T14:37:09",null,0.75,10,"Madison Family CGE CQ3-16"]
["Madison","Juvenile Delinquency","CGE CQ1-16",1357,1357,1257,1107,1107,153.5,153.5,257,257,257,null,null,null,null,null,null,"2017-01-11T14:37:09",null,0.09,4,"Madison Juvenile Delinquency CGE CQ1-16"]
["Madison","Juvenile Delinquency","CGE CQ2-17",1510.5,1510.5,1510.5,null,null,253.5,507,610.5,null,null,null,null,null,null,null,null,"2017-01-11T14:37:09",null,0.09,4,"Madison Juvenile Delinquency CGE CQ2-17"]
["Madison","Probate","CGE CQ1-16",5681,5681,5681,5681,5681,5571,5571,5571,5571,5571,null,null,null,null,null,null,"2017-01-11T14:37:09",null,0.9,9,"Madison Probate CGE CQ1-16"]
["Madison","Probate","CGE CQ3-17",4732,4732,null,null,null,4497,4732,null,null,null,null,null,null,null,null,null,"2017-01-11T14:37:09",null,0.9,9,"Madison Probate CGE CQ3-17"]
["Madison","Probate","CGE CQ4-16",6554,6554,6554,6554,6554,5684,6209,6209,6209,6209,null,null,null,null,null,null,"2017-01-11T14:37:09",null,0.9,9,"Madison Probate CGE CQ4-16"]
["Manatee","Circ Crim Drug Trfc Cases","CGE CQ2-17",103336,103336,103336,null,null,0,0,0,null,null,null,null,null,null,null,null,"2017-01-11T14:37:09",null,0.09,2,"Manatee Circ Crim Drug Trfc Cases CGE CQ2-17"]
["Manatee","Circuit Civil","CGE CQ1-16",646239.5,641854.5,638611.5,636459.5,635554.5,630694,632241.5,631731.5,630086.5,629181.5,null,null,null,null,null,null,"2017-01-11T14:37:09",null,0.9,6,"Manatee Circuit Civil CGE CQ1-16"]
["Manatee","Circuit Civil","CGE CQ3-17",479009.69,480917.11,null,null,null,464036.69,476222.11,null,null,null,null,null,null,null,null,null,"2017-01-11T14:37:09",null,0.9,6,"Manatee Circuit Civil CGE CQ3-17"]
["Manatee","Circuit Civil","CGE CQ4-16",819944.11,521671.15,521562.45,519847.45,518942.45,789089.39,517282.97,517176.77,516832.45,515927.45,null,null,null,null,null,null,"2017-01-11T14:37:09",null,0.9,6,"Manatee Circuit Civil CGE CQ4-16"]
["Manatee","Circuit Criminal","CGE CQ3-16",602076.71,610195.57999999996,808097.88,804306.38,799339.88,18441.57,35089.5,62909.89,87834.9,101420.34,null,null,null,null,null,null,"2017-01-11T14:37:09",null,0.09,1,"Manatee Circuit Criminal CGE CQ3-16"]
["Manatee","Civil Traffic","CGE CQ1-17",1229533.05,1425383.45,1433235.45,1432861.45,null,730905.85,1133409.6499999999,1245104.83,1269840.22,null,null,null,null,null,null,null,"2017-01-11T14:37:09",null,0.9,8,"Manatee Civil Traffic CGE CQ1-17"]
["Manatee","Civil Traffic","CGE CQ4-16",1228092.8700000001,1450924.23,1444419.23,1442983.23,1442265.23,635865.06999999995,1080953.45,1248615.72,1278708.98,1292680.8400000001,null,null,null,null,null,null,"2017-01-11T14:37:09",null,0.9,8,"Manatee Civil Traffic CGE CQ4-16"]
["Manatee","Civil Traffic","CGE CQ4-17",975540.01,null,null,null,null,500762.25,null,null,null,null,null,null,null,null,null,null,"2017-01-11T14:37:09",null,0.9,8,"Manatee Civil Traffic CGE CQ4-17"]
["Manatee","County Civil","CGE CQ3-16",308610.65999999997,309040.65999999997,309350.65999999997,309350.65999999997,309905.65999999997,298743.65999999997,300763.65999999997,300858.65999999997,300858.65999999997,301433.65999999997,null,null,null,null,null,null,"2017-01-11T14:37:09",null,0.9,7,"Manatee County Civil CGE CQ3-16"]
["Manatee","County Criminal","CGE CQ1-17",365552.92,359528.17,355554.17,351061.92,null,69072.78,105273.03,124509.78,137535.9,null,null,null,null,null,null,null,"2017-01-11T14:37:09",null,0.4,3,"Manatee County Criminal CGE CQ1-17"]
["Manatee","County Criminal","CGE CQ4-16",293115.34000000003,344497.5,340553.75,338312,335023.25,43793.66,106757.79,119831.03999999999,128031.29,133318.57999999999,null,null,null,null,null,null,"2017-01-11T14:37:09",null,0.4,3,"Manatee County Criminal CGE CQ4-16"]
["Manatee","County Criminal","CGE CQ4-17",321296.12,null,null,null,null,58679.92,null,null,null,null,null,null,null,null,null,null,"2017-01-11T14:37:09",null,0.4,3,"Manatee County Criminal CGE CQ4-17"]
["Manatee","Criminal Traffic","CGE CQ3-16",540986.25,540723.75,591215.75,578221.75,568600.5,152823.5,225868,286814.5,333209.37,366074.62,null,null,null,null,null,null,"2017-01-11T14:37:09",null,0.4,5,"Manatee Criminal Traffic CGE CQ3-16"]
["Manatee","Criminal Traffic","CGE CQ4-17",431785.25,null,null,null,null,128023.94,null,null,null,null,null,null,null,null,null,null,"2017-01-11T14:37:09",null,0.4,5,"Manatee Criminal Traffic CGE CQ4-17"]
["Manatee","Family","CGE CQ4-17",159784.5,null,null,null,null,134386.5,null,null,null,null,null,null,null,null,null,null,"2017-01-11T14:37:09",null,0.75,10,"Manatee Family CGE CQ4-17"]
["Manatee","Juvenile Delinquency","CGE CQ1-16",6964,6964,6964,7014,10214,2414,2564,2936,3036,3736,null,null,null,null,null,null,"2017-01-11T14:37:09",null,0.09,4,{"$f":"A3266&\" \"&B3266&\" \"&C3266","v":"Manatee Juvenile Delinquency CGE CQ1-16"}]
["Manatee","Juvenile Delinquency","CGE CQ3-17",10586.5,10586.5,null,null,null,2496.5,2696.5,null,null,null,null,null,null,null,null,null,"2017-01-11T14:37:09",null,0.09,4,"Manatee Juvenile Delinquency CGE CQ3-17"]
["Manatee","Probate","CGE CQ2-16",135075,153742.5,136835,136835,136835,127089.5,138344.5,131337.5,131337.5,131337.5,null,null,null,null,null,null,"2017-01-11T14:37:09",null,0.9,9,"Manatee Probate CGE CQ2-16"]
["Manatee","Probate","CGE CQ4-17",121999.34,null,null,null,null,115487.34,null,null,null,null,null,null,null,null,null,null,"2017-01-11T14:37:09",null,0.9,9,"Manatee Probate CGE CQ4-17"]
["Marion","Circ Crim Drug Trfc Cases","CGE CQ1-16",1433653.88,1337091.23,0,873126.88,873126.88,13054.03,21883.84,0,736.01,761,null,null,null,null,null,null,"2017-01-11T14:37:09",null,0.09,2,"Marion Circ Crim Drug Trfc Cases CGE CQ1-16"]
["Marion","Circ Crim Drug Trfc Cases","CGE CQ3-17",1067179,1067179,null,null,null,269.52999999999997,269.52999999999997,null,null,null,null,null,null,null,null,null,"2017-01-11T14:37:09",null,0.09,2,"Marion Circ Crim Drug Trfc Cases CGE CQ3-17"]
["Marion","Circuit Civil","CGE CQ2-16",683429.04,0,647591.66,647669.66,647669.66,666194.36,0,629338.79,629338.79,629338.79,null,null,null,null,null,null,"2017-01-11T14:37:09",null,0.9,6,"Marion Circuit Civil CGE CQ2-16"]
["Marion","Circuit Criminal","CGE CQ1-16",4414539.8499999996,4410287.95,0,1806736.31,1805656.64,54207.61,100811.56,0,136140.87,154652.54,null,null,null,null,null,null,"2017-01-11T14:37:09",null,0.09,1,"Marion Circuit Criminal CGE CQ1-16"]
["Marion","Circuit Criminal","CGE CQ1-17",1746431.84,1748674.69,1745490.39,1743335.99,null,51665.83,95033.27,121518.15,151399.15,null,null,null,null,null,null,null,"2017-01-11T14:37:09",null,0.09,1,"Marion Circuit Criminal CGE CQ1-17"]
["Marion","Circuit Criminal","CGE CQ4-16",5969958.9800000004,2779043.29,2775697.23,2775772.91,2778601.53,43851.99,92355.9,128169.47,157174.24,185673.06,null,null,null,null,null,null,"2017-01-11T14:37:09",null,0.09,1,"Marion Circuit Criminal CGE CQ4-16"]
["Marion","Civil Traffic","CGE CQ2-17",1076483,1057694,1046355,null,null,586717.5,890896,932970.36,null,null,null,null,null,null,null,null,"2017-01-11T14:37:09",null,0.9,8,"Marion Civil Traffic CGE CQ2-17"]
["Marion","County Civil","CGE CQ1-16",295098.59000000003,294198.59000000003,0,283501.84000000003,283501.84000000003,292939.39,292308.89,0,277675.03999999998,277600.03999999998,null,null,null,null,null,null,"2017-01-11T14:37:09",null,0.9,7,"Marion County Civil CGE CQ1-16"]
["Marion","County Civil","CGE CQ1-17",361432.85,361432.85,361432.85,361432.85,null,360007.99,360106.99,360106.99,360106.99,null,null,null,null,null,null,null,"2017-01-11T14:37:09",null,0.9,7,"Marion County Civil CGE CQ1-17"]
["Marion","County Civil","CGE CQ4-16",283966.03999999998,309685.09999999998,309685.09999999998,309654.12,309654.12,282547.03999999998,308334.5,308334.5,308303.52,308303.52,null,null,null,null,null,null,"2017-01-11T14:37:09",null,0.9,7,"Marion County Civil CGE CQ4-16"]
["Marion","County Criminal","CGE CQ2-17",354726.68,352388.88,347831.08,null,null,39383.96,74696.73,96142.91,null,null,null,null,null,null,null,null,"2017-01-11T14:37:09",null,0.4,3,"Marion County Criminal CGE CQ2-17"]
["Marion","Criminal Traffic","CGE CQ1-16",545727.92000000004,551857.17000000004,0,507906.23,488843.88,107801.86,270070.67,0,294505.58,312962.77,null,null,null,null,null,null,"2017-01-11T14:37:09",null,0.4,5,{"$f":"A3330&\" \"&B3330&\" \"&C3330","v":"Marion Criminal Traffic CGE CQ1-16"}]
["Marion","Criminal Traffic","CGE CQ2-17",518323.56,517627.24,516372.78,null,null,110413.23,223134.12,263196.3,null,null,null,null,null,null,null,null,"2017-01-11T14:37:09",null,0.4,5,"Marion Criminal Traffic CGE CQ2-17"]
["Marion","Criminal Traffic","CGE CQ4-17",297752.69,null,null,null,null,57481.52,null,null,null,null,null,null,null,null,null,null,"2017-01-11T14:37:09",null,0.4,5,"Marion Criminal Traffic CGE CQ4-17"]
["Marion","Family","CGE CQ3-16",0,202275.95,169443.95,169275.95,168867.95,0,153883.5,155314.5,155554.5,155654.5,null,null,null,null,null,null,"2017-01-11T14:37:09",null,0.75,10,"Marion Family CGE CQ3-16"]
["Marion","Juvenile Delinquency","CGE CQ1-17",31141.5,31141.5,31041.5,31041.5,null,1629,2786,3506,4417,null,null,null,null,null,null,null,"2017-01-11T14:37:09",null,0.09,4,"Marion Juvenile Delinquency CGE CQ1-17"]
["Marion","Juvenile Delinquency","CGE CQ2-16",38811.5,0,36519.339999999997,36519.339999999997,36569.339999999997,2918.63,0,4385,5030,5458,null,null,null,null,null,null,"2017-01-11T14:37:09",null,0.09,4,"Marion Juvenile Delinquency CGE CQ2-16"]
["Marion","Juvenile Delinquency","CGE CQ4-17",25256.5,null,null,null,null,1360.5,null,null,null,null,null,null,null,null,null,null,"2017-01-11T14:37:09",null,0.09,4,"Marion Juvenile Delinquency CGE CQ4-17"]
["Marion","Probate","CGE CQ3-16",0,161014.6,156688.6,156688.6,156688.6,0,155924.1,156513.1,156513.1,155654.5,null,null,null,null,null,null,"2017-01-11T14:37:09",null,0.9,9,"Marion Probate CGE CQ3-16"]
["Martin","Circ Crim Drug Trfc Cases","CGE CQ1-17",52915,52915,52915,52915,null,0,0,0,0,null,null,null,null,null,null,null,"2017-01-11T14:37:09",null,0.09,2,"Martin Circ Crim Drug Trfc Cases CGE CQ1-17"]
["Martin","Circ Crim Drug Trfc Cases","CGE CQ2-16",106360,106360,106360,106360,106360,0,0,0,0,0,null,null,null,null,null,null,"2017-01-11T14:37:09",null,0.09,2,"Martin Circ Crim Drug Trfc Cases CGE CQ2-16"]
["Martin","Circ Crim Drug Trfc Cases","CGE CQ4-17",105830,null,null,null,null,0,null,null,null,null,null,null,null,null,null,null,"2017-01-11T14:37:09",null,0.09,2,"Martin Circ Crim Drug Trfc Cases CGE CQ4-17"]
["Martin","Circuit Civil","CGE CQ3-17",303218.75,302873.75,null,null,null,292558.75,296983.75,null,null,null,null,null,null,null,null,null,"2017-01-11T14:37:09",null,0.9,6,"Martin Circuit Civil CGE CQ3-17"]
["Martin","Circuit Criminal","CGE CQ2-16",333618.52,330102.52,328452.52,326952.52,325952.52,8489.26,15898.21,23675.61,30501.48,36514.080000000002,null,null,null,null,null,null,"2017-01-11T14:37:09",null,0.09,1,"Martin Circuit Criminal CGE CQ2-16"]
["Martin","Circuit Criminal","CGE CQ2-17",846208.75,845307.75,843357.75,null,null,7765.6,20914.009999999998,28913.47,null,null,null,null,null,null,null,null,"2017-01-11T14:37:09",null,0.09,1,"Martin Circuit Criminal CGE CQ2-17"]
["Martin","Civil Traffic","CGE CQ1-16",1160355.29,1112867.53,1110631.53,1109520.52,1108609.51,484555.29,896857.03,958949.27,972438.95,980155.08,null,null,null,null,null,null,"2017-01-11T14:37:09",null,0.9,8,"Martin Civil Traffic CGE CQ1-16"]
["Martin","Civil Traffic","CGE CQ3-17",719594.05,688505.7,null,null,null,334392.05,575430.94999999995,null,null,null,null,null,null,null,null,null,"2017-01-11T14:37:09",null,0.9,8,"Martin Civil Traffic CGE CQ3-17"]
["Martin","County Civil","CGE CQ2-16",118579.32,118169.32,118334.32,118334.32,118334.32,117464.32000000001,117904.32000000001,118069.32,118069.32,118069.32,null,null,null,null,null,null,"2017-01-11T14:37:09",null,0.9,7,"Martin County Civil CGE CQ2-16"]
["Martin","County Civil","CGE CQ2-17",100401.9,100348.4,100348.4,null,null,99661.9,100213.4,100213.4,null,null,null,null,null,null,null,null,"2017-01-11T14:37:09",null,0.9,7,"Martin County Civil CGE CQ2-17"]
["Martin","County Criminal","CGE CQ1-16",227068.98,222519.98,218160.98,216248.48,203594.98,64905.760000000002,94960.98,111450.98,120631.74,128237.74,null,null,null,null,null,null,"2017-01-11T14:37:09",null,0.4,3,"Martin County Criminal CGE CQ1-16"]
["Martin","County Criminal","CGE CQ4-17",257850.5,null,null,null,null,79504.62,null,null,null,null,null,null,null,null,null,null,"2017-01-11T14:37:09",null,0.4,3,"Martin County Criminal CGE CQ4-17"]
["Martin","Criminal Traffic","CGE CQ2-17",447967.5,444156.5,432573.5,null,null,147988.63,222095.39,266061.90000000002,null,null,null,null,null,null,null,null,"2017-01-11T14:37:09",null,0.4,5,"Martin Criminal Traffic CGE CQ2-17"]
["Martin","Criminal Traffic","CGE CQ3-16",332972.5,327300.5,323232.34999999998,318180.84999999998,309318.34999999998,115925.12,171496.52,195312.22,221696,251122,null,null,null,null,null,null,"2017-01-11T14:37:09",null,0.4,5,"Martin Criminal Traffic CGE CQ3-16"]
["Martin","Family","CGE CQ1-17",93242.25,92878.75,92878.75,92986.75,null,87337.7,91461.25,91461.25,91569.25,null,null,null,null,null,null,null,"2017-01-11T14:37:09",null,0.75,10,"Martin Family CGE CQ1-17"]
["Martin","Family","CGE CQ4-16",95411.07,89294.15,89294.15,89294.15,89294.15,92790.07,87284.19,87987.19,88231.15,88439.15,null,null,null,null,null,null,"2017-01-11T14:37:09",null,0.75,10,"Martin Family CGE CQ4-16"]
["Martin","Juvenile Delinquency","CGE CQ2-17",10626.5,10626.5,10626.5,null,null,111.5,346.5,706.5,null,null,null,null,null,null,null,null,"2017-01-11T14:37:09",null,0.09,4,"Martin Juvenile Delinquency CGE CQ2-17"]
["Martin","Juvenile Delinquency","CGE CQ3-16",10095,9895,9695,9695,9695,145,595,925,2350,2350,null,null,null,null,null,null,"2017-01-11T14:37:09",null,0.09,4,"Martin Juvenile Delinquency CGE CQ3-16"]
["Martin","Probate","CGE CQ1-17",67630,67630,67545,67545,null,67545,67545,67545,67545,null,null,null,null,null,null,null,"2017-01-11T14:37:09",null,0.9,9,"Martin Probate CGE CQ1-17"]
["Martin","Probate","CGE CQ4-16",69537.84,69537.84,69537.84,69537.84,69537.84,69537.84,69537.84,69537.84,69537.84,69537.84,null,null,null,null,null,null,"2017-01-11T14:37:09",null,0.9,9,"Martin Probate CGE CQ4-16"]
["Monroe","Circ Crim Drug Trfc Cases","CGE CQ2-16",203146,203146,203146,203146,203146,10429,21482.71,26442.01,29198.18,30309.37,null,null,null,null,null,null,"2017-01-11T14:37:09",null,0.09,2,"Monroe Circ Crim Drug Trfc Cases CGE CQ2-16"]
["Monroe","Circ Crim Drug Trfc Cases","CGE CQ3-17",234558.6,234558.6,null,null,null,18091.5,22726.97,null,null,null,null,null,null,null,null,null,"2017-01-11T14:37:09",null,0.09,2,"Monroe Circ Crim Drug Trfc Cases CGE CQ3-17"]
["Monroe","Circuit Civil","CGE CQ2-16",297510,296217,296217,295026,294626,288278,291074,291267,290360,290362,null,null,null,null,null,null,"2017-01-11T14:37:09",null,0.9,6,"Monroe Circuit Civil CGE CQ2-16"]
["Monroe","Circuit Civil","CGE CQ4-17",243031,null,null,null,null,236149,null,null,null,null,null,null,null,null,null,null,"2017-01-11T14:37:09",null,0.9,6,"Monroe Circuit Civil CGE CQ4-17"]
["Monroe","Circuit Criminal","CGE CQ3-16",248188,245039,244839,243991,243283,24940,41504,50958,58567,65709,null,null,null,null,null,null,"2017-01-11T14:37:09",null,0.09,1,"Monroe Circuit Criminal CGE CQ3-16"]
["Monroe","Circuit Criminal","CGE CQ3-17",412230,415515,null,null,null,33130,45686,null,null,null,null,null,null,null,null,null,"2017-01-11T14:37:09",null,0.09,1,"Monroe Circuit Criminal CGE CQ3-17"]
["Monroe","Civil Traffic","CGE CQ2-16",1228809,1043807,1002424,976406,975070,579136,839501,864782,876673,884116,null,null,null,null,null,null,"2017-01-11T14:37:09",null,0.9,8,"Monroe Civil Traffic CGE CQ2-16"]
["Monroe","Civil Traffic","CGE CQ4-17",1181228,null,null,null,null,578465,null,null,null,null,null,null,null,null,null,null,"2017-01-11T14:37:09",null,0.9,8,"Monroe Civil Traffic CGE CQ4-17"]
["Monroe","County Civil","CGE CQ3-16",77782,77597,77597,77597,77597,76678,76883,76884,76884,76884,null,null,null,null,null,null,"2017-01-11T14:37:09",null,0.9,7,"Monroe County Civil CGE CQ3-16"]
["Monroe","County Civil","CGE CQ4-16",83269,83269,83269,83269,83269,81894,81954,82014,82414,82414,null,null,null,null,null,null,"2017-01-11T14:37:09",null,0.9,7,"Monroe County Civil CGE CQ4-16"]
["Monroe","County Criminal","CGE CQ2-17",310326,306537,305161,null,null,82922,125799,140660,null,null,null,null,null,null,null,null,"2017-01-11T14:37:09",null,0.4,3,"Monroe County Criminal CGE CQ2-17"]
["Monroe","Criminal Traffic","CGE CQ1-16",111072,110292,109006,106737,104202,37051,54276,68888,73643,78391,null,null,null,null,null,null,"2017-01-11T14:37:09",null,0.4,5,"Monroe Criminal Traffic CGE CQ1-16"]
["Monroe","Criminal Traffic","CGE CQ3-17",79595,75624,null,null,null,27060,42428,null,null,null,null,null,null,null,null,null,"2017-01-11T14:37:09",null,0.4,5,"Monroe Criminal Traffic CGE CQ3-17"]
["Monroe","Criminal Traffic","CGE CQ4-16",84987,83147,82770,82763,81600,34844,45211,53748,55809,57705,null,null,null,null,null,null,"2017-01-11T14:37:09",null,0.4,5,"Monroe Criminal Traffic CGE CQ4-16"]
["Monroe","Family","CGE CQ2-17",90217,90217,89820,null,null,83913,85415,85415,null,null,null,null,null,null,null,null,"2017-01-11T14:37:09",null,0.75,10,"Monroe Family CGE CQ2-17"]
["Monroe","Juvenile Delinquency","CGE CQ1-16",993,993,993,993,993,243,393,393,393,393,null,null,null,null,null,null,"2017-01-11T14:37:09",null,0.09,4,"Monroe Juvenile Delinquency CGE CQ1-16"]
["Monroe","Juvenile Delinquency","CGE CQ3-17",421,421,null,null,null,71,121,null,null,null,null,null,null,null,null,null,"2017-01-11T14:37:09",null,0.09,4,"Monroe Juvenile Delinquency CGE CQ3-17"]
["Monroe","Juvenile Delinquency","CGE CQ4-16",1091,1091,1091,1091,1091,289,310,310,310,310,null,null,null,null,null,null,"2017-01-11T14:37:09",null,0.09,4,"Monroe Juvenile Delinquency CGE CQ4-16"]
["Monroe","Probate","CGE CQ4-16",35294,35294,35290,35290,35290,34231,34533,34533,34533,34533,null,null,null,null,null,null,"2017-01-11T14:37:09",null,0.9,9,"Monroe Probate CGE CQ4-16"]
["Nassau","Circ Crim Drug Trfc Cases","CGE CQ1-17",null,null,null,null,null,null,null,null,null,null,null,null,null,null,null,null,"2017-01-11T14:37:09",null,0.09,2,"Nassau Circ Crim Drug Trfc Cases CGE CQ1-17"]
["Nassau","Circ Crim Drug Trfc Cases","CGE CQ4-16",0,null,null,null,null,0,null,null,null,null,null,null,null,null,null,null,"2017-01-11T14:37:09",null,0.09,2,"Nassau Circ Crim Drug Trfc Cases CGE CQ4-16"]
["Nassau","Circ Crim Drug Trfc Cases","CGE CQ4-17",null,null,null,null,null,null,null,null,null,null,null,null,null,null,null,null,"2017-01-11T14:37:09",null,0.09,2,"Nassau Circ Crim Drug Trfc Cases CGE CQ4-17"]
["Nassau","Circuit Civil","CGE CQ3-16",116199.08,116199.08,114496.58,114496.58,114346.58,113281.58,114296.58,114296.58,114296.58,114296.58,null,null,null,null,null,null,"2017-01-11T14:37:09",null,0.9,6,"Nassau Circuit Civil CGE CQ3-16"]
["Nassau","Circuit Criminal","CGE CQ1-17",56526.5,58944.5,58944.5,58944.5,null,1435.32,2387.16,4355.6099999999997,6875.24,null,null,null,null,null,null,null,"2017-01-11T14:37:09",null,0.09,1,"Nassau Circuit Criminal CGE CQ1-17"]
["Nassau","Circuit Criminal","CGE CQ4-16",129003,73018.5,73018.5,73018.5,73018.5,2729.77,2686.49,5555.68,9368.5499999999993,11645.95,null,null,null,null,null,null,"2017-01-11T14:37:09",null,0.09,1,"Nassau Circuit Criminal CGE CQ4-16"]
["Nassau","Circuit Criminal","CGE CQ4-17",177786,null,null,null,null,4162.99,null,null,null,null,null,null,null,null,null,null,"2017-01-11T14:37:09",null,0.09,1,"Nassau Circuit Criminal CGE CQ4-17"]
["Nassau","Civil Traffic","CGE CQ3-16",379045.25,364199.75,361011.75,359461.75,359461.75,185104.75,290170.75,310430.15000000002,318329.34999999998,321509.34999999998,null,null,null,null,null,null,"2017-01-11T14:37:09",null,0.9,8,"Nassau Civil Traffic CGE CQ3-16"]
["Nassau","County Civil","CGE CQ2-16",58192.03,58502.03,58502.03,58192.03,58192.03,57552.03,58192.03,58192.03,58192.03,58192.03,null,null,null,null,null,null,"2017-01-11T14:37:09",null,0.9,7,"Nassau County Civil CGE CQ2-16"]
["Nassau","County Civil","CGE CQ4-17",56118.879999999997,null,null,null,null,54471.08,null,null,null,null,null,null,null,null,null,null,"2017-01-11T14:37:09",null,0.9,7,"Nassau County Civil CGE CQ4-17"]
["Nassau","County Criminal","CGE CQ1-16",74313.5,74665.5,74119.5,74119.5,74119.5,13500.5,37305.5,44454.5,46290.3,48550.5,null,null,null,null,null,null,"2017-01-11T14:37:09",null,0.4,3,"Nassau County Criminal CGE CQ1-16"]
["Nassau","County Criminal","CGE CQ3-17",57547.5,60969.5,null,null,null,11461.5,17790.5,null,null,null,null,null,null,null,null,null,"2017-01-11T14:37:09",null,0.4,3,"Nassau County Criminal CGE CQ3-17"]
["Nassau","Criminal Traffic","CGE CQ2-16",158164,158074,158074,158074,157574,29416.639999999999,74676.12,92795.37,104068.09,115641.2,null,null,null,null,null,null,"2017-01-11T14:37:09",null,0.4,5,"Nassau Criminal Traffic CGE CQ2-16"]
["Nassau","Criminal Traffic","CGE CQ4-17",118630.5,null,null,null,null,18899.5,null,null,null,null,null,null,null,null,null,null,"2017-01-11T14:37:09",null,0.4,5,"Nassau Criminal Traffic CGE CQ4-17"]
["Nassau","Family","CGE CQ1-16",46874.14,46874.14,46874.14,46874.14,46456.14,44614.01,45142.01,45382.14,45382.14,45382.14,null,null,null,null,null,null,"2017-01-11T14:37:09",null,0.75,10,"Nassau Family CGE CQ1-16"]
["Nassau","Family","CGE CQ3-17",45614.31,45558.31,null,null,null,44513.81,45150.31,null,null,null,null,null,null,null,null,null,"2017-01-11T14:37:09",null,0.75,10,"Nassau Family CGE CQ3-17"]
["Nassau","Juvenile Delinquency","CGE CQ2-16",2602.5,3542.5,3542.5,3542.5,3354.5,186.5,1098.5,1504.5,1504.5,1572.5,null,null,null,null,null,null,"2017-01-11T14:37:09",null,0.09,4,"Nassau Juvenile Delinquency CGE CQ2-16"]
["Nassau","Juvenile Delinquency","CGE CQ3-17",889.5,1027.5,null,null,null,47.5,380.5,null,null,null,null,null,null,null,null,null,"2017-01-11T14:37:09",null,0.09,4,"Nassau Juvenile Delinquency CGE CQ3-17"]
["Nassau","Probate","CGE CQ1-17",24803,24803,24803,24803,null,24437,24668,24753,24753,null,null,null,null,null,null,null,"2017-01-11T14:37:09",null,0.9,9,"Nassau Probate CGE CQ1-17"]
["Nassau","Probate","CGE CQ4-16",24902.15,31177.5,31177.5,31177.5,31177.5,24502.15,30922.5,30922.5,30922.5,31177.5,null,null,null,null,null,null,"2017-01-11T14:37:09",null,0.9,9,"Nassau Probate CGE CQ4-16"]
["Okaloosa","Circ Crim Drug Trfc Cases","CGE CQ2-17",370652,370652,370652,null,null,0,0,0,null,null,null,null,null,null,null,null,"2017-01-11T14:37:09",null,0.09,2,"Okaloosa Circ Crim Drug Trfc Cases CGE CQ2-17"]
["Okaloosa","Circuit Civil","CGE CQ1-16",358410.56,357940.56,357940.56,357940.56,357940.56,350666.06,351465.81,351890.81,352030.81,352118.56,null,null,null,null,null,null,"2017-01-11T14:37:09",null,0.9,6,"Okaloosa Circuit Civil CGE CQ1-16"]
["Okaloosa","Circuit Civil","CGE CQ1-17",321997,327108.5,327108.5,327108.5,null,318409,323950,323950,323950,null,null,null,null,null,null,null,"2017-01-11T14:37:09",null,0.9,6,"Okaloosa Circuit Civil CGE CQ1-17"]
["Okaloosa","Circuit Civil","CGE CQ4-16",350531,350531,350131,350131,350131,347293.5,347793.5,347893.5,347893.5,347943.5,null,null,null,null,null,null,"2017-01-11T14:37:09",null,0.9,6,"Okaloosa Circuit Civil CGE CQ4-16"]
["Okaloosa","Circuit Criminal","CGE CQ2-17",1969638.5,1966438.5,1966438.5,null,null,30174.06,50720.32,62747.15,null,null,null,null,null,null,null,null,"2017-01-11T14:37:09",null,0.09,1,"Okaloosa Circuit Criminal CGE CQ2-17"]
["Okaloosa","Civil Traffic","CGE CQ1-16",1018775.97,1043602.49,1047440.49,1047804.99,1072537.19,621239.16,810510.82,844188.79,858082.73,871864.84,null,null,null,null,null,null,"2017-01-11T14:37:09",null,0.9,8,"Okaloosa Civil Traffic CGE CQ1-16"]
["Okaloosa","Civil Traffic","CGE CQ1-17",678812.59,740439.05,743017.95,740357.95,null,373463.95,499501.77,526100.09,534982.99,null,null,null,null,null,null,null,"2017-01-11T14:37:09",null,0.9,8,"Okaloosa Civil Traffic CGE CQ1-17"]
["Okaloosa","Civil Traffic","CGE CQ4-17",708123.24,null,null,null,null,390969.3,null,null,null,null,null,null,null,null,null,null,"2017-01-11T14:37:09",null,0.9,8,"Okaloosa Civil Traffic CGE CQ4-17"]
["Okaloosa","County Civil","CGE CQ3-16",216280.53,215857.03,215857.03,215857.03,215857.03,215237.03,215237.03,215237.03,215237.03,215237.03,null,null,null,null,null,null,"2017-01-11T14:37:09",null,0.9,7,"Okaloosa County Civil CGE CQ3-16"]
["Okaloosa","County Criminal","CGE CQ1-17",389493.6,390513.6,390513.6,390243.6,null,78703.210000000006,135741.74,162182.39000000001,170115.36,null,null,null,null,null,null,null,"2017-01-11T14:37:09",null,0.4,3,"Okaloosa County Criminal CGE CQ1-17"]
["Okaloosa","County Criminal","CGE CQ2-16",362591.64,362631.64,361808.64000000001,362079.64,362079.64,85176.22,132564.26999999999,151426.47,160108.68,172750.65,null,null,null,null,null,null,"2017-01-11T14:37:09",null,0.4,3,"Okaloosa County Criminal CGE CQ2-16"]
["Okaloosa","County Criminal","CGE CQ4-17",465081.55,null,null,null,null,100881.23,null,null,null,null,null,null,null,null,null,null,"2017-01-11T14:37:09",null,0.4,3,"Okaloosa County Criminal CGE CQ4-17"]
["Okaloosa","Criminal Traffic","CGE CQ3-16",463008.59,463008.59,463008.59,463008.59,463008.59,138554.70000000001,216554.96,261957.97,292545.62,301703.90999999997,null,null,null,null,null,null,"2017-01-11T14:37:09",null,0.4,5,"Okaloosa Criminal Traffic CGE CQ3-16"]
["Okaloosa","Family","CGE CQ1-17",158119.9,159406.9,159346.9,159346.9,null,133643.9,135772,136522,137283,null,null,null,null,null,null,null,"2017-01-11T14:37:09",null,0.75,10,"Okaloosa Family CGE CQ1-17"]
["Okaloosa","Family","CGE CQ2-16",192928,192938,192938,192938,192938,168046.5,168361.5,168361.5,168361.5,168361.5,null,null,null,null,null,null,"2017-01-11T14:37:09",null,0.75,10,"Okaloosa Family CGE CQ2-16"]
["Okaloosa","Juvenile Delinquency","CGE CQ1-17",29435.5,29435.5,29435.5,29435.5,null,1760.5,2495.5,3156.1,3516.1,null,null,null,null,null,null,null,"2017-01-11T14:37:09",null,0.09,4,"Okaloosa Juvenile Delinquency CGE CQ1-17"]
["Okaloosa","Juvenile Delinquency","CGE CQ3-17",38068.5,38253.5,null,null,null,15248.5,17278.5,null,null,null,null,null,null,null,null,null,"2017-01-11T14:37:09",null,0.09,4,"Okaloosa Juvenile Delinquency CGE CQ3-17"]
["Okaloosa","Probate","CGE CQ2-16",64838.5,64838.5,64838.5,64838.5,64838.5,63192.5,63192.5,63192.5,63592.5,63592.5,null,null,null,null,null,null,"2017-01-11T14:37:09",null,0.9,9,"Okaloosa Probate CGE CQ2-16"]
["Okaloosa","Probate","CGE CQ2-17",64277,64318,64318,null,null,61458,61499,61499,null,null,null,null,null,null,null,null,"2017-01-11T14:37:09",null,0.9,9,"Okaloosa Probate CGE CQ2-17"]
["Okeechobee","Circ Crim Drug Trfc Cases","CGE CQ1-16",0,0,0,0,0,0,0,0,0,0,null,null,null,null,null,null,"2017-01-11T14:37:09",null,0.09,2,"Okeechobee Circ Crim Drug Trfc Cases CGE CQ1-16"]
["Okeechobee","Circ Crim Drug Trfc Cases","CGE CQ3-17",50000,50000,null,null,null,0,0,null,null,null,null,null,null,null,null,null,"2017-01-11T14:37:09",null,0.09,2,"Okeechobee Circ Crim Drug Trfc Cases CGE CQ3-17"]
["Okeechobee","Circuit Civil","CGE CQ2-16",93625.5,93625.5,93625.5,93625.5,93625.5,90000.5,92705.5,92705.5,92755.5,92755.5,null,null,null,null,null,null,"2017-01-11T14:37:09",null,0.9,6,"Okeechobee Circuit Civil CGE CQ2-16"]
["Okeechobee","Circuit Civil","CGE CQ2-17",106859,106509,106509,null,null,102421.5,105919,105969,null,null,null,null,null,null,null,null,"2017-01-11T14:37:09",null,0.9,6,"Okeechobee Circuit Civil CGE CQ2-17"]
["Okeechobee","Circuit Criminal","CGE CQ1-16",173127.4,172637.4,172637.4,172342.39999999999,172342.39999999999,3568.18,6427.62,11009.81,14351.91,18898.47,null,null,null,null,null,null,"2017-01-11T14:37:09",null,0.09,1,"Okeechobee Circuit Criminal CGE CQ1-16"]
["Okeechobee","Circuit Criminal","CGE CQ3-16",206898.33,206897.33,205580.33,205630.33,205680.33,6420.9,11252.18,14455.57,20176.57,26701.85,null,null,null,null,null,null,"2017-01-11T14:37:09",null,0.09,1,"Okeechobee Circuit Criminal CGE CQ3-16"]
["Okeechobee","Civil Traffic","CGE CQ2-17",102735,101231.25,101518.25,null,null,52983,79981.25,83440.25,null,null,null,null,null,null,null,null,"2017-01-11T14:37:09",null,0.9,8,"Okeechobee Civil Traffic CGE CQ2-17"]
["Okeechobee","Civil Traffic","CGE CQ3-16",213771.4,208422.9,208645.9,208479.9,208905.9,110810.4,174704.4,182602.4,187302.39999999999,188594.4,null,null,null,null,null,null,"2017-01-11T14:37:09",null,0.9,8,"Okeechobee Civil Traffic CGE CQ3-16"]
["Okeechobee","County Civil","CGE CQ1-17",20078,20078,20078,20078,null,19903,19903,19903,19903,null,null,null,null,null,null,null,"2017-01-11T14:37:09",null,0.9,7,"Okeechobee County Civil CGE CQ1-17"]
["Okeechobee","County Civil","CGE CQ4-16",27468.5,27193,27193,27193,27193,27049.5,26893,26893,26893,26893,null,null,null,null,null,null,"2017-01-11T14:37:09",null,0.9,7,"Okeechobee County Civil CGE CQ4-16"]
["Okeechobee","County Criminal","CGE CQ2-17",47605.5,45355.5,45005.5,null,null,8954.75,17309.75,21086.75,null,null,null,null,null,null,null,null,"2017-01-11T14:37:09",null,0.4,3,"Okeechobee County Criminal CGE CQ2-17"]
["Okeechobee","County Criminal","CGE CQ3-16",52861,51811,51161,51161,51181,9898.3700000000008,16041.87,19210.439999999999,21812.44,23993.87,null,null,null,null,null,null,"2017-01-11T14:37:09",null,0.4,3,"Okeechobee County Criminal CGE CQ3-16"]
["Okeechobee","Criminal Traffic","CGE CQ1-17",60324.75,60497.75,60647.75,60747.75,null,23748,35165.85,41611.75,43568.75,null,null,null,null,null,null,null,"2017-01-11T14:37:09",null,0.4,5,"Okeechobee Criminal Traffic CGE CQ1-17"]
["Okeechobee","Criminal Traffic","CGE CQ4-16",65071.5,71594.05,71644.05,71694.05,70207.55,16669.75,40101.75,46623.5,48619.5,51488.55,null,null,null,null,null,null,"2017-01-11T14:37:09",null,0.4,5,"Okeechobee Criminal Traffic CGE CQ4-16"]
["Okeechobee","Family","CGE CQ1-16",17656.5,17706.5,17756.5,17756.5,17756.5,17068.5,17078.5,17178.5,17178.5,17178.5,null,null,null,null,null,null,"2017-01-11T14:37:09",null,0.75,10,"Okeechobee Family CGE CQ1-16"]
["Okeechobee","Family","CGE CQ3-17",29775,29775,null,null,null,26849,27685,null,null,null,null,null,null,null,null,null,"2017-01-11T14:37:09",null,0.75,10,"Okeechobee Family CGE CQ3-17"]
["Okeechobee","Juvenile Delinquency","CGE CQ2-16",2996,2996,2996,2996,2996,376,496,496,716,736,null,null,null,null,null,null,"2017-01-11T14:37:09",null,0.09,4,"Okeechobee Juvenile Delinquency CGE CQ2-16"]
["Okeechobee","Juvenile Delinquency","CGE CQ4-17",7569.5,null,null,null,null,529.5,null,null,null,null,null,null,null,null,null,null,"2017-01-11T14:37:09",null,0.09,4,"Okeechobee Juvenile Delinquency CGE CQ4-17"]
["Okeechobee","Probate","CGE CQ3-16",12933,12933,12933,12933,12933,12933,12933,12933,12933,12933,null,null,null,null,null,null,"2017-01-11T14:37:09",null,0.9,9,"Okeechobee Probate CGE CQ3-16"]
["Okeechobee","Probate","CGE CQ3-17",15199,15199,null,null,null,14749,14749,null,null,null,null,null,null,null,null,null,"2017-01-11T14:37:09",null,0.9,9,"Okeechobee Probate CGE CQ3-17"]
["Orange","Circ Crim Drug Trfc Cases","CGE CQ2-16",1284826.2,1284826.2,1284826.2,1284826.2,1284826.2,768,2320.9899999999998,2385.9899999999998,2557.33,3263.94,null,null,null,null,null,null,"2017-01-11T14:37:09",null,0.09,2,"Orange Circ Crim Drug Trfc Cases CGE CQ2-16"]
["Orange","Circ Crim Drug Trfc Cases","CGE CQ4-17",1508964.32,null,null,null,null,109,null,null,null,null,null,null,null,null,null,null,"2017-01-11T14:37:09",null,0.09,2,"Orange Circ Crim Drug Trfc Cases CGE CQ4-17"]
["Orange","Circuit Civil","CGE CQ3-16",2936603,2926609,2924555,2924345,2923782,2924716,2916297,2914248,2914038,2913475,null,null,null,null,null,null,"2017-01-11T14:37:09",null,0.9,6,"Orange Circuit Civil CGE CQ3-16"]
["Orange","Circuit Criminal","CGE CQ1-16",4215181,4198957,4185567,4184514,4183556,119882,220367,294214,346574,385479,null,null,null,null,null,null,"2017-01-11T14:37:09",null,0.09,1,{"$f":"A3778&\" \"&B3778&\" \"&C3778","v":"Orange Circuit Criminal CGE CQ1-16"}]
["Orange","Circuit Criminal","CGE CQ2-17",3801941,3773593,3762697,null,null,130480,213899,269304,null,null,null,null,null,null,null,null,"2017-01-11T14:37:09",null,0.09,1,"Orange Circuit Criminal CGE CQ2-17"]
["Orange","Civil Traffic","CGE CQ1-16",11354556,10170614,10126123,10106629,10096750,4738889,7797448,8213381,8404551,8526929,null,null,null,null,null,null,"2017-01-11T14:37:09",null,0.9,8,"Orange Civil Traffic CGE CQ1-16"]
["Orange","Civil Traffic","CGE CQ3-17",12722515,11523378,null,null,null,4618572,7602584,null,null,null,null,null,null,null,null,null,"2017-01-11T14:37:09",null,0.9,8,"Orange Civil Traffic CGE CQ3-17"]
["Orange","Civil Traffic","CGE CQ4-16",13382245,11814916,11743503,11728983,11715606,5328816,8095857,8961461,9274017,9444796,null,null,null,null,null,null,"2017-01-11T14:37:09",null,0.9,8,"Orange Civil Traffic CGE CQ4-16"]
["Orange","County Civil","CGE CQ2-17",1878474,1877299,1874261,null,null,1872734,1871798,1868760,null,null,null,null,null,null,null,null,"2017-01-11T14:37:09",null,0.9,7,"Orange County Civil CGE CQ2-17"]
["Orange","County Criminal","CGE CQ1-16",1561537,1553749,1552921,1551645,1551006,193885,330285,408300,454644,493451,null,null,null,null,null,null,"2017-01-11T14:37:09",null,0.4,3,"Orange County Criminal CGE CQ1-16"]
["Orange","County Criminal","CGE CQ3-17",1255413,1237154,null,null,null,215757,305103,null,null,null,null,null,null,null,null,null,"2017-01-11T14:37:09",null,0.4,3,"Orange County Criminal CGE CQ3-17"]
["Orange","County Criminal","CGE CQ4-16",1300888,1294086,1293045,1292256,1291528,166512,243997,318911,359046,394793,null,null,null,null,null,null,"2017-01-11T14:37:09",null,0.4,3,"Orange County Criminal CGE CQ4-16"]
["Orange","Criminal Traffic","CGE CQ3-16",1810432,1802739,1800991,1799828,1797019,418908,633333,760653,901327,978990,null,null,null,null,null,null,"2017-01-11T14:37:09",null,0.4,5,"Orange Criminal Traffic CGE CQ3-16"]
["Orange","Family","CGE CQ1-17",588160,582627,581930,581930,null,536865,545432,546860,547268,null,null,null,null,null,null,null,"2017-01-11T14:37:09",null,0.75,10,"Orange Family CGE CQ1-17"]
["Orange","Family","CGE CQ4-16",669319,657992,656497,656069,654986,618748,620804,620924,620934,621244,null,null,null,null,null,null,"2017-01-11T14:37:09",null,0.75,10,"Orange Family CGE CQ4-16"]
["Orange","Family","CGE CQ4-17",638246,null,null,null,null,581936,null,null,null,null,null,null,null,null,null,null,"2017-01-11T14:37:09",null,0.75,10,"Orange Family CGE CQ4-17"]
["Orange","Juvenile Delinquency","CGE CQ3-16",222723,215794,207983,200773,193768,6154,9890,12313,15826,17620,null,null,null,null,null,null,"2017-01-11T14:37:09",null,0.09,4,"Orange Juvenile Delinquency CGE CQ3-16"]
["Orange","Probate","CGE CQ1-17",253321,251210,251210,251210,null,246783,247774,247774,247794,null,null,null,null,null,null,null,"2017-01-11T14:37:09",null,0.9,9,"Orange Probate CGE CQ1-17"]
["Orange","Probate","CGE CQ4-16",232301,231835,231835,231835,231835,229740,230576,230576,230576,230576,null,null,null,null,null,null,"2017-01-11T14:37:09",null,0.9,9,"Orange Probate CGE CQ4-16"]
["Orange","Probate","CGE CQ4-17",254447,null,null,null,null,252168,null,null,null,null,null,null,null,null,null,null,"2017-01-11T14:37:09",null,0.9,9,"Orange Probate CGE CQ4-17"]
["Osceola","Circ Crim Drug Trfc Cases","CGE CQ3-16",2428349.7000000002,2430457.7599999998,2429329.7599999998,2429229.7599999998,2429229.7599999998,3209.94,150,150,150,150,null,null,null,null,null,null,"2017-01-11T14:37:09",null,0.09,2,"Osceola Circ Crim Drug Trfc Cases CGE CQ3-16"]
["Osceola","Circ Crim Drug Trfc Cases","CGE CQ4-17",2901464.64,null,null,null,null,78037.649999999994,null,null,null,null,null,null,null,null,null,null,"2017-01-11T14:37:09",null,0.09,2,"Osceola Circ Crim Drug Trfc Cases CGE CQ4-17"]
["Osceola","Circuit Civil","CGE CQ4-17",677275.92,null,null,null,null,654509.85,null,null,null,null,null,null,null,null,null,null,"2017-01-11T14:37:09",null,0.9,6,"Osceola Circuit Civil CGE CQ4-17"]
["Osceola","Circuit Criminal","CGE CQ1-16",4130434.21,4124908.21,4122962.71,4122477.71,4118315.13,123953.92,151265.76,168786.67,189150.52,201865.58,null,null,null,null,null,null,"2017-01-11T14:37:09",null,0.09,1,"Osceola Circuit Criminal CGE CQ1-16"]
["Osceola","Circuit Criminal","CGE CQ3-17",3257880.69,3094312.69,null,null,null,99147.76,115215.6,null,null,null,null,null,null,null,null,null,"2017-01-11T14:37:09",null,0.09,1,"Osceola Circuit Criminal CGE CQ3-17"]
["Osceola","Civil Traffic","CGE CQ2-16",3287961.8,3129381.65,3075187.14,3075673.12,3069502.62,1230853.56,2055397.33,2473709.39,2631479.4900000002,2718129.8,null,null,null,null,null,null,"2017-01-11T14:37:09",null,0.9,8,"Osceola Civil Traffic CGE CQ2-16"]
["Osceola","Civil Traffic","CGE CQ4-17",2687703.28,null,null,null,null,1095942.1200000001,null,null,null,null,null,null,null,null,null,null,"2017-01-11T14:37:09",null,0.9,8,"Osceola Civil Traffic CGE CQ4-17"]
["Osceola","County Civil","CGE CQ1-16",302477.75,302177.75,302141.75,302141.75,302141.75,288135.52,299735.96999999997,299739.8,299739.8,299739.8,null,null,null,null,null,null,"2017-01-11T14:37:09",null,0.9,7,"Osceola County Civil CGE CQ1-16"]
["Osceola","County Civil","CGE CQ3-17",320702.15999999997,320226.43,null,null,null,312564.53999999998,314986.34999999998,null,null,null,null,null,null,null,null,null,"2017-01-11T14:37:09",null,0.9,7,"Osceola County Civil CGE CQ3-17"]
["Osceola","County Criminal","CGE CQ2-16",414892.09,409289.59,408590.73,407894.23,407529.65,121251.69,171480.65,203194.32,215586.89,225272.25,null,null,null,null,null,null,"2017-01-11T14:37:09",null,0.4,3,"Osceola County Criminal CGE CQ2-16"]
["Osceola","Criminal Traffic","CGE CQ1-16",452298.58,453618.26,452821.26,452175.41,451598.92,145928.38,225173.44,265904.42,288810.65999999997,301467.65000000002,null,null,null,null,null,null,"2017-01-11T14:37:09",null,0.4,5,"Osceola Criminal Traffic CGE CQ1-16"]
["Osceola","Criminal Traffic","CGE CQ1-17",442111.24,442216.86,442811.86,442804.35,null,146124.10999999999,212415.35,244346.03,270575.32,null,null,null,null,null,null,null,"2017-01-11T14:37:09",null,0.4,5,"Osceola Criminal Traffic CGE CQ1-17"]
["Osceola","Criminal Traffic","CGE CQ4-16",465596.69,464691.20000000001,465335.2,465795.7,465720.2,140946.56,215257.73,267295.33,288224.52,308644.02,null,null,null,null,null,null,"2017-01-11T14:37:09",null,0.4,5,"Osceola Criminal Traffic CGE CQ4-16"]
["Osceola","Family","CGE CQ2-17",172808.98,173276.48,172843.48,null,null,163340.28,165157.28,165107.78,null,null,null,null,null,null,null,null,"2017-01-11T14:37:09",null,0.75,10,"Osceola Family CGE CQ2-17"]
["Osceola","Juvenile Delinquency","CGE CQ1-16",31627.5,28739.5,25815.5,25038.5,22893.5,867.5,1505.5,1525.5,1828.5,2624.5,null,null,null,null,null,null,"2017-01-11T14:37:09",null,0.09,4,{"$f":"A3906&\" \"&B3906&\" \"&C3906","v":"Osceola Juvenile Delinquency CGE CQ1-16"}]
["Osceola","Juvenile Delinquency","CGE CQ1-17",24968,23773,22639,19523,null,257,1243,1558,1619,null,null,null,null,null,null,null,"2017-01-11T14:37:09",null,0.09,4,"Osceola Juvenile Delinquency CGE CQ1-17"]
["Osceola","Juvenile Delinquency","CGE CQ4-16",32730.15,31302.65,28474.15,26942.15,26359.65,755.15,1170.1500000000001,1809.65,2729.65,2842.15,null,null,null,null,null,null,"2017-01-11T14:37:09",null,0.09,4,"Osceola Juvenile Delinquency CGE CQ4-16"]
["Osceola","Probate","CGE CQ2-17",71582.41,71582.41,71582.41,null,null,69228.41,70519.41,70519.41,null,null,null,null,null,null,null,null,"2017-01-11T14:37:09",null,0.9,9,"Osceola Probate CGE CQ2-17"]
["Palm Beach","Circ Crim Drug Trfc Cases","CGE CQ1-16",212050,212050,212050,212050,212050,0,0,0,0,0,null,null,null,null,null,null,"2017-01-11T14:37:09",null,0.09,2,"Palm Beach Circ Crim Drug Trfc Cases CGE CQ1-16"]
["Palm Beach","Circ Crim Drug Trfc Cases","CGE CQ2-17",29037798.050000001,29037798.050000001,29037798.050000001,null,null,70.150000000000006,628.80999999999995,796.04,null,null,null,null,null,null,null,null,"2017-01-11T14:37:09",null,0.09,2,"Palm Beach Circ Crim Drug Trfc Cases CGE CQ2-17"]
["Palm Beach","Circ Crim Drug Trfc Cases","CGE CQ4-17",1266926.97,null,null,null,null,412.77,null,null,null,null,null,null,null,null,null,null,"2017-01-11T14:37:09",null,0.09,2,"Palm Beach Circ Crim Drug Trfc Cases CGE CQ4-17"]
["Palm Beach","Circuit Civil","CGE CQ3-16",5019463.7,5016230.5199999996,5010847.03,4998910.6100000003,4989364.21,4461464.32,4470437.7300000004,4939670.01,4929060.96,4924201.3899999997,null,null,null,null,null,null,"2017-01-11T14:37:09",null,0.9,6,"Palm Beach Circuit Civil CGE CQ3-16"]
["Palm Beach","Circuit Criminal","CGE CQ1-17",2046047.32,2026806.81,2016361.99,2008480.47,null,78210.69,118605.57,149853.48000000001,171527.33,null,null,null,null,null,null,null,"2017-01-11T14:37:09",null,0.09,1,"Palm Beach Circuit Criminal CGE CQ1-17"]
["Palm Beach","Circuit Criminal","CGE CQ2-16",1710478.03,1697708.95,1692124.02,1685451.86,1671869.21,60590.6,97652.11,130149.16,156200.09,188701.48,null,null,null,null,null,null,"2017-01-11T14:37:09",null,0.09,1,"Palm Beach Circuit Criminal CGE CQ2-16"]
["Palm Beach","Circuit Criminal","CGE CQ4-17",2556353.11,null,null,null,null,95985.18,null,null,null,null,null,null,null,null,null,null,"2017-01-11T14:37:09",null,0.09,1,"Palm Beach Circuit Criminal CGE CQ4-17"]
["Palm Beach","Civil Traffic","CGE CQ3-16",8297252.4699999997,7399628.04,7362960.54,7344921.6399999997,7328534.6399999997,3882540.42,6192205.0300000003,6471309.4100000001,6669452.5800000001,6732099.1299999999,null,null,null,null,null,null,"2017-01-11T14:37:09",null,0.9,8,"Palm Beach Civil Traffic CGE CQ3-16"]
["Palm Beach","County Civil","CGE CQ1-17",1493117.47,1488865.32,1485945.32,1484970.32,null,1486423.87,1484360.02,1481737.55,1481062.55,null,null,null,null,null,null,null,"2017-01-11T14:37:09",null,0.9,7,"Palm Beach County Civil CGE CQ1-17"]
["Palm Beach","County Civil","CGE CQ2-16",1539522.5,1536310.6,1536310.6,1536135.6,1536120.6,1531997.9,1533039.7,1533650.2,1533905.2,1533595.2,null,null,null,null,null,null,"2017-01-11T14:37:09",null,0.9,7,"Palm Beach County Civil CGE CQ2-16"]
["Palm Beach","County Civil","CGE CQ4-17",1956094.74,null,null,null,null,1950368.79,null,null,null,null,null,null,null,null,null,null,"2017-01-11T14:37:09",null,0.9,7,"Palm Beach County Civil CGE CQ4-17"]
["Palm Beach","County Criminal","CGE CQ3-17",1079248.5900000001,1059162.48,null,null,null,194017.03,264538.65999999997,null,null,null,null,null,null,null,null,null,"2017-01-11T14:37:09",null,0.4,3,"Palm Beach County Criminal CGE CQ3-17"]
["Palm Beach","Criminal Traffic","CGE CQ2-16",2094214.82,2064316.1,2030753.34,1989379.13,1947558.77,529947.53,782724.61,919963.78,1028706.65,1159178.26,null,null,null,null,null,null,"2017-01-11T14:37:09",null,0.4,5,"Palm Beach Criminal Traffic CGE CQ2-16"]
["Palm Beach","Criminal Traffic","CGE CQ2-17",2031692.68,1992455.31,1961347.19,null,null,518776.1,764468.4,899987.84,null,null,null,null,null,null,null,null,"2017-01-11T14:37:09",null,0.4,5,"Palm Beach Criminal Traffic CGE CQ2-17"]
["Palm Beach","Family","CGE CQ1-16",697619.4,697068.4,696617.4,696617.4,685155.4,674561.66,675959.5,676434.5,676598.5,676455.63,null,null,null,null,null,null,"2017-01-11T14:37:09",null,0.75,10,"Palm Beach Family CGE CQ1-16"]
["Palm Beach","Family","CGE CQ3-17",831092.5,827876.88,null,null,null,801340.37,804373.05,null,null,null,null,null,null,null,null,null,"2017-01-11T14:37:09",null,0.75,10,"Palm Beach Family CGE CQ3-17"]
["Palm Beach","Juvenile Delinquency","CGE CQ2-16",51929,51529,51129,51129,50959,2514,3684,4571.67,4976.67,5375.5,null,null,null,null,null,null,"2017-01-11T14:37:09",null,0.09,4,"Palm Beach Juvenile Delinquency CGE CQ2-16"]
["Palm Beach","Juvenile Delinquency","CGE CQ2-17",57715.5,66225.5,66805.5,null,null,1838.5,3183.5,3503.5,null,null,null,null,null,null,null,null,"2017-01-11T14:37:09",null,0.09,4,"Palm Beach Juvenile Delinquency CGE CQ2-17"]
["Palm Beach","Probate","CGE CQ1-16",565823.96,565803.96,562924.96,560140.96,560140.96,557887.02,558529.02,556383.02,556408.02,556408.02,null,null,null,null,null,null,"2017-01-11T14:37:09",null,0.9,9,"Palm Beach Probate CGE CQ1-16"]
["Palm Beach","Probate","CGE CQ4-17",590854.92000000004,null,null,null,null,576999.44999999995,null,null,null,null,null,null,null,null,null,null,"2017-01-11T14:37:09",null,0.9,9,"Palm Beach Probate CGE CQ4-17"]
["Pasco","Circ Crim Drug Trfc Cases","CGE CQ2-17",0,0,0,null,null,0,0,0,null,null,null,null,null,null,null,null,"2017-01-11T14:37:09",null,0.09,2,"Pasco Circ Crim Drug Trfc Cases CGE CQ2-17"]
["Pasco","Circ Crim Drug Trfc Cases","CGE CQ3-16",269953,269953,269953,269953,269953,5,5,5,5,5,null,null,null,null,null,null,"2017-01-11T14:37:09",null,0.09,2,"Pasco Circ Crim Drug Trfc Cases CGE CQ3-16"]
["Pasco","Circuit Civil","CGE CQ1-17",991146.02,994185.1,993835.1,993831.1,null,943577.42,973280.41,980257.91,980418.41,null,null,null,null,null,null,null,"2017-01-11T14:37:09",null,0.9,6,"Pasco Circuit Civil CGE CQ1-17"]
["Pasco","Circuit Civil","CGE CQ4-16",1121025.1200000001,1120550.6200000001,1120550.6200000001,1120545.6200000001,1120645.6200000001,1089465.52,1111400.52,1112688.28,1114244.8600000001,1114279.3600000001,null,null,null,null,null,null,"2017-01-11T14:37:09",null,0.9,6,"Pasco Circuit Civil CGE CQ4-16"]
["Pasco","Circuit Criminal","CGE CQ2-17",1517507.81,1509138.51,1497236.74,null,null,56413.37,90132.02,115677.78,null,null,null,null,null,null,null,null,"2017-01-11T14:37:09",null,0.09,1,"Pasco Circuit Criminal CGE CQ2-17"]
["Pasco","Circuit Criminal","CGE CQ3-16",1374481.45,1318153.53,1308780.53,1305474.99,1300647.07,102355.96,98416.11,127485.99,157913.95000000001,189774.34,null,null,null,null,null,null,"2017-01-11T14:37:09",null,0.09,1,"Pasco Circuit Criminal CGE CQ3-16"]
["Pasco","Civil Traffic","CGE CQ1-17",1812987,1812987,1812987,1812987,null,951542.9,1273733.3999999999,1421905.74,1499371.38,null,null,null,null,null,null,null,"2017-01-11T14:37:09",null,0.9,8,"Pasco Civil Traffic CGE CQ1-17"]
["Pasco","Civil Traffic","CGE CQ4-16",1334884.75,1334884.75,1334884.75,1334884.75,1334884.75,576852.75,1016778.49,1191368.94,1230503.19,1240172.69,null,null,null,null,null,null,"2017-01-11T14:37:09",null,0.9,8,"Pasco Civil Traffic CGE CQ4-16"]
["Pasco","County Civil","CGE CQ2-16",513818.47,514175.67,513875.67,514355.67,514910.67,508920.69,511063.14,511063.14,511298.14,511853.14,null,null,null,null,null,null,"2017-01-11T14:37:09",null,0.9,7,"Pasco County Civil CGE CQ2-16"]
["Pasco","County Civil","CGE CQ3-17",491739.85,491375.85,null,null,null,482359.88,488641.88,null,null,null,null,null,null,null,null,null,"2017-01-11T14:37:09",null,0.9,7,"Pasco County Civil CGE CQ3-17"]
["Pasco","County Criminal","CGE CQ2-16",621471.55000000005,614595.55000000005,610066.55000000005,608554.55000000005,608161.55000000005,158060.28,216503.73,239277.65,262397.2,284087.45,null,null,null,null,null,null,"2017-01-11T14:37:09",null,0.4,3,"Pasco County Criminal CGE CQ2-16"]
["Pasco","County Criminal","CGE CQ4-17",608085.14,null,null,null,null,119015.28,null,null,null,null,null,null,null,null,null,null,"2017-01-11T14:37:09",null,0.4,3,"Pasco County Criminal CGE CQ4-17"]
["Pasco","Criminal Traffic","CGE CQ3-16",656222.09,641178.09,639377.07999999996,636726.09,634742.09,198050.71,267467.71000000002,304199.94,363217.12,386125.12,null,null,null,null,null,null,"2017-01-11T14:37:09",null,0.4,5,"Pasco Criminal Traffic CGE CQ3-16"]
["Pasco","Criminal Traffic","CGE CQ3-17",569653.64,562402.25,null,null,null,174917.39,234675.21,null,null,null,null,null,null,null,null,null,"2017-01-11T14:37:09",null,0.4,5,"Pasco Criminal Traffic CGE CQ3-17"]
["Pasco","Family","CGE CQ2-16",266902.5,261509.8,260764.79999999999,263780.8,263805.8,226636.22,233331.45,234116,234888.5,235606.5,null,null,null,null,null,null,"2017-01-11T14:37:09",null,0.75,10,"Pasco Family CGE CQ2-16"]
["Pasco","Family","CGE CQ4-17",270522.55,null,null,null,null,241560.85,null,null,null,null,null,null,null,null,null,null,"2017-01-11T14:37:09",null,0.75,10,"Pasco Family CGE CQ4-17"]
["Pasco","Juvenile Delinquency","CGE CQ3-16",38547,37909,53265,53140,53015,5610.76,7664.9,10993.76,12516.76,13136.76,null,null,null,null,null,null,"2017-01-11T14:37:09",null,0.09,4,"Pasco Juvenile Delinquency CGE CQ3-16"]
["Pasco","Juvenile Delinquency","CGE CQ4-16",34293,45024.36,44574.36,44299.360000000001,44224.36,4470,7871.14,9788,10418,10418,null,null,null,null,null,null,"2017-01-11T14:37:09",null,0.09,4,"Pasco Juvenile Delinquency CGE CQ4-16"]
["Pasco","Probate","CGE CQ2-17",165167.21,164636.21,164501.21,null,null,162589.76999999999,163955.76999999999,163982.73000000001,null,null,null,null,null,null,null,null,"2017-01-11T14:37:09",null,0.9,9,"Pasco Probate CGE CQ2-17"]
["Pinellas","Circ Crim Drug Trfc Cases","CGE CQ1-16",740064,845064,845064,845064,845064,0,0,0,0,0,null,null,null,null,null,null,"2017-01-11T14:37:09",null,0.09,2,"Pinellas Circ Crim Drug Trfc Cases CGE CQ1-16"]
["Pinellas","Circ Crim Drug Trfc Cases","CGE CQ3-17",1504416,928816,null,null,null,0,0,null,null,null,null,null,null,null,null,null,"2017-01-11T14:37:09",null,0.09,2,"Pinellas Circ Crim Drug Trfc Cases CGE CQ3-17"]
["Pinellas","Circ Crim Drug Trfc Cases","CGE CQ4-16",132589,1272641,1272641,1220273,1220273,0,0,0,0,0,null,null,null,null,null,null,"2017-01-11T14:37:09",null,0.09,2,"Pinellas Circ Crim Drug Trfc Cases CGE CQ4-16"]
["Pinellas","Circuit Civil","CGE CQ2-17",2249864,2247836,2245911,null,null,2212053,2237975,2238975,null,null,null,null,null,null,null,null,"2017-01-11T14:37:09",null,0.9,6,"Pinellas Circuit Civil CGE CQ2-17"]
["Pinellas","Circuit Criminal","CGE CQ1-16",2949315,2438649,2416099,2407558,2403730,99324,227170,245089,279596,298701,null,null,null,null,null,null,"2017-01-11T14:37:09",null,0.09,1,{"$f":"A4098&\" \"&B4098&\" \"&C4098","v":"Pinellas Circuit Criminal CGE CQ1-16"}]
["Pinellas","Circuit Criminal","CGE CQ3-17",3358841,2760141,null,null,null,100033,155940,null,null,null,null,null,null,null,null,null,"2017-01-11T14:37:09",null,0.09,1,"Pinellas Circuit Criminal CGE CQ3-17"]
["Pinellas","Circuit Criminal","CGE CQ4-16",3189268,3094793,3084342,3026128,3022480,90957,149212,205433,249801,294306,null,null,null,null,null,null,"2017-01-11T14:37:09",null,0.09,1,"Pinellas Circuit Criminal CGE CQ4-16"]
["Pinellas","Civil Traffic","CGE CQ4-16",4880626,4151222,4035312,3989264,3966019,2169471,2942804,3269079,3366714,3427703,null,null,null,null,null,null,"2017-01-11T14:37:09",null,0.9,8,"Pinellas Civil Traffic CGE CQ4-16"]
["Pinellas","County Civil","CGE CQ1-17",1277514,1277041,1276555,1275895,null,1274851,1274684,1274684,1274684,null,null,null,null,null,null,null,"2017-01-11T14:37:09",null,0.9,7,"Pinellas County Civil CGE CQ1-17"]
["Pinellas","County Civil","CGE CQ4-16",1156098,1155365,1155355,1154525,1153815,1153324,1153710,1153710,1153340,1153340,null,null,null,null,null,null,"2017-01-11T14:37:09",null,0.9,7,"Pinellas County Civil CGE CQ4-16"]
["Pinellas","County Civil","CGE CQ4-17",1165581,null,null,null,null,1164537,null,null,null,null,null,null,null,null,null,null,"2017-01-11T14:37:09",null,0.9,7,"Pinellas County Civil CGE CQ4-17"]
["Pinellas","County Criminal","CGE CQ3-16",1890326,1820251,1795694,1785073,1773288,274430,403760,483386,552408,594434,null,null,null,null,null,null,"2017-01-11T14:37:09",null,0.4,3,"Pinellas County Criminal CGE CQ3-16"]
["Pinellas","Criminal Traffic","CGE CQ1-17",1986584,1947283,1927882,1914401,null,685854,940823,1090221,1207580,null,null,null,null,null,null,null,"2017-01-11T14:37:09",null,0.4,5,"Pinellas Criminal Traffic CGE CQ1-17"]
["Pinellas","Criminal Traffic","CGE CQ4-16",2064553,2022484,2001690,1987147,1975419,648902,893777,1096084,1228524,1302379,null,null,null,null,null,null,"2017-01-11T14:37:09",null,0.4,5,"Pinellas Criminal Traffic CGE CQ4-16"]
["Pinellas","Criminal Traffic","CGE CQ4-17",2040251,null,null,null,null,743393,null,null,null,null,null,null,null,null,null,null,"2017-01-11T14:37:09",null,0.4,5,"Pinellas Criminal Traffic CGE CQ4-17"]
["Pinellas","Family","CGE CQ3-16",522011,520973,520973,520973,520963,515609,517204,517398,517410,517466,null,null,null,null,null,null,"2017-01-11T14:37:09",null,0.75,10,"Pinellas Family CGE CQ3-16"]
["Pinellas","Juvenile Delinquency","CGE CQ2-16",85331,84780,84528,80302,87988,4373,5396,5798,6141,6451,null,null,null,null,null,null,"2017-01-11T14:37:09",null,0.09,4,"Pinellas Juvenile Delinquency CGE CQ2-16"]
["Pinellas","Juvenile Delinquency","CGE CQ4-17",71484,null,null,null,null,1750,null,null,null,null,null,null,null,null,null,null,"2017-01-11T14:37:09",null,0.09,4,"Pinellas Juvenile Delinquency CGE CQ4-17"]
["Pinellas","Probate","CGE CQ1-16",397647,392452,392057,391313,391313,387408,390647,390953,390258,390504,null,null,null,null,null,null,"2017-01-11T14:37:09",null,0.9,9,"Pinellas Probate CGE CQ1-16"]
["Pinellas","Probate","CGE CQ3-17",418484,418036,null,null,null,412269,417474,null,null,null,null,null,null,null,null,null,"2017-01-11T14:37:09",null,0.9,9,"Pinellas Probate CGE CQ3-17"]
["Polk","Circ Crim Drug Trfc Cases","CGE CQ2-16",0,0,0,949897,949897,0,0,0,25,25,null,null,null,null,null,null,"2017-01-11T14:37:09",null,0.09,2,"Polk Circ Crim Drug Trfc Cases CGE CQ2-16"]
["Polk","Circ Crim Drug Trfc Cases","CGE CQ4-17",3423577,null,null,null,null,2132.2800000000002,null,null,null,null,null,null,null,null,null,null,"2017-01-11T14:37:09",null,0.09,2,"Polk Circ Crim Drug Trfc Cases CGE CQ4-17"]
["Polk","Circuit Civil","CGE CQ1-16",994205.7,994105.7,994105.7,994105.7,994105.7,984406.7,986901.7,986951.7,987001.7,987001.7,null,null,null,null,null,null,"2017-01-11T14:37:09",null,0.9,6,"Polk Circuit Civil CGE CQ1-16"]
["Polk","Circuit Civil","CGE CQ3-17",1049046.1200000001,1049046.1200000001,null,null,null,1037591.12,1039426.12,null,null,null,null,null,null,null,null,null,"2017-01-11T14:37:09",null,0.9,6,"Polk Circuit Civil CGE CQ3-17"]
["Polk","Circuit Criminal","CGE CQ2-16",2933955.06,2933229.88,2501074.02,2496107.6,2491978.7999999998,86162.6,160835.93,158310.32999999999,189916.13,219503.85,null,null,null,null,null,null,"2017-01-11T14:37:09",null,0.09,1,"Polk Circuit Criminal CGE CQ2-16"]
["Polk","Circuit Criminal","CGE CQ3-17",3962684.67,3959678.88,null,null,null,71234.070000000007,143759.04000000001,null,null,null,null,null,null,null,null,null,"2017-01-11T14:37:09",null,0.09,1,"Polk Circuit Criminal CGE CQ3-17"]
["Polk","Civil Traffic","CGE CQ1-17",3219491.61,3161340.59,3155953.3,3154922.21,null,1319211.47,2577908.1800000002,2715241.95,2754919.14,null,null,null,null,null,null,null,"2017-01-11T14:37:09",null,0.9,8,"Polk Civil Traffic CGE CQ1-17"]
["Polk","Civil Traffic","CGE CQ4-16",2781404.8,2716648.78,2714840.41,2714028.89,2712599.89,1262538.1399999999,2166200.94,2345289.06,2390378.1,2410863.58,null,null,null,null,null,null,"2017-01-11T14:37:09",null,0.9,8,"Polk Civil Traffic CGE CQ4-16"]
["Polk","County Civil","CGE CQ2-17",934945.85,934945.85,934945.85,null,null,924905.86,932376.86,932721.96,null,null,null,null,null,null,null,null,"2017-01-11T14:37:09",null,0.9,7,"Polk County Civil CGE CQ2-17"]
["Polk","County Criminal","CGE CQ1-16",1061651.9099999999,1050483.92,1024974.97,963973.14,942215.86,111025.19,190475.3,228492.51,248371.02,270977.31,null,null,null,null,null,null,"2017-01-11T14:37:09",null,0.4,3,"Polk County Criminal CGE CQ1-16"]
["Polk","County Criminal","CGE CQ1-17",866855.82,861266.37,854838.66,849940.41,null,132381.63,228268.37,269332.47999999998,296543.17,null,null,null,null,null,null,null,"2017-01-11T14:37:09",null,0.4,3,"Polk County Criminal CGE CQ1-17"]
["Polk","County Criminal","CGE CQ4-16",1032001.54,1053173.2,1045241.41,1041299.79,1038299.3,150727.98000000001,242424.04,303877.61,341563.35,374151.44,null,null,null,null,null,null,"2017-01-11T14:37:09",null,0.4,3,"Polk County Criminal CGE CQ4-16"]
["Polk","Criminal Traffic","CGE CQ2-17",601091.64,599074.35,597157.39,null,null,161068.73000000001,249224.79,275036.06,null,null,null,null,null,null,null,null,"2017-01-11T14:37:09",null,0.4,5,"Polk Criminal Traffic CGE CQ2-17"]
["Polk","Family","CGE CQ1-16",224422.28,224422.28,224422.28,224422.28,224422.28,222877.88,223020.28,223020.28,223020.28,223020.28,null,null,null,null,null,null,"2017-01-11T14:37:09",null,0.75,10,"Polk Family CGE CQ1-16"]
["Polk","Family","CGE CQ1-17",223402.14,223402.14,223402.14,223402.14,null,218623.14,219183.87,219656.87,220199.67,null,null,null,null,null,null,null,"2017-01-11T14:37:09",null,0.75,10,"Polk Family CGE CQ1-17"]
["Polk","Family","CGE CQ4-17",237377.14,null,null,null,null,232482.14,null,null,null,null,null,null,null,null,null,null,"2017-01-11T14:37:09",null,0.75,10,"Polk Family CGE CQ4-17"]
["Polk","Juvenile Delinquency","CGE CQ3-16",170181.01,169821.51,169715.51,169149.51,168743.51,5853.6,11122.73,17223.669999999998,23497.42,25827.22,null,null,null,null,null,null,"2017-01-11T14:37:09",null,0.09,4,"Polk Juvenile Delinquency CGE CQ3-16"]
["Polk","Probate","CGE CQ1-17",174172.72,173541.72,173541.72,173541.72,null,173306.72,173306.72,173306.72,173306.72,null,null,null,null,null,null,null,"2017-01-11T14:37:09",null,0.9,9,"Polk Probate CGE CQ1-17"]
["Polk","Probate","CGE CQ2-16",198984.22,198943.22,198943.22,198943.22,198943.22,197941.22,198286.22,198455.22,198455.22,198455.22,null,null,null,null,null,null,"2017-01-11T14:37:09",null,0.9,9,"Polk Probate CGE CQ2-16"]
["Polk","Probate","CGE CQ4-17",187016.83,null,null,null,null,185564.33,null,null,null,null,null,null,null,null,null,null,"2017-01-11T14:37:09",null,0.9,9,"Polk Probate CGE CQ4-17"]
["PUTNAM","Circ Crim Drug Trfc Cases","CGE CQ3-16",212570,212570,212570,212570,212570,0,0,0,0,0,null,null,null,null,null,null,"2017-01-11T14:37:09",null,0.09,2,"PUTNAM Circ Crim Drug Trfc Cases CGE CQ3-16"]
["PUTNAM","Circuit Civil","CGE CQ1-17",89954.68,89954.68,89954.68,89884.68,null,84627.18,89814.68,89814.68,89814.68,null,null,null,null,null,null,null,"2017-01-11T14:37:09",null,0.9,6,"PUTNAM Circuit Civil CGE CQ1-17"]
["PUTNAM","Circuit Civil","CGE CQ2-16",95302.399999999994,95302.399999999994,96902.399999999994,96502.399999999994,96502.399999999994,90697.4,95219.4,95219.4,95227.4,95227.4,null,null,null,null,null,null,"2017-01-11T14:37:09",null,0.9,6,"PUTNAM Circuit Civil CGE CQ2-16"]
["PUTNAM","Circuit Criminal","CGE CQ1-17",324771.62,324871.62,325004.62,324389.62,null,3394.99,5378.9,6677.67,11227.9,null,null,null,null,null,null,null,"2017-01-11T14:37:09",null,0.09,1,"PUTNAM Circuit Criminal CGE CQ1-17"]
["PUTNAM","Circuit Criminal","CGE CQ3-17",651095.80000000005,651514.80000000005,null,null,null,4652.0600000000004,9609.68,null,null,null,null,null,null,null,null,null,"2017-01-11T14:37:09",null,0.09,1,"PUTNAM Circuit Criminal CGE CQ3-17"]
["PUTNAM","Civil Traffic","CGE CQ2-16",203058.75,229277.18,225816.74,225665.34,225356.86,77406.25,133438.20000000001,154241.9,160487.1,164439.26,null,null,null,null,null,null,"2017-01-11T14:37:09",null,0.9,8,"PUTNAM Civil Traffic CGE CQ2-16"]
["PUTNAM","Civil Traffic","CGE CQ2-17",190759.38,233748.98,230929.98,null,null,68340.88,125395.28,138153.88,null,null,null,null,null,null,null,null,"2017-01-11T14:37:09",null,0.9,8,"PUTNAM Civil Traffic CGE CQ2-17"]
["PUTNAM","County Civil","CGE CQ1-16",61007.47,60832.47,60832.47,60832.47,61017.47,60137.47,60752.47,60752.47,60752.47,60752.47,null,null,null,null,null,null,"2017-01-11T14:37:09",null,0.9,7,"PUTNAM County Civil CGE CQ1-16"]
["PUTNAM","County Civil","CGE CQ3-17",57454.2,57589.2,null,null,null,55732.2,57589.2,null,null,null,null,null,null,null,null,null,"2017-01-11T14:37:09",null,0.9,7,"PUTNAM County Civil CGE CQ3-17"]
["PUTNAM","County Criminal","CGE CQ2-16",99001.94,99024.94,99726.44,99254.44,99264.44,12819.67,22441.85,33796.26,37333.61,39333.11,null,null,null,null,null,null,"2017-01-11T14:37:09",null,0.4,3,"PUTNAM County Criminal CGE CQ2-16"]
["PUTNAM","County Criminal","CGE CQ2-17",79598.34,81108.34,81108.34,null,null,6878.16,14207.97,21739.040000000001,null,null,null,null,null,null,null,null,"2017-01-11T14:37:09",null,0.4,3,"PUTNAM County Criminal CGE CQ2-17"]
["PUTNAM","Criminal Traffic","CGE CQ1-16",113576.48,113380.48,113430.48,114580.48,114206.48,16965.75,59143.64,75994.14,81220.39,82974.39,null,null,null,null,null,null,"2017-01-11T14:37:09",null,0.4,5,{"$f":"A4290&\" \"&B4290&\" \"&C4290","v":"PUTNAM Criminal Traffic CGE CQ1-16"}]
["PUTNAM","Criminal Traffic","CGE CQ3-16",107688.89,110410.89,110187.89,111137.89,109883.89,25614.799999999999,46274.35,59089.08,64964.959999999999,68025.210000000006,null,null,null,null,null,null,"2017-01-11T14:37:09",null,0.4,5,"PUTNAM Criminal Traffic CGE CQ3-16"]
["PUTNAM","Family","CGE CQ2-17",51359.7,50543.7,50135.7,null,null,41805.699999999997,44441.04,44772.05,null,null,null,null,null,null,null,null,"2017-01-11T14:37:09",null,0.75,10,"PUTNAM Family CGE CQ2-17"]
["PUTNAM","Family","CGE CQ3-16",44453.4,44748.4,44748.4,44748.4,44748.4,34232.18,36994.449999999997,37207.129999999997,37278.129999999997,37731.629999999997,null,null,null,null,null,null,"2017-01-11T14:37:09",null,0.75,10,"PUTNAM Family CGE CQ3-16"]
["PUTNAM","Juvenile Delinquency","CGE CQ1-17",2040,3430,3280,3280,null,0,0,0,0,null,null,null,null,null,null,null,"2017-01-11T14:37:09",null,0.09,4,"PUTNAM Juvenile Delinquency CGE CQ1-17"]
["PUTNAM","Juvenile Delinquency","CGE CQ4-16",13093.5,627,1927,1927,1927,0,7,7,7,7,null,null,null,null,null,null,"2017-01-11T14:37:09",null,0.09,4,"PUTNAM Juvenile Delinquency CGE CQ4-16"]
["PUTNAM","Probate","CGE CQ2-17",36790.5,36790.5,36784.5,null,null,36364.5,36784.5,36784.5,null,null,null,null,null,null,null,null,"2017-01-11T14:37:09",null,0.9,9,"PUTNAM Probate CGE CQ2-17"]
["PUTNAM","Probate","CGE CQ3-16",24192.5,24192.5,24192.5,24192.5,24192.5,23248.5,24184.5,24191.5,24191.5,24191.5,null,null,null,null,null,null,"2017-01-11T14:37:09",null,0.9,9,"PUTNAM Probate CGE CQ3-16"]
["Santa Rosa","Circ Crim Drug Trfc Cases","CGE CQ1-17",159854,159854,159854,159854,null,0,0,0,0,null,null,null,null,null,null,null,"2017-01-11T14:37:09",null,0.09,2,"Santa Rosa Circ Crim Drug Trfc Cases CGE CQ1-17"]
["Santa Rosa","Circ Crim Drug Trfc Cases","CGE CQ4-16",264240,264240,264240,264240,264240,0,0,0,0,0,null,null,null,null,null,null,"2017-01-11T14:37:09",null,0.09,2,"Santa Rosa Circ Crim Drug Trfc Cases CGE CQ4-16"]
["Santa Rosa","Circuit Civil","CGE CQ1-16",304988.3,306443.3,306043.3,306043.3,306043.3,302068.3,303643.3,303643.3,304043.3,304043.3,null,null,null,null,null,null,"2017-01-11T14:37:09",null,0.9,6,"Santa Rosa Circuit Civil CGE CQ1-16"]
["Santa Rosa","Circuit Civil","CGE CQ3-17",310523.46999999997,310453.46999999997,null,null,null,300654.57,301662.57,null,null,null,null,null,null,null,null,null,"2017-01-11T14:37:09",null,0.9,6,"Santa Rosa Circuit Civil CGE CQ3-17"]
["Santa Rosa","Circuit Criminal","CGE CQ2-16",434646.05,432924.99,432367.99,432882.99,432049.99,13806.47,26747.71,38569.29,51841.58,63812.35,null,null,null,null,null,null,"2017-01-11T14:37:09",null,0.09,1,"Santa Rosa Circuit Criminal CGE CQ2-16"]
["Santa Rosa","Circuit Criminal","CGE CQ4-17",444670.39,null,null,null,null,18280.990000000002,null,null,null,null,null,null,null,null,null,null,"2017-01-11T14:37:09",null,0.09,1,"Santa Rosa Circuit Criminal CGE CQ4-17"]
["Santa Rosa","Civil Traffic","CGE CQ3-16",807866.24,873520.14,874327.39,870886.89,870365.14,370858.8,631916.43000000005,697848.05,742811.9,760204.9,null,null,null,null,null,null,"2017-01-11T14:37:09",null,0.9,8,"Santa Rosa Civil Traffic CGE CQ3-16"]
["Santa Rosa","Civil Traffic","CGE CQ3-17",832654.26,902520.01,null,null,null,379452.31,634957.01,null,null,null,null,null,null,null,null,null,"2017-01-11T14:37:09",null,0.9,8,"Santa Rosa Civil Traffic CGE CQ3-17"]
["Santa Rosa","County Civil","CGE CQ2-16",92210.79,92210.79,92210.79,92210.79,92210.79,92125.79,92210.79,92210.79,92210.79,92210.79,null,null,null,null,null,null,"2017-01-11T14:37:09",null,0.9,7,"Santa Rosa County Civil CGE CQ2-16"]
["Santa Rosa","County Civil","CGE CQ4-17",115801.59,null,null,null,null,114896.59,null,null,null,null,null,null,null,null,null,null,"2017-01-11T14:37:09",null,0.9,7,"Santa Rosa County Civil CGE CQ4-17"]
["Santa Rosa","County Criminal","CGE CQ3-16",140625.71,140549.31,139618.29,139252.43,139202.43,35668.78,50717.31,61446.44,68055.740000000005,70846.61,null,null,null,null,null,null,"2017-01-11T14:37:09",null,0.4,3,"Santa Rosa County Criminal CGE CQ3-16"]
["Santa Rosa","Criminal Traffic","CGE CQ1-16",218427.38,218642.38,218295.38,217019.81,215610.66,81690.95,114340.15,135603.95000000001,145595.75,154998.65,null,null,null,null,null,null,"2017-01-11T14:37:09",null,0.4,5,"Santa Rosa Criminal Traffic CGE CQ1-16"]
["Santa Rosa","Criminal Traffic","CGE CQ2-17",261777.39,259460.72,256949,null,null,109411.41,142545.13,155904.34,null,null,null,null,null,null,null,null,"2017-01-11T14:37:09",null,0.4,5,"Santa Rosa Criminal Traffic CGE CQ2-17"]
["Santa Rosa","Family","CGE CQ1-16",95986.75,95294.25,95172.25,95172.25,95569.75,91087.75,91304.75,91464.75,91560.25,91560.25,null,null,null,null,null,null,"2017-01-11T14:37:09",null,0.75,10,"Santa Rosa Family CGE CQ1-16"]
["Santa Rosa","Family","CGE CQ3-17",119252.08,119652.08,null,null,null,113575.58,115509.58,null,null,null,null,null,null,null,null,null,"2017-01-11T14:37:09",null,0.75,10,"Santa Rosa Family CGE CQ3-17"]
["Santa Rosa","Family","CGE CQ4-16",111423,111369,110943,110943,110970.5,104643.24,106454.24,106656.24,106811.74,106836.74,null,null,null,null,null,null,"2017-01-11T14:37:09",null,0.75,10,"Santa Rosa Family CGE CQ4-16"]
["Santa Rosa","Juvenile Delinquency","CGE CQ2-17",11825.5,11075.5,10740.5,null,null,1274,2181,2613,null,null,null,null,null,null,null,null,"2017-01-11T14:37:09",null,0.09,4,"Santa Rosa Juvenile Delinquency CGE CQ2-17"]
["Santa Rosa","Probate","CGE CQ1-16",33694.61,33694.61,33694.61,33694.61,33694.61,33438.61,33673.61,33673.61,33673.61,33673.61,null,null,null,null,null,null,"2017-01-11T14:37:09",null,0.9,9,"Santa Rosa Probate CGE CQ1-16"]
["Santa Rosa","Probate","CGE CQ3-17",50195.5,50195.5,null,null,null,50195.5,50195.5,null,null,null,null,null,null,null,null,null,"2017-01-11T14:37:09",null,0.9,9,"Santa Rosa Probate CGE CQ3-17"]
["Santa Rosa","Probate","CGE CQ4-16",41727.5,41727.5,41727.5,41727.5,41731,40853.5,41558.5,41558.5,41558.5,41562,null,null,null,null,null,null,"2017-01-11T14:37:09",null,0.9,9,"Santa Rosa Probate CGE CQ4-16"]
["Sarasota","Circ Crim Drug Trfc Cases","CGE CQ3-16",53533,53433,53433,53283,53233,0,0,0,0,0,null,null,null,null,null,null,"2017-01-11T14:37:09",null,0.09,2,"Sarasota Circ Crim Drug Trfc Cases CGE CQ3-16"]
["Sarasota","Circuit Civil","CGE CQ1-17",734452.28,733948.99,733848.78,733848.78,null,724598.78,729553.28,729590.78,729603.28,null,null,null,null,null,null,null,"2017-01-11T14:37:09",null,0.9,6,"Sarasota Circuit Civil CGE CQ1-17"]
["Sarasota","Circuit Civil","CGE CQ4-16",813421.25,811906.75,812261.75,812261.75,812281.75,785421.25,792144.25,792999.25,793435.5,793435.5,null,null,null,null,null,null,"2017-01-11T14:37:09",null,0.9,6,"Sarasota Circuit Civil CGE CQ4-16"]
["Sarasota","Circuit Civil","CGE CQ4-17",674832.17,null,null,null,null,664993.67000000004,null,null,null,null,null,null,null,null,null,null,"2017-01-11T14:37:09",null,0.9,6,"Sarasota Circuit Civil CGE CQ4-17"]
["Sarasota","Circuit Criminal","CGE CQ3-16",593441.85,592118.66,587670.31999999995,583514.92000000004,580800.22,21141.200000000001,33724.29,44982.59,60861.29,80809.19,null,null,null,null,null,null,"2017-01-11T14:37:09",null,0.09,1,"Sarasota Circuit Criminal CGE CQ3-16"]
["Sarasota","Civil Traffic","CGE CQ1-17",2109757.77,1991028.14,1982199.14,1980487.14,null,1089440.75,1598428.17,1678579.59,1712448.32,null,null,null,null,null,null,null,"2017-01-11T14:37:09",null,0.9,8,"Sarasota Civil Traffic CGE CQ1-17"]
["Sarasota","Civil Traffic","CGE CQ4-16",2210162.84,2082135.14,2067271.64,2063588.14,2060913.07,1120862.68,1630153.39,1745274.19,1779153.5,1798932.07,null,null,null,null,null,null,"2017-01-11T14:37:09",null,0.9,8,"Sarasota Civil Traffic CGE CQ4-16"]
["Sarasota","Civil Traffic","CGE CQ4-17",2133216.02,null,null,null,null,1042197.91,null,null,null,null,null,null,null,null,null,null,"2017-01-11T14:37:09",null,0.9,8,"Sarasota Civil Traffic CGE CQ4-17"]
["Sarasota","County Civil","CGE CQ3-16",398753.39,398843.39,398843.39,398833.39,398252.39,395187.39,396727.39,396787.39,396972.39,396992.39,null,null,null,null,null,null,"2017-01-11T14:37:09",null,0.9,7,"Sarasota County Civil CGE CQ3-16"]
["Sarasota","County Civil","CGE CQ4-17",371385.13,null,null,null,null,368703.13,null,null,null,null,null,null,null,null,null,null,"2017-01-11T14:37:09",null,0.9,7,"Sarasota County Civil CGE CQ4-17"]
["Sarasota","County Criminal","CGE CQ4-17",402611.25,null,null,null,null,50568.07,null,null,null,null,null,null,null,null,null,null,"2017-01-11T14:37:09",null,0.4,3,"Sarasota County Criminal CGE CQ4-17"]
["Sarasota","Criminal Traffic","CGE CQ1-16",538478,537193,534997,530017,521266,139603.13,231864.27,287678.03000000003,315652.65000000002,333827.52,null,null,null,null,null,null,"2017-01-11T14:37:09",null,0.4,5,"Sarasota Criminal Traffic CGE CQ1-16"]
["Sarasota","Criminal Traffic","CGE CQ3-17",500755.25,498109.25,null,null,null,159414.76,224747.62,null,null,null,null,null,null,null,null,null,"2017-01-11T14:37:09",null,0.4,5,"Sarasota Criminal Traffic CGE CQ3-17"]
["Sarasota","Family","CGE CQ2-16",210002.85,204270.35,198005.35,197985.35,197655.35,195169.6,198314.35,193819.35,193879.35,194009.35,null,null,null,null,null,null,"2017-01-11T14:37:09",null,0.75,10,"Sarasota Family CGE CQ2-16"]
["Sarasota","Family","CGE CQ4-17",199836.35,null,null,null,null,191744.94,null,null,null,null,null,null,null,null,null,null,"2017-01-11T14:37:09",null,0.75,10,"Sarasota Family CGE CQ4-17"]
["Sarasota","Juvenile Delinquency","CGE CQ1-16",15555.5,15505.5,15505.5,15505.5,15505.5,1711.12,2964.12,3400.06,3739.43,3989.43,null,null,null,null,null,null,"2017-01-11T14:37:09",null,0.09,4,"Sarasota Juvenile Delinquency CGE CQ1-16"]
["Sarasota","Juvenile Delinquency","CGE CQ3-17",17874,17874,null,null,null,3332.15,5371.15,null,null,null,null,null,null,null,null,null,"2017-01-11T14:37:09",null,0.09,4,"Sarasota Juvenile Delinquency CGE CQ3-17"]
["Sarasota","Probate","CGE CQ2-16",222938.27,221256.27,220810.27,220009.27,220009.27,217521.27,218572.27,218572.27,219033.27,219033.27,null,null,null,null,null,null,"2017-01-11T14:37:09",null,0.9,9,"Sarasota Probate CGE CQ2-16"]
["Seminole","Circ Crim Drug Trfc Cases","CGE CQ1-16",null,0,0,null,1266390.6299999999,null,0,0,null,53131.47,null,null,null,null,null,null,"2017-01-11T14:37:09",null,0.09,2,{"$f":"A4482&\" \"&B4482&\" \"&C4482","v":"Seminole Circ Crim Drug Trfc Cases CGE CQ1-16"}]
["Seminole","Circ Crim Drug Trfc Cases","CGE CQ1-17",789965,789965,null,null,null,47246.28,96177.59,null,null,null,null,null,null,null,null,null,"2017-01-11T14:37:09",null,0.09,2,"Seminole Circ Crim Drug Trfc Cases CGE CQ1-17"]
["Seminole","Circ Crim Drug Trfc Cases","CGE CQ4-16",750533.78,750533.78,750533.78,null,null,39412.050000000003,77471.520000000004,113010.48,null,null,null,null,null,null,null,null,"2017-01-11T14:37:09",null,0.09,2,"Seminole Circ Crim Drug Trfc Cases CGE CQ4-16"]
["Seminole","Circuit Civil","CGE CQ2-17",532185,532185,532185,null,null,532185,532185,532185,null,null,null,null,null,null,null,null,"2017-01-11T14:37:09",null,0.9,6,"Seminole Circuit Civil CGE CQ2-17"]
["Seminole","Circuit Criminal","CGE CQ1-16",1665411,1679510,1698031,1713061.96,1725252.64,102143.38,154262.66,185750.18,206691.07,221800.17,null,null,null,null,null,null,"2017-01-11T14:37:09",null,0.09,1,"Seminole Circuit Criminal CGE CQ1-16"]
["Seminole","Circuit Criminal","CGE CQ1-17",1286978.99,1309072.01,1322392.98,1337475.98,null,47246.28,96177.59,130808.7,157700.73000000001,null,null,null,null,null,null,null,"2017-01-11T14:37:09",null,0.09,1,"Seminole Circuit Criminal CGE CQ1-17"]
["Seminole","Circuit Criminal","CGE CQ4-16",1150368.1399999999,1135121.78,1158701.78,1170344.78,1181488.78,56890.79,77471.520000000004,113010.49,139148.67000000001,156551.04999999999,null,null,null,null,null,null,"2017-01-11T14:37:09",null,0.09,1,"Seminole Circuit Criminal CGE CQ4-16"]
["Seminole","Civil Traffic","CGE CQ2-17",2332875.98,2466467.11,2470905.8199999998,null,null,1058948.06,1694550.31,1878206.08,null,null,null,null,null,null,null,null,"2017-01-11T14:37:09",null,0.9,8,"Seminole Civil Traffic CGE CQ2-17"]
["Seminole","County Civil","CGE CQ1-16",388980,388980,388980,388980,388980,388980,388980,388980,388980,388980,null,null,null,null,null,null,"2017-01-11T14:37:09",null,0.9,7,"Seminole County Civil CGE CQ1-16"]
["Seminole","County Civil","CGE CQ2-17",437970,437970,437970,null,null,437970,437970,437970,null,null,null,null,null,null,null,null,"2017-01-11T14:37:09",null,0.9,7,"Seminole County Civil CGE CQ2-17"]
["Seminole","County Civil","CGE CQ4-17",416895,null,null,null,null,416895,null,null,null,null,null,null,null,null,null,null,"2017-01-11T14:37:09",null,0.9,7,"Seminole County Civil CGE CQ4-17"]
["Seminole","County Criminal","CGE CQ3-16",629139.46,1157948.8600000001,281634.23,285012.23,285499.23,378901.3,606771.36,126889.86,142997.88,149562.63,null,null,null,null,null,null,"2017-01-11T14:37:09",null,0.4,3,"Seminole County Criminal CGE CQ3-16"]
["Seminole","Criminal Traffic","CGE CQ1-17",526422.65,541820.65,555563.56999999995,559199.52,null,187639.07,325771.58,394253.37,422345.85,null,null,null,null,null,null,null,"2017-01-11T14:37:09",null,0.4,5,"Seminole Criminal Traffic CGE CQ1-17"]
["Seminole","Criminal Traffic","CGE CQ2-16",589271.30000000005,2362422.86,1985718.61,594403.18000000005,594414.6,435630.82,1737241.17,1842578.28,456462.28,475804.34,null,null,null,null,null,null,"2017-01-11T14:37:09",null,0.4,5,"Seminole Criminal Traffic CGE CQ2-16"]
["Seminole","Criminal Traffic","CGE CQ4-17",412097.75,null,null,null,null,128764.49,null,null,null,null,null,null,null,null,null,null,"2017-01-11T14:37:09",null,0.4,5,"Seminole Criminal Traffic CGE CQ4-17"]
["Seminole","Family","CGE CQ3-16",229379,229379,229379,229379,229379,229379,229379,229379,229379,229379,null,null,null,null,null,null,"2017-01-11T14:37:09",null,0.75,10,"Seminole Family CGE CQ3-16"]
["Seminole","Juvenile Delinquency","CGE CQ1-17",16577,17077,17927,19777,null,2583.25,3529.5,3977,4277,null,null,null,null,null,null,null,"2017-01-11T14:37:09",null,0.09,4,"Seminole Juvenile Delinquency CGE CQ1-17"]
["Seminole","Juvenile Delinquency","CGE CQ2-16",26977,29277,31552,32552,33012,3781.25,6026.25,8725.4,9885.4,10561,null,null,null,null,null,null,"2017-01-11T14:37:09",null,0.09,4,"Seminole Juvenile Delinquency CGE CQ2-16"]
["Seminole","Juvenile Delinquency","CGE CQ4-17",16026,null,null,null,null,3563.5,null,null,null,null,null,null,null,null,null,null,"2017-01-11T14:37:09",null,0.09,4,"Seminole Juvenile Delinquency CGE CQ4-17"]
["Seminole","Probate","CGE CQ3-17",88936,88936,null,null,null,88936,88936,null,null,null,null,null,null,null,null,null,"2017-01-11T14:37:09",null,0.9,9,"Seminole Probate CGE CQ3-17"]
["St. Johns","Circ Crim Drug Trfc Cases","CGE CQ2-16",105518,105518,105518,105518,105518,0,0,0,0,0,null,null,null,null,null,null,"2017-01-11T14:37:09",null,0.09,2,"St. Johns Circ Crim Drug Trfc Cases CGE CQ2-16"]
["St. Johns","Circ Crim Drug Trfc Cases","CGE CQ2-17",105618,105618,105618,null,null,0,0,0,null,null,null,null,null,null,null,null,"2017-01-11T14:37:09",null,0.09,2,"St. Johns Circ Crim Drug Trfc Cases CGE CQ2-17"]
["St. Johns","Circuit Civil","CGE CQ1-16",390931.6,390026.6,388216.6,388216.6,388216.6,383425.6,389745.6,387935.6,387935.6,387935.6,null,null,null,null,null,null,"2017-01-11T14:37:09",null,0.9,6,"St. Johns Circuit Civil CGE CQ1-16"]
["St. Johns","Circuit Civil","CGE CQ3-17",354935.72,354935.72,null,null,null,346130.72,353735.72,null,null,null,null,null,null,null,null,null,"2017-01-11T14:37:09",null,0.9,6,"St. Johns Circuit Civil CGE CQ3-17"]
["St. Johns","Circuit Criminal","CGE CQ2-16",368396.64,368196.64,367925.64,367925.64,367775.64,19899.509999999998,29735.98,45617.98,45617.98,57430.37,null,null,null,null,null,null,"2017-01-11T14:37:09",null,0.09,1,"St. Johns Circuit Criminal CGE CQ2-16"]
["St. Johns","Circuit Criminal","CGE CQ2-17",325994.25,325530.25,325012.25,null,null,11765.69,18250.53,23847.49,null,null,null,null,null,null,null,null,"2017-01-11T14:37:09",null,0.09,1,"St. Johns Circuit Criminal CGE CQ2-17"]
["St. Johns","Civil Traffic","CGE CQ1-16",907338.9,867944.75,859074.9,854738.65,853273.9,426728.8,716949.75,772635.44,788556.48,797856.35,null,null,null,null,null,null,"2017-01-11T14:37:09",null,0.9,8,"St. Johns Civil Traffic CGE CQ1-16"]
["St. Johns","Civil Traffic","CGE CQ4-17",684126.25,null,null,null,null,296120.5,null,null,null,null,null,null,null,null,null,null,"2017-01-11T14:37:09",null,0.9,8,"St. Johns Civil Traffic CGE CQ4-17"]
["St. Johns","County Civil","CGE CQ2-17",119042.96,119042.96,118742.96,null,null,117247.96,118027.96,117727.96,null,null,null,null,null,null,null,null,"2017-01-11T14:37:09",null,0.9,7,"St. Johns County Civil CGE CQ2-17"]
["St. Johns","County Civil","CGE CQ3-16",136745.03,136665.03,136665.03,136665.03,136665.03,134670.03,136360.03,136360.03,136360.03,136360.03,null,null,null,null,null,null,"2017-01-11T14:37:09",null,0.9,7,"St. Johns County Civil CGE CQ3-16"]
["St. Johns","County Criminal","CGE CQ1-17",171483.6,167961.60000000001,163615.6,161753.60000000001,null,30754.04,48943.3,59500.97,64635.34,null,null,null,null,null,null,null,"2017-01-11T14:37:09",null,0.4,3,"St. Johns County Criminal CGE CQ1-17"]
["St. Johns","County Criminal","CGE CQ4-16",191721.01,188530.51,183694.01,180662.01,179736.01,43987.64,55179.56,67530.48,76340.679999999993,81592.44,null,null,null,null,null,null,"2017-01-11T14:37:09",null,0.4,3,"St. Johns County Criminal CGE CQ4-16"]
["St. Johns","Criminal Traffic","CGE CQ2-17",152315.35,151479.85,151127.25,null,null,49951.6,68147.09,83924.02,null,null,null,null,null,null,null,null,"2017-01-11T14:37:09",null,0.4,5,"St. Johns Criminal Traffic CGE CQ2-17"]
["St. Johns","Criminal Traffic","CGE CQ3-16",147583.73000000001,147469.73000000001,147469.73000000001,145724.73000000001,144190.23000000001,56939.92,76054.33,85632.38,93461.23,97222.43,null,null,null,null,null,null,"2017-01-11T14:37:09",null,0.4,5,"St. Johns Criminal Traffic CGE CQ3-16"]
["St. Johns","Family","CGE CQ1-17",131635.25,131585.25,131635.25,131585.25,null,125055.25,126991.75,127029.25,127029.25,null,null,null,null,null,null,null,"2017-01-11T14:37:09",null,0.75,10,"St. Johns Family CGE CQ1-17"]
["St. Johns","Family","CGE CQ4-16",140399.39000000001,142749.35,142549.35,142749.35,142749.35,139399.35,139807.35,139807.35,139857.35,139857.35,null,null,null,null,null,null,"2017-01-11T14:37:09",null,0.75,10,"St. Johns Family CGE CQ4-16"]
["St. Johns","Juvenile Delinquency","CGE CQ2-16",2809,2359,1959,1556,850,350,450,450,450,450,null,null,null,null,null,null,"2017-01-11T14:37:09",null,0.09,4,"St. Johns Juvenile Delinquency CGE CQ2-16"]
["St. Johns","Juvenile Delinquency","CGE CQ3-17",2200,2150,null,null,null,200,250,null,null,null,null,null,null,null,null,null,"2017-01-11T14:37:09",null,0.09,4,"St. Johns Juvenile Delinquency CGE CQ3-17"]
["St. Johns","Probate","CGE CQ2-16",66956.5,66956.5,66956.5,66948.5,66948.5,63845.5,66956.5,66956.5,66948.5,66948.5,null,null,null,null,null,null,"2017-01-11T14:37:09",null,0.9,9,"St. Johns Probate CGE CQ2-16"]
["St. Johns","Probate","CGE CQ4-17",67155,null,null,null,null,65734,null,null,null,null,null,null,null,null,null,null,"2017-01-11T14:37:09",null,0.9,9,"St. Johns Probate CGE CQ4-17"]
["St. Lucie","Circ Crim Drug Trfc Cases","CGE CQ3-16",529690,529690,529690,529690,529590,623.78,673.85,723.92,723.98,724.04,null,null,null,null,null,null,"2017-01-11T14:37:09",null,0.09,2,"St. Lucie Circ Crim Drug Trfc Cases CGE CQ3-16"]
["St. Lucie","Circ Crim Drug Trfc Cases","CGE CQ3-17",34111,81361,null,null,null,75.08,75.42,null,null,null,null,null,null,null,null,null,"2017-01-11T14:37:09",null,0.09,2,"St. Lucie Circ Crim Drug Trfc Cases CGE CQ3-17"]
["St. Lucie","Circuit Civil","CGE CQ2-16",690557.26,689837.26,689057.26,689057.26,689917.26,674437.97,685384.98,685609.98,685609.98,686865.98,null,null,null,null,null,null,"2017-01-11T14:37:09",null,0.9,6,"St. Lucie Circuit Civil CGE CQ2-16"]
["St. Lucie","Circuit Civil","CGE CQ4-17",529821.51,null,null,null,null,514350.39,null,null,null,null,null,null,null,null,null,null,"2017-01-11T14:37:09",null,0.9,6,"St. Lucie Circuit Civil CGE CQ4-17"]
["St. Lucie","Circuit Criminal","CGE CQ3-16",0,0,0,0,0,0,0,0,0,0,null,null,null,null,null,null,"2017-01-11T14:37:09",null,0.09,1,"St. Lucie Circuit Criminal CGE CQ3-16"]
["St. Lucie","Circuit Criminal","CGE CQ4-16",1072750.57,1072716.8999999999,1070321.96,1069384.46,1069370.96,23460.89,40869.660000000003,62814.54,79342.210000000006,100949.38,null,null,null,null,null,null,"2017-01-11T14:37:09",null,0.09,1,"St. Lucie Circuit Criminal CGE CQ4-16"]
["St. Lucie","Civil Traffic","CGE CQ2-17",1421382.6,1328457.6499999999,1320215.6499999999,null,null,797411.32,1149062.04,1174750.92,null,null,null,null,null,null,null,null,"2017-01-11T14:37:09",null,0.9,8,"St. Lucie Civil Traffic CGE CQ2-17"]
["St. Lucie","County Civil","CGE CQ1-16",283816.98,283816.98,283816.98,283631.98,283631.98,272254.24,282864.24,282869.24,282684.24,282684.24,null,null,null,null,null,null,"2017-01-11T14:37:09",null,0.9,7,{"$f":"A4674&\" \"&B4674&\" \"&C4674","v":"St. Lucie County Civil CGE CQ1-16"}]
["St. Lucie","County Civil","CGE CQ3-17",277023.27,276873.27,null,null,null,270828.27,276873.27,null,null,null,null,null,null,null,null,null,"2017-01-11T14:37:09",null,0.9,7,"St. Lucie County Civil CGE CQ3-17"]
["St. Lucie","County Civil","CGE CQ4-16",301156.8,300971.8,300971.8,300271.78999999998,300271.78999999998,298787.28000000003,300271.78999999998,300271.78999999998,300271.78999999998,300271.78999999998,null,null,null,null,null,null,"2017-01-11T14:37:09",null,0.9,7,"St. Lucie County Civil CGE CQ4-16"]
["St. Lucie","County Criminal","CGE CQ2-17",401769.3,386296.91,383376.87,null,null,68169.600000000006,118585.4,147754.23000000001,null,null,null,null,null,null,null,null,"2017-01-11T14:37:09",null,0.4,3,"St. Lucie County Criminal CGE CQ2-17"]
["St. Lucie","Criminal Traffic","CGE CQ1-16",508110,505350.5,497301.89,479774.21,450415.25,116753.61,193459.34,232950.26,267766.51,294478.84000000003,null,null,null,null,null,null,"2017-01-11T14:37:09",null,0.4,5,"St. Lucie Criminal Traffic CGE CQ1-16"]
["St. Lucie","Criminal Traffic","CGE CQ3-17",377962.8,369760.63,null,null,null,104899.53,153393.34,null,null,null,null,null,null,null,null,null,"2017-01-11T14:37:09",null,0.4,5,"St. Lucie Criminal Traffic CGE CQ3-17"]
["St. Lucie","Criminal Traffic","CGE CQ4-16",489703.2,485932.66,468841.57,462957.7,447592.32,112398.05,178843.13,232309.81,266188.2,289786.94,null,null,null,null,null,null,"2017-01-11T14:37:09",null,0.4,5,"St. Lucie Criminal Traffic CGE CQ4-16"]
["St. Lucie","Family","CGE CQ4-16",166705.25,166094.94,164816.94,164048.94,164048.94,162894.68,163018.81,162958.81,162958.81,162958.81,null,null,null,null,null,null,"2017-01-11T14:37:09",null,0.75,10,"St. Lucie Family CGE CQ4-16"]
["St. Lucie","Juvenile Delinquency","CGE CQ1-17",55737,55687,55007.58,54957.58,null,2572.9,9154.01,12546.73,13585.11,null,null,null,null,null,null,null,"2017-01-11T14:37:09",null,0.09,4,"St. Lucie Juvenile Delinquency CGE CQ1-17"]
["St. Lucie","Juvenile Delinquency","CGE CQ4-16",58165,58033,57833,57142,57142,3816.26,7591.68,10780.08,12271.84,13346.64,null,null,null,null,null,null,"2017-01-11T14:37:09",null,0.09,4,"St. Lucie Juvenile Delinquency CGE CQ4-16"]
["St. Lucie","Juvenile Delinquency","CGE CQ4-17",69018.03,null,null,null,null,3204.1,null,null,null,null,null,null,null,null,null,null,"2017-01-11T14:37:09",null,0.09,4,"St. Lucie Juvenile Delinquency CGE CQ4-17"]
["St. Lucie","Probate","CGE CQ3-16",0,0,0,0,0,0,0,0,0,0,null,null,null,null,null,null,"2017-01-11T14:37:09",null,0.9,9,"St. Lucie Probate CGE CQ3-16"]
["Sumter","Circ Crim Drug Trfc Cases","CGE CQ1-17",0,0,0,0,null,0,0,0,0,null,null,null,null,null,null,null,"2017-01-11T14:37:09",null,0.09,2,"Sumter Circ Crim Drug Trfc Cases CGE CQ1-17"]
["Sumter","Circ Crim Drug Trfc Cases","CGE CQ4-16",0,0,0,0,0,0,0,0,0,0,null,null,null,null,null,null,"2017-01-11T14:37:09",null,0.09,2,"Sumter Circ Crim Drug Trfc Cases CGE CQ4-16"]
["Sumter","Circ Crim Drug Trfc Cases","CGE CQ4-17",55370.5,null,null,null,null,0,null,null,null,null,null,null,null,null,null,null,"2017-01-11T14:37:09",null,0.09,2,"Sumter Circ Crim Drug Trfc Cases CGE CQ4-17"]
["Sumter","Circuit Civil","CGE CQ3-16",90913.36,90913.36,90913.36,90913.36,90913.36,89223.360000000001,89778.36,89778.36,89778.36,89778.36,null,null,null,null,null,null,"2017-01-11T14:37:09",null,0.9,6,"Sumter Circuit Civil CGE CQ3-16"]
["Sumter","Circuit Criminal","CGE CQ2-16",292277.33,291427.33,291327.33,288948.65000000002,288848.65000000002,11345.22,17966.22,26181.22,34346.080000000002,39900.22,null,null,null,null,null,null,"2017-01-11T14:37:09",null,0.09,1,"Sumter Circuit Criminal CGE CQ2-16"]
["Sumter","Circuit Criminal","CGE CQ4-17",256539.06,null,null,null,null,7019.51,null,null,null,null,null,null,null,null,null,null,"2017-01-11T14:37:09",null,0.09,1,"Sumter Circuit Criminal CGE CQ4-17"]
["Sumter","Civil Traffic","CGE CQ1-16",519454.92,506183.92,505763.92,505763.92,505763.92,267138.92,447380.42,466001.42,470176.42,472130.42,null,null,null,null,null,null,"2017-01-11T14:37:09",null,0.9,8,"Sumter Civil Traffic CGE CQ1-16"]
["Sumter","Civil Traffic","CGE CQ3-17",428828.05,428828.05,null,null,null,218956.55,364870.05,null,null,null,null,null,null,null,null,null,"2017-01-11T14:37:09",null,0.9,8,"Sumter Civil Traffic CGE CQ3-17"]
["Sumter","County Civil","CGE CQ2-16",35342.17,35342.17,35342.17,35342.17,35342.17,34849.17,35244.17,35244.17,35244.17,35329.17,null,null,null,null,null,null,"2017-01-11T14:37:09",null,0.9,7,"Sumter County Civil CGE CQ2-16"]
["Sumter","County Civil","CGE CQ4-17",43421.65,null,null,null,null,42506.65,null,null,null,null,null,null,null,null,null,null,"2017-01-11T14:37:09",null,0.9,7,"Sumter County Civil CGE CQ4-17"]
["Sumter","County Criminal","CGE CQ1-16",91973.28,91848.28,91848.28,91848.28,91088.28,18505.919999999998,41185.68,46384.89,49773.54,51403.63,null,null,null,null,null,null,"2017-01-11T14:37:09",null,0.4,3,"Sumter County Criminal CGE CQ1-16"]
["Sumter","County Criminal","CGE CQ3-17",154625.42000000001,154060.42000000001,null,null,null,27515.1,49539.46,null,null,null,null,null,null,null,null,null,"2017-01-11T14:37:09",null,0.4,3,"Sumter County Criminal CGE CQ3-17"]
["Sumter","Criminal Traffic","CGE CQ2-16",168120.76,168072.76,168072.76,168072.76,168072.76,75611.009999999995,104015.73,115277.32,122500.13,125739.33,null,null,null,null,null,null,"2017-01-11T14:37:09",null,0.4,5,"Sumter Criminal Traffic CGE CQ2-16"]
["Sumter","Criminal Traffic","CGE CQ3-17",130315.06,130290.06,null,null,null,40011.35,68205.33,null,null,null,null,null,null,null,null,null,"2017-01-11T14:37:09",null,0.4,5,"Sumter Criminal Traffic CGE CQ3-17"]
["Sumter","Family","CGE CQ1-17",29250.45,29250.45,29250.45,29250.45,null,26052.45,27627.45,27777.45,27777.45,null,null,null,null,null,null,null,"2017-01-11T14:37:09",null,0.75,10,"Sumter Family CGE CQ1-17"]
["Sumter","Family","CGE CQ4-16",27052.5,26360,26360,26360,26360,23846.5,25175,25310,25310,25310,null,null,null,null,null,null,"2017-01-11T14:37:09",null,0.75,10,"Sumter Family CGE CQ4-16"]
["Sumter","Juvenile Delinquency","CGE CQ2-17",3417.5,3417.5,3417.5,null,null,1082.5,1737.5,1897.5,null,null,null,null,null,null,null,null,"2017-01-11T14:37:09",null,0.09,4,"Sumter Juvenile Delinquency CGE CQ2-17"]
["Sumter","Probate","CGE CQ1-16",34902,34902,34902,34902,34902,34606,34902,34902,34902,34902,null,null,null,null,null,null,"2017-01-11T14:37:09",null,0.9,9,"Sumter Probate CGE CQ1-16"]
["Sumter","Probate","CGE CQ1-17",41892,41889,41889,41889,null,41611,41711,41881,41881,null,null,null,null,null,null,null,"2017-01-11T14:37:09",null,0.9,9,"Sumter Probate CGE CQ1-17"]
["Sumter","Probate","CGE CQ4-16",55661,55661,55661,55661,55661,55504,55661,55661,55661,55661,null,null,null,null,null,null,"2017-01-11T14:37:09",null,0.9,9,"Sumter Probate CGE CQ4-16"]
["Suwannee","Circ Crim Drug Trfc Cases","CGE CQ2-17",0,0,0,null,null,0,0,0,null,null,null,null,null,null,null,null,"2017-01-11T14:37:09",null,0.09,2,"Suwannee Circ Crim Drug Trfc Cases CGE CQ2-17"]
["Suwannee","Circuit Civil","CGE CQ1-16",41250,40850,39945,39945,39945,39250,39250,39250,39250,39250,null,null,null,null,null,null,"2017-01-11T14:37:09",null,0.9,6,"Suwannee Circuit Civil CGE CQ1-16"]
["Suwannee","Circuit Civil","CGE CQ1-17",39232,39232,39232,39232,null,36032,36032,36032,36032,null,null,null,null,null,null,null,"2017-01-11T14:37:09",null,0.9,6,"Suwannee Circuit Civil CGE CQ1-17"]
["Suwannee","Circuit Civil","CGE CQ4-17",37335,null,null,null,null,31210,null,null,null,null,null,null,null,null,null,null,"2017-01-11T14:37:09",null,0.9,6,"Suwannee Circuit Civil CGE CQ4-17"]
["Suwannee","Circuit Criminal","CGE CQ3-16",199461.2,199461.2,199461.2,199461.2,199461.2,2402.7399999999998,8274.86,10949.22,17112.349999999999,21300.720000000001,null,null,null,null,null,null,"2017-01-11T14:37:09",null,0.09,1,"Suwannee Circuit Criminal CGE CQ3-16"]
["Suwannee","Civil Traffic","CGE CQ1-17",88557.75,86188.1,86188.1,86188.1,null,38606.07,66075.94,71941.350000000006,73306.600000000006,null,null,null,null,null,null,null,"2017-01-11T14:37:09",null,0.9,8,"Suwannee Civil Traffic CGE CQ1-17"]
["Suwannee","Civil Traffic","CGE CQ2-16",153545.5,145150,145150,145150,145150,67550.75,110482.52,123530.22,127423.56,133620.96,null,null,null,null,null,null,"2017-01-11T14:37:09",null,0.9,8,"Suwannee Civil Traffic CGE CQ2-16"]
["Suwannee","Civil Traffic","CGE CQ4-17",87740.74,null,null,null,null,34705.82,null,null,null,null,null,null,null,null,null,null,"2017-01-11T14:37:09",null,0.9,8,"Suwannee Civil Traffic CGE CQ4-17"]
["Suwannee","County Civil","CGE CQ3-16",32350,32350,32350,32350,32350,31370,31970,31970,31970,31970,null,null,null,null,null,null,"2017-01-11T14:37:09",null,0.9,7,"Suwannee County Civil CGE CQ3-16"]
["Suwannee","County Criminal","CGE CQ1-17",36727.919999999998,36727.919999999998,35947.919999999998,35168.81,null,9190,12036.33,14152.33,16694.64,null,null,null,null,null,null,null,"2017-01-11T14:37:09",null,0.4,3,"Suwannee County Criminal CGE CQ1-17"]
["Suwannee","County Criminal","CGE CQ2-16",40995.81,39750.81,39750.81,39750.81,39392.910000000003,8522.5,11886.5,21612.5,23127.5,26610.5,null,null,null,null,null,null,"2017-01-11T14:37:09",null,0.4,3,"Suwannee County Criminal CGE CQ2-16"]
["Suwannee","Criminal Traffic","CGE CQ1-17",83994.5,83706.5,83706.5,83318.5,null,25401.66,35403,44568,48448,null,null,null,null,null,null,null,"2017-01-11T14:37:09",null,0.4,5,"Suwannee Criminal Traffic CGE CQ1-17"]
["Suwannee","Criminal Traffic","CGE CQ3-17",70898.52,70898.52,null,null,null,18748.02,30936.02,null,null,null,null,null,null,null,null,null,"2017-01-11T14:37:09",null,0.4,5,"Suwannee Criminal Traffic CGE CQ3-17"]
["Suwannee","Family","CGE CQ2-16",25328.5,24468.5,24468.5,24468.5,24468,24476.5,24476.5,24476.5,24476.5,24476.5,null,null,null,null,null,null,"2017-01-11T14:37:09",null,0.75,10,"Suwannee Family CGE CQ2-16"]
["Suwannee","Family","CGE CQ2-17",17854,16624,16624,null,null,16296,16624,16624,null,null,null,null,null,null,null,null,"2017-01-11T14:37:09",null,0.75,10,"Suwannee Family CGE CQ2-17"]
["Suwannee","Juvenile Delinquency","CGE CQ1-16",2756,2756,2756,2756,2488,376,376,869,869,1100,null,null,null,null,null,null,"2017-01-11T14:37:09",null,0.09,4,{"$f":"A4866&\" \"&B4866&\" \"&C4866","v":"Suwannee Juvenile Delinquency CGE CQ1-16"}]
["Suwannee","Juvenile Delinquency","CGE CQ3-17",6171,6171,null,null,null,1729,2637,null,null,null,null,null,null,null,null,null,"2017-01-11T14:37:09",null,0.09,4,"Suwannee Juvenile Delinquency CGE CQ3-17"]
["Suwannee","Probate","CGE CQ2-16",13599,12968,12968,12968,12968,12568,12968,12968,12968,12968,null,null,null,null,null,null,"2017-01-11T14:37:09",null,0.9,9,"Suwannee Probate CGE CQ2-16"]
["Suwannee","Probate","CGE CQ2-17",16651,16651,16651,null,null,16651,16651,16651,null,null,null,null,null,null,null,null,"2017-01-11T14:37:09",null,0.9,9,"Suwannee Probate CGE CQ2-17"]
["Taylor","Circ Crim Drug Trfc Cases","CGE CQ1-16",0,0,0,0,0,0,0,0,0,0,null,null,null,null,null,null,"2017-01-11T14:37:09",null,0.09,2,"Taylor Circ Crim Drug Trfc Cases CGE CQ1-16"]
["Taylor","Circ Crim Drug Trfc Cases","CGE CQ3-16",0,0,0,null,null,0,0,0,null,null,null,null,null,null,null,null,"2017-01-11T14:37:09",null,0.09,2,"Taylor Circ Crim Drug Trfc Cases CGE CQ3-16"]
["Taylor","Circuit Civil","CGE CQ2-17",27024,26624,26624,null,null,24119,25824,25824,null,null,null,null,null,null,null,null,"2017-01-11T14:37:09",null,0.9,6,"Taylor Circuit Civil CGE CQ2-17"]
["Taylor","Circuit Civil","CGE CQ3-16",18974,18974,18966,18966,16966,16524,16524,16524,16524,16524,null,null,null,null,null,null,"2017-01-11T14:37:09",null,0.9,6,"Taylor Circuit Civil CGE CQ3-16"]
["Taylor","Circuit Criminal","CGE CQ1-17",122394.5,122144.5,122144.5,122144.5,null,4338.46,5601.03,6275.58,7440.71,null,null,null,null,null,null,null,"2017-01-11T14:37:09",null,0.09,1,"Taylor Circuit Criminal CGE CQ1-17"]
["Taylor","Circuit Criminal","CGE CQ4-16",104089.25,138707.12,140169.12,140169.12,140169.12,2521.84,6736.04,10478.34,12848.91,15921.4,null,null,null,null,null,null,"2017-01-11T14:37:09",null,0.09,1,"Taylor Circuit Criminal CGE CQ4-16"]
["Taylor","Civil Traffic","CGE CQ2-17",84171,76033,75096,null,null,35699,61207,65543,null,null,null,null,null,null,null,null,"2017-01-11T14:37:09",null,0.9,8,"Taylor Civil Traffic CGE CQ2-17"]
["Taylor","Civil Traffic","CGE CQ3-16",66583,62821,61749,61749,61749,28729,46728,50831,53764,54920,null,null,null,null,null,null,"2017-01-11T14:37:09",null,0.9,8,"Taylor Civil Traffic CGE CQ3-16"]
["Taylor","County Civil","CGE CQ1-17",12331.95,12331.95,12331.95,12331.95,null,11676.95,12236.95,12236.95,12236.95,null,null,null,null,null,null,null,"2017-01-11T14:37:09",null,0.9,7,"Taylor County Civil CGE CQ1-17"]
["Taylor","County Civil","CGE CQ4-16",13890.06,13890.06,13890.06,13890.06,13890.06,12010.06,13385.06,13385.06,13385.06,13385.06,null,null,null,null,null,null,"2017-01-11T14:37:09",null,0.9,7,"Taylor County Civil CGE CQ4-16"]
["Taylor","County Criminal","CGE CQ1-16",48077.48,45064.480000000003,44591.48,43903.48,43853.48,16675.13,20129.98,22476.48,25550.98,28645.98,null,null,null,null,null,null,"2017-01-11T14:37:09",null,0.4,3,"Taylor County Criminal CGE CQ1-16"]
["Taylor","County Criminal","CGE CQ3-17",26136.5,26231,null,null,null,4629.29,8021.79,null,null,null,null,null,null,null,null,null,"2017-01-11T14:37:09",null,0.4,3,"Taylor County Criminal CGE CQ3-17"]
["Taylor","Criminal Traffic","CGE CQ2-16",43279.3,41944.3,39811.800000000003,39811.800000000003,40762.800000000003,13736.8,22232.3,24908.3,26042.3,27198.3,null,null,null,null,null,null,"2017-01-11T14:37:09",null,0.4,5,"Taylor Criminal Traffic CGE CQ2-16"]
["Taylor","Criminal Traffic","CGE CQ4-17",45812,null,null,null,null,3811.25,null,null,null,null,null,null,null,null,null,null,"2017-01-11T14:37:09",null,0.4,5,"Taylor Criminal Traffic CGE CQ4-17"]
["Taylor","Family","CGE CQ3-16",17187,17187,17187,17187,17187,13818,14118,14118,14118,14118,null,null,null,null,null,null,"2017-01-11T14:37:09",null,0.75,10,"Taylor Family CGE CQ3-16"]
["Taylor","Family","CGE CQ3-17",12873,12873,null,null,null,10149,11707,null,null,null,null,null,null,null,null,null,"2017-01-11T14:37:09",null,0.75,10,"Taylor Family CGE CQ3-17"]
["Taylor","Juvenile Delinquency","CGE CQ2-16",2689,2689,2401,2401,2401,195,483,483,483,483,null,null,null,null,null,null,"2017-01-11T14:37:09",null,0.09,4,"Taylor Juvenile Delinquency CGE CQ2-16"]
["Taylor","Juvenile Delinquency","CGE CQ4-17",572.5,null,null,null,null,0,null,null,null,null,null,null,null,null,null,null,"2017-01-11T14:37:09",null,0.09,4,"Taylor Juvenile Delinquency CGE CQ4-17"]
["Taylor","Probate","CGE CQ3-16",7392,7622,7222,7222,7222,6876,6991,6991,6991,6991,null,null,null,null,null,null,"2017-01-11T14:37:09",null,0.9,9,"Taylor Probate CGE CQ3-16"]
["Union","Circ Crim Drug Trfc Cases","CGE CQ1-16",0,0,0,0,0,0,0,0,0,0,null,null,null,null,null,null,"2017-01-11T14:37:09",null,0.09,2,"Union Circ Crim Drug Trfc Cases CGE CQ1-16"]
["Union","Circ Crim Drug Trfc Cases","CGE CQ2-17",0,0,0,null,null,0,0,0,null,null,null,null,null,null,null,null,"2017-01-11T14:37:09",null,0.09,2,"Union Circ Crim Drug Trfc Cases CGE CQ2-17"]
["Union","Circuit Civil","CGE CQ1-16",9145,8745,8745,8745,8745,7545,7545,7545,7545,7545,null,null,null,null,null,null,"2017-01-11T14:37:09",null,0.9,6,"Union Circuit Civil CGE CQ1-16"]
["Union","Circuit Civil","CGE CQ3-17",10519,10519,null,null,null,8094,8094,null,null,null,null,null,null,null,null,null,"2017-01-11T14:37:09",null,0.9,6,"Union Circuit Civil CGE CQ3-17"]
["Union","Circuit Civil","CGE CQ4-16",9610,9610,9610,9610,9610,8410,8410,8410,8410,8410,null,null,null,null,null,null,"2017-01-11T14:37:09",null,0.9,6,"Union Circuit Civil CGE CQ4-16"]
["Union","Circuit Criminal","CGE CQ2-17",16531.75,16131.75,15931.75,null,null,2844.88,3225.7,4467.5200000000004,null,null,null,null,null,null,null,null,"2017-01-11T14:37:09",null,0.09,1,"Union Circuit Criminal CGE CQ2-17"]
["Union","Civil Traffic","CGE CQ1-16",43376.25,41399.550000000003,41326.550000000003,41236.550000000003,41236.550000000003,24742.75,34861.050000000003,36755.050000000003,37769.050000000003,38160.050000000003,null,null,null,null,null,null,"2017-01-11T14:37:09",null,0.9,8,"Union Civil Traffic CGE CQ1-16"]
["Union","Civil Traffic","CGE CQ3-17",30023.75,28539.5,null,null,null,15231.25,21633,null,null,null,null,null,null,null,null,null,"2017-01-11T14:37:09",null,0.9,8,"Union Civil Traffic CGE CQ3-17"]
["Union","Civil Traffic","CGE CQ4-16",46843.75,44973.25,44904.25,44904.25,44904.25,19528.75,33619.25,38775.25,39085.25,39798.25,null,null,null,null,null,null,"2017-01-11T14:37:09",null,0.9,8,"Union Civil Traffic CGE CQ4-16"]
["Union","County Civil","CGE CQ3-16",8618.75,8618.75,8618.75,8618.75,8618.75,7493.75,7493.75,7493.75,7493.75,7493.75,null,null,null,null,null,null,"2017-01-11T14:37:09",null,0.9,7,"Union County Civil CGE CQ3-16"]
["Union","County Criminal","CGE CQ1-17",6592.75,6192.75,6192.75,6192.75,null,929.75,2891.75,3485.75,3775.75,null,null,null,null,null,null,null,"2017-01-11T14:37:09",null,0.4,3,"Union County Criminal CGE CQ1-17"]
["Union","County Criminal","CGE CQ4-16",5679.75,5529.75,5529.75,5529.75,5529.75,830.25,2784.5,4160.25,4210.25,4260.25,null,null,null,null,null,null,"2017-01-11T14:37:09",null,0.4,3,"Union County Criminal CGE CQ4-16"]
["Union","County Criminal","CGE CQ4-17",6858.75,null,null,null,null,1136,null,null,null,null,null,null,null,null,null,null,"2017-01-11T14:37:09",null,0.4,3,"Union County Criminal CGE CQ4-17"]
["Union","Criminal Traffic","CGE CQ3-16",14450,14400,14400,14400,14400,3558.56,5142.3100000000004,7914.81,9165.31,11256.5,null,null,null,null,null,null,"2017-01-11T14:37:09",null,0.4,5,"Union Criminal Traffic CGE CQ3-16"]
["Union","Family","CGE CQ1-17",10649,10349,10349,9641,null,9616,9616,9641,9641,null,null,null,null,null,null,null,"2017-01-11T14:37:09",null,0.75,10,"Union Family CGE CQ1-17"]
["Union","Family","CGE CQ4-16",5130,5130,5130,5130,5130,5130,5130,5130,5130,5130,null,null,null,null,null,null,"2017-01-11T14:37:09",null,0.75,10,"Union Family CGE CQ4-16"]
["Union","Family","CGE CQ4-17",11168,null,null,null,null,10502,null,null,null,null,null,null,null,null,null,null,"2017-01-11T14:37:09",null,0.75,10,"Union Family CGE CQ4-17"]
["Union","Juvenile Delinquency","CGE CQ3-16",1180.75,1180.75,1180.75,1180.75,1180.75,7,7,7,7,7,null,null,null,null,null,null,"2017-01-11T14:37:09",null,0.09,4,"Union Juvenile Delinquency CGE CQ3-16"]
["Union","Juvenile Delinquency","CGE CQ4-17",1061,null,null,null,null,3.5,null,null,null,null,null,null,null,null,null,null,"2017-01-11T14:37:09",null,0.09,4,"Union Juvenile Delinquency CGE CQ4-17"]
["Union","Probate","CGE CQ4-17",2338,null,null,null,null,2338,null,null,null,null,null,null,null,null,null,null,"2017-01-11T14:37:09",null,0.9,9,"Union Probate CGE CQ4-17"]
["Volusia","Circ Crim Drug Trfc Cases","CGE CQ1-16",729461,729461,729461,729561,739027.76,0,0,0,27.46,463.57,null,null,null,null,null,null,"2017-01-11T14:37:09",null,0.09,2,"Volusia Circ Crim Drug Trfc Cases CGE CQ1-16"]
["Volusia","Circ Crim Drug Trfc Cases","CGE CQ3-17",385323.13,385373.13,null,null,null,0,0,null,null,null,null,null,null,null,null,null,"2017-01-11T14:37:09",null,0.09,2,"Volusia Circ Crim Drug Trfc Cases CGE CQ3-17"]
["Volusia","Circuit Civil","CGE CQ2-16",1275536,1270102.08,1267172.58,1264270.08,1255425.08,1114337.05,1247799.98,1250438.48,1250965.98,1246249.48,null,null,null,null,null,null,"2017-01-11T14:37:09",null,0.9,6,"Volusia Circuit Civil CGE CQ2-16"]
["Volusia","Circuit Civil","CGE CQ4-17",939089.49,null,null,null,null,875634.64,null,null,null,null,null,null,null,null,null,null,"2017-01-11T14:37:09",null,0.9,6,"Volusia Circuit Civil CGE CQ4-17"]
["Volusia","Circuit Criminal","CGE CQ1-16",1439490.82,1438290.82,1437690.82,1437590.82,1875117.73,10690.53,28207.83,40938.239999999998,50201.86,81854.14,null,null,null,null,null,null,"2017-01-11T14:37:09",null,0.09,1,{"$f":"A5058&\" \"&B5058&\" \"&C5058","v":"Volusia Circuit Criminal CGE CQ1-16"}]
["Volusia","Circuit Criminal","CGE CQ3-17",1428842.46,1425158.46,null,null,null,35872.82,57499.26,null,null,null,null,null,null,null,null,null,"2017-01-11T14:37:09",null,0.09,1,"Volusia Circuit Criminal CGE CQ3-17"]
["Volusia","Civil Traffic","CGE CQ2-16",2485510.2000000002,1998805.25,1986202.25,1982687.25,1980362.25,1110226.5,1674478.75,1787587.65,1819027.3,1854455.31,null,null,null,null,null,null,"2017-01-11T14:37:09",null,0.9,8,"Volusia Civil Traffic CGE CQ2-16"]
["Volusia","County Civil","CGE CQ1-16",523445.2,516846.2,515296.2,514916.2,514916.2,484518.2,510666.2,510641.2,511021.2,511021.2,null,null,null,null,null,null,"2017-01-11T14:37:09",null,0.9,7,"Volusia County Civil CGE CQ1-16"]
["Volusia","County Civil","CGE CQ1-17",466251.93,465733.28,465538.28,465538.28,null,433132.68,462214.78,462449.78,462459.78,null,null,null,null,null,null,null,"2017-01-11T14:37:09",null,0.9,7,"Volusia County Civil CGE CQ1-17"]
["Volusia","County Civil","CGE CQ4-16",565677.74,531712.6,531712.6,530557.6,530557.6,526904.74,528329.1,528524.1,528214.1,528214.1,null,null,null,null,null,null,"2017-01-11T14:37:09",null,0.9,7,"Volusia County Civil CGE CQ4-16"]
["Volusia","County Criminal","CGE CQ2-17",852589.7,835624.7,826453.7,null,null,190413.15,260873.65,296574.09000000003,null,null,null,null,null,null,null,null,"2017-01-11T14:37:09",null,0.4,3,"Volusia County Criminal CGE CQ2-17"]
["Volusia","Criminal Traffic","CGE CQ1-16",900310.14,739869.05,680723.95,666300.55000000005,649705.05000000005,190787.53,329198.53999999998,393507.02,424602.11,443955.54,null,null,null,null,null,null,"2017-01-11T14:37:09",null,0.4,5,"Volusia Criminal Traffic CGE CQ1-16"]
["Volusia","Criminal Traffic","CGE CQ1-17",864007.07,718208.89,674274.14,659980.14,null,187045.45,307417.7,371712.51,401834.58,null,null,null,null,null,null,null,"2017-01-11T14:37:09",null,0.4,5,"Volusia Criminal Traffic CGE CQ1-17"]
["Volusia","Criminal Traffic","CGE CQ4-16",964938.23,752158.39,710053.65,685050.41,679947.41,187342.51,302352.17,383530.07,420596.46,440622.17,null,null,null,null,null,null,"2017-01-11T14:37:09",null,0.4,5,"Volusia Criminal Traffic CGE CQ4-16"]
["Volusia","Family","CGE CQ2-17",251782.87,249527.37,249467.37,null,null,219966.77,238103.77,238608.27,null,null,null,null,null,null,null,null,"2017-01-11T14:37:09",null,0.75,10,"Volusia Family CGE CQ2-17"]
["Volusia","Juvenile Delinquency","CGE CQ1-16",39784,38931,38281,38131,38028,1416,3126,3976,4955,5405,null,null,null,null,null,null,"2017-01-11T14:37:09",null,0.09,4,"Volusia Juvenile Delinquency CGE CQ1-16"]
["Volusia","Juvenile Delinquency","CGE CQ2-17",38033,36077,35421,null,null,1609.5,2774.5,2877.5,null,null,null,null,null,null,null,null,"2017-01-11T14:37:09",null,0.09,4,"Volusia Juvenile Delinquency CGE CQ2-17"]
["Volusia","Juvenile Delinquency","CGE CQ4-16",32603.5,30551.5,30451.5,30451.5,30451.5,1882.5,1938.5,1958.5,2008.5,2122.5,null,null,null,null,null,null,"2017-01-11T14:37:09",null,0.09,4,"Volusia Juvenile Delinquency CGE CQ4-16"]
["Volusia","Juvenile Delinquency","CGE CQ4-17",49798.73,null,null,null,null,2392.29,null,null,null,null,null,null,null,null,null,null,"2017-01-11T14:37:09",null,0.09,4,"Volusia Juvenile Delinquency CGE CQ4-17"]
["Volusia","Probate","CGE CQ1-16",207078.5,205728.5,205008.5,204663.5,204318.5,193926.5,204167.5,204668.5,204323.5,203978.5,null,null,null,null,null,null,"2017-01-11T14:37:09",null,0.9,9,"Volusia Probate CGE CQ1-16"]
["Volusia","Probate","CGE CQ1-17",204478.36,203478.36,203133.36,202768.36,null,193370.4,202522.4,202177.4,202232.4,null,null,null,null,null,null,null,"2017-01-11T14:37:09",null,0.9,9,"Volusia Probate CGE CQ1-17"]
["Volusia","Probate","CGE CQ2-16",231574.45,229849.45,229849.45,229849.45,229533.45,211853.24,228984.24,229329.24,229329.24,229013.24,null,null,null,null,null,null,"2017-01-11T14:37:09",null,0.9,9,"Volusia Probate CGE CQ2-16"]
["Volusia","Probate","CGE CQ2-17",238404.21,235977.71,235284.71,null,null,214838.21,235161.71,234468.71,null,null,null,null,null,null,null,null,"2017-01-11T14:37:09",null,0.9,9,"Volusia Probate CGE CQ2-17"]
["Volusia","Probate","CGE CQ3-16",257467.3,255681.3,255661.3,255313.3,254682.3,235264.29,252528.29,252508.29,252160.29,251929.29,null,null,null,null,null,null,"2017-01-11T14:37:09",null,0.9,9,"Volusia Probate CGE CQ3-16"]
["Volusia","Probate","CGE CQ3-17",225576.65,225061.65,null,null,null,206001.65,223510.65,null,null,null,null,null,null,null,null,null,"2017-01-11T14:37:09",null,0.9,9,"Volusia Probate CGE CQ3-17"]
["Volusia","Probate","CGE CQ4-16",229140.43,233632.5,233287.5,233287.5,232942.5,222136.43,233632.5,233287.5,233287.5,232942.5,null,null,null,null,null,null,"2017-01-11T14:37:09",null,0.9,9,"Volusia Probate CGE CQ4-16"]
["Volusia","Probate","CGE CQ4-17",225751.87,null,null,null,null,212332.17,null,null,null,null,null,null,null,null,null,null,"2017-01-11T14:37:09",null,0.9,9,"Volusia Probate CGE CQ4-17"]
["Wakulla","Circ Crim Drug Trfc Cases","CGE CQ1-16",0,0,0,0,0,0,0,0,0,0,null,null,null,null,null,null,"2017-01-11T14:37:09",null,0.09,2,{"$f":"A5122&\" \"&B5122&\" \"&C5122","v":"Wakulla Circ Crim Drug Trfc Cases CGE CQ1-16"}]
["Wakulla","Circ Crim Drug Trfc Cases","CGE CQ1-17",0,0,0,0,null,0,0,0,0,null,null,null,null,null,null,null,"2017-01-11T14:37:09",null,0.09,2,"Wakulla Circ Crim Drug Trfc Cases CGE CQ1-17"]
["Wakulla","Circ Crim Drug Trfc Cases","CGE CQ2-16",0,0,0,0,0,0,0,0,0,0,null,null,null,null,null,null,"2017-01-11T14:37:09",null,0.09,2,"Wakulla Circ Crim Drug Trfc Cases CGE CQ2-16"]
["Wakulla","Circ Crim Drug Trfc Cases","CGE CQ2-17",0,0,0,null,null,0,0,0,null,null,null,null,null,null,null,null,"2017-01-11T14:37:09",null,0.09,2,"Wakulla Circ Crim Drug Trfc Cases CGE CQ2-17"]
["Wakulla","Circ Crim Drug Trfc Cases","CGE CQ3-16",0,0,0,0,0,0,0,0,0,0,null,null,null,null,null,null,"2017-01-11T14:37:09",null,0.09,2,"Wakulla Circ Crim Drug Trfc Cases CGE CQ3-16"]
["Wakulla","Circ Crim Drug Trfc Cases","CGE CQ3-17",0,0,null,null,null,0,0,null,null,null,null,null,null,null,null,null,"2017-01-11T14:37:09",null,0.09,2,"Wakulla Circ Crim Drug Trfc Cases CGE CQ3-17"]
["Wakulla","Circ Crim Drug Trfc Cases","CGE CQ4-16",0,0,0,0,0,0,0,0,0,0,null,null,null,null,null,null,"2017-01-11T14:37:09",null,0.09,2,"Wakulla Circ Crim Drug Trfc Cases CGE CQ4-16"]
["Wakulla","Circ Crim Drug Trfc Cases","CGE CQ4-17",0,null,null,null,null,0,null,null,null,null,null,null,null,null,null,null,"2017-01-11T14:37:09",null,0.09,2,"Wakulla Circ Crim Drug Trfc Cases CGE CQ4-17"]
["Wakulla","Circuit Civil","CGE CQ1-16",47264.33,47264.33,47264.33,47264.33,47264.33,46422.33,46422.33,46422.33,46422.33,46422.33,null,null,null,null,null,null,"2017-01-11T14:37:09",null,0.9,6,"Wakulla Circuit Civil CGE CQ1-16"]
["Wakulla","Circuit Civil","CGE CQ1-17",39681.5,39681.5,39681.5,39681.5,null,39661.5,39681.5,39681.5,39681.5,null,null,null,null,null,null,null,"2017-01-11T14:37:09",null,0.9,6,"Wakulla Circuit Civil CGE CQ1-17"]
["Wakulla","Circuit Civil","CGE CQ2-16",49804.78,49804.78,49804.78,49804.78,49804.78,49384.78,49804.78,49804.78,49804.78,49804.78,null,null,null,null,null,null,"2017-01-11T14:37:09",null,0.9,6,"Wakulla Circuit Civil CGE CQ2-16"]
["Wakulla","Circuit Civil","CGE CQ2-17",37844.5,37444.5,37444.5,null,null,36644.5,36644.5,36644.5,null,null,null,null,null,null,null,null,"2017-01-11T14:37:09",null,0.9,6,"Wakulla Circuit Civil CGE CQ2-17"]
["Wakulla","Circuit Civil","CGE CQ3-16",66679.3,66629.3,66629.3,66629.3,66629.3,66679.3,66629.3,66629.3,66629.3,66629.3,null,null,null,null,null,null,"2017-01-11T14:37:09",null,0.9,6,"Wakulla Circuit Civil CGE CQ3-16"]
["Wakulla","Circuit Civil","CGE CQ3-17",34820.6,34820.6,null,null,null,34027.599999999999,34437.599999999999,null,null,null,null,null,null,null,null,null,"2017-01-11T14:37:09",null,0.9,6,"Wakulla Circuit Civil CGE CQ3-17"]
["Wakulla","Circuit Civil","CGE CQ4-16",40580.5,40580.5,40576.5,40576.5,40576.5,40576.5,40576.5,40576.5,40576.5,40576.5,null,null,null,null,null,null,"2017-01-11T14:37:09",null,0.9,6,"Wakulla Circuit Civil CGE CQ4-16"]
["Wakulla","Circuit Civil","CGE CQ4-17",47635.5,null,null,null,null,47550.5,null,null,null,null,null,null,null,null,null,null,"2017-01-11T14:37:09",null,0.9,6,"Wakulla Circuit Civil CGE CQ4-17"]
["Wakulla","Circuit Criminal","CGE CQ1-16",75821.84,75821.84,75821.84,75821.84,75821.84,8254.84,11139.84,17467.84,20922.84,23745.84,null,null,null,null,null,null,"2017-01-11T14:37:09",null,0.09,1,"Wakulla Circuit Criminal CGE CQ1-16"]
["Wakulla","Circuit Criminal","CGE CQ1-17",79961.5,79876.97,79796.47,77416.47,null,1856.5,3826.5,5781.5,7913.5,null,null,null,null,null,null,null,"2017-01-11T14:37:09",null,0.09,1,"Wakulla Circuit Criminal CGE CQ1-17"]
["Wakulla","Circuit Criminal","CGE CQ2-16",62534,62373,62373,62373,62373,960,2200,3575,5019.46,6955.05,null,null,null,null,null,null,"2017-01-11T14:37:09",null,0.09,1,"Wakulla Circuit Criminal CGE CQ2-16"]
["Wakulla","Circuit Criminal","CGE CQ2-17",107616,107602,107602,null,null,3185,8860,12313,null,null,null,null,null,null,null,null,"2017-01-11T14:37:09",null,0.09,1,"Wakulla Circuit Criminal CGE CQ2-17"]
["Wakulla","Circuit Criminal","CGE CQ3-16",58454.02,58204.02,58204.02,58204.02,58123.519999999997,1178.02,4743.0200000000004,7919.02,11079.02,13697.02,null,null,null,null,null,null,"2017-01-11T14:37:09",null,0.09,1,"Wakulla Circuit Criminal CGE CQ3-16"]
["Wakulla","Circuit Criminal","CGE CQ3-17",85639.25,85639.25,null,null,null,1377,2820,null,null,null,null,null,null,null,null,null,"2017-01-11T14:37:09",null,0.09,1,"Wakulla Circuit Criminal CGE CQ3-17"]
["Wakulla","Circuit Criminal","CGE CQ4-16",75505.5,63410.5,63082.46,61871.46,61871.46,1999.5,8369,11918,14251,15819,null,null,null,null,null,null,"2017-01-11T14:37:09",null,0.09,1,"Wakulla Circuit Criminal CGE CQ4-16"]
["Wakulla","Circuit Criminal","CGE CQ4-17",67166,null,null,null,null,1933,null,null,null,null,null,null,null,null,null,null,"2017-01-11T14:37:09",null,0.09,1,"Wakulla Circuit Criminal CGE CQ4-17"]
["Wakulla","Civil Traffic","CGE CQ1-16",96489,91382,91233,91047,90886,55068.5,82227.5,83372.5,84532.5,84898.5,null,null,null,null,null,null,"2017-01-11T14:37:09",null,0.9,8,"Wakulla Civil Traffic CGE CQ1-16"]
["Wakulla","Civil Traffic","CGE CQ1-17",117118.05,112046.3,111210.34,111160.34,null,64058.05,102415.3,104434.34,105444.34,null,null,null,null,null,null,null,"2017-01-11T14:37:09",null,0.9,8,"Wakulla Civil Traffic CGE CQ1-17"]
["Wakulla","Civil Traffic","CGE CQ2-16",99462.13,93785.88,93463.88,93141.88,93050.38,57069.75,81713,83503,84138,85527,null,null,null,null,null,null,"2017-01-11T14:37:09",null,0.9,8,"Wakulla Civil Traffic CGE CQ2-16"]
["Wakulla","Civil Traffic","CGE CQ2-17",152958,147284.5,147123.5,null,null,92694,134321.5,136653.5,null,null,null,null,null,null,null,null,"2017-01-11T14:37:09",null,0.9,8,"Wakulla Civil Traffic CGE CQ2-17"]
["Wakulla","Civil Traffic","CGE CQ3-16",98306,94548,94061,93521.5,93496.5,59462,80917.5,83139.5,84664.5,85021.5,null,null,null,null,null,null,"2017-01-11T14:37:09",null,0.9,8,"Wakulla Civil Traffic CGE CQ3-16"]
["Wakulla","Civil Traffic","CGE CQ3-17",218186,214497.25,null,null,null,137010.5,191528.75,null,null,null,null,null,null,null,null,null,"2017-01-11T14:37:09",null,0.9,8,"Wakulla Civil Traffic CGE CQ3-17"]
["Wakulla","Civil Traffic","CGE CQ4-16",108889.94,104016.94,102906.94,102906.94,102607.94,61678.94,86577.94,89972.94,91672.94,92869.94,null,null,null,null,null,null,"2017-01-11T14:37:09",null,0.9,8,"Wakulla Civil Traffic CGE CQ4-16"]
["Wakulla","Civil Traffic","CGE CQ4-17",165192,null,null,null,null,100169.5,null,null,null,null,null,null,null,null,null,null,"2017-01-11T14:37:09",null,0.9,8,"Wakulla Civil Traffic CGE CQ4-17"]
["Wakulla","County Civil","CGE CQ1-16",18203.62,18203.62,18203.62,18203.62,18203.62,17833.62,17833.62,17833.62,17833.62,17833.62,null,null,null,null,null,null,"2017-01-11T14:37:09",null,0.9,7,"Wakulla County Civil CGE CQ1-16"]
["Wakulla","County Civil","CGE CQ1-17",17514,17514,17514,17514,null,17329,17514,17514,17514,null,null,null,null,null,null,null,"2017-01-11T14:37:09",null,0.9,7,"Wakulla County Civil CGE CQ1-17"]
["Wakulla","County Civil","CGE CQ2-16",21662,21662,21662,21662,21662,21377,21377,21377,21377,21377,null,null,null,null,null,null,"2017-01-11T14:37:09",null,0.9,7,"Wakulla County Civil CGE CQ2-16"]
["Wakulla","County Civil","CGE CQ2-17",18958,18958,18958,null,null,18188,18753,18753,null,null,null,null,null,null,null,null,"2017-01-11T14:37:09",null,0.9,7,"Wakulla County Civil CGE CQ2-17"]
["Wakulla","County Civil","CGE CQ3-16",18385,18385,18385,18385,18385,17535,17845,17845,17845,17845,null,null,null,null,null,null,"2017-01-11T14:37:09",null,0.9,7,"Wakulla County Civil CGE CQ3-16"]
["Wakulla","County Civil","CGE CQ3-17",15104,15104,null,null,null,15097,15097,null,null,null,null,null,null,null,null,null,"2017-01-11T14:37:09",null,0.9,7,"Wakulla County Civil CGE CQ3-17"]
["Wakulla","County Civil","CGE CQ4-16",17012,17012,17012,17012,17012,16621,16796,16796,16796,16796,null,null,null,null,null,null,"2017-01-11T14:37:09",null,0.9,7,"Wakulla County Civil CGE CQ4-16"]
["Wakulla","County Civil","CGE CQ4-17",16642,null,null,null,null,16112,null,null,null,null,null,null,null,null,null,null,"2017-01-11T14:37:09",null,0.9,7,"Wakulla County Civil CGE CQ4-17"]
["Wakulla","County Criminal","CGE CQ1-16",17486.5,17397.95,17247.95,17247.95,17197.95,4376.5,6573.5,7474.5,7734.5,8109.5,null,null,null,null,null,null,"2017-01-11T14:37:09",null,0.4,3,"Wakulla County Criminal CGE CQ1-16"]
["Wakulla","County Criminal","CGE CQ1-17",13375.68,13235.68,13125.68,13125.68,null,3329.68,5915.68,7203.68,7843.68,null,null,null,null,null,null,null,"2017-01-11T14:37:09",null,0.4,3,"Wakulla County Criminal CGE CQ1-17"]
["Wakulla","County Criminal","CGE CQ2-16",17734,17325,16091,16041,16041,3838.5,7037.5,8340,9397,9892,null,null,null,null,null,null,"2017-01-11T14:37:09",null,0.4,3,"Wakulla County Criminal CGE CQ2-16"]
["Wakulla","County Criminal","CGE CQ2-17",19901.75,19814.75,19599.72,null,null,4711.28,7663.29,8958.2900000000009,null,null,null,null,null,null,null,null,"2017-01-11T14:37:09",null,0.4,3,"Wakulla County Criminal CGE CQ2-17"]
["Wakulla","County Criminal","CGE CQ3-16",24788.400000000001,24164.55,23747.85,23641.05,23641.05,6398.9,11610.8,12695.55,13335.55,14252.55,null,null,null,null,null,null,"2017-01-11T14:37:09",null,0.4,3,"Wakulla County Criminal CGE CQ3-16"]
["Wakulla","County Criminal","CGE CQ3-17",14977.2,14747.2,null,null,null,5131.2,7147.2,null,null,null,null,null,null,null,null,null,"2017-01-11T14:37:09",null,0.4,3,"Wakulla County Criminal CGE CQ3-17"]
["Wakulla","County Criminal","CGE CQ4-16",37422.9,22356.39,22202.05,22202.05,22202.05,9434.2000000000007,9539.5,10769.55,11404.55,11534.55,null,null,null,null,null,null,"2017-01-11T14:37:09",null,0.4,3,"Wakulla County Criminal CGE CQ4-16"]
["Wakulla","County Criminal","CGE CQ4-17",22402.3,null,null,null,null,7038.3,null,null,null,null,null,null,null,null,null,null,"2017-01-11T14:37:09",null,0.4,3,"Wakulla County Criminal CGE CQ4-17"]
["Wakulla","Criminal Traffic","CGE CQ1-16",42880.07,42660.75,42510.75,42460.75,42460.75,7526.75,16744.75,20717.75,23110.75,24683.75,null,null,null,null,null,null,"2017-01-11T14:37:09",null,0.4,5,"Wakulla Criminal Traffic CGE CQ1-16"]
["Wakulla","Criminal Traffic","CGE CQ1-17",26681.5,26379.62,25947.24,25474.31,null,4314.5,9220,11748,12813.5,null,null,null,null,null,null,null,"2017-01-11T14:37:09",null,0.4,5,"Wakulla Criminal Traffic CGE CQ1-17"]
["Wakulla","Criminal Traffic","CGE CQ2-16",47919.5,47838.5,47838.5,47162.3,46950.5,10871.5,18073.5,22899.58,25823.58,27813.5,null,null,null,null,null,null,"2017-01-11T14:37:09",null,0.4,5,"Wakulla Criminal Traffic CGE CQ2-16"]
["Wakulla","Criminal Traffic","CGE CQ2-17",27835.5,27452.5,27402.5,null,null,4451,7884.5,10140,null,null,null,null,null,null,null,null,"2017-01-11T14:37:09",null,0.4,5,"Wakulla Criminal Traffic CGE CQ2-17"]
["Wakulla","Criminal Traffic","CGE CQ3-16",36666,35441.06,34383.93,33709.46,33709.46,7077,13417.6,16171.6,17479.599999999999,18579.599999999999,null,null,null,null,null,null,"2017-01-11T14:37:09",null,0.4,5,"Wakulla Criminal Traffic CGE CQ3-16"]
["Wakulla","Criminal Traffic","CGE CQ3-17",34409.629999999997,33876.629999999997,null,null,null,4239.63,8200.6299999999992,null,null,null,null,null,null,null,null,null,"2017-01-11T14:37:09",null,0.4,5,"Wakulla Criminal Traffic CGE CQ3-17"]
["Wakulla","Criminal Traffic","CGE CQ4-16",46445,41778.400000000001,40896.19,38961.339999999997,36200.19,5579,9122.6,12247.6,14034.6,14525.04,null,null,null,null,null,null,"2017-01-11T14:37:09",null,0.4,5,"Wakulla Criminal Traffic CGE CQ4-16"]
["Wakulla","Criminal Traffic","CGE CQ4-17",32592.13,null,null,null,null,6117,null,null,null,null,null,null,null,null,null,null,"2017-01-11T14:37:09",null,0.4,5,"Wakulla Criminal Traffic CGE CQ4-17"]
["Wakulla","Family","CGE CQ1-16",15805,15805,15805,15805,15397,12069,12069,12069,12069,12069,null,null,null,null,null,null,"2017-01-11T14:37:09",null,0.75,10,"Wakulla Family CGE CQ1-16"]
["Wakulla","Family","CGE CQ1-17",10973,10973,10565,10565,null,8525,8525,8525,8525,null,null,null,null,null,null,null,"2017-01-11T14:37:09",null,0.75,10,"Wakulla Family CGE CQ1-17"]
["Wakulla","Family","CGE CQ2-16",16060,15704,15704,15704,15704,13620,13680,13680,13680,13680,null,null,null,null,null,null,"2017-01-11T14:37:09",null,0.75,10,"Wakulla Family CGE CQ2-16"]
["Wakulla","Family","CGE CQ2-17",15273,15273,15165,null,null,14394,14394,14394,null,null,null,null,null,null,null,null,"2017-01-11T14:37:09",null,0.75,10,"Wakulla Family CGE CQ2-17"]
["Wakulla","Family","CGE CQ3-16",14118.5,14118.5,14118.5,14118.5,14118.5,13662.5,13662.5,13662.5,13662.5,13662.5,null,null,null,null,null,null,"2017-01-11T14:37:09",null,0.75,10,"Wakulla Family CGE CQ3-16"]
["Wakulla","Family","CGE CQ3-17",20123.5,19715.5,null,null,null,16001.5,16001.5,null,null,null,null,null,null,null,null,null,"2017-01-11T14:37:09",null,0.75,10,"Wakulla Family CGE CQ3-17"]
["Wakulla","Family","CGE CQ4-16",17152.5,17152.5,17152.5,17152.5,17152.5,15112.5,15112.5,15112.5,15112.5,15112.5,null,null,null,null,null,null,"2017-01-11T14:37:09",null,0.75,10,"Wakulla Family CGE CQ4-16"]
["Wakulla","Family","CGE CQ4-17",9549,null,null,null,null,7933,null,null,null,null,null,null,null,null,null,null,"2017-01-11T14:37:09",null,0.75,10,"Wakulla Family CGE CQ4-17"]
["Wakulla","Juvenile Delinquency","CGE CQ1-16",1547,1547,1547,1547,1342.8,327,427,427,487,487,null,null,null,null,null,null,"2017-01-11T14:37:09",null,0.09,4,{"$f":"A5186&\" \"&B5186&\" \"&C5186","v":"Wakulla Juvenile Delinquency CGE CQ1-16"}]
["Wakulla","Juvenile Delinquency","CGE CQ1-17",4353.3999999999996,4353.3999999999996,4353.3999999999996,2553.4,null,0,150,150,318.02999999999997,null,null,null,null,null,null,null,"2017-01-11T14:37:09",null,0.09,4,"Wakulla Juvenile Delinquency CGE CQ1-17"]
["Wakulla","Juvenile Delinquency","CGE CQ2-16",1012,1012,762,762,762,192,192,292,292,292,null,null,null,null,null,null,"2017-01-11T14:37:09",null,0.09,4,"Wakulla Juvenile Delinquency CGE CQ2-16"]
["Wakulla","Juvenile Delinquency","CGE CQ2-17",1100,1100,1100,null,null,350,500,500,null,null,null,null,null,null,null,null,"2017-01-11T14:37:09",null,0.09,4,"Wakulla Juvenile Delinquency CGE CQ2-17"]
["Wakulla","Juvenile Delinquency","CGE CQ3-16",1000,1000,950,900,850,0,0,0,0,130,null,null,null,null,null,null,"2017-01-11T14:37:09",null,0.09,4,"Wakulla Juvenile Delinquency CGE CQ3-16"]
["Wakulla","Juvenile Delinquency","CGE CQ3-17",1050,1050,null,null,null,0,100,null,null,null,null,null,null,null,null,null,"2017-01-11T14:37:09",null,0.09,4,"Wakulla Juvenile Delinquency CGE CQ3-17"]
["Wakulla","Juvenile Delinquency","CGE CQ4-16",7100,7000,7000,7000,5300.27,150,150,150,200,281.97000000000003,null,null,null,null,null,null,"2017-01-11T14:37:09",null,0.09,4,"Wakulla Juvenile Delinquency CGE CQ4-16"]
["Wakulla","Juvenile Delinquency","CGE CQ4-17",3282.95,null,null,null,null,7,null,null,null,null,null,null,null,null,null,null,"2017-01-11T14:37:09",null,0.09,4,"Wakulla Juvenile Delinquency CGE CQ4-17"]
["Wakulla","Probate","CGE CQ1-16",7523,7523,7523,7523,7523,7523,7523,7523,7523,7523,null,null,null,null,null,null,"2017-01-11T14:37:09",null,0.9,9,"Wakulla Probate CGE CQ1-16"]
["Wakulla","Probate","CGE CQ1-17",6282,6282,6282,6282,null,5779,5779,5779,5779,null,null,null,null,null,null,null,"2017-01-11T14:37:09",null,0.9,9,"Wakulla Probate CGE CQ1-17"]
["Wakulla","Probate","CGE CQ2-16",11778,11778,11778,11778,11778,11778,11778,11778,11778,11778,null,null,null,null,null,null,"2017-01-11T14:37:09",null,0.9,9,"Wakulla Probate CGE CQ2-16"]
["Wakulla","Probate","CGE CQ2-17",8838,8838,8838,null,null,7693,8093,8093,null,null,null,null,null,null,null,null,"2017-01-11T14:37:09",null,0.9,9,"Wakulla Probate CGE CQ2-17"]
["Wakulla","Probate","CGE CQ3-16",9716,9716,9716,9716,9716,9716,9716,9716,9716,9716,null,null,null,null,null,null,"2017-01-11T14:37:09",null,0.9,9,"Wakulla Probate CGE CQ3-16"]
["Wakulla","Probate","CGE CQ3-17",6537.5,6587.5,null,null,null,6534.5,6584.5,null,null,null,null,null,null,null,null,null,"2017-01-11T14:37:09",null,0.9,9,"Wakulla Probate CGE CQ3-17"]
["Wakulla","Probate","CGE CQ4-16",3091.58,3091.58,3091.58,3091.58,3091.58,3091.58,3091.58,3091.58,3091.58,3091.58,null,null,null,null,null,null,"2017-01-11T14:37:09",null,0.9,9,"Wakulla Probate CGE CQ4-16"]
["Wakulla","Probate","CGE CQ4-17",7767,null,null,null,null,7726,null,null,null,null,null,null,null,null,null,null,"2017-01-11T14:37:09",null,0.9,9,"Wakulla Probate CGE CQ4-17"]
["Walton","Circ Crim Drug Trfc Cases","CGE CQ1-16",50000,50000,50000,50000,50000,0,0,0,0,0,null,null,null,null,null,null,"2017-01-11T14:37:09",null,0.09,2,"Walton Circ Crim Drug Trfc Cases CGE CQ1-16"]
["Walton","Circ Crim Drug Trfc Cases","CGE CQ1-17",50000,50000,50000,50000,null,0,0,0,0,null,null,null,null,null,null,null,"2017-01-11T14:37:09",null,0.09,2,"Walton Circ Crim Drug Trfc Cases CGE CQ1-17"]
["Walton","Circ Crim Drug Trfc Cases","CGE CQ2-16",100000,100000,100000,100000,100000,0,0,0,0,0,null,null,null,null,null,null,"2017-01-11T14:37:09",null,0.09,2,"Walton Circ Crim Drug Trfc Cases CGE CQ2-16"]
["Walton","Circ Crim Drug Trfc Cases","CGE CQ2-17",100000,100000,100000,null,null,0,0,0,null,null,null,null,null,null,null,null,"2017-01-11T14:37:09",null,0.09,2,"Walton Circ Crim Drug Trfc Cases CGE CQ2-17"]
["Walton","Circ Crim Drug Trfc Cases","CGE CQ3-16",100000,100000,100000,100000,100000,0,0,0,0,0,null,null,null,null,null,null,"2017-01-11T14:37:09",null,0.09,2,"Walton Circ Crim Drug Trfc Cases CGE CQ3-16"]
["Walton","Circ Crim Drug Trfc Cases","CGE CQ3-17",150000,150000,null,null,null,0,0,null,null,null,null,null,null,null,null,null,"2017-01-11T14:37:09",null,0.09,2,"Walton Circ Crim Drug Trfc Cases CGE CQ3-17"]
["Walton","Circ Crim Drug Trfc Cases","CGE CQ4-16",150000,150000,150000,150000,150000,0,0,0,0,0,null,null,null,null,null,null,"2017-01-11T14:37:09",null,0.09,2,"Walton Circ Crim Drug Trfc Cases CGE CQ4-16"]
["Walton","Circ Crim Drug Trfc Cases","CGE CQ4-17",0,null,null,null,null,0,null,null,null,null,null,null,null,null,null,null,"2017-01-11T14:37:09",null,0.09,2,"Walton Circ Crim Drug Trfc Cases CGE CQ4-17"]
["Walton","Circuit Civil","CGE CQ1-16",171161,171161,171161,171161,171161,170761,170761,170761,170761,170761,null,null,null,null,null,null,"2017-01-11T14:37:09",null,0.9,6,"Walton Circuit Civil CGE CQ1-16"]
["Walton","Circuit Civil","CGE CQ1-17",140560,140560,140560,140560,null,140160,140160,140160,140160,null,null,null,null,null,null,null,"2017-01-11T14:37:09",null,0.9,6,"Walton Circuit Civil CGE CQ1-17"]
["Walton","Circuit Civil","CGE CQ2-16",185898,185898,185898,185898,185898,185428,185898,185898,185898,185898,null,null,null,null,null,null,"2017-01-11T14:37:09",null,0.9,6,"Walton Circuit Civil CGE CQ2-16"]
["Walton","Circuit Civil","CGE CQ2-17",125718,125718,125718,null,null,122983,124918,124918,null,null,null,null,null,null,null,null,"2017-01-11T14:37:09",null,0.9,6,"Walton Circuit Civil CGE CQ2-17"]
["Walton","Circuit Civil","CGE CQ3-16",180352,179952,179952,179952,179952,178967,179952,179952,179952,179952,null,null,null,null,null,null,"2017-01-11T14:37:09",null,0.9,6,"Walton Circuit Civil CGE CQ3-16"]
["Walton","Circuit Civil","CGE CQ3-17",151614,151614,null,null,null,148864,150729,null,null,null,null,null,null,null,null,null,"2017-01-11T14:37:09",null,0.9,6,"Walton Circuit Civil CGE CQ3-17"]
["Walton","Circuit Civil","CGE CQ4-16",162573,162573,162573,162573,162573,162523,162573,162573,162573,162573,null,null,null,null,null,null,"2017-01-11T14:37:09",null,0.9,6,"Walton Circuit Civil CGE CQ4-16"]
["Walton","Circuit Civil","CGE CQ4-17",166204,null,null,null,null,166119,null,null,null,null,null,null,null,null,null,null,"2017-01-11T14:37:09",null,0.9,6,"Walton Circuit Civil CGE CQ4-17"]
["Walton","Circuit Criminal","CGE CQ1-16",190360,190360,190360,190360,190360,7868,12729,15749,18951,25664,null,null,null,null,null,null,"2017-01-11T14:37:09",null,0.09,1,"Walton Circuit Criminal CGE CQ1-16"]
["Walton","Circuit Criminal","CGE CQ1-17",220411,220411,220411,220411,null,10647,16973,23945,29830,null,null,null,null,null,null,null,"2017-01-11T14:37:09",null,0.09,1,"Walton Circuit Criminal CGE CQ1-17"]
["Walton","Circuit Criminal","CGE CQ2-16",270813,270813,270813,270813,270813,4517,10354,15215,18779,25506,null,null,null,null,null,null,"2017-01-11T14:37:09",null,0.09,1,"Walton Circuit Criminal CGE CQ2-16"]
["Walton","Circuit Criminal","CGE CQ2-17",268430,268430,268430,null,null,11313,24488,59854,null,null,null,null,null,null,null,null,"2017-01-11T14:37:09",null,0.09,1,"Walton Circuit Criminal CGE CQ2-17"]
["Walton","Circuit Criminal","CGE CQ3-16",250205,250205,250205,250205,250205,9455,14046,18644,23391,29243,null,null,null,null,null,null,"2017-01-11T14:37:09",null,0.09,1,"Walton Circuit Criminal CGE CQ3-16"]
["Walton","Circuit Criminal","CGE CQ3-17",318623,318623,null,null,null,3888,7750,null,null,null,null,null,null,null,null,null,"2017-01-11T14:37:09",null,0.09,1,"Walton Circuit Criminal CGE CQ3-17"]
["Walton","Circuit Criminal","CGE CQ4-16",294292,294292,294292,294292,294292,6881,10274,16368,18388,20874,null,null,null,null,null,null,"2017-01-11T14:37:09",null,0.09,1,"Walton Circuit Criminal CGE CQ4-16"]
["Walton","Circuit Criminal","CGE CQ4-17",176337,null,null,null,null,12239,null,null,null,null,null,null,null,null,null,null,"2017-01-11T14:37:09",null,0.09,1,"Walton Circuit Criminal CGE CQ4-17"]
["Walton","Civil Traffic","CGE CQ1-16",195742,195742,195742,195742,195742,98498,170326,179385,182740,184854,null,null,null,null,null,null,"2017-01-11T14:37:09",null,0.9,8,"Walton Civil Traffic CGE CQ1-16"]
["Walton","Civil Traffic","CGE CQ1-17",124607,124607,124607,124607,null,66030,107288,111622,113800,null,null,null,null,null,null,null,"2017-01-11T14:37:09",null,0.9,8,"Walton Civil Traffic CGE CQ1-17"]
["Walton","Civil Traffic","CGE CQ2-16",202347,202347,202347,202347,202347,103392,171888,178757,182869,185622,null,null,null,null,null,null,"2017-01-11T14:37:09",null,0.9,8,"Walton Civil Traffic CGE CQ2-16"]
["Walton","Civil Traffic","CGE CQ2-17",191576,191576,191576,null,null,109121,168962,175564,null,null,null,null,null,null,null,null,"2017-01-11T14:37:09",null,0.9,8,"Walton Civil Traffic CGE CQ2-17"]
["Walton","Civil Traffic","CGE CQ3-16",196976,196976,196976,196976,196976,104065,167876,174265,179027,180233,null,null,null,null,null,null,"2017-01-11T14:37:09",null,0.9,8,"Walton Civil Traffic CGE CQ3-16"]
["Walton","Civil Traffic","CGE CQ3-17",178260,178260,null,null,null,100594,148614,null,null,null,null,null,null,null,null,null,"2017-01-11T14:37:09",null,0.9,8,"Walton Civil Traffic CGE CQ3-17"]
["Walton","Civil Traffic","CGE CQ4-16",204553,204553,204553,204553,204553,123859,175297,184230,187042,189293,null,null,null,null,null,null,"2017-01-11T14:37:09",null,0.9,8,"Walton Civil Traffic CGE CQ4-16"]
["Walton","Civil Traffic","CGE CQ4-17",186373,null,null,null,null,107315,null,null,null,null,null,null,null,null,null,null,"2017-01-11T14:37:09",null,0.9,8,"Walton Civil Traffic CGE CQ4-17"]
["Walton","County Civil","CGE CQ1-16",39955,39955,39955,39955,39955,39955,39955,39955,39955,39955,null,null,null,null,null,null,"2017-01-11T14:37:09",null,0.9,7,"Walton County Civil CGE CQ1-16"]
["Walton","County Civil","CGE CQ1-17",59230,59230,59230,59230,null,59230,59230,59230,59230,null,null,null,null,null,null,null,"2017-01-11T14:37:09",null,0.9,7,"Walton County Civil CGE CQ1-17"]
["Walton","County Civil","CGE CQ2-16",49065,49065,49065,49065,49065,48825,49010,49010,49010,49010,null,null,null,null,null,null,"2017-01-11T14:37:09",null,0.9,7,"Walton County Civil CGE CQ2-16"]
["Walton","County Civil","CGE CQ2-17",36201,36201,36201,null,null,36116,36201,36201,null,null,null,null,null,null,null,null,"2017-01-11T14:37:09",null,0.9,7,"Walton County Civil CGE CQ2-17"]
["Walton","County Civil","CGE CQ3-16",60483,60483,60483,60483,60483,59988,60483,60483,60483,60483,null,null,null,null,null,null,"2017-01-11T14:37:09",null,0.9,7,"Walton County Civil CGE CQ3-16"]
["Walton","County Civil","CGE CQ3-17",58202,58202,null,null,null,54017,58202,null,null,null,null,null,null,null,null,null,"2017-01-11T14:37:09",null,0.9,7,"Walton County Civil CGE CQ3-17"]
["Walton","County Civil","CGE CQ4-16",62193,62193,62193,62193,62193,62193,62193,62193,62193,62193,null,null,null,null,null,null,"2017-01-11T14:37:09",null,0.9,7,"Walton County Civil CGE CQ4-16"]
["Walton","County Civil","CGE CQ4-17",64323,null,null,null,null,63828,null,null,null,null,null,null,null,null,null,null,"2017-01-11T14:37:09",null,0.9,7,"Walton County Civil CGE CQ4-17"]
["Walton","County Criminal","CGE CQ1-16",155428,155428,155428,155428,155428,49053,71362,87406,93325,101436,null,null,null,null,null,null,"2017-01-11T14:37:09",null,0.4,3,"Walton County Criminal CGE CQ1-16"]
["Walton","County Criminal","CGE CQ1-17",161335,161335,161335,161335,null,50592,70051,86765,93874,null,null,null,null,null,null,null,"2017-01-11T14:37:09",null,0.4,3,"Walton County Criminal CGE CQ1-17"]
["Walton","County Criminal","CGE CQ2-16",168823,168823,168823,168823,168823,49931,83870,103398,111877,119630,null,null,null,null,null,null,"2017-01-11T14:37:09",null,0.4,3,"Walton County Criminal CGE CQ2-16"]
["Walton","County Criminal","CGE CQ2-17",161823,161823,161823,null,null,48051,72542,88566,null,null,null,null,null,null,null,null,"2017-01-11T14:37:09",null,0.4,3,"Walton County Criminal CGE CQ2-17"]
["Walton","County Criminal","CGE CQ3-16",275167,275167,275167,275167,275167,153589,192545,207672,217275,228105,null,null,null,null,null,null,"2017-01-11T14:37:09",null,0.4,3,"Walton County Criminal CGE CQ3-16"]
["Walton","County Criminal","CGE CQ3-17",213774,213774,null,null,null,95567,125882,null,null,null,null,null,null,null,null,null,"2017-01-11T14:37:09",null,0.4,3,"Walton County Criminal CGE CQ3-17"]
["Walton","County Criminal","CGE CQ4-16",196207,196207,196207,196207,196207,78386,97785,118598,131642,139181,null,null,null,null,null,null,"2017-01-11T14:37:09",null,0.4,3,"Walton County Criminal CGE CQ4-16"]
["Walton","County Criminal","CGE CQ4-17",173645,null,null,null,null,57835,null,null,null,null,null,null,null,null,null,null,"2017-01-11T14:37:09",null,0.4,3,"Walton County Criminal CGE CQ4-17"]
["Walton","Criminal Traffic","CGE CQ1-16",49627,49627,49627,49627,49627,18698,27946,32128,33216,33248,null,null,null,null,null,null,"2017-01-11T14:37:09",null,0.4,5,{"$f":"A5250&\" \"&B5250&\" \"&C5250","v":"Walton Criminal Traffic CGE CQ1-16"}]
["Walton","Criminal Traffic","CGE CQ1-17",65794,65794,65794,65794,null,25104,34684,39965,41696,null,null,null,null,null,null,null,"2017-01-11T14:37:09",null,0.4,5,"Walton Criminal Traffic CGE CQ1-17"]
["Walton","Criminal Traffic","CGE CQ2-16",60710,60710,60710,60710,60710,24891,33643,39202,40399,40449,null,null,null,null,null,null,"2017-01-11T14:37:09",null,0.4,5,"Walton Criminal Traffic CGE CQ2-16"]
["Walton","Criminal Traffic","CGE CQ2-17",53787,53787,53727,null,null,21316,29767,33355,null,null,null,null,null,null,null,null,"2017-01-11T14:37:09",null,0.4,5,"Walton Criminal Traffic CGE CQ2-17"]
["Walton","Criminal Traffic","CGE CQ3-16",54030,54030,54030,54030,54030,23219,32053,34753,35049,36754,null,null,null,null,null,null,"2017-01-11T14:37:09",null,0.4,5,"Walton Criminal Traffic CGE CQ3-16"]
["Walton","Criminal Traffic","CGE CQ3-17",61747,61295,null,null,null,23529,32817,null,null,null,null,null,null,null,null,null,"2017-01-11T14:37:09",null,0.4,5,"Walton Criminal Traffic CGE CQ3-17"]
["Walton","Criminal Traffic","CGE CQ4-16",62280,62280,62280,62280,62280,26927,34117,38977,40702,41882,null,null,null,null,null,null,"2017-01-11T14:37:09",null,0.4,5,"Walton Criminal Traffic CGE CQ4-16"]
["Walton","Criminal Traffic","CGE CQ4-17",61846,null,null,null,null,26405,null,null,null,null,null,null,null,null,null,null,"2017-01-11T14:37:09",null,0.4,5,"Walton Criminal Traffic CGE CQ4-17"]
["Walton","Family","CGE CQ1-16",36742,36742,36742,36742,36742,36742,36742,36742,36742,36742,null,null,null,null,null,null,"2017-01-11T14:37:09",null,0.75,10,"Walton Family CGE CQ1-16"]
["Walton","Family","CGE CQ1-17",33262,33262,33262,33262,null,33262,33262,33262,33262,null,null,null,null,null,null,null,"2017-01-11T14:37:09",null,0.75,10,"Walton Family CGE CQ1-17"]
["Walton","Family","CGE CQ2-16",40280,40280,40280,40280,40280,39862,40280,40280,40280,40280,null,null,null,null,null,null,"2017-01-11T14:37:09",null,0.75,10,"Walton Family CGE CQ2-16"]
["Walton","Family","CGE CQ2-17",42691,42691,42691,null,null,41735,42691,42691,null,null,null,null,null,null,null,null,"2017-01-11T14:37:09",null,0.75,10,"Walton Family CGE CQ2-17"]
["Walton","Family","CGE CQ3-16",31376,31376,31376,31376,31376,31376,31376,31376,31376,31376,null,null,null,null,null,null,"2017-01-11T14:37:09",null,0.75,10,"Walton Family CGE CQ3-16"]
["Walton","Family","CGE CQ3-17",41371,41371,null,null,null,41371,41371,null,null,null,null,null,null,null,null,null,"2017-01-11T14:37:09",null,0.75,10,"Walton Family CGE CQ3-17"]
["Walton","Family","CGE CQ4-16",51558,51558,51558,51558,51558,51498,51558,51558,51558,51558,null,null,null,null,null,null,"2017-01-11T14:37:09",null,0.75,10,"Walton Family CGE CQ4-16"]
["Walton","Family","CGE CQ4-17",43337,null,null,null,null,42529,null,null,null,null,null,null,null,null,null,null,"2017-01-11T14:37:09",null,0.75,10,"Walton Family CGE CQ4-17"]
["Walton","Juvenile Delinquency","CGE CQ1-16",342,342,342,342,342,342,342,342,342,342,null,null,null,null,null,null,"2017-01-11T14:37:09",null,0.09,4,"Walton Juvenile Delinquency CGE CQ1-16"]
["Walton","Juvenile Delinquency","CGE CQ1-17",2732,2732,2732,2732,null,2482,2482,2482,2732,null,null,null,null,null,null,null,"2017-01-11T14:37:09",null,0.09,4,"Walton Juvenile Delinquency CGE CQ1-17"]
["Walton","Juvenile Delinquency","CGE CQ2-16",1194,1194,1194,1194,1194,944,1194,1194,1194,1194,null,null,null,null,null,null,"2017-01-11T14:37:09",null,0.09,4,"Walton Juvenile Delinquency CGE CQ2-16"]
["Walton","Juvenile Delinquency","CGE CQ2-17",1568,1568,1568,null,null,1468,1468,1468,null,null,null,null,null,null,null,null,"2017-01-11T14:37:09",null,0.09,4,"Walton Juvenile Delinquency CGE CQ2-17"]
["Walton","Juvenile Delinquency","CGE CQ3-16",32794,32794,32794,32794,32794,30890,32140,32140,32140,32140,null,null,null,null,null,null,"2017-01-11T14:37:09",null,0.09,4,"Walton Juvenile Delinquency CGE CQ3-16"]
["Walton","Juvenile Delinquency","CGE CQ3-17",20302,20302,null,null,null,18952,19702,null,null,null,null,null,null,null,null,null,"2017-01-11T14:37:09",null,0.09,4,"Walton Juvenile Delinquency CGE CQ3-17"]
["Walton","Juvenile Delinquency","CGE CQ4-16",6132,6132,6132,6132,6132,5157,5877,5877,6127,6127,null,null,null,null,null,null,"2017-01-11T14:37:09",null,0.09,4,"Walton Juvenile Delinquency CGE CQ4-16"]
["Walton","Juvenile Delinquency","CGE CQ4-17",3933,null,null,null,null,3183,null,null,null,null,null,null,null,null,null,null,"2017-01-11T14:37:09",null,0.09,4,"Walton Juvenile Delinquency CGE CQ4-17"]
["Walton","Probate","CGE CQ1-16",23163,23163,23163,23163,23163,23163,23163,23163,23163,23163,null,null,null,null,null,null,"2017-01-11T14:37:09",null,0.9,9,"Walton Probate CGE CQ1-16"]
["Walton","Probate","CGE CQ1-17",24684,24684,24684,24684,null,24684,24684,24684,24684,null,null,null,null,null,null,null,"2017-01-11T14:37:09",null,0.9,9,"Walton Probate CGE CQ1-17"]
["Walton","Probate","CGE CQ2-16",27478,27478,27478,27478,27478,27478,27478,27478,27478,27478,null,null,null,null,null,null,"2017-01-11T14:37:09",null,0.9,9,"Walton Probate CGE CQ2-16"]
["Walton","Probate","CGE CQ2-17",27053,27053,27053,null,null,26998,26998,27053,null,null,null,null,null,null,null,null,"2017-01-11T14:37:09",null,0.9,9,"Walton Probate CGE CQ2-17"]
["Walton","Probate","CGE CQ3-16",26538,26538,26538,26538,26538,26138,26538,26538,26538,26538,null,null,null,null,null,null,"2017-01-11T14:37:09",null,0.9,9,"Walton Probate CGE CQ3-16"]
["Walton","Probate","CGE CQ3-17",24159,24159,null,null,null,24159,24159,null,null,null,null,null,null,null,null,null,"2017-01-11T14:37:09",null,0.9,9,"Walton Probate CGE CQ3-17"]
["Walton","Probate","CGE CQ4-16",26379,26379,26379,26379,26379,25979,26379,26379,26379,26379,null,null,null,null,null,null,"2017-01-11T14:37:09",null,0.9,9,"Walton Probate CGE CQ4-16"]
["Walton","Probate","CGE CQ4-17",29247,null,null,null,null,29247,null,null,null,null,null,null,null,null,null,null,"2017-01-11T14:37:09",null,0.9,9,"Walton Probate CGE CQ4-17"]
["Washington","Circ Crim Drug Trfc Cases","CGE CQ1-16",0,0,0,0,0,0,0,0,0,0,null,null,null,null,null,null,"2017-01-11T14:37:09",null,0.09,2,"Washington Circ Crim Drug Trfc Cases CGE CQ1-16"]
["Washington","Circ Crim Drug Trfc Cases","CGE CQ1-17",0,0,0,0,null,0,0,0,0,null,null,null,null,null,null,null,"2017-01-11T14:37:09",null,0.09,2,"Washington Circ Crim Drug Trfc Cases CGE CQ1-17"]
["Washington","Circ Crim Drug Trfc Cases","CGE CQ2-16",0,0,0,0,0,0,0,0,0,0,null,null,null,null,null,null,"2017-01-11T14:37:09",null,0.09,2,"Washington Circ Crim Drug Trfc Cases CGE CQ2-16"]
["Washington","Circ Crim Drug Trfc Cases","CGE CQ2-17",0,0,0,null,null,0,0,0,null,null,null,null,null,null,null,null,"2017-01-11T14:37:09",null,0.09,2,"Washington Circ Crim Drug Trfc Cases CGE CQ2-17"]
["Washington","Circ Crim Drug Trfc Cases","CGE CQ3-16",0,0,0,0,0,0,0,0,0,0,null,null,null,null,null,null,"2017-01-11T14:37:09",null,0.09,2,"Washington Circ Crim Drug Trfc Cases CGE CQ3-16"]
["Washington","Circ Crim Drug Trfc Cases","CGE CQ3-17",0,0,null,null,null,0,0,null,null,null,null,null,null,null,null,null,"2017-01-11T14:37:09",null,0.09,2,"Washington Circ Crim Drug Trfc Cases CGE CQ3-17"]
["Washington","Circ Crim Drug Trfc Cases","CGE CQ4-16",0,0,0,0,0,0,0,0,0,0,null,null,null,null,null,null,"2017-01-11T14:37:09",null,0.09,2,"Washington Circ Crim Drug Trfc Cases CGE CQ4-16"]
["Washington","Circ Crim Drug Trfc Cases","CGE CQ4-17",0,null,null,null,null,0,null,null,null,null,null,null,null,null,null,null,"2017-01-11T14:37:09",null,0.09,2,"Washington Circ Crim Drug Trfc Cases CGE CQ4-17"]
["Washington","Circuit Civil","CGE CQ1-16",28095,28095,28095,28095,28095,25362.6,25362,25362,25362,25362,null,null,null,null,null,null,"2017-01-11T14:37:09",null,0.9,6,"Washington Circuit Civil CGE CQ1-16"]
["Washington","Circuit Civil","CGE CQ1-17",30838,30838,30838,30838,null,30312,30362,30362,30788,null,null,null,null,null,null,null,"2017-01-11T14:37:09",null,0.9,6,"Washington Circuit Civil CGE CQ1-17"]
["Washington","Circuit Civil","CGE CQ2-16",30667.49,30667.49,31152.49,31607.49,31607.49,29712.49,29712.49,29712.49,29712.49,30167.49,null,null,null,null,null,null,"2017-01-11T14:37:09",null,0.9,6,"Washington Circuit Civil CGE CQ2-16"]
["Washington","Circuit Civil","CGE CQ2-17",1577040.45,1569577.95,1569577.95,null,null,1569572.95,1569572.95,1569572.95,null,null,null,null,null,null,null,null,"2017-01-11T14:37:09",null,0.9,6,"Washington Circuit Civil CGE CQ2-17"]
["Washington","Circuit Civil","CGE CQ3-16",25980,25980,25990,25990,25990,25180,25180,25190,25190,25190,null,null,null,null,null,null,"2017-01-11T14:37:09",null,0.9,6,"Washington Circuit Civil CGE CQ3-16"]
["Washington","Circuit Civil","CGE CQ3-17",790114.2,790114.2,null,null,null,789714.2,789739.2,null,null,null,null,null,null,null,null,null,"2017-01-11T14:37:09",null,0.9,6,"Washington Circuit Civil CGE CQ3-17"]
["Washington","Circuit Civil","CGE CQ4-16",25903.7,94760.5,94760.5,94760.5,94760.5,25503.7,94360.5,94360.5,94360.5,94360.5,null,null,null,null,null,null,"2017-01-11T14:37:09",null,0.9,6,"Washington Circuit Civil CGE CQ4-16"]
["Washington","Circuit Civil","CGE CQ4-17",166190.82,null,null,null,null,165007.82,null,null,null,null,null,null,null,null,null,null,"2017-01-11T14:37:09",null,0.9,6,"Washington Circuit Civil CGE CQ4-17"]
["Washington","Circuit Criminal","CGE CQ1-16",80867.649999999994,87391.15,87741.15,88841.15,85937.15,1229.47,2180.89,3916.02,5203.3999999999996,5377.3,null,null,null,null,null,null,"2017-01-11T14:37:09",null,0.09,1,"Washington Circuit Criminal CGE CQ1-16"]
["Washington","Circuit Criminal","CGE CQ1-17",180272.5,183207.5,182377.5,181877.5,null,4031.65,6308.22,8121.05,9677.0499999999993,null,null,null,null,null,null,null,"2017-01-11T14:37:09",null,0.09,1,"Washington Circuit Criminal CGE CQ1-17"]
["Washington","Circuit Criminal","CGE CQ2-16",120114.13,120614.13,120149.13,120149.13,120820.13,3631.53,6277.85,7833.4,9786.1299999999992,11813.66,null,null,null,null,null,null,"2017-01-11T14:37:09",null,0.09,1,"Washington Circuit Criminal CGE CQ2-16"]
["Washington","Circuit Criminal","CGE CQ2-17",132717.5,137691.5,138191.5,null,null,1354,4938.63,5954.65,null,null,null,null,null,null,null,null,"2017-01-11T14:37:09",null,0.09,1,"Washington Circuit Criminal CGE CQ2-17"]
["Washington","Circuit Criminal","CGE CQ3-16",137985.5,137602.5,137602.5,137602.5,137430.84,2297.89,5907.46,8070.21,9499.51,10962.51,null,null,null,null,null,null,"2017-01-11T14:37:09",null,0.09,1,"Washington Circuit Criminal CGE CQ3-16"]
["Washington","Circuit Criminal","CGE CQ3-17",155813,156888,null,null,null,2022.97,6101.99,null,null,null,null,null,null,null,null,null,"2017-01-11T14:37:09",null,0.09,1,"Washington Circuit Criminal CGE CQ3-17"]
["Washington","Circuit Criminal","CGE CQ4-16",192831,196979.5,197479.5,197479.5,197479.5,2022.77,3839.5,6522.85,8433.08,10206.5,null,null,null,null,null,null,"2017-01-11T14:37:09",null,0.09,1,"Washington Circuit Criminal CGE CQ4-16"]
["Washington","Circuit Criminal","CGE CQ4-17",139202,null,null,null,null,983.5,null,null,null,null,null,null,null,null,null,null,"2017-01-11T14:37:09",null,0.09,1,"Washington Circuit Criminal CGE CQ4-17"]
["Washington","Civil Traffic","CGE CQ1-16",96030.3,93925.3,94088.3,94088.3,94204.3,53265,82770.3,85256.3,86199.3,86561.3,null,null,null,null,null,null,"2017-01-11T14:37:09",null,0.9,8,"Washington Civil Traffic CGE CQ1-16"]
["Washington","Civil Traffic","CGE CQ1-17",118765.75,116787.25,116498.75,116682.75,null,70476.75,102737.25,106132.75,107393.75,null,null,null,null,null,null,null,"2017-01-11T14:37:09",null,0.9,8,"Washington Civil Traffic CGE CQ1-17"]
["Washington","Civil Traffic","CGE CQ2-16",104004.9,103406.39999999999,103854.39999999999,103784.9,104607.4,55326.7,85298.2,89585.2,90843.7,93974.2,null,null,null,null,null,null,"2017-01-11T14:37:09",null,0.9,8,"Washington Civil Traffic CGE CQ2-16"]
["Washington","Civil Traffic","CGE CQ2-17",124070.5,122021.5,121689.5,null,null,65753.2,104227.5,107678.5,null,null,null,null,null,null,null,null,"2017-01-11T14:37:09",null,0.9,8,"Washington Civil Traffic CGE CQ2-17"]
["Washington","Civil Traffic","CGE CQ3-16",89693.5,87909.57,88072.57,88704.57,88858.57,44844,70383.070000000007,73284.070000000007,78599.070000000007,80246.570000000007,null,null,null,null,null,null,"2017-01-11T14:37:09",null,0.9,8,"Washington Civil Traffic CGE CQ3-16"]
["Washington","Civil Traffic","CGE CQ3-17",161366.70000000001,159044.45000000001,null,null,null,89462.9,132362.20000000001,null,null,null,null,null,null,null,null,null,"2017-01-11T14:37:09",null,0.9,8,"Washington Civil Traffic CGE CQ3-17"]
["Washington","Civil Traffic","CGE CQ4-16",140159.79999999999,124757.1,126254.1,126334.6,126619.6,76859.8,103819.6,109664.6,112089.1,113823.1,null,null,null,null,null,null,"2017-01-11T14:37:09",null,0.9,8,"Washington Civil Traffic CGE CQ4-16"]
["Washington","Civil Traffic","CGE CQ4-17",86815.76,null,null,null,null,48348.5,null,null,null,null,null,null,null,null,null,null,"2017-01-11T14:37:09",null,0.9,8,"Washington Civil Traffic CGE CQ4-17"]
["Washington","County Civil","CGE CQ1-16",20379.5,20249.5,20249.5,20249.5,20249.5,20069.5,20249.5,20249.5,20249.5,20249.5,null,null,null,null,null,null,"2017-01-11T14:37:09",null,0.9,7,{"$f":"A5314&\" \"&B5314&\" \"&C5314","v":"Washington County Civil CGE CQ1-16"}]
["Washington","County Civil","CGE CQ1-17",15110,15110,15110,15110,null,15010,15010,15010,15010,null,null,null,null,null,null,null,"2017-01-11T14:37:09",null,0.9,7,"Washington County Civil CGE CQ1-17"]
["Washington","County Civil","CGE CQ2-16",12561,12561,12561,12561,12561,12561,12561,12561,12561,12561,null,null,null,null,null,null,"2017-01-11T14:37:09",null,0.9,7,"Washington County Civil CGE CQ2-16"]
["Washington","County Civil","CGE CQ2-17",10185,10185,10185,null,null,9485,9485,9485,null,null,null,null,null,null,null,null,"2017-01-11T14:37:09",null,0.9,7,"Washington County Civil CGE CQ2-17"]
["Washington","County Civil","CGE CQ3-16",20164,19894,19884,19884,19884,19984,19884,19884,19884,19884,null,null,null,null,null,null,"2017-01-11T14:37:09",null,0.9,7,"Washington County Civil CGE CQ3-16"]
["Washington","County Civil","CGE CQ3-17",15962,15962,null,null,null,15952,15952,null,null,null,null,null,null,null,null,null,"2017-01-11T14:37:09",null,0.9,7,"Washington County Civil CGE CQ3-17"]
["Washington","County Civil","CGE CQ4-16",16392,12992,12992,12992,12992,16392,12517,12517,12517,12517,null,null,null,null,null,null,"2017-01-11T14:37:09",null,0.9,7,"Washington County Civil CGE CQ4-16"]
["Washington","County Civil","CGE CQ4-17",15681.3,null,null,null,null,15544.3,null,null,null,null,null,null,null,null,null,null,"2017-01-11T14:37:09",null,0.9,7,"Washington County Civil CGE CQ4-17"]
["Washington","County Criminal","CGE CQ1-16",35218.01,35032.629999999997,34794.629999999997,34954.629999999997,34954.629999999997,6720.46,12299.28,14619.88,14837.5,15162.5,null,null,null,null,null,null,"2017-01-11T14:37:09",null,0.4,3,"Washington County Criminal CGE CQ1-16"]
["Washington","County Criminal","CGE CQ1-17",21606,22323.5,22144.83,22144.83,null,2875.93,6893.43,8114.83,8574.83,null,null,null,null,null,null,null,"2017-01-11T14:37:09",null,0.4,3,"Washington County Criminal CGE CQ1-17"]
["Washington","County Criminal","CGE CQ2-16",26714.87,25838.87,26188.87,26188.87,26188.87,5479.52,9285.18,10805.2,11453.2,11633.2,null,null,null,null,null,null,"2017-01-11T14:37:09",null,0.4,3,"Washington County Criminal CGE CQ2-16"]
["Washington","County Criminal","CGE CQ2-17",35848,35513,35029,null,null,6175.33,12080.84,14313.82,null,null,null,null,null,null,null,null,"2017-01-11T14:37:09",null,0.4,3,"Washington County Criminal CGE CQ2-17"]
["Washington","County Criminal","CGE CQ3-16",20010,19777.5,19777.5,19777.5,20127.5,2410.9699999999998,5525.56,6131.5,6227.07,6437.07,null,null,null,null,null,null,"2017-01-11T14:37:09",null,0.4,3,"Washington County Criminal CGE CQ3-16"]
["Washington","County Criminal","CGE CQ3-17",47713.5,47258.13,null,null,null,10051.959999999999,18818.560000000001,null,null,null,null,null,null,null,null,null,"2017-01-11T14:37:09",null,0.4,3,"Washington County Criminal CGE CQ3-17"]
["Washington","County Criminal","CGE CQ4-16",52131.5,26790.25,26790.25,26440.25,26440.25,8218.94,7285.13,9392.85,10589.3,10977.8,null,null,null,null,null,null,"2017-01-11T14:37:09",null,0.4,3,"Washington County Criminal CGE CQ4-16"]
["Washington","County Criminal","CGE CQ4-17",49499.38,null,null,null,null,8963.7199999999993,null,null,null,null,null,null,null,null,null,null,"2017-01-11T14:37:09",null,0.4,3,"Washington County Criminal CGE CQ4-17"]
["Washington","Criminal Traffic","CGE CQ1-16",17370,18290,18340,18340,18340,4770.4399999999996,8997.77,10733.65,11012.04,11472.04,null,null,null,null,null,null,"2017-01-11T14:37:09",null,0.4,5,"Washington Criminal Traffic CGE CQ1-16"]
["Washington","Criminal Traffic","CGE CQ1-17",18448.5,18103.5,18103.5,18103.5,null,1910.72,8030,8926.5,9681.39,null,null,null,null,null,null,null,"2017-01-11T14:37:09",null,0.4,5,"Washington Criminal Traffic CGE CQ1-17"]
["Washington","Criminal Traffic","CGE CQ2-16",17457,17662,17648.439999999999,17648.439999999999,17648.439999999999,3562.5,6282,7655.94,9910.94,10860.94,null,null,null,null,null,null,"2017-01-11T14:37:09",null,0.4,5,"Washington Criminal Traffic CGE CQ2-16"]
["Washington","Criminal Traffic","CGE CQ2-17",20370,20370,19760,null,null,4660,8585,11120,null,null,null,null,null,null,null,null,"2017-01-11T14:37:09",null,0.4,5,"Washington Criminal Traffic CGE CQ2-17"]
["Washington","Criminal Traffic","CGE CQ3-16",13820,13692.12,13398.12,13526,13526,2446.67,4750.9399999999996,5913.77,6211,6336,null,null,null,null,null,null,"2017-01-11T14:37:09",null,0.4,5,"Washington Criminal Traffic CGE CQ3-16"]
["Washington","Criminal Traffic","CGE CQ3-17",19458,19438.63,null,null,null,4101.99,7263.63,null,null,null,null,null,null,null,null,null,"2017-01-11T14:37:09",null,0.4,5,"Washington Criminal Traffic CGE CQ3-17"]
["Washington","Criminal Traffic","CGE CQ4-16",23780.25,19160,18600.37,18100,18100,3602.5,5949.92,7651.23,9540,10395,null,null,null,null,null,null,"2017-01-11T14:37:09",null,0.4,5,"Washington Criminal Traffic CGE CQ4-16"]
["Washington","Criminal Traffic","CGE CQ4-17",14193.25,null,null,null,null,3844.33,null,null,null,null,null,null,null,null,null,null,"2017-01-11T14:37:09",null,0.4,5,"Washington Criminal Traffic CGE CQ4-17"]
["Washington","Family","CGE CQ1-16",11395,11395,9771,9771,9771,9499,9703,9771,9771,9771,null,null,null,null,null,null,"2017-01-11T14:37:09",null,0.75,10,"Washington Family CGE CQ1-16"]
["Washington","Family","CGE CQ1-17",13498,14138,14138,14138,null,10807,11952,12072,12072,null,null,null,null,null,null,null,"2017-01-11T14:37:09",null,0.75,10,"Washington Family CGE CQ1-17"]
["Washington","Family","CGE CQ2-16",18027.5,16503.5,16503.5,16503.5,16503.5,15057.5,15057.5,15057.5,15057.5,15057.5,null,null,null,null,null,null,"2017-01-11T14:37:09",null,0.75,10,"Washington Family CGE CQ2-16"]
["Washington","Family","CGE CQ2-17",18282.95,18162.95,18162.95,null,null,14436.95,15552.95,15677.95,null,null,null,null,null,null,null,null,"2017-01-11T14:37:09",null,0.75,10,"Washington Family CGE CQ2-17"]
["Washington","Family","CGE CQ3-16",16778.5,16778.5,16778.5,16778.5,16778.5,15547.5,15547.5,15547.5,15547.5,15547.5,null,null,null,null,null,null,"2017-01-11T14:37:09",null,0.75,10,"Washington Family CGE CQ3-16"]
["Washington","Family","CGE CQ3-17",19101,18801,null,null,null,17308,17308,null,null,null,null,null,null,null,null,null,"2017-01-11T14:37:09",null,0.75,10,"Washington Family CGE CQ3-17"]
["Washington","Family","CGE CQ4-16",18177.5,17583,17583,17583,17583,16629.5,15939,15939,15939,15939,null,null,null,null,null,null,"2017-01-11T14:37:09",null,0.75,10,"Washington Family CGE CQ4-16"]
["Washington","Family","CGE CQ4-17",16418,null,null,null,null,12642,null,null,null,null,null,null,null,null,null,null,"2017-01-11T14:37:09",null,0.75,10,"Washington Family CGE CQ4-17"]
["Washington","Juvenile Delinquency","CGE CQ1-16",567,567,567,567,567,191,379,567,567,567,null,null,null,null,null,null,"2017-01-11T14:37:09",null,0.09,4,"Washington Juvenile Delinquency CGE CQ1-16"]
["Washington","Juvenile Delinquency","CGE CQ1-17",632,800,800,585.5,null,0,6.5,6.5,249.5,null,null,null,null,null,null,null,"2017-01-11T14:37:09",null,0.09,4,"Washington Juvenile Delinquency CGE CQ1-17"]
["Washington","Juvenile Delinquency","CGE CQ2-16",218,218,218,218,218,218,218,218,218,218,null,null,null,null,null,null,"2017-01-11T14:37:09",null,0.09,4,"Washington Juvenile Delinquency CGE CQ2-16"]
["Washington","Juvenile Delinquency","CGE CQ2-17",506,506,506,null,null,32,32,32,null,null,null,null,null,null,null,null,"2017-01-11T14:37:09",null,0.09,4,"Washington Juvenile Delinquency CGE CQ2-17"]
["Washington","Juvenile Delinquency","CGE CQ3-16",782,832,832,832,832,782,782,782,782,782,null,null,null,null,null,null,"2017-01-11T14:37:09",null,0.09,4,"Washington Juvenile Delinquency CGE CQ3-16"]
["Washington","Juvenile Delinquency","CGE CQ3-17",998,998,null,null,null,25,65,null,null,null,null,null,null,null,null,null,"2017-01-11T14:37:09",null,0.09,4,"Washington Juvenile Delinquency CGE CQ3-17"]
["Washington","Juvenile Delinquency","CGE CQ4-16",1484,693.5,693.5,693.5,693.5,1304.5,23.5,23.5,23.5,23.5,null,null,null,null,null,null,"2017-01-11T14:37:09",null,0.09,4,"Washington Juvenile Delinquency CGE CQ4-16"]
["Washington","Juvenile Delinquency","CGE CQ4-17",518.5,null,null,null,null,32,null,null,null,null,null,null,null,null,null,null,"2017-01-11T14:37:09",null,0.09,4,"Washington Juvenile Delinquency CGE CQ4-17"]
["Washington","Probate","CGE CQ1-16",8357,8357,8357,8357,8357,7557,7957,7957,7957,7957,null,null,null,null,null,null,"2017-01-11T14:37:09",null,0.9,9,"Washington Probate CGE CQ1-16"]
["Washington","Probate","CGE CQ1-17",6965,6965,6965,6965,null,6937,6950,6950,6950,null,null,null,null,null,null,null,"2017-01-11T14:37:09",null,0.9,9,"Washington Probate CGE CQ1-17"]
["Washington","Probate","CGE CQ2-16",8388,8388,8388,8388,8388,8388,8388,8388,8388,8388,null,null,null,null,null,null,"2017-01-11T14:37:09",null,0.9,9,"Washington Probate CGE CQ2-16"]
["Washington","Probate","CGE CQ2-17",8539,8539,8539,null,null,8529,8529,8529,null,null,null,null,null,null,null,null,"2017-01-11T14:37:09",null,0.9,9,"Washington Probate CGE CQ2-17"]
["Washington","Probate","CGE CQ3-16",8132,8132,8132,8132,8132,8132,8132,8132,8132,8132,null,null,null,null,null,null,"2017-01-11T14:37:09",null,0.9,9,"Washington Probate CGE CQ3-16"]
["Washington","Probate","CGE CQ3-17",10542.47,10542.47,null,null,null,10208,10208,null,null,null,null,null,null,null,null,null,"2017-01-11T14:37:09",null,0.9,9,"Washington Probate CGE CQ3-17"]
["Washington","Probate","CGE CQ4-16",8604,11438,11438,11438,11438,8604,11438,11438,11438,11438,null,null,null,null,null,null,"2017-01-11T14:37:09",null,0.9,9,"Washington Probate CGE CQ4-16"]
["Washington","Probate","CGE CQ4-17",68075.289999999994,null,null,null,null,68055.289999999994,null,null,null,null,null,null,null,null,null,null,"2017-01-11T14:37:09",null,0.9,9,"Washington Probate CGE CQ4-17"]

{"sheet":"Circuit Criminal","index":1,"n_rows":81,"n_cols":22,"rows_kept":81,"cut":false,"hidden":false,"merged":[[36,11,38,12],[39,11,41,12],[49,0,49,1],[26,0,29,0],[38,0,41,0],[34,0,37,0],[30,0,33,0],[34,1,37,1],[38,1,41,1],[26,1,29,1],[30,1,33,1],[29,11,29,12],[30,11,32,12],[33,11,35,12],[42,3,42,6],[42,7,42,10],[14,0,17,0],[18,0,21,0],[22,0,25,0],[5,9,5,10],[7,9,7,10],[14,1,17,1],[10,8,13,8],[10,1,13,1],[10,0,13,0],[5,6,5,7],[18,1,21,1],[22,1,25,1],[24,5,25,5],[5,17,8,17],[14,12,17,12],[5,3,5,4],[7,3,7,4],[22,11,25,11],[22,12,25,12],[24,3,25,3],[24,4,25,4],[8,11,8,12],[10,11,13,11],[10,12,13,12],[14,11,17,11],[18,11,21,11],[18,12,21,12]]}
[]
[null,null,null,null,null,"REQUIRED: Reason Codes AND Action to Improve / Descriptions Required if Measure(s) Not Met",null,null,null,null,null,null,"County Fiscal Year 2016-2017",null,null,null,null,null,null,"CountyNames"]
[null,null,null,null,null,null,"Internal: Must clarify reason AND expected duration internal reason will be resolved",null,null,null,null,null,"Collections Quarterly Report Form",null,null,null,null,null,null,"Alachua"]
[null,null,"Report for Quarter Ending: ","March 2017",null,null,"External: Detailed explanation of external reason the measure wasn't met ",null,null,null,null,null,null,null,null,null,null,null,null,"Baker"]
[null,null,"Version #: ",1,null,null,null,null,null,null,null,null,null,null,null,null,null,null,null,"Bay"]
[null,null,"County: ","Brevard",null,"Contact Person:","Michelle Levar",null,"Telephone #:","321-633-7782",null,null,null,null,null,null,null,null,null,"Bradford"]
[null,null,null,null,null,null,null,null,null,null,null,null,null,null,null,null,null,null,null,"Brevard"]
[null,null,"Court/Case Type:","Circuit Criminal",null,null,"Performance Measure Standard:",0.09,"Email:",null,null,null,null,null,null,null,null,null,null,"Broward"]
[null,null,null,null,null,null,null,null,null,null,null,"Action Plan",null,1,1,"December 2016",null,null,null,"Calhoun"]
[null,null,"Control Groups","10/01/15 - 12/31/15","01/01/16 - 03/31/16","04/01/16 - 06/30/16","07/01/16 - 09/30/16","10/01/16 - 12/31/16","01/01/17 - 03/31/17","04/01/17 - 06/30/17","07/01/17- 09/30/17","Reason Code","Current Actions to Improve",null,2,"March 2017",null,null,null,"Charlotte",null,5]
[{"$f":"LEFT(B11,3)&\" \"&RIGHT(B11,6)","v":"CGE CQ1-17"},"CGE\nCQ1-17","RPE 12/31/15","Qtr 1","Qtr 2","Qtr 3","Qtr 4","Qtr 5",null,null,null,null,null,"Internal",3,"June 2017",null,null,null,"Citrus",{"$f":"D6&\" \"&D8","v":"Brevard Circuit Criminal"},0.15]
[null,null,"C = Cumulative Collections",{"$f":"LOOKUP($U$11&\" \"&$A11,Lookup!$X$2:$X$5361,Lookup!$I$2:$I$5361)","v":36680.57},{"$f":"LOOKUP($U$11&\" \"&$A11,Lookup!$X$2:$X$5361,Lookup!$J$2:$J$5361)","v":55980.75},{"$f":"LOOKUP($U$11&\" \"&$A11,Lookup!$X$2:$X$5361,Lookup!$K$2:$K$5361)","v":71177.7},{"$f":"LOOKUP($U$11&\" \"&$A11,Lookup!$X$2:$X$5361,Lookup!$L$2:$L$5361)","v":88245.27},106337.66,null,null,null,null,null,"External",4,"September 2017",null,null,null,"Clay",{"$f":"IF(P13=TRUE,A11,\"\")","v":"CGE CQ1-17"}]
[null,null,"A = Amount Assessed - Adjusted",{"$f":"LOOKUP($U$11&\" \"&$A11,Lookup!$X$2:$X$5361,Lookup!$D$2:$D$5361)","v":772338.08},{"$f":"LOOKUP($U$11&\" \"&$A11,Lookup!$X$2:$X$5361,Lookup!$E$2:$E$5361)","v":751439.58},{"$f":"LOOKUP($U$11&\" \"&$A11,Lookup!$X$2:$X$5361,Lookup!$F$2:$F$5361)","v":749783.08},{"$f":"LOOKUP($U$11&\" \"&$A11,Lookup!$X$2:$X$5361,Lookup!$G$2:$G$5361)","v":748893.58},748120.08,null,null,null,null,null,null,5,{"$f":"OR(AND(E12<D12,E12>0),AND(F12<E12,F12>0),AND(G12<F12,G12>0),AND(H12<G12,H12>0),AND(F13>E13,E13>0),AND(G13>F13,F13>0),AND(H13<G13,G13>0))","v":true},null,null,null,"Collier",{"$f":"IF(P14=TRUE,A15,\"\")","v":"CGE CQ2-17"}]
[null,null,"CR = Collection Rate ",{"$f":"IF(ISBLANK(D12),\"N/A\",IF(OR(D12=0,D12=\"N/A\"),0,D12/D13))","v":4.7492893267673662E-2},{"$f":"IF(ISBLANK(E12),\"N/A\",IF(OR(E12=0,E12=\"N/A\"),0,E12/E13))","v":7.4498005548230509E-2},{"$f":"IF(ISBLANK(F12),\"N/A\",IF(OR(F12=0,F12=\"N/A\"),0,F12/F13))","v":9.4931056593061558E-2},{"$f":"IF(ISBLANK(G12),\"N/A\",IF(OR(G12=0,G12=\"N/A\"),0,G12/G13))","v":0.11783419214249374},{"$f":"IF(ISBLANK(H12),\"N/A\",IF(AND(H12=0,H13=0,NOT(ISBLANK(H12)),NOT(ISBLANK(H13))),1,H12/H13))","v":0.14213982867563188},null,null,null,null,null,null,6,{"$f":"OR(AND(F16<E16,F16>0),AND(G16<F16,G16>0),AND(H16<G16,H16>0),AND(I16<H16,I16>0),AND(G17>F17, F17>0),AND(H17>G17, G17>0),AND(I17<H17,I17>0))","v":true},null,null,null,"Columbia",{"$f":"IF(P15=TRUE,A19,\"\")","v":""}]
[{"$f":"LEFT(B15,3)&\" \"&RIGHT(B15,6)","v":"CGE CQ2-17"},"CGE \nCQ2-17","RPE 03/31/16",null,"Qtr 1","Qtr 2","Qtr 3","Qtr 4","Qtr 5",null,null,null,null,null,7,{"$f":"OR(AND(G20<F20,D10>0),AND(H20<G20,H20>0),AND(I20<H20,I20>0),AND(J20<I20,J20>0),AND(H21>G21, G21>0),AND(I21>H21, H21>0),AND(J21<I21, J21>0))","v":false},null,null,null,"Dade",{"$f":"IF(P16=TRUE,A23,\"\")","v":""}]
[null,null,"C = Cumulative Collections",null,{"$f":"LOOKUP($U$11&\" \"&$A15,Lookup!$X$2:$X$5361,Lookup!$I$2:$I$5361)","v":37669.129999999997},{"$f":"LOOKUP($U$11&\" \"&$A15,Lookup!$X$2:$X$5361,Lookup!$J$2:$J$5361)","v":54437.51},{"$f":"LOOKUP($U$11&\" \"&$A15,Lookup!$X$2:$X$5361,Lookup!$K$2:$K$5361)","v":66437.61},81081.45,106141.6,null,null,null,null,null,8,{"$f":"OR(AND(H24<G24, H24>0),AND(I24<H24, I24>0),AND(J24<I24, J24>0),AND(K24<J24, K24>0),AND(I25>H25, H25>0),AND(J25>I25, I25>0),AND(K25<J25, J25>0))","v":false},null,null,null,"Desoto",{"$f":"IF(P17=TRUE,A27,\"\")","v":""}]
[null,null,"A = Amount Assessed - Adjusted",null,{"$f":"LOOKUP($U$11&\" \"&$A15,Lookup!$X$2:$X$5361,Lookup!$D$2:$D$5361)","v":757886.04},{"$f":"LOOKUP($U$11&\" \"&$A15,Lookup!$X$2:$X$5361,Lookup!$E$2:$E$5361)","v":753292.04},{"$f":"LOOKUP($U$11&\" \"&$A15,Lookup!$X$2:$X$5361,Lookup!$F$2:$F$5361)","v":752302.54},750997.04,749353.04,null,null,null,null,null,9,{"$f":"OR(AND(I28<H28, I28>0),AND(J28<I28, J28>0),AND(K28<J28, K28>0),AND(J29>I29, I29>0),AND(K29>J29, J29>0))","v":false},null,null,null,"Dixie",{"$f":"IF(P18=TRUE,A31,\"\")","v":""}]
[null,null,"CR = Collection Rate",null,{"$f":"IF(ISBLANK(E16),\"N/A\",IF(OR(E16=0,E16=\"N/A\"),0,E16/E17))","v":4.9702894646271617E-2},{"$f":"IF(ISBLANK(F16),\"N/A\",IF(OR(F16=0,F16=\"N/A\"),0,F16/F17))","v":7.2266142623782406E-2},{"$f":"IF(ISBLANK(G16),\"N/A\",IF(OR(G16=0,G16=\"N/A\"),0,G16/G17))","v":8.8312356355994756E-2},{"$f":"IF(ISBLANK(H16),\"N/A\",IF(AND(H16=0,H17=0,NOT(ISBLANK(H16)),NOT(ISBLANK(H17))),1,H16/H17))","v":0.10796507267192423},{"$f":"IF(ISBLANK(I16),\"N/A\",IF(AND(I16=0,I17=0,NOT(ISBLANK(I16)),NOT(ISBLANK(I17))),1,I16/I17))","v":0.14164431761029489},null,null,null,null,null,null,{"$f":"OR(AND(J32<I32, J32>0),AND(K32<J32, K32>0),AND(K33>J33, J33>0))","v":false},null,null,null,"Duval",{"$f":"IF(P19=TRUE,A35,\"\")","v":""}]
[{"$f":"LEFT(B19,3)&\" \"&RIGHT(B19,6)","v":"CGE CQ3-17"},"CGE\nCQ3-17","RPE 06/30/16",null,null,"Qtr 1","Qtr 2","Qtr 3","Qtr 4","Qtr 5",null,null,null,null,null,{"$f":"OR(K36<J36)","v":false},null,null,null,"Escambia",{"$f":"U12&\" \"&U13&\" \"&U14&\" \"&U15&\" \"&U16&\" \"&U17&\" \"&U18","v":"CGE CQ1-17 CGE CQ2-17     "}]
[null,null,"C = Cumulative Collections",null,null,{"$f":"LOOKUP($U$11&\" \"&$A19,Lookup!$X$2:$X$5361,Lookup!$I$2:$I$5361)","v":40489.47},{"$f":"LOOKUP($U$11&\" \"&$A19,Lookup!$X$2:$X$5361,Lookup!$J$2:$J$5361)","v":55557.77},70346.13,94331.09,null,null,null,null,null,null,{"$f":"COUNTIF(P13:P19,\"TRUE\")","v":2},null,null,null,"Flagler"]
[null,null,"A = Amount Assessed - Adjusted",null,null,{"$f":"LOOKUP($U$11&\" \"&$A19,Lookup!$X$2:$X$5361,Lookup!$D$2:$D$5361)","v":1281107.55},{"$f":"LOOKUP($U$11&\" \"&$A19,Lookup!$X$2:$X$5361,Lookup!$E$2:$E$5361)","v":1276093.55},1274836.55,1274344.55,null,null,null,null,null,null,null,null,null,null,"Franklin"]
[null,null,"CR = Collection Rate",null,null,{"$f":"IF(ISBLANK(F20),\"N/A\",IF(OR(F20=0,F20=\"N/A\"),0,F20/F21))","v":3.160505142601025E-2},{"$f":"IF(ISBLANK(G20),\"N/A\",IF(OR(G20=0,G20=\"N/A\"),0,G20/G21))","v":4.3537380155240182E-2},{"$f":"IF(ISBLANK(H20),\"N/A\",IF(AND(H20=0,H21=0,NOT(ISBLANK(H20)),NOT(ISBLANK(H21))),1,H20/H21))","v":5.5180509219005372E-2},{"$f":"IF(ISBLANK(I20),\"N/A\",IF(AND(I20=0,I21=0,NOT(ISBLANK(I20)),NOT(ISBLANK(I21))),1,I20/I21))","v":7.4023222369491826E-2},{"$f":"IF(ISBLANK(J20),\"N/A\",IF(AND(J20=0,J21=0,NOT(ISBLANK(J20)),NOT(ISBLANK(J21))),1,J20/J21))","v":"N/A"},null,null,null,null,"Q1","Q2",null,null,null,"Gadsden"]
[{"$f":"LEFT(B23,3)&\" \"&RIGHT(B23,6)","v":"CGE CQ4-17"},"CGE\nCQ4-17","RPE 09/30/16",null,null,null,"Qtr 1","Qtr 2","Qtr 3","Qtr 4","Qtr 5",null,null,null,true,false,{"$f":"IF(AND(OR(ISBLANK(H12),ISBLANK(H13)),O23=FALSE),\"Red\",\"Gray\")","v":"Gray"},{"$f":"IF(AND(OR(ISBLANK(I16),ISBLANK(I17)),P23=FALSE),\"Red\",\"Gray\")","v":"Gray"},{"$f":"IF(AND(D4=1,S36=1),A11,IF(AND(D4=2,S36=1),A15,IF(AND(D4=3,S36=1),A19,IF(AND(D4=4,S36=1),A23,\"\"))))","v":""},"Gilchrist"]
[null,null,"C = Cumulative Collections",null,null,null,{"$f":"LOOKUP($U$11&\" \"&$A23,Lookup!$X$2:$X$5361,Lookup!$I$2:$I$5361)","v":41407.199999999997},54627.49,70274.36,null,null,null,null,null,false,false,{"$f":"IF(AND(OR(ISBLANK(H16),ISBLANK(H17)),O24=FALSE),\"Red\",\"Gray\")","v":"Gray"},{"$f":"IF(AND(OR(ISBLANK(I20),ISBLANK(I21)),P24=FALSE),\"Red\",\"Gray\")","v":"Gray"},{"$f":"IF(AND(D4=1,S37=1),A15,IF(AND(D4=2,S37=1),A19,IF(AND(D4=3,S37=1),A23,IF(AND(D4=4,S37=1),A27,\"\"))))","v":""},"Glades"]
[null,null,"A = Amount Assessed - Adjusted",null,null,null,{"$f":"LOOKUP($U$11&\" \"&$A23,Lookup!$X$2:$X$5361,Lookup!$D$2:$D$5361)","v":1008113.74},1003339.74,1002063.24,null,null,null,null,null,false,false,{"$f":"IF(AND(OR(ISBLANK(H20),ISBLANK(H21)),O25=FALSE),\"Red\",\"Gray\")","v":"Gray"},{"$f":"IF(AND(OR(ISBLANK(I24),ISBLANK(I25)),P25=FALSE),\"Red\",\"Gray\")","v":"Gray"},{"$f":"IF(AND(D4=1,S38=1),A19,IF(AND(D4=2,S38=1),A23,IF(AND(D4=3,S38=1),A27,IF(AND(D4=4,S38=1),A31,\"\"))))","v":""},"Gulf"]
[null,null,"CR = Collection Rate",null,null,null,{"$f":"IF(ISBLANK(G24),\"N/A\",IF(OR(G24=0,G24=\"N/A\"),0,G24/G25))","v":4.1073936756382268E-2},{"$f":"IF(ISBLANK(H24),\"N/A\",IF(AND(H24=0,H25=0,NOT(ISBLANK(H24)),NOT(ISBLANK(H25))),1,H24/H25))","v":5.444565566594621E-2},{"$f":"IF(ISBLANK(I24),\"N/A\",IF(AND(I24=0,I25=0,NOT(ISBLANK(I24)),NOT(ISBLANK(I25))),1,I24/I25))","v":7.0129665668605901E-2},{"$f":"IF(ISBLANK(J24),\"N/A\",IF(AND(J24=0,J25=0,NOT(ISBLANK(J24)),NOT(ISBLANK(J25))),1,J24/J25))","v":"N/A"},{"$f":"IF(ISBLANK(K24),\"N/A\",IF(AND(K24=0,K25=0,NOT(ISBLANK(K24)),NOT(ISBLANK(K25))),1,K24/K25))","v":"N/A"},null,null,null,false,false,{"$f":"IF(AND(OR(ISBLANK(H24),ISBLANK(H25)),O26=FALSE),\"Red\",\"Gray\")","v":"Gray"},{"$f":"IF(AND(OR(ISBLANK(I28),ISBLANK(I29)),P26=FALSE),\"Red\",\"Gray\")","v":"Gray"},{"$f":"IF(AND(D4=1,S39=1),A23,IF(AND(D4=2,S39=1),A27,IF(AND(D4=3,S39=1),A31,IF(AND(D4=4,S39=1),A35,\"\"))))","v":""},"Hamilton"]
[{"$f":"LEFT(B27,3)&\" \"&RIGHT(B27,6)","v":"CGE CQ1-18"},"CGE\nCQ1-18","RPE 12/31/16",null,null,null,null,"Qtr 1","Qtr 2","Qtr 3","Qtr 4",null,null,null,false,false,{"$f":"IF(AND(OR(ISBLANK(H28),ISBLANK(H29)),O27=FALSE),\"Red\",\"Gray\")","v":"Gray"},{"$f":"IF(AND(OR(ISBLANK(I32),ISBLANK(I33)),P27=FALSE),\"Red\",\"Gray\")","v":"Gray"},{"$f":"IF(AND(D4=1,S40=1),A27,IF(AND(D4=2,S40=1),A31,IF(AND(D4=3,S40=1),A35,IF(AND(D4=4,S40=1),A39,\"\"))))","v":""},"Hardee"]
[null,null,"C = Cumulative Collections",null,null,null,null,38570.839999999997,56906.9,null,null,null,null,null,null,null,null,null,null,"Hendry"]
[null,null,"A = Amount Assessed - Adjusted",null,null,null,null,950675.9,945295.9,null,null,null,null,null,"Q3","Q4",null,null,null,"Hernando"]
[null,null,"CR = Collection Rate",null,null,null,null,{"$f":"IF(ISBLANK(H28),\"N/A\",IF(AND(H28=0,H29=0,NOT(ISBLANK(H28)),NOT(ISBLANK(H29))),1,H28/H29))","v":4.0572018287199661E-2},{"$f":"IF(ISBLANK(I28),\"N/A\",IF(AND(I28=0,I29=0,NOT(ISBLANK(I28)),NOT(ISBLANK(I29))),1,I28/I29))","v":6.0200091844257446E-2},{"$f":"IF(ISBLANK(J28),\"N/A\",IF(AND(J28=0,J29=0,NOT(ISBLANK(J28)),NOT(ISBLANK(J29))),1,J28/J29))","v":"N/A"},{"$f":"IF(ISBLANK(K28),\"N/A\",IF(AND(K28=0,K29=0,NOT(ISBLANK(K28)),NOT(ISBLANK(K29))),1,K28/K29))","v":"N/A"},"Additional Notes Related to Collection Issues",null,null,false,false,{"$f":"IF(AND(OR(ISBLANK(J20),ISBLANK(J21)),O30=FALSE),\"Red\",\"Gray\")","v":"Red"},{"$f":"IF(AND(OR(ISBLANK(K24),ISBLANK(K25)),P30=FALSE),\"Red\",\"Gray\")","v":"Red"},null,"Highlands"]
[{"$f":"LEFT(B31,3)&\" \"&RIGHT(B31,6)","v":"CGE CQ2-18"},"CGE\nCQ2-18","RPE 03/31/17",null,null,null,null,null,"Qtr 1","Qtr 2","Qtr 3","10/01/16 - 12/31/16: ",null,null,false,false,{"$f":"IF(AND(OR(ISBLANK(J24),ISBLANK(J25)),O31=FALSE),\"Red\",\"Gray\")","v":"Red"},{"$f":"IF(AND(OR(ISBLANK(K28),ISBLANK(K29)),P31=FALSE),\"Red\",\"Gray\")","v":"Red"},null,"Hillsborough"]
[null,null,"C = Cumulative Collections",null,null,null,null,null,49124.22,null,null,null,null,null,false,false,{"$f":"IF(AND(OR(ISBLANK(J28),ISBLANK(J29)),O32=FALSE),\"Red\",\"Gray\")","v":"Red"},{"$f":"IF(AND(OR(ISBLANK(K32),ISBLANK(K33)),P32=FALSE),\"Red\",\"Gray\")","v":"Red"},null,"Holmes"]
[null,null,"A = Amount Assessed - Adjusted",null,null,null,null,null,1621447.1,null,null,null,null,null,false,false,{"$f":"IF(AND(OR(ISBLANK(J32),ISBLANK(J33)),O33=FALSE),\"Red\",\"Gray\")","v":"Red"},{"$f":"IF(AND(OR(ISBLANK(K36),ISBLANK(K37)),P33=FALSE),\"Red\",\"Gray\")","v":"Red"},null,"Indian River"]
[null,null,"CR = Collection Rate",null,null,null,null,null,{"$f":"IF(ISBLANK(I32),\"N/A\",IF(AND(I32=0,I33=0,NOT(ISBLANK(I32)),NOT(ISBLANK(I33))),1,I32/I33))","v":3.0296529563005787E-2},{"$f":"IF(ISBLANK(J32),\"N/A\",IF(AND(J32=0,J33=0,NOT(ISBLANK(J32)),NOT(ISBLANK(J33))),1,J32/J33))","v":"N/A"},{"$f":"IF(ISBLANK(K32),\"N/A\",IF(AND(K32=0,K33=0,NOT(ISBLANK(K32)),NOT(ISBLANK(K33))),1,K32/K33))","v":"N/A"},"01/01/17 - 03/31/17: ",null,null,false,false,{"$f":"IF(AND(OR(ISBLANK(J36),ISBLANK(J37)),O34=FALSE),\"Red\",\"Gray\")","v":"Red"},{"$f":"IF(AND(OR(ISBLANK(K40),ISBLANK(K41)),P34=FALSE),\"Red\",\"Gray\")","v":"Red"},null,"Jackson"]
[{"$f":"LEFT(B35,3)&\" \"&RIGHT(B35,6)","v":"CGE CQ3-18"},"CGE\nCQ3-18","RPE 06/30/17",null,null,null,null,null,null,"Qtr 1","Qtr 2",null,null,null,null,null,null,null,null,"Jefferson"]
[null,null,"C = Cumulative Collections",null,null,null,null,null,null,null,null,null,null,null,{"$f":"IF(AND($D$4=1,Q23=\"Red\"),\"Red\",\"Gray\")","v":"Gray"},{"$f":"IF(AND($D$4=2,R23=\"Red\"),\"Red\",\"Gray\")","v":"Gray"},{"$f":"IF(AND($D$4=3,Q30=\"Red\"),\"Red\",\"Gray\")","v":"Gray"},{"$f":"IF(AND($D$4=4,R30=\"Red\"),\"Red\",\"Gray\")","v":"Gray"},{"$f":"COUNTIF(O36:R36,\"Red\")","v":0},"Lafayette"]
[null,null,"A = Amount Assessed - Adjusted",null,null,null,null,null,null,null,null,"04/01/17 - 06/30/17: ",null,null,{"$f":"IF(AND($D$4=1,Q24=\"Red\"),\"Red\",\"Gray\")","v":"Gray"},{"$f":"IF(AND($D$4=2,R24=\"Red\"),\"Red\",\"Gray\")","v":"Gray"},{"$f":"IF(AND($D$4=3,Q31=\"Red\"),\"Red\",\"Gray\")","v":"Gray"},{"$f":"IF(AND($D$4=4,R31=\"Red\"),\"Red\",\"Gray\")","v":"Gray"},{"$f":"COUNTIF(O37:R37,\"Red\")","v":0},"Lake"]
[null,null,"CR = Collection Rate",null,null,null,null,null,null,{"$f":"IF(ISBLANK(J36),\"N/A\",IF(AND(J36=0,J37=0,NOT(ISBLANK(J36)),NOT(ISBLANK(J37))),1,J36/J37))","v":"N/A"},{"$f":"IF(ISBLANK(K36),\"N/A\",IF(AND(K36=0,K37=0,NOT(ISBLANK(K36)),NOT(ISBLANK(K37))),1,K36/K37))","v":"N/A"},null,null,null,{"$f":"IF(AND($D$4=1,Q25=\"Red\"),\"Red\",\"Gray\")","v":"Gray"},{"$f":"IF(AND($D$4=2,R25=\"Red\"),\"Red\",\"Gray\")","v":"Gray"},{"$f":"IF(AND($D$4=3,Q32=\"Red\"),\"Red\",\"Gray\")","v":"Gray"},{"$f":"IF(AND($D$4=4,R32=\"Red\"),\"Red\",\"Gray\")","v":"Gray"},{"$f":"COUNTIF(O38:R38,\"Red\")","v":0},"Lee"]
[{"$f":"LEFT(B39,3)&\" \"&RIGHT(B39,6)","v":"CGE CQ4-18"},"CGE\nCQ4-18","RPE 09/30/17",null,null,null,null,null,null,null,"Qtr 1",null,null,null,{"$f":"IF(AND($D$4=1,Q26=\"Red\"),\"Red\",\"Gray\")","v":"Gray"},{"$f":"IF(AND($D$4=2,R26=\"Red\"),\"Red\",\"Gray\")","v":"Gray"},{"$f":"IF(AND($D$4=3,Q33=\"Red\"),\"Red\",\"Gray\")","v":"Gray"},{"$f":"IF(AND($D$4=4,R33=\"Red\"),\"Red\",\"Gray\")","v":"Gray"},{"$f":"COUNTIF(O39:R39,\"Red\")","v":0},"Leon"]
[null,null,"C = Cumulative Collections",null,null,null,null,null,null,null,null,"07/01/17- 09/30/17: ",null,null,{"$f":"IF(AND($D$4=1,Q27=\"Red\"),\"Red\",\"Gray\")","v":"Gray"},{"$f":"IF(AND($D$4=2,R27=\"Red\"),\"Red\",\"Gray\")","v":"Gray"},{"$f":"IF(AND($D$4=3,Q34=\"Red\"),\"Red\",\"Gray\")","v":"Gray"},{"$f":"IF(AND($D$4=4,R34=\"Red\"),\"Red\",\"Gray\")","v":"Gray"},{"$f":"COUNTIF(O40:R40,\"Red\")","v":0},"Levy"]
[null,null,"A = Amount Assessed - Adjusted",null,null,null,null,null,null,null,null,null,null,null,{"$f":"COUNTIF(O36:O40,\"Red\")","v":0},{"$f":"COUNTIF(P36:P40,\"Red\")","v":0},{"$f":"COUNTIF(Q36:Q40,\"Red\")","v":0},{"$f":"COUNTIF(R36:R40,\"Red\")","v":0},null,"Liberty"]
[null,null,"CR = Collection Rate",null,null,null,null,null,null,null,{"$f":"IF(ISBLANK(K40),\"N/A\",IF(OR(K40=0,K40=\"N/A\"),0,K40/K41))","v":"N/A"},null,null,null,{"$f":"SUM(O41:R41)","v":0},null,null,null,null,"Madison"]
[null,null,"Business Rules","Purpose of Report:  The CCOC Collection Rate Performance Measure report\ntracks dollars in the quarter they are assessed and then how well those\nassessed dollars have been collected over the next five quarters.  ",null,null,null,"Adjustments to Assessments: The amount assessed in a given assessment control group should be adjusted in the reporting period when assessments are later adjusted by the Court or other provisions of law.  ",null,null,null,null,null,null,null,null,null,null,null,"Manatee"]
[null,null,"NOTES:","The following conditions will alert when performance standards are not met and/or established business rules within the control group are not followed.",null,null,null,null,null,null,null,null,null,null,null,null,null,null,null,"Marion"]
[null,null,null,"1.) Action Plan: If the 5th quarter Collection Rate is below Standard (red numbers on rose background), select a \"Reason Code\" and write a brief statement in \"Current Action to Improve\" in the green area ONLY. ",null,null,null,null,null,null,null,null,null,null,null,null,null,null,null,"Martin"]
[null,null,null,"2.) Additional Notes Related to Collection Issues: Include a brief explaination when either of the following conditions not consistant with the Collection Report Business Rules. ",null,null,null,null,null,null,null,null,null,null,null,null,null,null,null,"Monroe"]
[null,null,null,null,"a.) Cumulative Collection amount has Decreased from the previous quarter in the same Control Group (font color for amount will change to RED)",null,null,null,null,null,null,null,null,null,null,null,null,null,null,"Nassau"]
[null,null,null,null,"b.) The Amount Assessed - Adjusted has Increased from the previous quarter in the same Control Group (font color for amount will change to RED)",null,null,null,null,null,null,null,null,null,null,null,null,null,null,"Okaloosa"]
[null,null,null,"3.) To see Circuit Criminal Collection Rate LESS Drug Trafficking assessment and collection dollars, please see Drug Trafficking tab/page.",null,null,null,null,null,null,null,null,null,null,null,null,null,null,null,"Okeechobee"]
[null,null,null,null,null,null,null,null,null,null,null,null,null,null,null,null,null,null,null,"Orange"]
[null,0,null,"Issue",null,"Calc 1 Needed","Calc 2 Needed","Calc 3 Needed","Calc 4 Needed","Standard",null,null,null,null,null,null,null,null,null,"Osceola"]
[{"$f":"D$8","v":"Circuit Criminal"},{"$f":"IF(E52=\"YES\",MAX(B51)+1,0)","v":0},{"$f":"A$11","v":"CGE CQ1-17"},{"$f":"\"After 3rd Q, Collections went up by more than set percentage of: \"&TEXT(J52,\"#0%\")","v":"After 3rd Q, Collections went up by more than set percentage of: 500%"},{"$f":"IF(MAX(F52:G52)>V$10,\"YES\",\"NO\")","v":"NO"},{"$f":"IFERROR(IF(NOT(ISBLANK(G12)),(G12-F12)/F12,0),0)","v":0.23978816398956426},{"$f":"IFERROR(IF(NOT(ISBLANK(H12)),(H12-G12)/G12,0),0)","v":0.20502390666377923},null,null,{"$f":"V$10","v":5},null,null,null,null,null,null,null,null,null,"Palm Beach"]
["Circuit Criminal",{"$f":"IF(E53=\"YES\",MAX(B$51:B52)+1,0)","v":0},{"$f":"A$11","v":"CGE CQ1-17"},{"$f":"\"Assessments dropped by more than set percentage of: \"&TEXT(J53,\"#0%\")","v":"Assessments dropped by more than set percentage of: 15%"},{"$f":"IF(MIN(F53:I53)<(-1*V$11),\"YES\",\"NO\")","v":"NO"},{"$f":"IFERROR(IF(NOT(ISBLANK(E13)),(E13-D13)/D13,0),0)","v":-2.7058746086946795E-2},{"$f":"IFERROR(IF(NOT(ISBLANK(F13)),(F13-E13)/E13,0),0)","v":-2.2044353852108778E-3},{"$f":"IFERROR(IF(NOT(ISBLANK(G13)),(G13-F13)/F13,0),0)","v":-1.1863431220667184E-3},{"$f":"IFERROR(IF(NOT(ISBLANK(H13)),(H13-G13)/G13,0),0)","v":-1.0328570315691584E-3},{"$f":"V$11","v":0.15},null,null,null,null,null,null,null,null,null,"Pasco"]
["Circuit Criminal",{"$f":"IF(E54=\"YES\",MAX(B$51:B53)+1,0)","v":0},{"$f":"A$11","v":"CGE CQ1-17"},{"$f":"\"The 5th Quarter Collection Rate did not meet the established performance measure standard of: \"&TEXT(J54,\"#0%\")","v":"The 5th Quarter Collection Rate did not meet the established performance measure standard of: 9%"},{"$f":"IF(F54=\"N/A\",\"NO\",IF(F54<H$8,\"YES\",\"NO\"))","v":"NO"},{"$f":"H14","v":0.14213982867563188},null,null,null,{"$f":"H$8","v":0.09},null,null,null,null,null,null,null,null,null,"Pinellas"]
["Circuit Criminal",{"$f":"IF(E55=\"YES\",MAX(B$51:B54)+1,0)","v":0},{"$f":"A$11","v":"CGE CQ1-17"},"Collections amount decreased from prior quarter",{"$f":"IF(MIN(F55:I55)<0,\"YES\",\"NO\")","v":"NO"},{"$f":"IFERROR(IF(NOT(ISBLANK(E12)),(E12-D12)/D12,0),0)","v":0.5261690317244252},0.27146742406988111,0.23978816398956426,0.20502390666377923,null,null,null,null,null,null,null,null,null,null,"Polk"]
["Circuit Criminal",{"$f":"IF(E56=\"YES\",MAX(B$51:B55)+1,0)","v":0},{"$f":"A$11","v":"CGE CQ1-17"},"Assessment amount increased from prior quarter",{"$f":"IF(MAX(F56:I56)>0,\"YES\",\"NO\")","v":"NO"},-2.7058746086946795E-2,-2.2044353852108778E-3,-1.1863431220667184E-3,-1.0328570315691584E-3,null,null,null,null,null,null,null,null,null,null,"Putnam"]
["Circuit Criminal",{"$f":"IF(E57=\"YES\",MAX(B$51:B56)+1,0)","v":0},{"$f":"A$15","v":"CGE CQ2-17"},{"$f":"\"After 3rd Q, Collections went up by more than set percentage of: \"&TEXT(J57,\"#0%\")","v":"After 3rd Q, Collections went up by more than set percentage of: 500%"},{"$f":"IF(MAX(F57:G57)>V$10,\"YES\",\"NO\")","v":"NO"},{"$f":"IFERROR(IF(NOT(ISBLANK(H16)),(H16-G16)/G16,0),0)","v":0.22041491257737894},{"$f":"IFERROR(IF(NOT(ISBLANK(I16)),(I16-H16)/H16,0),0)","v":0.30907377704764788},null,null,{"$f":"V$10","v":5},null,null,null,null,null,null,null,null,null,"Santa Rosa"]
["Circuit Criminal",{"$f":"IF(E58=\"YES\",MAX(B$51:B57)+1,0)","v":0},{"$f":"A$15","v":"CGE CQ2-17"},{"$f":"\"Assessments dropped by more than set percentage of: \"&TEXT(J58,\"#0%\")","v":"Assessments dropped by more than set percentage of: 15%"},{"$f":"IF(MIN(F58:I58)<(-1*V$11),\"YES\",\"NO\")","v":"NO"},{"$f":"IFERROR(IF(NOT(ISBLANK(F17)),(F17-E17)/E17,0),0)","v":-6.0615973346071919E-3},{"$f":"IFERROR(IF(NOT(ISBLANK(G17)),(G17-F17)/F17,0),0)","v":-1.3135675773236631E-3},{"$f":"IFERROR(IF(NOT(ISBLANK(H17)),(H17-G17)/G17,0),0)","v":-1.7353390831300395E-3},{"$f":"IFERROR(IF(NOT(ISBLANK(I17)),(I17-H17)/H17,0),0)","v":-2.1890898531371043E-3},{"$f":"V$11","v":0.15},null,null,null,null,null,null,null,null,null,"Sarasota"]
["Circuit Criminal",{"$f":"IF(E59=\"YES\",MAX(B$51:B58)+1,0)","v":0},{"$f":"A$15","v":"CGE CQ2-17"},"Collections amount decreased from prior quarter",{"$f":"IF(MIN(F59:I59)<0,\"YES\",\"NO\")","v":"NO"},{"$f":"IFERROR(IF(NOT(ISBLANK(F16)),(F16-E16)/E16,0),0)","v":0.44514911812404495},0.22043807661298245,0.22041491257737894,0.30907377704764788,null,null,null,null,null,null,null,null,null,null,"Seminole"]
["Circuit Criminal",{"$f":"IF(E60=\"YES\",MAX(B$51:B59)+1,0)","v":0},{"$f":"A$15","v":"CGE CQ2-17"},"Assessment amount increased from prior quarter",{"$f":"IF(MAX(F60:I60)>0,\"YES\",\"NO\")","v":"NO"},-6.0615973346071919E-3,-1.3135675773236631E-3,-1.7353390831300395E-3,-2.1890898531371043E-3,null,null,null,null,null,null,null,null,null,null,"St. Johns"]
["Circuit Criminal",{"$f":"IF(E61=\"YES\",MAX(B$51:B60)+1,0)","v":0},{"$f":"A$15","v":"CGE CQ2-17"},{"$f":"\"The 5th Quarter Collection Rate did not meet the established performance measure standard of: \"&TEXT(J61,\"#0%\")","v":"The 5th Quarter Collection Rate did not meet the established performance measure standard of: 9%"},{"$f":"IF(F61=\"N/A\",\"NO\",IF(F61<H$8,\"YES\",\"NO\"))","v":"NO"},{"$f":"I18","v":0.14164431761029489},null,null,null,{"$f":"H$8","v":0.09},null,null,null,null,null,null,null,null,null,"St. Lucie"]
["Circuit Criminal",{"$f":"IF(E62=\"YES\",MAX(B$51:B61)+1,0)","v":0},{"$f":"A$19","v":"CGE CQ3-17"},{"$f":"\"After 3rd Q, Collections went up by more than set percentage of: \"&TEXT(J62,\"#0%\")","v":"After 3rd Q, Collections went up by more than set percentage of: 500%"},{"$f":"IF(MAX(F62:G62)>V$10,\"YES\",\"NO\")","v":"NO"},{"$f":"IFERROR(IF(NOT(ISBLANK(I20)),(I20-H20)/H20,0),0)","v":0.34095635396005425},{"$f":"IFERROR(IF(NOT(ISBLANK(J20)),(J20-I20)/I20,0),0)","v":0},null,null,{"$f":"V$10","v":5},null,null,null,null,null,null,null,null,null,"Sumter"]
["Circuit Criminal",{"$f":"IF(E63=\"YES\",MAX(B$51:B62)+1,0)","v":0},{"$f":"A$19","v":"CGE CQ3-17"},{"$f":"\"Assessments dropped by more than set percentage of: \"&TEXT(J63,\"#0%\")","v":"Assessments dropped by more than set percentage of: 15%"},{"$f":"IF(MIN(F63:I63)<(-1*V$11),\"YES\",\"NO\")","v":"NO"},{"$f":"IFERROR(IF(NOT(ISBLANK(G21)),(G21-F21)/F21,0),0)","v":-3.9138009919619937E-3},{"$f":"IFERROR(IF(NOT(ISBLANK(H21)),(H21-G21)/G21,0),0)","v":-9.8503749979772254E-4},{"$f":"IFERROR(IF(NOT(ISBLANK(I21)),(I21-H21)/H21,0),0)","v":-3.8593182788805358E-4},{"$f":"IFERROR(IF(NOT(ISBLANK(J21)),(J21-I21)/I21,0),0)","v":0},{"$f":"V$11","v":0.15},null,null,null,null,null,null,null,null,null,"Suwannee"]
["Circuit Criminal",{"$f":"IF(E64=\"YES\",MAX(B$51:B63)+1,0)","v":0},{"$f":"A$19","v":"CGE CQ3-17"},"Collections amount decreased from prior quarter",{"$f":"IF(MIN(F64:I64)<0,\"YES\",\"NO\")","v":"NO"},{"$f":"IFERROR(IF(NOT(ISBLANK(G20)),(G20-F20)/F20,0),0)","v":0.37215355004646877},0.26617987007037913,0.34095635396005425,0,null,null,null,null,null,null,null,null,null,null,"Taylor"]
["Circuit Criminal",{"$f":"IF(E65=\"YES\",MAX(B$51:B64)+1,0)","v":0},{"$f":"A$19","v":"CGE CQ3-17"},"Assessment amount increased from prior quarter",{"$f":"IF(MAX(F65:I65)>0,\"YES\",\"NO\")","v":"NO"},-3.9138009919619937E-3,-9.8503749979772254E-4,-3.8593182788805358E-4,0,null,null,null,null,null,null,null,null,null,null,"Union"]
["Circuit Criminal",{"$f":"IF(E66=\"YES\",MAX(B$51:B65)+1,0)","v":0},{"$f":"A$19","v":"CGE CQ3-17"},{"$f":"\"The 5th Quarter Collection Rate did not meet the established performance measure standard of: \"&TEXT(J66,\"#0%\")","v":"The 5th Quarter Collection Rate did not meet the established performance measure standard of: 9%"},{"$f":"IF(F66=\"N/A\",\"NO\",IF(F66<H$8,\"YES\",\"NO\"))","v":"NO"},{"$f":"J22","v":"N/A"},null,null,null,{"$f":"H$8","v":0.09},null,null,null,null,null,null,null,null,null,"Volusia"]
["Circuit Criminal",{"$f":"IF(E67=\"YES\",MAX(B$51:B66)+1,0)","v":0},{"$f":"A$23","v":"CGE CQ4-17"},{"$f":"\"After 3rd Q, Collections went up by more than set percentage of: \"&TEXT(J67,\"#0%\")","v":"After 3rd Q, Collections went up by more than set percentage of: 500%"},{"$f":"IF(MAX(F67:G67)>V$10,\"YES\",\"NO\")","v":"NO"},{"$f":"IFERROR(IF(NOT(ISBLANK(J24)),(J24-I24)/I24,0),0)","v":0},{"$f":"IFERROR(IF(NOT(ISBLANK(K24)),(K24-J24)/J24,0),0)","v":0},null,null,{"$f":"V$10","v":5},null,null,null,null,null,null,null,null,null,"Wakulla"]
["Circuit Criminal",{"$f":"IF(E68=\"YES\",MAX(B$51:B67)+1,0)","v":0},{"$f":"A$23","v":"CGE CQ4-17"},{"$f":"\"Assessments dropped by more than set percentage of: \"&TEXT(J68,\"#0%\")","v":"Assessments dropped by more than set percentage of: 15%"},{"$f":"IF(MIN(F68:I68)<(-1*V$11),\"YES\",\"NO\")","v":"NO"},{"$f":"IFERROR(IF(NOT(ISBLANK(H25)),(H25-G25)/G25,0),0)","v":-4.7355767614078942E-3},{"$f":"IFERROR(IF(NOT(ISBLANK(I25)),(I25-H25)/H25,0),0)","v":-1.2722510124038345E-3},{"$f":"IFERROR(IF(NOT(ISBLANK(J25)),(J25-I25)/I25,0),0)","v":0},{"$f":"IFERROR(IF(NOT(ISBLANK(K25)),(K25-J25)/J25,0),0)","v":0},{"$f":"V$11","v":0.15},null,null,null,null,null,null,null,null,null,"Walton"]
["Circuit Criminal",{"$f":"IF(E69=\"YES\",MAX(B$51:B68)+1,0)","v":0},{"$f":"A$23","v":"CGE CQ4-17"},"Collections amount decreased from prior quarter",{"$f":"IF(MIN(F69:I69)<0,\"YES\",\"NO\")","v":"NO"},{"$f":"IFERROR(IF(NOT(ISBLANK(H24)),(H24-G24)/G24,0),0)","v":0.31927515021542152},0.28642849964367761,0,0,null,null,null,null,null,null,null,null,null,null,"Washington"]
["Circuit Criminal",{"$f":"IF(E70=\"YES\",MAX(B$51:B69)+1,0)","v":0},{"$f":"A$23","v":"CGE CQ4-17"},"Assessment amount increased from prior quarter",{"$f":"IF(MAX(F70:I70)>0,\"YES\",\"NO\")","v":"NO"},-4.7355767614078942E-3,-1.2722510124038345E-3,0,0,null,null,null,null,null,null,null,null,null,null,{"$f":"COUNTA(T3:T69)","v":67}]
["Circuit Criminal",{"$f":"IF(E71=\"YES\",MAX(B$51:B70)+1,0)","v":0},{"$f":"A$23","v":"CGE CQ4-17"},{"$f":"\"The 5th Quarter Collection Rate did not meet the established performance measure standard of: \"&TEXT(J71,\"#0%\")","v":"The 5th Quarter Collection Rate did not meet the established performance measure standard of: 9%"},{"$f":"IF(F71=\"N/A\",\"NO\",IF(F71<H$8,\"YES\",\"NO\"))","v":"NO"},{"$f":"K26","v":"N/A"},null,null,null,{"$f":"H$8","v":0.09}]
["Circuit Criminal",{"$f":"IF(E72=\"YES\",MAX(B$51:B71)+1,0)","v":0},{"$f":"A$27","v":"CGE CQ1-18"},{"$f":"\"After 3rd Q, Collections went up by more than set percentage of: \"&TEXT(J72,\"#0%\")","v":"After 3rd Q, Collections went up by more than set percentage of: 500%"},{"$f":"IF(MAX(F72)>V$10,\"YES\",\"NO\")","v":"NO"},{"$f":"IFERROR(IF(NOT(ISBLANK(K28)),(K28-J28)/J28,0),0)","v":0},null,null,null,{"$f":"V$10","v":5}]
["Circuit Criminal",{"$f":"IF(E73=\"YES\",MAX(B$51:B72)+1,0)","v":0},{"$f":"A$27","v":"CGE CQ1-18"},{"$f":"\"Assessments dropped by more than set percentage of: \"&TEXT(J73,\"#0%\")","v":"Assessments dropped by more than set percentage of: 15%"},{"$f":"IF(MIN(F73:H73)<(-1*V$11),\"YES\",\"NO\")","v":"NO"},{"$f":"IFERROR(IF(NOT(ISBLANK(I29)),(I29-H29)/H29,0),0)","v":-5.6591315715482007E-3},{"$f":"IFERROR(IF(NOT(ISBLANK(J29)),(J29-I29)/I29,0),0)","v":0},{"$f":"IFERROR(IF(NOT(ISBLANK(K29)),(K29-J29)/J29,0),0)","v":0},null,{"$f":"V$11","v":0.15}]
["Circuit Criminal",{"$f":"IF(E74=\"YES\",MAX(B$51:B73)+1,0)","v":0},{"$f":"A$27","v":"CGE CQ1-18"},"Collections amount decreased from prior quarter",{"$f":"IF(MIN(F74:H74)<0,\"YES\",\"NO\")","v":"NO"},{"$f":"IFERROR(IF(NOT(ISBLANK(I28)),(I28-H28)/H28,0),0)","v":0.4753865873805187},0,0]
["Circuit Criminal",{"$f":"IF(E75=\"YES\",MAX(B$51:B74)+1,0)","v":0},{"$f":"A$27","v":"CGE CQ1-18"},"Assessment amount increased from prior quarter",{"$f":"IF(MAX(F75:H75)>0,\"YES\",\"NO\")","v":"NO"},-5.6591315715482007E-3,0,0]
["Circuit Criminal",{"$f":"IF(E76=\"YES\",MAX(B$51:B75)+1,0)","v":0},{"$f":"A$31","v":"CGE CQ2-18"},{"$f":"\"Assessments dropped by more than set percentage of: \"&TEXT(J76,\"#0%\")","v":"Assessments dropped by more than set percentage of: 15%"},{"$f":"IF(MIN(F76:G76)<(-1*V$11),\"YES\",\"NO\")","v":"NO"},{"$f":"IFERROR(IF(NOT(ISBLANK(J33)),(J33-I33)/I33,0),0)","v":0},{"$f":"IFERROR(IF(NOT(ISBLANK(K33)),(K33-J33)/J33,0),0)","v":0},null,null,{"$f":"V$11","v":0.15}]
["Circuit Criminal",{"$f":"IF(E77=\"YES\",MAX(B$51:B76)+1,0)","v":0},{"$f":"A$31","v":"CGE CQ2-18"},"Collections amount decreased from prior quarter",{"$f":"IF(MIN(F77:G77)<0,\"YES\",\"NO\")","v":"NO"},{"$f":"IFERROR(IF(NOT(ISBLANK(J32)),(J32-I32)/I32,0),0)","v":0},{"$f":"IFERROR(IF(NOT(ISBLANK(K32)),(K32-J32)/J32,0),0)","v":0}]
["Circuit Criminal",{"$f":"IF(E78=\"YES\",MAX(B$51:B77)+1,0)","v":0},{"$f":"A$31","v":"CGE CQ2-18"},"Assessment amount increased from prior quarter",{"$f":"IF(MAX(F78:G78)>0,\"YES\",\"NO\")","v":"NO"},{"$f":"IFERROR(IF(NOT(ISBLANK(J33)),(J33-I33)/I33,0),0)","v":0},{"$f":"IFERROR(IF(NOT(ISBLANK(K33)),(K33-J33)/J33,0),0)","v":0}]
["Circuit Criminal",{"$f":"IF(E79=\"YES\",MAX(B$51:B78)+1,0)","v":0},{"$f":"A$35","v":"CGE CQ3-18"},{"$f":"\"Assessments dropped by more than set percentage of: \"&TEXT(J79,\"#0%\")","v":"Assessments dropped by more than set percentage of: 15%"},{"$f":"IF(MIN(F79)<(-1*V$11),\"YES\",\"NO\")","v":"NO"},{"$f":"IFERROR(IF(NOT(ISBLANK(K37)),(K37-J37)/J37,0),0)","v":0},null,null,null,{"$f":"V$11","v":0.15}]
["Circuit Criminal",{"$f":"IF(E80=\"YES\",MAX(B$51:B79)+1,0)","v":0},{"$f":"A$35","v":"CGE CQ3-18"},"Collections amount decreased from prior quarter",{"$f":"IF(MIN(F80)<0,\"YES\",\"NO\")","v":"NO"},{"$f":"IFERROR(IF(NOT(ISBLANK(K36)),(K36-J36)/J36,0),0)","v":0}]
["Circuit Criminal",{"$f":"IF(E81=\"YES\",MAX(B$51:B80)+1,0)","v":0},{"$f":"A$35","v":"CGE CQ3-18"},"Assessment amount increased from prior quarter",{"$f":"IF(MAX(F81)>0,\"YES\",\"NO\")","v":"NO"},{"$f":"IFERROR(IF(NOT(ISBLANK(K37)),(K37-J37)/J37,0),0)","v":0}]

{"sheet":"Circ Crim Drug Trfc Cases","index":2,"n_rows":79,"n_cols":22,"rows_kept":79,"cut":false,"hidden":false,"merged":[[5,5,5,12],[10,8,13,8],[7,5,7,12],[8,5,8,12],[13,11,13,12],[14,0,17,0],[14,1,17,1],[18,0,21,0],[18,1,21,1],[5,3,5,4],[7,3,7,4],[10,0,13,0],[10,1,13,1],[38,0,41,0],[38,1,41,1],[22,0,25,0],[22,1,25,1],[24,3,25,3],[26,0,29,0],[26,1,29,1],[30,0,33,0],[30,1,33,1],[34,0,37,0],[34,1,37,1],[24,4,25,4],[24,5,25,5],[17,11,17,12],[21,11,21,12],[42,3,42,6],[42,7,42,10]]}
[]
[null,null,null,null,null,null,null,null,null,null,null,null,"County Fiscal Year 2016-2017",null,null,null,null,null,null,"CountyNames"]
[null,null,null,null,null,null,null,null,null,null,null,null,"Collections Quarterly Report Form for CCOC",null,null,null,null,null,null,"Alachua"]
[null,null,"Report for Quarter Ending: ",{"$f":"'Circuit Criminal'!$D$4","v":"March 2017"},null,null,null,null,null,null,null,null,null,null,null,null,null,null,null,"Baker"]
[null,null,"Version #: ",{"$f":"'Circuit Criminal'!$D$5","v":1},null,null,null,null,null,null,null,null,null,null,null,null,null,null,null,"Bay"]
[null,null,"County: ",{"$f":"'Circuit Criminal'!D6","v":"Brevard"},null,"Circuit Criminal Drug Trafficking Cases -- Not included in Corrective Action Plan",null,null,null,null,null,null,null,null,null,null,null,null,null,"Bradford"]
[null,null,null,null,null,null,null,null,null,null,null,null,null,null,null,null,null,null,null,"Brevard"]
[null,null,"Court/Case Type:","Circ Crim Drug Trfc Cases",null,"Note: The Collection and Amount Assessed are subsets of the entire dollars posted in the Circuit Criminal Court Division tab . ",null,null,null,null,null,null,null,null,null,null,null,null,null,"Broward"]
[null,null,null,null,null,"This break-out is in response to CCOC Executive Council direction to isolate criminal drug trafficking case collection rates and mirrors the efforts within the FCCC Collections and Assessment report. "]
[null,null,"Control Groups","10/01/15 - 12/31/15","01/01/16 - 03/31/16","04/01/16 - 06/30/16","07/01/16 - 09/30/16","10/01/16 - 12/31/16","01/01/17 - 03/31/17","04/01/17 - 06/30/17","07/01/17- 09/30/17","Circuit Criminal Less Drug Trafficking Results",null,null,2,null,null,null,null,"Charlotte",null,5]
[{"$f":"LEFT(B11,3)&\" \"&RIGHT(B11,6)","v":"CGE CQ1-17"},"CGE\nCQ1-17","RPE 12/31/15","Qtr 1","Qtr 2","Qtr 3","Qtr 4","Qtr 5",null,null,null,"Collection",{"$f":"'Circuit Criminal'!H12-'Circ Crim Drug Trfc Cases'!H12","v":106051.16},"Economy",3,null,3,null,null,"Citrus",{"$f":"D6&\" \"&D8","v":"Brevard Circ Crim Drug Trfc Cases"},0.15]
[null,null,"C = Cumulative Collections",{"$f":"LOOKUP($U$11&\" \"&$A11,Lookup!$X$2:$X$5361,Lookup!$I$2:$I$5361)","v":286.5},{"$f":"LOOKUP($U$11&\" \"&$A11,Lookup!$X$2:$X$5361,Lookup!$J$2:$J$5361)","v":286.5},{"$f":"LOOKUP($U$11&\" \"&$A11,Lookup!$X$2:$X$5361,Lookup!$K$2:$K$5361)","v":286.5},{"$f":"LOOKUP($U$11&\" \"&$A11,Lookup!$X$2:$X$5361,Lookup!$L$2:$L$5361)","v":286.5},286.5,null,null,null,"Assessment",{"$f":"'Circuit Criminal'!H13-'Circ Crim Drug Trfc Cases'!H13","v":640285.57999999996},"Incarcerations",4,null,4,null,null,"Clay",{"$f":"IF(P13=TRUE,A11,\"\")","v":""}]
[null,null,"A = Amount Assessed - Adjusted",{"$f":"LOOKUP($U$11&\" \"&$A11,Lookup!$X$2:$X$5361,Lookup!$D$2:$D$5361)","v":107684.5},{"$f":"LOOKUP($U$11&\" \"&$A11,Lookup!$X$2:$X$5361,Lookup!$E$2:$E$5361)","v":107784.5},{"$f":"LOOKUP($U$11&\" \"&$A11,Lookup!$X$2:$X$5361,Lookup!$F$2:$F$5361)","v":107784.5},{"$f":"LOOKUP($U$11&\" \"&$A11,Lookup!$X$2:$X$5361,Lookup!$G$2:$G$5361)","v":107784.5},107834.5,null,null,null,"Adj. Cir Crim Rate",{"$f":"M11/M12","v":0.16563102982890854},"Late/Non-pay/Pay Plans",5,{"$f":"OR(AND(E12<D12,E12>0),AND(F12<E12,F12>0),AND(G12<F12,G12>0),AND(H12<G12,H12>0),AND(F13>E13,E13>0),AND(G13>F13,F13>0),AND(H13<G13,G13>0))","v":false},5,null,null,"Collier",{"$f":"IF(P14=TRUE,A15,\"\")","v":"CGE CQ2-17"}]
[null,null,"CR = Collection Rate ",{"$f":"IF(ISBLANK(D12),\"N/A\",IF(OR(D12=0,D12=\"N/A\"),0,D12/D13))","v":2.6605500327345163E-3},{"$f":"IF(ISBLANK(E12),\"N/A\",IF(OR(E12=0,E12=\"N/A\"),0,E12/E13))","v":2.658081635114511E-3},{"$f":"IF(ISBLANK(F12),\"N/A\",IF(OR(F12=0,F12=\"N/A\"),0,F12/F13))","v":2.658081635114511E-3},{"$f":"IF(ISBLANK(G12),\"N/A\",IF(OR(G12=0,G12=\"N/A\"),0,G12/G13))","v":2.658081635114511E-3},{"$f":"IF(ISBLANK(H12),\"N/A\",IF(AND(H12=0,H13=0,NOT(ISBLANK(H12)),NOT(ISBLANK(H13))),1,H12/H13))","v":2.6568491531003529E-3},null,null,null,null,null,"Mandatory Assessment",null,{"$f":"OR(AND(F16<E16,F16>0),AND(G16<F16,G16>0),AND(H16<G16,H16>0),AND(I16<H16,I16>0),AND(G17>F17, F17>0),AND(H17>G17, G17>0),AND(I17<H17,I17>0))","v":true},6,null,null,"Columbia",{"$f":"IF(P15=TRUE,A19,\"\")","v":"CGE CQ3-17"}]
[{"$f":"LEFT(B15,3)&\" \"&RIGHT(B15,6)","v":"CGE CQ2-17"},"CGE \nCQ2-17","RPE 03/31/16",null,"Qtr 1","Qtr 2","Qtr 3","Qtr 4","Qtr 5",null,null,"Collection",{"$f":"'Circuit Criminal'!I16-'Circ Crim Drug Trfc Cases'!I16","v":105621.1},"Other",null,{"$f":"OR(AND(G20<F20,D10>0),AND(H20<G20,H20>0),AND(I20<H20,I20>0),AND(J20<I20,J20>0),AND(H21>G21, G21>0),AND(I21>H21, H21>0),AND(J21<I21, J21>0))","v":true},7,null,null,"Dade",{"$f":"IF(P16=TRUE,A23,\"\")","v":"CGE CQ4-17"}]
[null,null,"C = Cumulative Collections",null,{"$f":"LOOKUP($U$11&\" \"&$A15,Lookup!$X$2:$X$5361,Lookup!$I$2:$I$5361)","v":273.5},{"$f":"LOOKUP($U$11&\" \"&$A15,Lookup!$X$2:$X$5361,Lookup!$J$2:$J$5361)","v":320.5},{"$f":"LOOKUP($U$11&\" \"&$A15,Lookup!$X$2:$X$5361,Lookup!$K$2:$K$5361)","v":320.5},320.5,520.5,null,null,"Assessment",{"$f":"'Circuit Criminal'!I17-'Circ Crim Drug Trfc Cases'!I17","v":640774.54},"Procedural",null,{"$f":"OR(AND(H24<G24, H24>0),AND(I24<H24, I24>0),AND(J24<I24, J24>0),AND(K24<J24, K24>0),AND(I25>H25, H25>0),AND(J25>I25, I25>0),AND(K25<J25, J25>0))","v":true},8,null,null,"Desoto",{"$f":"IF(P17=TRUE,A27,\"\")","v":""}]
[null,null,"A = Amount Assessed - Adjusted",null,{"$f":"LOOKUP($U$11&\" \"&$A15,Lookup!$X$2:$X$5361,Lookup!$D$2:$D$5361)","v":108478.5},{"$f":"LOOKUP($U$11&\" \"&$A15,Lookup!$X$2:$X$5361,Lookup!$E$2:$E$5361)","v":108478.5},{"$f":"LOOKUP($U$11&\" \"&$A15,Lookup!$X$2:$X$5361,Lookup!$F$2:$F$5361)","v":108478.5},108578.5,108578.5,null,null,"Adj. Cir Crim Rate",{"$f":"M15/M16","v":0.16483348417682139},"Staffing - Insufficient Personnel",null,{"$f":"OR(AND(I28<H28, I28>0),AND(J28<I28, J28>0),AND(K28<J28, K28>0),AND(J29>I29, I29>0),AND(K29>J29, J29>0))","v":false},9,null,null,"Dixie",{"$f":"IF(P18=TRUE,A31,\"\")","v":""}]
[null,null,"CR = Collection Rate",null,{"$f":"IF(ISBLANK(E16),\"N/A\",IF(OR(E16=0,E16=\"N/A\"),0,E16/E17))","v":2.5212369271330262E-3},{"$f":"IF(ISBLANK(F16),\"N/A\",IF(OR(F16=0,F16=\"N/A\"),0,F16/F17))","v":2.954502505104698E-3},{"$f":"IF(ISBLANK(G16),\"N/A\",IF(OR(G16=0,G16=\"N/A\"),0,G16/G17))","v":2.954502505104698E-3},{"$f":"IF(ISBLANK(H16),\"N/A\",IF(AND(H16=0,H17=0,NOT(ISBLANK(H16)),NOT(ISBLANK(H17))),1,H16/H17))","v":2.9517814300252811E-3},{"$f":"IF(ISBLANK(I16),\"N/A\",IF(AND(I16=0,I17=0,NOT(ISBLANK(I16)),NOT(ISBLANK(I17))),1,I16/I17))","v":4.7937667217727263E-3},null,null,null,null,"Staffing - Training Required",null,{"$f":"OR(AND(J32<I32, J32>0),AND(K32<J32, K32>0),AND(K33>J33, J33>0))","v":false},10,null,null,"Duval",{"$f":"IF(P19=TRUE,A35,\"\")","v":""}]
[{"$f":"LEFT(B19,3)&\" \"&RIGHT(B19,6)","v":"CGE CQ3-17"},"CGE\nCQ3-17","RPE 06/30/16",null,null,"Qtr 1","Qtr 2","Qtr 3","Qtr 4","Qtr 5",null,"Collection",{"$f":"'Circuit Criminal'!J20-'Circ Crim Drug Trfc Cases'!J20","v":0},"Systems",null,{"$f":"OR(K36<J36)","v":false},11,null,null,"Escambia",{"$f":"U12&\" \"&U13&\" \"&U14&\" \"&U15&\" \"&U16&\" \"&U17&\" \"&U18","v":" CGE CQ2-17 CGE CQ3-17 CGE CQ4-17   "}]
[null,null,"C = Cumulative Collections",null,null,{"$f":"LOOKUP($U$11&\" \"&$A19,Lookup!$X$2:$X$5361,Lookup!$I$2:$I$5361)","v":221.5},{"$f":"LOOKUP($U$11&\" \"&$A19,Lookup!$X$2:$X$5361,Lookup!$J$2:$J$5361)","v":221.5},221.5,221.5,null,null,"Assessment",{"$f":"'Circuit Criminal'!J21-'Circ Crim Drug Trfc Cases'!J21","v":0},null,null,{"$f":"COUNTIF(P13:P19,\"TRUE\")","v":3},12,null,null,"Flagler"]
[null,null,"A = Amount Assessed - Adjusted",null,null,{"$f":"LOOKUP($U$11&\" \"&$A19,Lookup!$X$2:$X$5361,Lookup!$D$2:$D$5361)","v":582206.5},{"$f":"LOOKUP($U$11&\" \"&$A19,Lookup!$X$2:$X$5361,Lookup!$E$2:$E$5361)","v":582206.5},582256.5,582256.5,null,null,"Adj. Cir Crim Rate",{"$f":"M19/M20","v":{"$error":"#DIV/0!"}},null,null,null,null,null,null,"Franklin"]
[null,null,"CR = Collection Rate",null,null,{"$f":"IF(ISBLANK(F20),\"N/A\",IF(OR(F20=0,F20=\"N/A\"),0,F20/F21))","v":3.8044920487833786E-4},{"$f":"IF(ISBLANK(G20),\"N/A\",IF(OR(G20=0,G20=\"N/A\"),0,G20/G21))","v":3.8044920487833786E-4},{"$f":"IF(ISBLANK(H20),\"N/A\",IF(AND(H20=0,H21=0,NOT(ISBLANK(H20)),NOT(ISBLANK(H21))),1,H20/H21))","v":3.8041653463722605E-4},{"$f":"IF(ISBLANK(I20),\"N/A\",IF(AND(I20=0,I21=0,NOT(ISBLANK(I20)),NOT(ISBLANK(I21))),1,I20/I21))","v":3.8041653463722605E-4},{"$f":"IF(ISBLANK(J20),\"N/A\",IF(AND(J20=0,J21=0,NOT(ISBLANK(J20)),NOT(ISBLANK(J21))),1,J20/J21))","v":"N/A"},null,null,null,null,"Q1","Q2",null,null,null,"Gadsden"]
[{"$f":"LEFT(B23,3)&\" \"&RIGHT(B23,6)","v":"CGE CQ4-17"},"CGE\nCQ4-17","RPE 09/30/16",null,null,null,"Qtr 1","Qtr 2","Qtr 3","Qtr 4","Qtr 5","Collection",{"$f":"'Circuit Criminal'!K24-'Circ Crim Drug Trfc Cases'!K24","v":0},null,false,false,{"$f":"IF(AND(OR(ISBLANK(H12),ISBLANK(H13)),O23=FALSE),\"Red\",\"Gray\")","v":"Gray"},{"$f":"IF(AND(OR(ISBLANK(I16),ISBLANK(I17)),P23=FALSE),\"Red\",\"Gray\")","v":"Gray"},{"$f":"IF(AND('Circuit Criminal'!D4=1,S36=1),A11,IF(AND('Circuit Criminal'!D4=2,S36=1),A15,IF(AND('Circuit Criminal'!D4=3,S36=1),A19,IF(AND('Circuit Criminal'!D4=4,S36=1),A23,\"\"))))","v":""},"Gilchrist"]
[null,null,"C = Cumulative Collections",null,null,null,{"$f":"LOOKUP($U$11&\" \"&$A23,Lookup!$X$2:$X$5361,Lookup!$I$2:$I$5361)","v":328},336.5,336.5,null,null,"Assessment",{"$f":"'Circuit Criminal'!K25-'Circ Crim Drug Trfc Cases'!K25","v":0},null,false,false,{"$f":"IF(AND(OR(ISBLANK(H16),ISBLANK(H17)),O24=FALSE),\"Red\",\"Gray\")","v":"Gray"},{"$f":"IF(AND(OR(ISBLANK(I20),ISBLANK(I21)),P24=FALSE),\"Red\",\"Gray\")","v":"Gray"},{"$f":"IF(AND('Circuit Criminal'!D4=1,S37=1),A15,IF(AND('Circuit Criminal'!D4=2,S37=1),A19,IF(AND('Circuit Criminal'!D4=3,S37=1),A23,IF(AND('Circuit Criminal'!D4=4,S37=1),A27,\"\"))))","v":""},"Glades"]
[null,null,"A = Amount Assessed - Adjusted",null,null,null,{"$f":"LOOKUP($U$11&\" \"&$A23,Lookup!$X$2:$X$5361,Lookup!$D$2:$D$5361)","v":321908.87},321554.37,321604.37,null,null,"Adj. Cir Crim Rate",{"$f":"M23/M24","v":{"$error":"#DIV/0!"}},null,false,false,{"$f":"IF(AND(OR(ISBLANK(H20),ISBLANK(H21)),O25=FALSE),\"Red\",\"Gray\")","v":"Gray"},{"$f":"IF(AND(OR(ISBLANK(I24),ISBLANK(I25)),P25=FALSE),\"Red\",\"Gray\")","v":"Gray"},{"$f":"IF(AND('Circuit Criminal'!D4=1,S38=1),A19,IF(AND('Circuit Criminal'!D4=2,S38=1),A23,IF(AND('Circuit Criminal'!D4=3,S38=1),A27,IF(AND('Circuit Criminal'!D4=4,S38=1),A31,\"\"))))","v":""},"Gulf"]
[null,null,"CR = Collection Rate",null,null,null,{"$f":"IF(ISBLANK(G24),\"N/A\",IF(OR(G24=0,G24=\"N/A\"),0,G24/G25))","v":1.0189219079300301E-3},{"$f":"IF(ISBLANK(H24),\"N/A\",IF(AND(H24=0,H25=0,NOT(ISBLANK(H24)),NOT(ISBLANK(H25))),1,H24/H25))","v":1.0464793247872825E-3},{"$f":"IF(ISBLANK(I24),\"N/A\",IF(AND(I24=0,I25=0,NOT(ISBLANK(I24)),NOT(ISBLANK(I25))),1,I24/I25))","v":1.0463166280980573E-3},{"$f":"IF(ISBLANK(J24),\"N/A\",IF(AND(J24=0,J25=0,NOT(ISBLANK(J24)),NOT(ISBLANK(J25))),1,J24/J25))","v":"N/A"},{"$f":"IF(ISBLANK(K24),\"N/A\",IF(AND(K24=0,K25=0,NOT(ISBLANK(K24)),NOT(ISBLANK(K25))),1,K24/K25))","v":"N/A"},null,null,null,false,false,{"$f":"IF(AND(OR(ISBLANK(H24),ISBLANK(H25)),O26=FALSE),\"Red\",\"Gray\")","v":"Gray"},{"$f":"IF(AND(OR(ISBLANK(I28),ISBLANK(I29)),P26=FALSE),\"Red\",\"Gray\")","v":"Gray"},{"$f":"IF(AND('Circuit Criminal'!D4=1,S39=1),A23,IF(AND('Circuit Criminal'!D4=2,S39=1),A27,IF(AND('Circuit Criminal'!D4=3,S39=1),A31,IF(AND('Circuit Criminal'!D4=4,S39=1),A35,\"\"))))","v":""},"Hamilton"]
[{"$f":"LEFT(B27,3)&\" \"&RIGHT(B27,6)","v":"CGE CQ1-18"},"CGE\nCQ1-18","RPE 12/31/16",null,null,null,null,"Qtr 1","Qtr 2","Qtr 3","Qtr 4",null,null,null,false,false,{"$f":"IF(AND(OR(ISBLANK(H28),ISBLANK(H29)),O27=FALSE),\"Red\",\"Gray\")","v":"Gray"},{"$f":"IF(AND(OR(ISBLANK(I32),ISBLANK(I33)),P27=FALSE),\"Red\",\"Gray\")","v":"Gray"},{"$f":"IF(AND('Circuit Criminal'!D4=1,S40=1),A27,IF(AND('Circuit Criminal'!D4=2,S40=1),A31,IF(AND('Circuit Criminal'!D4=3,S40=1),A35,IF(AND('Circuit Criminal'!D4=4,S40=1),A39,\"\"))))","v":""},"Hardee"]
[null,null,"C = Cumulative Collections",null,null,null,null,136,628,null,null,null,null,null,null,null,null,null,null,"Hendry"]
[null,null,"A = Amount Assessed - Adjusted",null,null,null,null,318548,318548,null,null,null,null,null,"Q3","Q4",null,null,null,"Hernando"]
[null,null,"CR = Collection Rate",null,null,null,null,{"$f":"IF(ISBLANK(H28),\"N/A\",IF(AND(H28=0,H29=0,NOT(ISBLANK(H28)),NOT(ISBLANK(H29))),1,H28/H29))","v":4.2693722767055516E-4},{"$f":"IF(ISBLANK(I28),\"N/A\",IF(AND(I28=0,I29=0,NOT(ISBLANK(I28)),NOT(ISBLANK(I29))),1,I28/I29))","v":1.9714454336552103E-3},{"$f":"IF(ISBLANK(J28),\"N/A\",IF(AND(J28=0,J29=0,NOT(ISBLANK(J28)),NOT(ISBLANK(J29))),1,J28/J29))","v":"N/A"},{"$f":"IF(ISBLANK(K28),\"N/A\",IF(AND(K28=0,K29=0,NOT(ISBLANK(K28)),NOT(ISBLANK(K29))),1,K28/K29))","v":"N/A"},null,null,null,false,false,{"$f":"IF(AND(OR(ISBLANK(J20),ISBLANK(J21)),O30=FALSE),\"Red\",\"Gray\")","v":"Red"},{"$f":"IF(AND(OR(ISBLANK(K24),ISBLANK(K25)),P30=FALSE),\"Red\",\"Gray\")","v":"Red"},null,"Highlands"]
[{"$f":"LEFT(B31,3)&\" \"&RIGHT(B31,6)","v":"CGE CQ2-18"},"CGE\nCQ2-18","RPE 03/31/17",null,null,null,null,null,"Qtr 1","Qtr 2","Qtr 3",null,null,null,false,false,{"$f":"IF(AND(OR(ISBLANK(J24),ISBLANK(J25)),O31=FALSE),\"Red\",\"Gray\")","v":"Red"},{"$f":"IF(AND(OR(ISBLANK(K28),ISBLANK(K29)),P31=FALSE),\"Red\",\"Gray\")","v":"Red"},null,"Hillsborough"]
[null,null,"C = Cumulative Collections",null,null,null,null,null,266,null,null,null,null,null,false,false,{"$f":"IF(AND(OR(ISBLANK(J28),ISBLANK(J29)),O32=FALSE),\"Red\",\"Gray\")","v":"Red"},{"$f":"IF(AND(OR(ISBLANK(K32),ISBLANK(K33)),P32=FALSE),\"Red\",\"Gray\")","v":"Red"},null,"Holmes"]
[null,null,"A = Amount Assessed - Adjusted",null,null,null,null,null,817795,null,null,null,null,null,false,false,{"$f":"IF(AND(OR(ISBLANK(J32),ISBLANK(J33)),O33=FALSE),\"Red\",\"Gray\")","v":"Red"},{"$f":"IF(AND(OR(ISBLANK(K36),ISBLANK(K37)),P33=FALSE),\"Red\",\"Gray\")","v":"Red"},null,"Indian River"]
[null,null,"CR = Collection Rate",null,null,null,null,null,{"$f":"IF(ISBLANK(I32),\"N/A\",IF(AND(I32=0,I33=0,NOT(ISBLANK(I32)),NOT(ISBLANK(I33))),1,I32/I33))","v":3.2526488912257962E-4},{"$f":"IF(ISBLANK(J32),\"N/A\",IF(AND(J32=0,J33=0,NOT(ISBLANK(J32)),NOT(ISBLANK(J33))),1,J32/J33))","v":"N/A"},{"$f":"IF(ISBLANK(K32),\"N/A\",IF(AND(K32=0,K33=0,NOT(ISBLANK(K32)),NOT(ISBLANK(K33))),1,K32/K33))","v":"N/A"},null,null,null,false,false,{"$f":"IF(AND(OR(ISBLANK(J36),ISBLANK(J37)),O34=FALSE),\"Red\",\"Gray\")","v":"Red"},{"$f":"IF(AND(OR(ISBLANK(K40),ISBLANK(K41)),P34=FALSE),\"Red\",\"Gray\")","v":"Red"},null,"Jackson"]
[{"$f":"LEFT(B35,3)&\" \"&RIGHT(B35,6)","v":"CGE CQ3-18"},"CGE\nCQ3-18","RPE 06/30/17",null,null,null,null,null,null,"Qtr 1","Qtr 2",null,null,null,null,null,null,null,null,"Jefferson"]
[null,null,"C = Cumulative Collections",null,null,null,null,null,null,null,null,null,null,null,{"$f":"IF(AND('Circuit Criminal'!$D$4=1,Q23=\"Red\"),\"Red\",\"Gray\")","v":"Gray"},{"$f":"IF(AND('Circuit Criminal'!$D$4=2,R23=\"Red\"),\"Red\",\"Gray\")","v":"Gray"},{"$f":"IF(AND('Circuit Criminal'!$D$4=3,Q30=\"Red\"),\"Red\",\"Gray\")","v":"Gray"},{"$f":"IF(AND('Circuit Criminal'!$D$4=4,R30=\"Red\"),\"Red\",\"Gray\")","v":"Gray"},{"$f":"COUNTIF(O36:R36,\"Red\")","v":0},"Lafayette"]
[null,null,"A = Amount Assessed - Adjusted",null,null,null,null,null,null,null,null,null,null,null,{"$f":"IF(AND('Circuit Criminal'!$D$4=1,Q24=\"Red\"),\"Red\",\"Gray\")","v":"Gray"},{"$f":"IF(AND('Circuit Criminal'!$D$4=2,R24=\"Red\"),\"Red\",\"Gray\")","v":"Gray"},{"$f":"IF(AND('Circuit Criminal'!$D$4=3,Q31=\"Red\"),\"Red\",\"Gray\")","v":"Gray"},{"$f":"IF(AND('Circuit Criminal'!$D$4=4,R31=\"Red\"),\"Red\",\"Gray\")","v":"Gray"},{"$f":"COUNTIF(O37:R37,\"Red\")","v":0},"Lake"]
[null,null,"CR = Collection Rate",null,null,null,null,null,null,{"$f":"IF(ISBLANK(J36),\"N/A\",IF(AND(J36=0,J37=0,NOT(ISBLANK(J36)),NOT(ISBLANK(J37))),1,J36/J37))","v":"N/A"},{"$f":"IF(ISBLANK(K36),\"N/A\",IF(AND(K36=0,K37=0,NOT(ISBLANK(K36)),NOT(ISBLANK(K37))),1,K36/K37))","v":"N/A"},null,null,null,{"$f":"IF(AND('Circuit Criminal'!$D$4=1,Q25=\"Red\"),\"Red\",\"Gray\")","v":"Gray"},{"$f":"IF(AND('Circuit Criminal'!$D$4=2,R25=\"Red\"),\"Red\",\"Gray\")","v":"Gray"},{"$f":"IF(AND('Circuit Criminal'!$D$4=3,Q32=\"Red\"),\"Red\",\"Gray\")","v":"Gray"},{"$f":"IF(AND('Circuit Criminal'!$D$4=4,R32=\"Red\"),\"Red\",\"Gray\")","v":"Gray"},{"$f":"COUNTIF(O38:R38,\"Red\")","v":0},"Lee"]
[{"$f":"LEFT(B39,3)&\" \"&RIGHT(B39,6)","v":"CGE CQ4-18"},"CGE\nCQ4-18","RPE 09/30/17",null,null,null,null,null,null,null,"Qtr 1",null,null,null,{"$f":"IF(AND('Circuit Criminal'!$D$4=1,Q26=\"Red\"),\"Red\",\"Gray\")","v":"Gray"},{"$f":"IF(AND('Circuit Criminal'!$D$4=2,R26=\"Red\"),\"Red\",\"Gray\")","v":"Gray"},{"$f":"IF(AND('Circuit Criminal'!$D$4=3,Q33=\"Red\"),\"Red\",\"Gray\")","v":"Gray"},{"$f":"IF(AND('Circuit Criminal'!$D$4=4,R33=\"Red\"),\"Red\",\"Gray\")","v":"Gray"},{"$f":"COUNTIF(O39:R39,\"Red\")","v":0},"Leon"]
[null,null,"C = Cumulative Collections",null,null,null,null,null,null,null,null,null,null,null,{"$f":"IF(AND('Circuit Criminal'!$D$4=1,Q27=\"Red\"),\"Red\",\"Gray\")","v":"Gray"},{"$f":"IF(AND('Circuit Criminal'!$D$4=2,R27=\"Red\"),\"Red\",\"Gray\")","v":"Gray"},{"$f":"IF(AND('Circuit Criminal'!$D$4=3,Q34=\"Red\"),\"Red\",\"Gray\")","v":"Gray"},{"$f":"IF(AND('Circuit Criminal'!$D$4=4,R34=\"Red\"),\"Red\",\"Gray\")","v":"Gray"},{"$f":"COUNTIF(O40:R40,\"Red\")","v":0},"Levy"]
[null,null,"A = Amount Assessed - Adjusted",null,null,null,null,null,null,null,null,null,null,null,{"$f":"COUNTIF(O36:O40,\"Red\")","v":0},{"$f":"COUNTIF(P36:P40,\"Red\")","v":0},{"$f":"COUNTIF(Q36:Q40,\"Red\")","v":0},{"$f":"COUNTIF(R36:R40,\"Red\")","v":0},null,"Liberty"]
[null,null,"CR = Collection Rate",null,null,null,null,null,null,null,{"$f":"IF(ISBLANK(K40),\"N/A\",IF(OR(K40=0,K40=\"N/A\"),0,K40/K41))","v":"N/A"},null,null,null,{"$f":"SUM(O41:R41)","v":0},null,null,null,null,"Madison"]
[null,null,"Business Rules","Purpose of Report:  The CCOC Collection Rate Performance Measure     report tracks dollars in the quarter they are assessed and then how well     those assessed dollars have been collected over the next five quarters.  ",null,null,null,"Adjustments to Assessments: The amount assessed in a given assessment control group should be adjusted in the reporting period when assessments are later adjusted by the Court or other provisions of law.  ",null,null,null,null,null,null,null,null,null,null,null,"Manatee"]
[null,null,"NOTES:","1.) There is no agreed standard for this tab because it is a sub-set of the Circuit Criminal Court Division measures.",null,null,null,null,null,null,null,null,null,null,null,null,null,null,null,"Martin"]
[null,null,null,"2.) Circuit Criminal LESS Drug Trafficking Rate will not be calculated until all 5 quarters of data is reported.",null,null,null,null,null,null,null,null,null,null,null,null,null,null,null,"Nassau"]
[null,null,null,null,null,null,null,null,null,null,null,null,null,null,null,null,null,null,null,"Okaloosa"]
[null,null,null,null,null,null,null,null,null,null,null,null,null,null,null,null,null,null,null,"Okeechobee"]
[null,null,null,null,null,null,null,null,null,null,null,null,null,null,null,null,null,null,null,"Orange"]
[null,{"$f":"MAX('Circuit Criminal'!B51:B98)","v":0},null,"Issue",null,"Calc 1 Needed","Calc 2 Needed","Calc 3 Needed","Calc 4 Needed","Standard",null,null,null,null,null,null,null,null,null,"Putnam"]
[{"$f":"D$8","v":"Circ Crim Drug Trfc Cases"},{"$f":"IF(E50=\"YES\",MAX(B49)+1,0)","v":0},{"$f":"A$11","v":"CGE CQ1-17"},{"$f":"\"After 3rd Q, Collections went up by more than set percentage of: \"&TEXT(J50,\"#0%\")","v":"After 3rd Q, Collections went up by more than set percentage of: 500%"},{"$f":"IF(MAX(F50:G50)>V$10,\"YES\",\"NO\")","v":"NO"},{"$f":"IFERROR(IF(NOT(ISBLANK(G12)),(G12-F12)/F12,0),0)","v":0},{"$f":"IFERROR(IF(NOT(ISBLANK(H12)),(H12-G12)/G12,0),0)","v":0},null,null,{"$f":"V$10","v":5},null,null,null,null,null,null,null,null,null,"Santa Rosa"]
[{"$f":"D$8","v":"Circ Crim Drug Trfc Cases"},{"$f":"IF(E51=\"YES\",MAX(B$49:B50)+1,0)","v":0},{"$f":"A$11","v":"CGE CQ1-17"},{"$f":"\"Assessments dropped by more than set percentage of: \"&TEXT(J51,\"#0%\")","v":"Assessments dropped by more than set percentage of: 15%"},{"$f":"IF(MIN(F51:I51)<(-1*V$11),\"YES\",\"NO\")","v":"NO"},{"$f":"IFERROR(IF(NOT(ISBLANK(E13)),(E13-D13)/D13,0),0)","v":9.2863875488115744E-4},{"$f":"IFERROR(IF(NOT(ISBLANK(F13)),(F13-E13)/E13,0),0)","v":0},{"$f":"IFERROR(IF(NOT(ISBLANK(G13)),(G13-F13)/F13,0),0)","v":0},{"$f":"IFERROR(IF(NOT(ISBLANK(H13)),(H13-G13)/G13,0),0)","v":4.6388859251562145E-4},{"$f":"V$11","v":0.15},null,null,null,null,null,null,null,null,null,"Sumter"]
["Circ Crim Drug Trfc Cases",{"$f":"IF(E52=\"YES\",MAX(B$49:B51)+1,0)","v":0},{"$f":"A$11","v":"CGE CQ1-17"},{"$f":"\"The 5th Quarter Collection Rate did not meet the established performance measure standard of: \"&TEXT(J52,\"#0%\")","v":"The 5th Quarter Collection Rate did not meet the established performance measure standard of: 0%"},{"$f":"IF(F52=\"N/A\",\"NO\",IF(F52<H$8,\"YES\",\"NO\"))","v":"NO"},{"$f":"H14","v":2.6568491531003529E-3},null,null,null,{"$f":"H$8","v":0},null,null,null,null,null,null,null,null,null,"Washington"]
["Circ Crim Drug Trfc Cases",{"$f":"IF(E53=\"YES\",MAX(B$49:B52)+1,0)","v":0},{"$f":"A$11","v":"CGE CQ1-17"},"Collections amount decreased from prior quarter",{"$f":"IF(MIN(F53:I53)<0,\"YES\",\"NO\")","v":"NO"},{"$f":"IFERROR(IF(NOT(ISBLANK(E12)),(E12-D12)/D12,0),0)","v":0},0,0,0]
["Circ Crim Drug Trfc Cases",{"$f":"IF(E54=\"YES\",MAX(B$49:B53)+1,0)","v":1},{"$f":"A$11","v":"CGE CQ1-17"},"Assessment amount increased from prior quarter",{"$f":"IF(MAX(F54:I54)>0,\"YES\",\"NO\")","v":"YES"},9.2863875488115744E-4,0,0,4.6388859251562145E-4]
["Circ Crim Drug Trfc Cases",{"$f":"IF(E55=\"YES\",MAX(B$49:B54)+1,0)","v":0},{"$f":"A$15","v":"CGE CQ2-17"},{"$f":"\"After 3rd Q, Collections went up by more than set percentage of: \"&TEXT(J55,\"#0%\")","v":"After 3rd Q, Collections went up by more than set percentage of: 500%"},{"$f":"IF(MAX(F55:G55)>V$10,\"YES\",\"NO\")","v":"NO"},{"$f":"IFERROR(IF(NOT(ISBLANK(H16)),(H16-G16)/G16,0),0)","v":0},{"$f":"IFERROR(IF(NOT(ISBLANK(I16)),(I16-H16)/H16,0),0)","v":0.62402496099843996},null,null,{"$f":"V$10","v":5},null,null,null,null,null,null,null,null,null,"Sarasota"]
["Circ Crim Drug Trfc Cases",{"$f":"IF(E56=\"YES\",MAX(B$49:B55)+1,0)","v":0},{"$f":"A$15","v":"CGE CQ2-17"},{"$f":"\"Assessments dropped by more than set percentage of: \"&TEXT(J56,\"#0%\")","v":"Assessments dropped by more than set percentage of: 15%"},{"$f":"IF(MIN(F56:I56)<(-1*V$11),\"YES\",\"NO\")","v":"NO"},{"$f":"IFERROR(IF(NOT(ISBLANK(F17)),(F17-E17)/E17,0),0)","v":0},{"$f":"IFERROR(IF(NOT(ISBLANK(G17)),(G17-F17)/F17,0),0)","v":0},{"$f":"IFERROR(IF(NOT(ISBLANK(H17)),(H17-G17)/G17,0),0)","v":9.218416552588762E-4},{"$f":"IFERROR(IF(NOT(ISBLANK(I17)),(I17-H17)/H17,0),0)","v":0},{"$f":"V$11","v":0.15},null,null,null,null,null,null,null,null,null,"Suwannee"]
["Circ Crim Drug Trfc Cases",{"$f":"IF(E57=\"YES\",MAX(B$49:B56)+1,0)","v":0},{"$f":"A$15","v":"CGE CQ2-17"},"Collections amount decreased from prior quarter",{"$f":"IF(MIN(F57:I57)<0,\"YES\",\"NO\")","v":"NO"},{"$f":"IFERROR(IF(NOT(ISBLANK(F16)),(F16-E16)/E16,0),0)","v":0.17184643510054845},0,0,0.62402496099843996]
["Circ Crim Drug Trfc Cases",{"$f":"IF(E58=\"YES\",MAX(B$49:B57)+1,0)","v":2},{"$f":"A$15","v":"CGE CQ2-17"},"Assessment amount increased from prior quarter",{"$f":"IF(MAX(F58:I58)>0,\"YES\",\"NO\")","v":"YES"},0,0,9.218416552588762E-4,0]
["Circ Crim Drug Trfc Cases",{"$f":"IF(E59=\"YES\",MAX(B$49:B58)+1,0)","v":0},{"$f":"A$15","v":"CGE CQ2-17"},{"$f":"\"The 5th Quarter Collection Rate did not meet the established performance measure standard of: \"&TEXT(J59,\"#0%\")","v":"The 5th Quarter Collection Rate did not meet the established performance measure standard of: 0%"},{"$f":"IF(F59=\"N/A\",\"NO\",IF(F59<H$8,\"YES\",\"NO\"))","v":"NO"},{"$f":"I18","v":4.7937667217727263E-3},null,null,null,{"$f":"H$8","v":0}]
["Circ Crim Drug Trfc Cases",{"$f":"IF(E60=\"YES\",MAX(B$49:B59)+1,0)","v":0},{"$f":"A$19","v":"CGE CQ3-17"},{"$f":"\"After 3rd Q, Collections went up by more than set percentage of: \"&TEXT(J60,\"#0%\")","v":"After 3rd Q, Collections went up by more than set percentage of: 500%"},{"$f":"IF(MAX(F60:G60)>V$10,\"YES\",\"NO\")","v":"NO"},{"$f":"IFERROR(IF(NOT(ISBLANK(I20)),(I20-H20)/H20,0),0)","v":0},{"$f":"IFERROR(IF(NOT(ISBLANK(J20)),(J20-I20)/I20,0),0)","v":0},null,null,{"$f":"V$10","v":5},null,null,null,null,null,null,null,null,null,"Seminole"]
["Circ Crim Drug Trfc Cases",{"$f":"IF(E61=\"YES\",MAX(B$49:B60)+1,0)","v":0},{"$f":"A$19","v":"CGE CQ3-17"},{"$f":"\"Assessments dropped by more than set percentage of: \"&TEXT(J61,\"#0%\")","v":"Assessments dropped by more than set percentage of: 15%"},{"$f":"IF(MIN(F61:I61)<(-1*V$11),\"YES\",\"NO\")","v":"NO"},{"$f":"IFERROR(IF(NOT(ISBLANK(G21)),(G21-F21)/F21,0),0)","v":0},{"$f":"IFERROR(IF(NOT(ISBLANK(H21)),(H21-G21)/G21,0),0)","v":8.5880181688112374E-5},{"$f":"IFERROR(IF(NOT(ISBLANK(I21)),(I21-H21)/H21,0),0)","v":0},{"$f":"IFERROR(IF(NOT(ISBLANK(J21)),(J21-I21)/I21,0),0)","v":0},{"$f":"V$11","v":0.15},null,null,null,null,null,null,null,null,null,"Taylor"]
["Circ Crim Drug Trfc Cases",{"$f":"IF(E62=\"YES\",MAX(B$49:B61)+1,0)","v":0},{"$f":"A$19","v":"CGE CQ3-17"},"Collections amount decreased from prior quarter",{"$f":"IF(MIN(F62:I62)<0,\"YES\",\"NO\")","v":"NO"},{"$f":"IFERROR(IF(NOT(ISBLANK(G20)),(G20-F20)/F20,0),0)","v":0},0,0,0]
["Circ Crim Drug Trfc Cases",{"$f":"IF(E63=\"YES\",MAX(B$49:B62)+1,0)","v":3},{"$f":"A$19","v":"CGE CQ3-17"},"Assessment amount increased from prior quarter",{"$f":"IF(MAX(F63:I63)>0,\"YES\",\"NO\")","v":"YES"},0,8.5880181688112374E-5,0,0]
["Circ Crim Drug Trfc Cases",{"$f":"IF(E64=\"YES\",MAX(B$49:B63)+1,0)","v":0},{"$f":"A$19","v":"CGE CQ3-17"},{"$f":"\"The 5th Quarter Collection Rate did not meet the established performance measure standard of: \"&TEXT(J64,\"#0%\")","v":"The 5th Quarter Collection Rate did not meet the established performance measure standard of: 0%"},{"$f":"IF(F64=\"N/A\",\"NO\",IF(F64<H$8,\"YES\",\"NO\"))","v":"NO"},{"$f":"J22","v":"N/A"},null,null,null,{"$f":"H$8","v":0}]
["Circ Crim Drug Trfc Cases",{"$f":"IF(E65=\"YES\",MAX(B$49:B64)+1,0)","v":0},{"$f":"A$23","v":"CGE CQ4-17"},{"$f":"\"After 3rd Q, Collections went up by more than set percentage of: \"&TEXT(J65,\"#0%\")","v":"After 3rd Q, Collections went up by more than set percentage of: 500%"},{"$f":"IF(MAX(F65:G65)>V$10,\"YES\",\"NO\")","v":"NO"},{"$f":"IFERROR(IF(NOT(ISBLANK(J24)),(J24-I24)/I24,0),0)","v":0},{"$f":"IFERROR(IF(NOT(ISBLANK(K24)),(K24-J24)/J24,0),0)","v":0},null,null,{"$f":"V$10","v":5},null,null,null,null,null,null,null,null,null,"St. Johns"]
["Circ Crim Drug Trfc Cases",{"$f":"IF(E66=\"YES\",MAX(B$49:B65)+1,0)","v":0},{"$f":"A$23","v":"CGE CQ4-17"},{"$f":"\"Assessments dropped by more than set percentage of: \"&TEXT(J66,\"#0%\")","v":"Assessments dropped by more than set percentage of: 15%"},{"$f":"IF(MIN(F66:I66)<(-1*V$11),\"YES\",\"NO\")","v":"NO"},{"$f":"IFERROR(IF(NOT(ISBLANK(H25)),(H25-G25)/G25,0),0)","v":-1.1012433425646208E-3},{"$f":"IFERROR(IF(NOT(ISBLANK(I25)),(I25-H25)/H25,0),0)","v":1.5549469907686218E-4},{"$f":"IFERROR(IF(NOT(ISBLANK(J25)),(J25-I25)/I25,0),0)","v":0},{"$f":"IFERROR(IF(NOT(ISBLANK(K25)),(K25-J25)/J25,0),0)","v":0},{"$f":"V$11","v":0.15},null,null,null,null,null,null,null,null,null,"Union"]
["Circ Crim Drug Trfc Cases",{"$f":"IF(E67=\"YES\",MAX(B$49:B66)+1,0)","v":0},{"$f":"A$23","v":"CGE CQ4-17"},"Collections amount decreased from prior quarter",{"$f":"IF(MIN(F67:I67)<0,\"YES\",\"NO\")","v":"NO"},{"$f":"IFERROR(IF(NOT(ISBLANK(H24)),(H24-G24)/G24,0),0)","v":2.5914634146341462E-2},0,0,0]
["Circ Crim Drug Trfc Cases",{"$f":"IF(E68=\"YES\",MAX(B$49:B67)+1,0)","v":4},{"$f":"A$23","v":"CGE CQ4-17"},"Assessment amount increased from prior quarter",{"$f":"IF(MAX(F68:I68)>0,\"YES\",\"NO\")","v":"YES"},-1.1012433425646208E-3,1.5549469907686218E-4,0,0]
["Circ Crim Drug Trfc Cases",{"$f":"IF(E69=\"YES\",MAX(B$49:B68)+1,0)","v":0},{"$f":"A$23","v":"CGE CQ4-17"},{"$f":"\"The 5th Quarter Collection Rate did not meet the established performance measure standard of: \"&TEXT(J69,\"#0%\")","v":"The 5th Quarter Collection Rate did not meet the established performance measure standard of: 0%"},{"$f":"IF(F69=\"N/A\",\"NO\",IF(F69<H$8,\"YES\",\"NO\"))","v":"NO"},{"$f":"K26","v":"N/A"},null,null,null,{"$f":"H$8","v":0}]
["Circ Crim Drug Trfc Cases",{"$f":"IF(E70=\"YES\",MAX(B$49:B69)+1,0)","v":0},{"$f":"A$27","v":"CGE CQ1-18"},{"$f":"\"After 3rd Q, Collections went up by more than set percentage of: \"&TEXT(J70,\"#0%\")","v":"After 3rd Q, Collections went up by more than set percentage of: 500%"},{"$f":"IF(MAX(F70)>V$10,\"YES\",\"NO\")","v":"NO"},{"$f":"IFERROR(IF(NOT(ISBLANK(K28)),(K28-J28)/J28,0),0)","v":0},null,null,null,{"$f":"V$10","v":5},null,null,null,null,null,null,null,null,null,"St. Lucie"]
["Circ Crim Drug Trfc Cases",{"$f":"IF(E71=\"YES\",MAX(B$49:B70)+1,0)","v":0},{"$f":"A$27","v":"CGE CQ1-18"},{"$f":"\"Assessments dropped by more than set percentage of: \"&TEXT(J71,\"#0%\")","v":"Assessments dropped by more than set percentage of: 15%"},{"$f":"IF(MIN(F71:H71)<(-1*V$11),\"YES\",\"NO\")","v":"NO"},{"$f":"IFERROR(IF(NOT(ISBLANK(I29)),(I29-H29)/H29,0),0)","v":0},{"$f":"IFERROR(IF(NOT(ISBLANK(J29)),(J29-I29)/I29,0),0)","v":0},{"$f":"IFERROR(IF(NOT(ISBLANK(K29)),(K29-J29)/J29,0),0)","v":0},null,{"$f":"V$11","v":0.15},null,null,null,null,null,null,null,null,null,"Volusia"]
["Circ Crim Drug Trfc Cases",{"$f":"IF(E72=\"YES\",MAX(B$49:B71)+1,0)","v":0},{"$f":"A$27","v":"CGE CQ1-18"},"Collections amount decreased from prior quarter",{"$f":"IF(MIN(F72:H72)<0,\"YES\",\"NO\")","v":"NO"},{"$f":"IFERROR(IF(NOT(ISBLANK(I28)),(I28-H28)/H28,0),0)","v":3.6176470588235294},0,0]
["Circ Crim Drug Trfc Cases",{"$f":"IF(E73=\"YES\",MAX(B$49:B72)+1,0)","v":0},{"$f":"A$27","v":"CGE CQ1-18"},"Assessment amount increased from prior quarter",{"$f":"IF(MAX(F73:H73)>0,\"YES\",\"NO\")","v":"NO"},0,0,0]
["Circ Crim Drug Trfc Cases",{"$f":"IF(E74=\"YES\",MAX(B$49:B73)+1,0)","v":0},{"$f":"A$31","v":"CGE CQ2-18"},{"$f":"\"Assessments dropped by more than set percentage of: \"&TEXT(J74,\"#0%\")","v":"Assessments dropped by more than set percentage of: 15%"},{"$f":"IF(MIN(F74:G74)<(-1*V$11),\"YES\",\"NO\")","v":"NO"},{"$f":"IFERROR(IF(NOT(ISBLANK(J33)),(J33-I33)/I33,0),0)","v":0},{"$f":"IFERROR(IF(NOT(ISBLANK(K33)),(K33-J33)/J33,0),0)","v":0},null,null,{"$f":"V$11","v":0.15},null,null,null,null,null,null,null,null,null,"Wakulla"]
["Circ Crim Drug Trfc Cases",{"$f":"IF(E75=\"YES\",MAX(B$49:B74)+1,0)","v":0},{"$f":"A$31","v":"CGE CQ2-18"},"Collections amount decreased from prior quarter",{"$f":"IF(MIN(F75:G75)<0,\"YES\",\"NO\")","v":"NO"},{"$f":"IFERROR(IF(NOT(ISBLANK(J32)),(J32-I32)/I32,0),0)","v":0},{"$f":"IFERROR(IF(NOT(ISBLANK(K32)),(K32-J32)/J32,0),0)","v":0}]
["Circ Crim Drug Trfc Cases",{"$f":"IF(E76=\"YES\",MAX(B$49:B75)+1,0)","v":0},{"$f":"A$31","v":"CGE CQ2-18"},"Assessment amount increased from prior quarter",{"$f":"IF(MAX(F76:G76)>0,\"YES\",\"NO\")","v":"NO"},{"$f":"IFERROR(IF(NOT(ISBLANK(J33)),(J33-I33)/I33,0),0)","v":0},{"$f":"IFERROR(IF(NOT(ISBLANK(K33)),(K33-J33)/J33,0),0)","v":0}]
["Circ Crim Drug Trfc Cases",{"$f":"IF(E77=\"YES\",MAX(B$49:B76)+1,0)","v":0},{"$f":"A$35","v":"CGE CQ3-18"},{"$f":"\"Assessments dropped by more than set percentage of: \"&TEXT(J77,\"#0%\")","v":"Assessments dropped by more than set percentage of: 15%"},{"$f":"IF(MIN(F77)<(-1*V$11),\"YES\",\"NO\")","v":"NO"},{"$f":"IFERROR(IF(NOT(ISBLANK(K37)),(K37-J37)/J37,0),0)","v":0},null,null,null,{"$f":"V$11","v":0.15},null,null,null,null,null,null,null,null,null,"Walton"]
["Circ Crim Drug Trfc Cases",{"$f":"IF(E78=\"YES\",MAX(B$49:B77)+1,0)","v":0},{"$f":"A$35","v":"CGE CQ3-18"},"Collections amount decreased from prior quarter",{"$f":"IF(MIN(F78)<0,\"YES\",\"NO\")","v":"NO"},{"$f":"IFERROR(IF(NOT(ISBLANK(K36)),(K36-J36)/J36,0),0)","v":0}]
["Circ Crim Drug Trfc Cases",{"$f":"IF(E79=\"YES\",MAX(B$49:B78)+1,0)","v":0},{"$f":"A$35","v":"CGE CQ3-18"},"Assessment amount increased from prior quarter",{"$f":"IF(MAX(F79)>0,\"YES\",\"NO\")","v":"NO"},{"$f":"IFERROR(IF(NOT(ISBLANK(K37)),(K37-J37)/J37,0),0)","v":0}]

{"sheet":"County Criminal","index":3,"n_rows":86,"n_cols":22,"rows_kept":86,"cut":false,"hidden":false,"merged":[[18,12,21,12],[22,12,25,12],[34,0,37,0],[18,11,21,11],[30,0,33,0],[26,0,29,0],[26,1,29,1],[30,1,33,1],[29,11,29,12],[30,11,32,12],[33,11,35,12],[36,11,38,12],[42,3,42,6],[42,7,42,10],[24,4,25,4],[22,11,25,11],[24,3,25,3],[24,5,25,5],[39,11,41,12],[5,3,5,4],[7,3,7,4],[10,11,13,11],[10,12,13,12],[14,11,17,11],[14,12,17,12],[10,8,13,8],[8,11,8,12],[52,0,52,1],[34,1,37,1],[38,1,41,1],[10,0,13,0],[14,0,17,0],[18,1,21,1],[22,1,25,1],[10,1,13,1],[14,1,17,1],[18,0,21,0],[22,0,25,0],[38,0,41,0]]}
[]
[null,null,null,null,null,null,null,null,null,null,null,null,"County Fiscal Year 2016-2017",null,null,null,null,null,null,"CountyNames"]
[null,null,null,null,null,null,null,null,null,null,null,null,"Collections Quarterly Report Form for CCOC",null,null,null,null,null,null,"Alachua"]
[null,null,"Report for Quarter Ending: ",{"$f":"'Circuit Criminal'!$D$4","v":"March 2017"},null,null,null,null,"REQUIRED: Reason Codes AND Action to Improve / Descriptions Required if Measure(s) Not Met",null,null,null,null,null,null,null,null,null,null,"Baker"]
[null,null,"Version #: ",{"$f":"'Circuit Criminal'!$D$5","v":1},null,null,null,null,null,"Internal: Must clarify reason AND expected duration internal reason will be resolved",null,null,null,null,null,null,null,null,null,"Bay"]
[null,null,"County: ",{"$f":"'Circuit Criminal'!D6","v":"Brevard"},null,null,null,null,null,"External: Detailed explanation of external reason the measure wasn't met ",null,null,null,null,null,null,null,null,null,"Bradford"]
[null,null,null,null,null,null,null,null,null,null,null,null,null,null,null,null,null,null,null,"Brevard"]
[null,null,"Court/Case Type:","County Criminal",null,null,"Performance Measure Standard:",0.4,null,null,null,null,null,null,null,null,null,null,null,"Broward"]
[null,null,null,null,null,null,null,null,null,null,null,"Action Plan",null,1,1,"September, 2013",1,null,null,"Calhoun"]
[null,null,"Control Groups","10/01/15 - 12/31/15","01/01/16 - 03/31/16","04/01/16 - 06/30/16","07/01/16 - 09/30/16","10/01/16 - 12/31/16","01/01/17 - 03/31/17","04/01/17 - 06/30/17","07/01/17- 09/30/17","Reason Code","Current Actions to Improve",null,2,null,null,null,null,"Charlotte",null,5]
[{"$f":"LEFT(B11,3)&\" \"&RIGHT(B11,6)","v":"CGE CQ1-17"},"CGE\nCQ1-17","RPE 12/31/15","Qtr 1","Qtr 2","Qtr 3","Qtr 4","Qtr 5",null,null,null,"Internal","The standard was not met despite pursuit of all collections efforts within the control of the Clerk.","Economy",3,null,3,null,null,"Citrus",{"$f":"D6&\" \"&D8","v":"Brevard County Criminal"},0.15]
[null,null,"C = Cumulative Collections",{"$f":"LOOKUP($U$11&\" \"&$A11,Lookup!$X$2:$X$5361,Lookup!$I$2:$I$5361)","v":68907.64},{"$f":"LOOKUP($U$11&\" \"&$A11,Lookup!$X$2:$X$5361,Lookup!$J$2:$J$5361)","v":100770.07},{"$f":"LOOKUP($U$11&\" \"&$A11,Lookup!$X$2:$X$5361,Lookup!$K$2:$K$5361)","v":125321.91},{"$f":"LOOKUP($U$11&\" \"&$A11,Lookup!$X$2:$X$5361,Lookup!$L$2:$L$5361)","v":140102.37},156427.69,null,null,null,null,null,"Incarcerations",4,null,4,null,null,"Clay",{"$f":"IF(P13=TRUE,A11,\"\")","v":"CGE CQ1-17"}]
[null,null,"A = Amount Assessed - Adjusted",{"$f":"LOOKUP($U$11&\" \"&$A11,Lookup!$X$2:$X$5361,Lookup!$D$2:$D$5361)","v":412342.25},{"$f":"LOOKUP($U$11&\" \"&$A11,Lookup!$X$2:$X$5361,Lookup!$E$2:$E$5361)","v":405775.25},{"$f":"LOOKUP($U$11&\" \"&$A11,Lookup!$X$2:$X$5361,Lookup!$F$2:$F$5361)","v":402343.75},{"$f":"LOOKUP($U$11&\" \"&$A11,Lookup!$X$2:$X$5361,Lookup!$G$2:$G$5361)","v":400481.75},400265.75,null,null,null,null,null,"Late/Non-pay/Pay Plans",5,{"$f":"OR(AND(E12<D12,E12>0),AND(F12<E12,F12>0),AND(G12<F12,G12>0),AND(H12<G12,H12>0),AND(F13>E13,E13>0),AND(G13>F13,F13>0),AND(H13<G13,G13>0))","v":true},5,null,null,"Collier",{"$f":"IF(P14=TRUE,A15,\"\")","v":"CGE CQ2-17"}]
[null,null,"CR = Collection Rate ",{"$f":"IF(ISBLANK(D12),\"N/A\",IF(OR(D12=0,D12=\"N/A\"),0,D12/D13))","v":0.16711273220243619},{"$f":"IF(ISBLANK(E12),\"N/A\",IF(OR(E12=0,E12=\"N/A\"),0,E12/E13))","v":0.24833961657346032},{"$f":"IF(ISBLANK(F12),\"N/A\",IF(OR(F12=0,F12=\"N/A\"),0,F12/F13))","v":0.31147969864077668},{"$f":"IF(ISBLANK(G12),\"N/A\",IF(OR(G12=0,G12=\"N/A\"),0,G12/G13))","v":0.34983459296210123},{"$f":"IF(ISBLANK(H12),\"N/A\",IF(AND(H12=0,H13=0,NOT(ISBLANK(H12)),NOT(ISBLANK(H13))),1,H12/H13))","v":0.39080958088469975},null,null,null,null,null,"Mandatory Assessment",null,{"$f":"OR(AND(F16<E16,F16>0),AND(G16<F16,G16>0),AND(H16<G16,H16>0),AND(I16<H16,I16>0),AND(G17>F17, F17>0),AND(H17>G17, G17>0),AND(I17<H17,I17>0))","v":true},6,null,null,"Columbia",{"$f":"IF(P15=TRUE,A19,\"\")","v":""}]
[{"$f":"LEFT(B15,3)&\" \"&RIGHT(B15,6)","v":"CGE CQ2-17"},"CGE \nCQ2-17","RPE 03/31/16",null,"Qtr 1","Qtr 2","Qtr 3","Qtr 4","Qtr 5",null,null,null,null,"Other",null,{"$f":"OR(AND(G20<F20,D10>0),AND(H20<G20,H20>0),AND(I20<H20,I20>0),AND(J20<I20,J20>0),AND(H21>G21, G21>0),AND(I21>H21, H21>0),AND(J21<I21, J21>0))","v":false},7,null,null,"Dade",{"$f":"IF(P16=TRUE,A23,\"\")","v":""}]
[null,null,"C = Cumulative Collections",null,{"$f":"LOOKUP($U$11&\" \"&$A15,Lookup!$X$2:$X$5361,Lookup!$I$2:$I$5361)","v":73063.27},{"$f":"LOOKUP($U$11&\" \"&$A15,Lookup!$X$2:$X$5361,Lookup!$J$2:$J$5361)","v":106302.53},{"$f":"LOOKUP($U$11&\" \"&$A15,Lookup!$X$2:$X$5361,Lookup!$K$2:$K$5361)","v":147027.32999999999},167423.74,188509.97,null,null,null,null,"Procedural",null,{"$f":"OR(AND(H24<G24, H24>0),AND(I24<H24, I24>0),AND(J24<I24, J24>0),AND(K24<J24, K24>0),AND(I25>H25, H25>0),AND(J25>I25, I25>0),AND(K25<J25, J25>0))","v":false},8,null,null,"Desoto",{"$f":"IF(P17=TRUE,A27,\"\")","v":""}]
[null,null,"A = Amount Assessed - Adjusted",null,{"$f":"LOOKUP($U$11&\" \"&$A15,Lookup!$X$2:$X$5361,Lookup!$D$2:$D$5361)","v":468820},{"$f":"LOOKUP($U$11&\" \"&$A15,Lookup!$X$2:$X$5361,Lookup!$E$2:$E$5361)","v":464906},{"$f":"LOOKUP($U$11&\" \"&$A15,Lookup!$X$2:$X$5361,Lookup!$F$2:$F$5361)","v":463137.5},461634.5,461005.5,null,null,null,null,"Staffing - Insufficient Personnel",null,{"$f":"OR(AND(I28<H28, I28>0),AND(J28<I28, J28>0),AND(K28<J28, K28>0),AND(J29>I29, I29>0),AND(K29>J29, J29>0))","v":false},9,null,null,"Dixie",{"$f":"IF(P18=TRUE,A31,\"\")","v":""}]
[null,null,"CR = Collection Rate",null,{"$f":"IF(ISBLANK(E16),\"N/A\",IF(OR(E16=0,E16=\"N/A\"),0,E16/E17))","v":0.15584503647455314},{"$f":"IF(ISBLANK(F16),\"N/A\",IF(OR(F16=0,F16=\"N/A\"),0,F16/F17))","v":0.22865381388925934},{"$f":"IF(ISBLANK(G16),\"N/A\",IF(OR(G16=0,G16=\"N/A\"),0,G16/G17))","v":0.3174593506248144},{"$f":"IF(ISBLANK(H16),\"N/A\",IF(AND(H16=0,H17=0,NOT(ISBLANK(H16)),NOT(ISBLANK(H17))),1,H16/H17))","v":0.36267596984194206},{"$f":"IF(ISBLANK(I16),\"N/A\",IF(AND(I16=0,I17=0,NOT(ISBLANK(I16)),NOT(ISBLANK(I17))),1,I16/I17))","v":0.40891045768434431},null,null,null,null,"Staffing - Training Required",null,{"$f":"OR(AND(J32<I32, J32>0),AND(K32<J32, K32>0),AND(K33>J33, J33>0))","v":false},10,null,null,"Duval",{"$f":"IF(P19=TRUE,A35,\"\")","v":""}]
[{"$f":"LEFT(B19,3)&\" \"&RIGHT(B19,6)","v":"CGE CQ3-17"},"CGE\nCQ3-17","RPE 06/30/16",null,null,"Qtr 1","Qtr 2","Qtr 3","Qtr 4","Qtr 5",null,null,null,"Systems",null,{"$f":"OR(K36<J36)","v":false},11,null,null,"Escambia",{"$f":"U12&\" \"&U13&\" \"&U14&\" \"&U15&\" \"&U16&\" \"&U17&\" \"&U18","v":"CGE CQ1-17 CGE CQ2-17     "}]
[null,null,"C = Cumulative Collections",null,null,{"$f":"LOOKUP($U$11&\" \"&$A19,Lookup!$X$2:$X$5361,Lookup!$I$2:$I$5361)","v":65637.37},{"$f":"LOOKUP($U$11&\" \"&$A19,Lookup!$X$2:$X$5361,Lookup!$J$2:$J$5361)","v":97549.49},125733.56,148693.31,null,null,null,null,null,null,{"$f":"COUNTIF(P13:P19,\"TRUE\")","v":2},12,null,null,"Flagler"]
[null,null,"A = Amount Assessed - Adjusted",null,null,{"$f":"LOOKUP($U$11&\" \"&$A19,Lookup!$X$2:$X$5361,Lookup!$D$2:$D$5361)","v":465510.05},{"$f":"LOOKUP($U$11&\" \"&$A19,Lookup!$X$2:$X$5361,Lookup!$E$2:$E$5361)","v":457785.55},457230.55,456582.55,null,null,null,null,null,null,null,null,null,null,"Franklin"]
[null,null,"CR = Collection Rate",null,null,{"$f":"IF(ISBLANK(F20),\"N/A\",IF(OR(F20=0,F20=\"N/A\"),0,F20/F21))","v":0.14100097301873504},{"$f":"IF(ISBLANK(G20),\"N/A\",IF(OR(G20=0,G20=\"N/A\"),0,G20/G21))","v":0.21308992824260181},{"$f":"IF(ISBLANK(H20),\"N/A\",IF(AND(H20=0,H21=0,NOT(ISBLANK(H20)),NOT(ISBLANK(H21))),1,H20/H21))","v":0.27498941179674019},{"$f":"IF(ISBLANK(I20),\"N/A\",IF(AND(I20=0,I21=0,NOT(ISBLANK(I20)),NOT(ISBLANK(I21))),1,I20/I21))","v":0.32566577500607502},{"$f":"IF(ISBLANK(J20),\"N/A\",IF(AND(J20=0,J21=0,NOT(ISBLANK(J20)),NOT(ISBLANK(J21))),1,J20/J21))","v":"N/A"},null,null,null,null,"Q1","Q2",null,null,null,"Gadsden"]
[{"$f":"LEFT(B23,3)&\" \"&RIGHT(B23,6)","v":"CGE CQ4-17"},"CGE\nCQ4-17","RPE 09/30/16",null,null,null,"Qtr 1","Qtr 2","Qtr 3","Qtr 4","Qtr 5",null,null,null,false,false,{"$f":"IF(AND(OR(ISBLANK(H12),ISBLANK(H13)),O23=FALSE),\"Red\",\"Gray\")","v":"Gray"},{"$f":"IF(AND(OR(ISBLANK(I16),ISBLANK(I17)),P23=FALSE),\"Red\",\"Gray\")","v":"Gray"},{"$f":"IF(AND('Circuit Criminal'!D4=1,S36=1),A11,IF(AND('Circuit Criminal'!D4=2,S36=1),A15,IF(AND('Circuit Criminal'!D4=3,S36=1),A19,IF(AND('Circuit Criminal'!D4=4,S36=1),A23,\"\"))))","v":""},"Gilchrist"]
[null,null,"C = Cumulative Collections",null,null,null,{"$f":"LOOKUP($U$11&\" \"&$A23,Lookup!$X$2:$X$5361,Lookup!$I$2:$I$5361)","v":69149.919999999998},101943.06,140538.59,null,null,null,null,null,false,false,{"$f":"IF(AND(OR(ISBLANK(H16),ISBLANK(H17)),O24=FALSE),\"Red\",\"Gray\")","v":"Gray"},{"$f":"IF(AND(OR(ISBLANK(I20),ISBLANK(I21)),P24=FALSE),\"Red\",\"Gray\")","v":"Gray"},{"$f":"IF(AND('Circuit Criminal'!D4=1,S37=1),A15,IF(AND('Circuit Criminal'!D4=2,S37=1),A19,IF(AND('Circuit Criminal'!D4=3,S37=1),A23,IF(AND('Circuit Criminal'!D4=4,S37=1),A27,\"\"))))","v":""},"Glades"]
[null,null,"A = Amount Assessed - Adjusted",null,null,null,{"$f":"LOOKUP($U$11&\" \"&$A23,Lookup!$X$2:$X$5361,Lookup!$D$2:$D$5361)","v":455054.51},449334.51,447812.01,null,null,null,null,null,false,false,{"$f":"IF(AND(OR(ISBLANK(H20),ISBLANK(H21)),O25=FALSE),\"Red\",\"Gray\")","v":"Gray"},{"$f":"IF(AND(OR(ISBLANK(I24),ISBLANK(I25)),P25=FALSE),\"Red\",\"Gray\")","v":"Gray"},{"$f":"IF(AND('Circuit Criminal'!D4=1,S38=1),A19,IF(AND('Circuit Criminal'!D4=2,S38=1),A23,IF(AND('Circuit Criminal'!D4=3,S38=1),A27,IF(AND('Circuit Criminal'!D4=4,S38=1),A31,\"\"))))","v":""},"Gulf"]
[null,null,"CR = Collection Rate",null,null,null,{"$f":"IF(ISBLANK(G24),\"N/A\",IF(OR(G24=0,G24=\"N/A\"),0,G24/G25))","v":0.15195964105487053},{"$f":"IF(ISBLANK(H24),\"N/A\",IF(AND(H24=0,H25=0,NOT(ISBLANK(H24)),NOT(ISBLANK(H25))),1,H24/H25))","v":0.22687565217280994},{"$f":"IF(ISBLANK(I24),\"N/A\",IF(AND(I24=0,I25=0,NOT(ISBLANK(I24)),NOT(ISBLANK(I25))),1,I24/I25))","v":0.31383390097107933},{"$f":"IF(ISBLANK(J24),\"N/A\",IF(AND(J24=0,J25=0,NOT(ISBLANK(J24)),NOT(ISBLANK(J25))),1,J24/J25))","v":"N/A"},{"$f":"IF(ISBLANK(K24),\"N/A\",IF(AND(K24=0,K25=0,NOT(ISBLANK(K24)),NOT(ISBLANK(K25))),1,K24/K25))","v":"N/A"},null,null,null,false,false,{"$f":"IF(AND(OR(ISBLANK(H24),ISBLANK(H25)),O26=FALSE),\"Red\",\"Gray\")","v":"Gray"},{"$f":"IF(AND(OR(ISBLANK(I28),ISBLANK(I29)),P26=FALSE),\"Red\",\"Gray\")","v":"Gray"},{"$f":"IF(AND('Circuit Criminal'!D4=1,S39=1),A23,IF(AND('Circuit Criminal'!D4=2,S39=1),A27,IF(AND('Circuit Criminal'!D4=3,S39=1),A31,IF(AND('Circuit Criminal'!D4=4,S39=1),A35,\"\"))))","v":""},"Hamilton"]
[{"$f":"LEFT(B27,3)&\" \"&RIGHT(B27,6)","v":"CGE CQ1-18"},"CGE\nCQ1-18","RPE 12/31/16",null,null,null,null,"Qtr 1","Qtr 2","Qtr 3","Qtr 4",null,null,null,false,false,{"$f":"IF(AND(OR(ISBLANK(H28),ISBLANK(H29)),O27=FALSE),\"Red\",\"Gray\")","v":"Gray"},{"$f":"IF(AND(OR(ISBLANK(I32),ISBLANK(I33)),P27=FALSE),\"Red\",\"Gray\")","v":"Gray"},{"$f":"IF(AND('Circuit Criminal'!D4=1,S40=1),A27,IF(AND('Circuit Criminal'!D4=2,S40=1),A31,IF(AND('Circuit Criminal'!D4=3,S40=1),A35,IF(AND('Circuit Criminal'!D4=4,S40=1),A39,\"\"))))","v":""},"Hardee"]
[null,null,"C = Cumulative Collections",null,null,null,null,74032.77,113962.84,null,null,null,null,null,null,null,null,null,null,"Hendry"]
[null,null,"A = Amount Assessed - Adjusted",null,null,null,null,444802.13,438341.13,null,null,null,null,null,"Q3","Q4",null,null,null,"Hernando"]
[null,null,"CR = Collection Rate",null,null,null,null,{"$f":"IF(ISBLANK(H28),\"N/A\",IF(AND(H28=0,H29=0,NOT(ISBLANK(H28)),NOT(ISBLANK(H29))),1,H28/H29))","v":0.16643978301093118},{"$f":"IF(ISBLANK(I28),\"N/A\",IF(AND(I28=0,I29=0,NOT(ISBLANK(I28)),NOT(ISBLANK(I29))),1,I28/I29))","v":0.25998664556073026},{"$f":"IF(ISBLANK(J28),\"N/A\",IF(AND(J28=0,J29=0,NOT(ISBLANK(J28)),NOT(ISBLANK(J29))),1,J28/J29))","v":"N/A"},{"$f":"IF(ISBLANK(K28),\"N/A\",IF(AND(K28=0,K29=0,NOT(ISBLANK(K28)),NOT(ISBLANK(K29))),1,K28/K29))","v":"N/A"},"Additional Notes Related to Collection Issues",null,null,false,false,{"$f":"IF(AND(OR(ISBLANK(J20),ISBLANK(J21)),O30=FALSE),\"Red\",\"Gray\")","v":"Red"},{"$f":"IF(AND(OR(ISBLANK(K24),ISBLANK(K25)),P30=FALSE),\"Red\",\"Gray\")","v":"Red"},null,"Highlands"]
[{"$f":"LEFT(B31,3)&\" \"&RIGHT(B31,6)","v":"CGE CQ2-18"},"CGE\nCQ2-18","RPE 03/31/17",null,null,null,null,null,"Qtr 1","Qtr 2","Qtr 3","10/01/16 - 12/31/16: ",null,null,false,false,{"$f":"IF(AND(OR(ISBLANK(J24),ISBLANK(J25)),O31=FALSE),\"Red\",\"Gray\")","v":"Red"},{"$f":"IF(AND(OR(ISBLANK(K28),ISBLANK(K29)),P31=FALSE),\"Red\",\"Gray\")","v":"Red"},null,"Hillsborough"]
[null,null,"C = Cumulative Collections",null,null,null,null,null,91605.22,null,null,null,null,null,false,false,{"$f":"IF(AND(OR(ISBLANK(J28),ISBLANK(J29)),O32=FALSE),\"Red\",\"Gray\")","v":"Red"},{"$f":"IF(AND(OR(ISBLANK(K32),ISBLANK(K33)),P32=FALSE),\"Red\",\"Gray\")","v":"Red"},null,"Holmes"]
[null,null,"A = Amount Assessed - Adjusted",null,null,null,null,null,533541.80000000005,null,null,null,null,null,false,false,{"$f":"IF(AND(OR(ISBLANK(J32),ISBLANK(J33)),O33=FALSE),\"Red\",\"Gray\")","v":"Red"},{"$f":"IF(AND(OR(ISBLANK(K36),ISBLANK(K37)),P33=FALSE),\"Red\",\"Gray\")","v":"Red"},null,"Indian River"]
[null,null,"CR = Collection Rate",null,null,null,null,null,{"$f":"IF(ISBLANK(I32),\"N/A\",IF(AND(I32=0,I33=0,NOT(ISBLANK(I32)),NOT(ISBLANK(I33))),1,I32/I33))","v":0.17169267712482883},{"$f":"IF(ISBLANK(J32),\"N/A\",IF(AND(J32=0,J33=0,NOT(ISBLANK(J32)),NOT(ISBLANK(J33))),1,J32/J33))","v":"N/A"},{"$f":"IF(ISBLANK(K32),\"N/A\",IF(AND(K32=0,K33=0,NOT(ISBLANK(K32)),NOT(ISBLANK(K33))),1,K32/K33))","v":"N/A"},"01/01/17 - 03/31/17: ",null,null,false,false,{"$f":"IF(AND(OR(ISBLANK(J36),ISBLANK(J37)),O34=FALSE),\"Red\",\"Gray\")","v":"Red"},{"$f":"IF(AND(OR(ISBLANK(K40),ISBLANK(K41)),P34=FALSE),\"Red\",\"Gray\")","v":"Red"},null,"Jackson"]
[{"$f":"LEFT(B35,3)&\" \"&RIGHT(B35,6)","v":"CGE CQ3-18"},"CGE\nCQ3-18","RPE 06/30/17",null,null,null,null,null,null,"Qtr 1","Qtr 2",null,null,null,null,null,null,null,null,"Jefferson"]
[null,null,"C = Cumulative Collections",null,null,null,null,null,null,null,null,null,null,null,{"$f":"IF(AND('Circuit Criminal'!$D$4=1,Q23=\"Red\"),\"Red\",\"Gray\")","v":"Gray"},{"$f":"IF(AND('Circuit Criminal'!$D$4=2,R23=\"Red\"),\"Red\",\"Gray\")","v":"Gray"},{"$f":"IF(AND('Circuit Criminal'!$D$4=3,Q30=\"Red\"),\"Red\",\"Gray\")","v":"Gray"},{"$f":"IF(AND('Circuit Criminal'!$D$4=4,R30=\"Red\"),\"Red\",\"Gray\")","v":"Gray"},{"$f":"COUNTIF(O36:R36,\"Red\")","v":0},"Lafayette"]
[null,null,"A = Amount Assessed - Adjusted",null,null,null,null,null,null,null,null,"04/01/17 - 06/30/17: ",null,null,{"$f":"IF(AND('Circuit Criminal'!$D$4=1,Q24=\"Red\"),\"Red\",\"Gray\")","v":"Gray"},{"$f":"IF(AND('Circuit Criminal'!$D$4=2,R24=\"Red\"),\"Red\",\"Gray\")","v":"Gray"},{"$f":"IF(AND('Circuit Criminal'!$D$4=3,Q31=\"Red\"),\"Red\",\"Gray\")","v":"Gray"},{"$f":"IF(AND('Circuit Criminal'!$D$4=4,R31=\"Red\"),\"Red\",\"Gray\")","v":"Gray"},{"$f":"COUNTIF(O37:R37,\"Red\")","v":0},"Lake"]
[null,null,"CR = Collection Rate",null,null,null,null,null,null,{"$f":"IF(ISBLANK(J36),\"N/A\",IF(AND(J36=0,J37=0,NOT(ISBLANK(J36)),NOT(ISBLANK(J37))),1,J36/J37))","v":"N/A"},{"$f":"IF(ISBLANK(K36),\"N/A\",IF(AND(K36=0,K37=0,NOT(ISBLANK(K36)),NOT(ISBLANK(K37))),1,K36/K37))","v":"N/A"},null,null,null,{"$f":"IF(AND('Circuit Criminal'!$D$4=1,Q25=\"Red\"),\"Red\",\"Gray\")","v":"Gray"},{"$f":"IF(AND('Circuit Criminal'!$D$4=2,R25=\"Red\"),\"Red\",\"Gray\")","v":"Gray"},{"$f":"IF(AND('Circuit Criminal'!$D$4=3,Q32=\"Red\"),\"Red\",\"Gray\")","v":"Gray"},{"$f":"IF(AND('Circuit Criminal'!$D$4=4,R32=\"Red\"),\"Red\",\"Gray\")","v":"Gray"},{"$f":"COUNTIF(O38:R38,\"Red\")","v":0},"Lee"]
[{"$f":"LEFT(B39,3)&\" \"&RIGHT(B39,6)","v":"CGE CQ4-18"},"CGE\nCQ4-18","RPE 09/30/17",null,null,null,null,null,null,null,"Qtr 1",null,null,null,{"$f":"IF(AND('Circuit Criminal'!$D$4=1,Q26=\"Red\"),\"Red\",\"Gray\")","v":"Gray"},{"$f":"IF(AND('Circuit Criminal'!$D$4=2,R26=\"Red\"),\"Red\",\"Gray\")","v":"Gray"},{"$f":"IF(AND('Circuit Criminal'!$D$4=3,Q33=\"Red\"),\"Red\",\"Gray\")","v":"Gray"},{"$f":"IF(AND('Circuit Criminal'!$D$4=4,R33=\"Red\"),\"Red\",\"Gray\")","v":"Gray"},{"$f":"COUNTIF(O39:R39,\"Red\")","v":0},"Leon"]
[null,null,"C = Cumulative Collections",null,null,null,null,null,null,null,null,"07/01/17- 09/30/17: ",null,null,{"$f":"IF(AND('Circuit Criminal'!$D$4=1,Q27=\"Red\"),\"Red\",\"Gray\")","v":"Gray"},{"$f":"IF(AND('Circuit Criminal'!$D$4=2,R27=\"Red\"),\"Red\",\"Gray\")","v":"Gray"},{"$f":"IF(AND('Circuit Criminal'!$D$4=3,Q34=\"Red\"),\"Red\",\"Gray\")","v":"Gray"},{"$f":"IF(AND('Circuit Criminal'!$D$4=4,R34=\"Red\"),\"Red\",\"Gray\")","v":"Gray"},{"$f":"COUNTIF(O40:R40,\"Red\")","v":0},"Levy"]
[null,null,"A = Amount Assessed - Adjusted",null,null,null,null,null,null,null,null,null,null,null,{"$f":"COUNTIF(O36:O40,\"Red\")","v":0},{"$f":"COUNTIF(P36:P40,\"Red\")","v":0},{"$f":"COUNTIF(Q36:Q40,\"Red\")","v":0},{"$f":"COUNTIF(R36:R40,\"Red\")","v":0},null,"Liberty"]
[null,null,"CR = Collection Rate",null,null,null,null,null,null,null,{"$f":"IF(ISBLANK(K40),\"N/A\",IF(OR(K40=0,K40=\"N/A\"),0,K40/K41))","v":"N/A"},null,null,null,{"$f":"SUM(O41:R41)","v":0},null,null,null,null,"Madison"]
[null,null,"Business Rules","Purpose of Report:  The CCOC Collection Rate Performance Measure     report tracks dollars in the quarter they are assessed and then how well     those assessed dollars have been collected over the next five quarters.  ",null,null,null,"Adjustments to Assessments: The amount assessed in a given assessment control group should be adjusted in the reporting period when assessments are later adjusted by the Court or other provisions of law.  ",null,null,null,null,null,null,null,null,null,null,null,"Manatee"]
[null,null,"NOTES:","The following conditions will alert when performance standards are not met and/or established business rules within the control group are not followed.",null,null,null,null,null,null,null,null,null,null,null,null,null,null,null,"Martin"]
[null,null,null,"1.) Action Plan: If the 5th quarter Collection Rate is below Standard (red numbers on rose background), select a \"Reason Code\" and write a brief statement in \"Current Action to Improve\" in the green area ONLY. ",null,null,null,null,null,null,null,null,null,null,null,null,null,null,null,"Nassau"]
[null,null,null,"2.) Additional Notes Related to Collection Issues: Include a brief explaination when either of the following conditions not consistant with the Collection Report Business Rules. ",null,null,null,null,null,null,null,null,null,null,null,null,null,null,null,"Okaloosa"]
[null,null,null,null,"a.) Cumulative Collection amount has Decreased from the previous quarter in the same Control Group (font color for amount will change to RED)",null,null,null,null,null,null,null,null,null,null,null,null,null,null,"Okeechobee"]
[null,null,null,null,"b.) The Amount Assessed - Adjusted has Increased from the previous quarter in the same Control Group (font color for amount will change to RED)",null,null,null,null,null,null,null,null,null,null,null,null,null,null,"Orange"]
[null,null,null,null,null,null,null,null,null,null,null,null,null,null,null,null,null,null,null,"Nassau"]
[null,null,null,null,null,null,null,null,null,null,null,null,null,null,null,null,null,null,null,"Okaloosa"]
[null,null,null,null,null,null,null,null,null,null,null,null,null,null,null,null,null,null,null,"Okeechobee"]
[null,null,null,null,null,null,null,null,null,null,null,null,null,null,null,null,null,null,null,"Orange"]
[null,null,null,null,null,null,null,null,null,null,null,null,null,null,null,null,null,null,null,"Pasco"]
[null,null,null,null,null,null,null,null,null,null,null,null,null,null,null,null,null,null,null,"Pinellas"]
[null,null,null,null,null,null,null,null,null,null,null,null,null,null,null,null,null,null,null,"Polk"]
[null,{"$f":"MAX('Circuit Criminal'!B51:B98)","v":0},null,"Issue",null,"Calc 1 Needed","Calc 2 Needed","Calc 3 Needed","Calc 4 Needed","Standard",null,null,null,null,null,null,null,null,null,"Putnam"]
[{"$f":"D$8","v":"County Criminal"},{"$f":"IF(E57=\"YES\",MAX(B56)+1,0)","v":0},{"$f":"A$11","v":"CGE CQ1-17"},{"$f":"\"After 3rd Q, Collections went up by more than set percentage of: \"&TEXT(J57,\"#0%\")","v":"After 3rd Q, Collections went up by more than set percentage of: 500%"},{"$f":"IF(MAX(F57:G57)>V$10,\"YES\",\"NO\")","v":"NO"},{"$f":"IFERROR(IF(NOT(ISBLANK(G12)),(G12-F12)/F12,0),0)","v":0.11793995160143977},{"$f":"IFERROR(IF(NOT(ISBLANK(H12)),(H12-G12)/G12,0),0)","v":0.11652422439392002},null,null,{"$f":"V$10","v":5},null,null,null,null,null,null,null,null,null,"Santa Rosa"]
[{"$f":"D$8","v":"County Criminal"},{"$f":"IF(E58=\"YES\",MAX(B$56:B57)+1,0)","v":0},{"$f":"A$11","v":"CGE CQ1-17"},{"$f":"\"Assessments dropped by more than set percentage of: \"&TEXT(J58,\"#0%\")","v":"Assessments dropped by more than set percentage of: 15%"},{"$f":"IF(MIN(F58:I58)<(-1*V$11),\"YES\",\"NO\")","v":"NO"},{"$f":"IFERROR(IF(NOT(ISBLANK(E13)),(E13-D13)/D13,0),0)","v":-1.5926090523103079E-2},{"$f":"IFERROR(IF(NOT(ISBLANK(F13)),(F13-E13)/E13,0),0)","v":-8.4566518041699189E-3},{"$f":"IFERROR(IF(NOT(ISBLANK(G13)),(G13-F13)/F13,0),0)","v":-4.6278834951456313E-3},{"$f":"IFERROR(IF(NOT(ISBLANK(H13)),(H13-G13)/G13,0),0)","v":-5.3935041983810749E-4},{"$f":"V$11","v":0.15},null,null,null,null,null,null,null,null,null,"Sumter"]
["County Criminal",{"$f":"IF(E59=\"YES\",MAX(B$56:B58)+1,0)","v":1},{"$f":"A$11","v":"CGE CQ1-17"},{"$f":"\"The 5th Quarter Collection Rate did not meet the established performance measure standard of: \"&TEXT(J59,\"#0%\")","v":"The 5th Quarter Collection Rate did not meet the established performance measure standard of: 40%"},{"$f":"IF(F59=\"N/A\",\"NO\",IF(F59<H$8,\"YES\",\"NO\"))","v":"YES"},{"$f":"H14","v":0.39080958088469975},null,null,null,{"$f":"H$8","v":0.4},null,null,null,null,null,null,null,null,null,"Washington"]
["County Criminal",{"$f":"IF(E60=\"YES\",MAX(B$56:B59)+1,0)","v":0},{"$f":"A$11","v":"CGE CQ1-17"},"Collections amount decreased from prior quarter",{"$f":"IF(MIN(F60:I60)<0,\"YES\",\"NO\")","v":"NO"},{"$f":"IFERROR(IF(NOT(ISBLANK(E12)),(E12-D12)/D12,0),0)","v":0.46239328469237967},0.24364218462882872,0.11793995160143977,0.11652422439392002]
["County Criminal",{"$f":"IF(E61=\"YES\",MAX(B$56:B60)+1,0)","v":0},{"$f":"A$11","v":"CGE CQ1-17"},"Assessment amount increased from prior quarter",{"$f":"IF(MAX(F61:I61)>0,\"YES\",\"NO\")","v":"NO"},-1.5926090523103079E-2,-8.4566518041699189E-3,-4.6278834951456313E-3,-5.3935041983810749E-4]
["County Criminal",{"$f":"IF(E62=\"YES\",MAX(B$56:B61)+1,0)","v":0},{"$f":"A$15","v":"CGE CQ2-17"},{"$f":"\"After 3rd Q, Collections went up by more than set percentage of: \"&TEXT(J62,\"#0%\")","v":"After 3rd Q, Collections went up by more than set percentage of: 500%"},{"$f":"IF(MAX(F62:G62)>V$10,\"YES\",\"NO\")","v":"NO"},{"$f":"IFERROR(IF(NOT(ISBLANK(H16)),(H16-G16)/G16,0),0)","v":0.13872529685467325},{"$f":"IFERROR(IF(NOT(ISBLANK(I16)),(I16-H16)/H16,0),0)","v":0.12594528111724188},null,null,{"$f":"V$10","v":5},null,null,null,null,null,null,null,null,null,"Sarasota"]
["County Criminal",{"$f":"IF(E63=\"YES\",MAX(B$56:B62)+1,0)","v":0},{"$f":"A$15","v":"CGE CQ2-17"},{"$f":"\"Assessments dropped by more than set percentage of: \"&TEXT(J63,\"#0%\")","v":"Assessments dropped by more than set percentage of: 15%"},{"$f":"IF(MIN(F63:I63)<(-1*V$11),\"YES\",\"NO\")","v":"NO"},{"$f":"IFERROR(IF(NOT(ISBLANK(F17)),(F17-E17)/E17,0),0)","v":-8.34861993942238E-3},{"$f":"IFERROR(IF(NOT(ISBLANK(G17)),(G17-F17)/F17,0),0)","v":-3.8039947860427701E-3},{"$f":"IFERROR(IF(NOT(ISBLANK(H17)),(H17-G17)/G17,0),0)","v":-3.2452565382850664E-3},{"$f":"IFERROR(IF(NOT(ISBLANK(I17)),(I17-H17)/H17,0),0)","v":-1.3625498094271551E-3},{"$f":"V$11","v":0.15},null,null,null,null,null,null,null,null,null,"Suwannee"]
["County Criminal",{"$f":"IF(E64=\"YES\",MAX(B$56:B63)+1,0)","v":0},{"$f":"A$15","v":"CGE CQ2-17"},"Collections amount decreased from prior quarter",{"$f":"IF(MIN(F64:I64)<0,\"YES\",\"NO\")","v":"NO"},{"$f":"IFERROR(IF(NOT(ISBLANK(F16)),(F16-E16)/E16,0),0)","v":0.45493802836911068},0.38310282925533373,0.13872529685467325,0.12594528111724188]
["County Criminal",{"$f":"IF(E65=\"YES\",MAX(B$56:B64)+1,0)","v":0},{"$f":"A$15","v":"CGE CQ2-17"},"Assessment amount increased from prior quarter",{"$f":"IF(MAX(F65:I65)>0,\"YES\",\"NO\")","v":"NO"},-8.34861993942238E-3,-3.8039947860427701E-3,-3.2452565382850664E-3,-1.3625498094271551E-3]
["County Criminal",{"$f":"IF(E66=\"YES\",MAX(B$56:B65)+1,0)","v":0},{"$f":"A$15","v":"CGE CQ2-17"},{"$f":"\"The 5th Quarter Collection Rate did not meet the established performance measure standard of: \"&TEXT(J66,\"#0%\")","v":"The 5th Quarter Collection Rate did not meet the established performance measure standard of: 40%"},{"$f":"IF(F66=\"N/A\",\"NO\",IF(F66<H$8,\"YES\",\"NO\"))","v":"NO"},{"$f":"I18","v":0.40891045768434431},null,null,null,{"$f":"H$8","v":0.4}]
["County Criminal",{"$f":"IF(E67=\"YES\",MAX(B$56:B66)+1,0)","v":0},{"$f":"A$19","v":"CGE CQ3-17"},{"$f":"\"After 3rd Q, Collections went up by more than set percentage of: \"&TEXT(J67,\"#0%\")","v":"After 3rd Q, Collections went up by more than set percentage of: 500%"},{"$f":"IF(MAX(F67:G67)>V$10,\"YES\",\"NO\")","v":"NO"},{"$f":"IFERROR(IF(NOT(ISBLANK(I20)),(I20-H20)/H20,0),0)","v":0.18260637812211791},{"$f":"IFERROR(IF(NOT(ISBLANK(J20)),(J20-I20)/I20,0),0)","v":0},null,null,{"$f":"V$10","v":5},null,null,null,null,null,null,null,null,null,"Seminole"]
["County Criminal",{"$f":"IF(E68=\"YES\",MAX(B$56:B67)+1,0)","v":0},{"$f":"A$19","v":"CGE CQ3-17"},{"$f":"\"Assessments dropped by more than set percentage of: \"&TEXT(J68,\"#0%\")","v":"Assessments dropped by more than set percentage of: 15%"},{"$f":"IF(MIN(F68:I68)<(-1*V$11),\"YES\",\"NO\")","v":"NO"},{"$f":"IFERROR(IF(NOT(ISBLANK(G21)),(G21-F21)/F21,0),0)","v":-1.659362671117412E-2},{"$f":"IFERROR(IF(NOT(ISBLANK(H21)),(H21-G21)/G21,0),0)","v":-1.2123580571732769E-3},{"$f":"IFERROR(IF(NOT(ISBLANK(I21)),(I21-H21)/H21,0),0)","v":-1.4172281357840153E-3},{"$f":"IFERROR(IF(NOT(ISBLANK(J21)),(J21-I21)/I21,0),0)","v":0},{"$f":"V$11","v":0.15},null,null,null,null,null,null,null,null,null,"Taylor"]
["County Criminal",{"$f":"IF(E69=\"YES\",MAX(B$56:B68)+1,0)","v":0},{"$f":"A$19","v":"CGE CQ3-17"},"Collections amount decreased from prior quarter",{"$f":"IF(MIN(F69:I69)<0,\"YES\",\"NO\")","v":"NO"},{"$f":"IFERROR(IF(NOT(ISBLANK(G20)),(G20-F20)/F20,0),0)","v":0.48618827963399525},0.28892073141540764,0.18260637812211791,0]
["County Criminal",{"$f":"IF(E70=\"YES\",MAX(B$56:B69)+1,0)","v":0},{"$f":"A$19","v":"CGE CQ3-17"},"Assessment amount increased from prior quarter",{"$f":"IF(MAX(F70:I70)>0,\"YES\",\"NO\")","v":"NO"},-1.659362671117412E-2,-1.2123580571732769E-3,-1.4172281357840153E-3,0]
["County Criminal",{"$f":"IF(E71=\"YES\",MAX(B$56:B70)+1,0)","v":0},{"$f":"A$19","v":"CGE CQ3-17"},{"$f":"\"The 5th Quarter Collection Rate did not meet the established performance measure standard of: \"&TEXT(J71,\"#0%\")","v":"The 5th Quarter Collection Rate did not meet the established performance measure standard of: 40%"},{"$f":"IF(F71=\"N/A\",\"NO\",IF(F71<H$8,\"YES\",\"NO\"))","v":"NO"},{"$f":"J22","v":"N/A"},null,null,null,{"$f":"H$8","v":0.4}]
["County Criminal",{"$f":"IF(E72=\"YES\",MAX(B$56:B71)+1,0)","v":0},{"$f":"A$23","v":"CGE CQ4-17"},{"$f":"\"After 3rd Q, Collections went up by more than set percentage of: \"&TEXT(J72,\"#0%\")","v":"After 3rd Q, Collections went up by more than set percentage of: 500%"},{"$f":"IF(MAX(F72:G72)>V$10,\"YES\",\"NO\")","v":"NO"},{"$f":"IFERROR(IF(NOT(ISBLANK(J24)),(J24-I24)/I24,0),0)","v":0},{"$f":"IFERROR(IF(NOT(ISBLANK(K24)),(K24-J24)/J24,0),0)","v":0},null,null,{"$f":"V$10","v":5},null,null,null,null,null,null,null,null,null,"St. Johns"]
["County Criminal",{"$f":"IF(E73=\"YES\",MAX(B$56:B72)+1,0)","v":0},{"$f":"A$23","v":"CGE CQ4-17"},{"$f":"\"Assessments dropped by more than set percentage of: \"&TEXT(J73,\"#0%\")","v":"Assessments dropped by more than set percentage of: 15%"},{"$f":"IF(MIN(F73:I73)<(-1*V$11),\"YES\",\"NO\")","v":"NO"},{"$f":"IFERROR(IF(NOT(ISBLANK(H25)),(H25-G25)/G25,0),0)","v":-1.2569922667066852E-2},{"$f":"IFERROR(IF(NOT(ISBLANK(I25)),(I25-H25)/H25,0),0)","v":-3.3883442426890379E-3},{"$f":"IFERROR(IF(NOT(ISBLANK(J25)),(J25-I25)/I25,0),0)","v":0},{"$f":"IFERROR(IF(NOT(ISBLANK(K25)),(K25-J25)/J25,0),0)","v":0},{"$f":"V$11","v":0.15},null,null,null,null,null,null,null,null,null,"Union"]
["County Criminal",{"$f":"IF(E74=\"YES\",MAX(B$56:B73)+1,0)","v":0},{"$f":"A$23","v":"CGE CQ4-17"},"Collections amount decreased from prior quarter",{"$f":"IF(MIN(F74:I74)<0,\"YES\",\"NO\")","v":"NO"},{"$f":"IFERROR(IF(NOT(ISBLANK(H24)),(H24-G24)/G24,0),0)","v":0.47423250815040713},0.3785988962858286,0,0]
["County Criminal",{"$f":"IF(E75=\"YES\",MAX(B$56:B74)+1,0)","v":0},{"$f":"A$23","v":"CGE CQ4-17"},"Assessment amount increased from prior quarter",{"$f":"IF(MAX(F75:I75)>0,\"YES\",\"NO\")","v":"NO"},-1.2569922667066852E-2,-3.3883442426890379E-3,0,0]
["County Criminal",{"$f":"IF(E76=\"YES\",MAX(B$56:B75)+1,0)","v":0},{"$f":"A$23","v":"CGE CQ4-17"},{"$f":"\"The 5th Quarter Collection Rate did not meet the established performance measure standard of: \"&TEXT(J76,\"#0%\")","v":"The 5th Quarter Collection Rate did not meet the established performance measure standard of: 40%"},{"$f":"IF(F76=\"N/A\",\"NO\",IF(F76<H$8,\"YES\",\"NO\"))","v":"NO"},{"$f":"K26","v":"N/A"},null,null,null,{"$f":"H$8","v":0.4}]
["County Criminal",{"$f":"IF(E77=\"YES\",MAX(B$56:B76)+1,0)","v":0},{"$f":"A$27","v":"CGE CQ1-18"},{"$f":"\"After 3rd Q, Collections went up by more than set percentage of: \"&TEXT(J77,\"#0%\")","v":"After 3rd Q, Collections went up by more than set percentage of: 500%"},{"$f":"IF(MAX(F77)>V$10,\"YES\",\"NO\")","v":"NO"},{"$f":"IFERROR(IF(NOT(ISBLANK(K28)),(K28-J28)/J28,0),0)","v":0},null,null,null,{"$f":"V$10","v":5},null,null,null,null,null,null,null,null,null,"St. Lucie"]
["County Criminal",{"$f":"IF(E78=\"YES\",MAX(B$56:B77)+1,0)","v":0},{"$f":"A$27","v":"CGE CQ1-18"},{"$f":"\"Assessments dropped by more than set percentage of: \"&TEXT(J78,\"#0%\")","v":"Assessments dropped by more than set percentage of: 15%"},{"$f":"IF(MIN(F78:H78)<(-1*V$11),\"YES\",\"NO\")","v":"NO"},{"$f":"IFERROR(IF(NOT(ISBLANK(I29)),(I29-H29)/H29,0),0)","v":-1.4525559938303352E-2},{"$f":"IFERROR(IF(NOT(ISBLANK(J29)),(J29-I29)/I29,0),0)","v":0},{"$f":"IFERROR(IF(NOT(ISBLANK(K29)),(K29-J29)/J29,0),0)","v":0},null,{"$f":"V$11","v":0.15},null,null,null,null,null,null,null,null,null,"Volusia"]
["County Criminal",{"$f":"IF(E79=\"YES\",MAX(B$56:B78)+1,0)","v":0},{"$f":"A$27","v":"CGE CQ1-18"},"Collections amount decreased from prior quarter",{"$f":"IF(MIN(F79:H79)<0,\"YES\",\"NO\")","v":"NO"},{"$f":"IFERROR(IF(NOT(ISBLANK(I28)),(I28-H28)/H28,0),0)","v":0.53935669298879385},0,0]
["County Criminal",{"$f":"IF(E80=\"YES\",MAX(B$56:B79)+1,0)","v":0},{"$f":"A$27","v":"CGE CQ1-18"},"Assessment amount increased from prior quarter",{"$f":"IF(MAX(F80:H80)>0,\"YES\",\"NO\")","v":"NO"},-1.4525559938303352E-2,0,0]
["County Criminal",{"$f":"IF(E81=\"YES\",MAX(B$56:B80)+1,0)","v":0},{"$f":"A$31","v":"CGE CQ2-18"},{"$f":"\"Assessments dropped by more than set percentage of: \"&TEXT(J81,\"#0%\")","v":"Assessments dropped by more than set percentage of: 15%"},{"$f":"IF(MIN(F81:G81)<(-1*V$11),\"YES\",\"NO\")","v":"NO"},{"$f":"IFERROR(IF(NOT(ISBLANK(J33)),(J33-I33)/I33,0),0)","v":0},{"$f":"IFERROR(IF(NOT(ISBLANK(K33)),(K33-J33)/J33,0),0)","v":0},null,null,{"$f":"V$11","v":0.15},null,null,null,null,null,null,null,null,null,"Wakulla"]
["County Criminal",{"$f":"IF(E82=\"YES\",MAX(B$56:B81)+1,0)","v":0},{"$f":"A$31","v":"CGE CQ2-18"},"Collections amount decreased from prior quarter",{"$f":"IF(MIN(F82:G82)<0,\"YES\",\"NO\")","v":"NO"},{"$f":"IFERROR(IF(NOT(ISBLANK(J32)),(J32-I32)/I32,0),0)","v":0},{"$f":"IFERROR(IF(NOT(ISBLANK(K32)),(K32-J32)/J32,0),0)","v":0}]
["County Criminal",{"$f":"IF(E83=\"YES\",MAX(B$56:B82)+1,0)","v":0},{"$f":"A$31","v":"CGE CQ2-18"},"Assessment amount increased from prior quarter",{"$f":"IF(MAX(F83:G83)>0,\"YES\",\"NO\")","v":"NO"},{"$f":"IFERROR(IF(NOT(ISBLANK(J33)),(J33-I33)/I33,0),0)","v":0},{"$f":"IFERROR(IF(NOT(ISBLANK(K33)),(K33-J33)/J33,0),0)","v":0}]
["County Criminal",{"$f":"IF(E84=\"YES\",MAX(B$56:B83)+1,0)","v":0},{"$f":"A$35","v":"CGE CQ3-18"},{"$f":"\"Assessments dropped by more than set percentage of: \"&TEXT(J84,\"#0%\")","v":"Assessments dropped by more than set percentage of: 15%"},{"$f":"IF(MIN(F84)<(-1*V$11),\"YES\",\"NO\")","v":"NO"},{"$f":"IFERROR(IF(NOT(ISBLANK(K37)),(K37-J37)/J37,0),0)","v":0},null,null,null,{"$f":"V$11","v":0.15},null,null,null,null,null,null,null,null,null,"Walton"]
["County Criminal",{"$f":"IF(E85=\"YES\",MAX(B$56:B84)+1,0)","v":0},{"$f":"A$35","v":"CGE CQ3-18"},"Collections amount decreased from prior quarter",{"$f":"IF(MIN(F85)<0,\"YES\",\"NO\")","v":"NO"},{"$f":"IFERROR(IF(NOT(ISBLANK(K36)),(K36-J36)/J36,0),0)","v":0}]
["County Criminal",{"$f":"IF(E86=\"YES\",MAX(B$56:B85)+1,0)","v":0},{"$f":"A$35","v":"CGE CQ3-18"},"Assessment amount increased from prior quarter",{"$f":"IF(MAX(F86)>0,\"YES\",\"NO\")","v":"NO"},{"$f":"IFERROR(IF(NOT(ISBLANK(K37)),(K37-J37)/J37,0),0)","v":0}]

{"sheet":"Juvenile Delinquency","index":4,"n_rows":86,"n_cols":22,"rows_kept":86,"cut":false,"hidden":false,"merged":[[30,11,32,12],[33,11,35,12],[36,11,38,12],[39,11,41,12],[42,7,42,10],[52,0,52,1],[34,1,37,1],[38,1,41,1],[5,3,5,4],[7,3,7,4],[26,1,29,1],[30,1,33,1],[10,1,13,1],[38,0,41,0],[26,0,29,0],[42,3,42,6],[30,0,33,0],[34,0,37,0],[10,8,13,8],[18,1,21,1],[22,1,25,1],[10,0,13,0],[18,12,21,12],[14,1,17,1],[24,4,25,4],[24,5,25,5],[22,11,25,11],[22,12,25,12],[14,0,17,0],[18,0,21,0],[22,0,25,0],[24,3,25,3],[18,11,21,11],[29,11,29,12],[8,11,8,12],[10,11,13,11],[10,12,13,12],[14,11,17,11],[14,12,17,12]]}
[]
[null,null,null,null,null,null,null,null,null,null,null,null,"County Fiscal Year 2016-2017",null,null,null,null,null,null,"CountyNames"]
[null,null,null,null,null,null,null,null,null,null,null,null,"Collections Quarterly Report Form for CCOC",null,null,null,null,null,null,"Alachua"]
[null,null,"Report for Quarter Ending: ",{"$f":"'Circuit Criminal'!D4","v":"March 2017"},null,null,null,null,"REQUIRED: Reason Codes AND Action to Improve / Descriptions Required if Measure(s) Not Met",null,null,null,null,null,null,null,null,null,null,"Baker"]
[null,null,"Version #: ",{"$f":"'Circuit Criminal'!$D$5","v":1},null,null,null,null,null,"Internal: Must clarify reason AND expected duration internal reason will be resolved",null,null,null,null,null,null,null,null,null,"Bay"]
[null,null,"County: ",{"$f":"'Circuit Criminal'!D6","v":"Brevard"},null,null,null,null,null,"External: Detailed explanation of external reason the measure wasn't met ",null,null,null,null,null,null,null,null,null,"Bradford"]
[null,null,null,null,null,null,null,null,null,null,null,null,null,null,null,null,null,null,null,"Brevard"]
[null,null,"Court/Case Type:","Juvenile Delinquency",null,null,"Performance Measure Standard:",0.09,null,null,null,null,null,null,null,null,null,null,null,"Broward"]
[null,null,null,null,null,null,null,null,null,null,null,"Action Plan",null,1,"version #1","Qtr1 - December",1,null,null,"Calhoun"]
[null,null,"Control Groups","10/01/15 - 12/31/15","01/01/16 - 03/31/16","04/01/16 - 06/30/16","07/01/16 - 09/30/16","10/01/16 - 12/31/16","01/01/17 - 03/31/17","04/01/17 - 06/30/17","07/01/17- 09/30/17","Reason Code","Current Actions to Improve",null,{"$f":"'Circuit Criminal'!O10","v":2},{"$f":"'Circuit Criminal'!P10","v":"March 2017"},{"$f":"'Circuit Criminal'!Q10","v":0},{"$f":"'Circuit Criminal'!R10","v":0},{"$f":"'Circuit Criminal'!S10","v":0},{"$f":"'Circuit Criminal'!T10","v":"Charlotte"},{"$f":"'Circuit Criminal'!U10","v":0},{"$f":"'Circuit Criminal'!V10","v":5}]
[{"$f":"LEFT(B11,3)&\" \"&RIGHT(B11,6)","v":"CGE CQ1-17"},"CGE\nCQ1-17","RPE 12/31/15","Qtr 1","Qtr 2","Qtr 3","Qtr 4","Qtr 5",null,null,null,null,null,"Economy","version #3","Qtr 3 - June",3,null,null,"Citrus",{"$f":"D6&\" \"&D8","v":"Brevard Juvenile Delinquency"},0.15]
[null,null,"C = Cumulative Collections",{"$f":"LOOKUP($U$11&\" \"&$A11,Lookup!$X$2:$X$5361,Lookup!$I$2:$I$5361)","v":1346.1},{"$f":"LOOKUP($U$11&\" \"&$A11,Lookup!$X$2:$X$5361,Lookup!$J$2:$J$5361)","v":2452.4},{"$f":"LOOKUP($U$11&\" \"&$A11,Lookup!$X$2:$X$5361,Lookup!$K$2:$K$5361)","v":2778.4},{"$f":"LOOKUP($U$11&\" \"&$A11,Lookup!$X$2:$X$5361,Lookup!$L$2:$L$5361)","v":2828.4},2828.4,null,null,null,null,null,"Incarcerations","version #4","Qtr 4 - September",4,null,null,"Clay",{"$f":"IF(P13=TRUE,A11,\"\")","v":""}]
[null,null,"A = Amount Assessed - Adjusted",{"$f":"LOOKUP($U$11&\" \"&$A11,Lookup!$X$2:$X$5361,Lookup!$D$2:$D$5361)","v":28388.400000000001},{"$f":"LOOKUP($U$11&\" \"&$A11,Lookup!$X$2:$X$5361,Lookup!$E$2:$E$5361)","v":28122.9},{"$f":"LOOKUP($U$11&\" \"&$A11,Lookup!$X$2:$X$5361,Lookup!$F$2:$F$5361)","v":27788.6},{"$f":"LOOKUP($U$11&\" \"&$A11,Lookup!$X$2:$X$5361,Lookup!$G$2:$G$5361)","v":27538.6},27538.6,null,null,null,null,null,"Late/Non-pay/Pay Plans","version #5",{"$f":"OR(AND(E12<D12,E12>0),AND(F12<E12,F12>0),AND(G12<F12,G12>0),AND(H12<G12,H12>0),AND(F13>E13,E13>0),AND(G13>F13,F13>0),AND(H13<G13,G13>0))","v":false},5,null,null,"Collier",{"$f":"IF(P14=TRUE,A15,\"\")","v":""}]
[null,null,"CR = Collection Rate ",{"$f":"IF(ISBLANK(D12),\"N/A\",IF(OR(D12=0,D12=\"N/A\"),0,D12/D13))","v":4.7417254935114339E-2},{"$f":"IF(ISBLANK(E12),\"N/A\",IF(OR(E12=0,E12=\"N/A\"),0,E12/E13))","v":8.7202955598462459E-2},{"$f":"IF(ISBLANK(F12),\"N/A\",IF(OR(F12=0,F12=\"N/A\"),0,F12/F13))","v":9.998344644926338E-2},{"$f":"IF(ISBLANK(G12),\"N/A\",IF(OR(G12=0,G12=\"N/A\"),0,G12/G13))","v":0.10270674616719805},{"$f":"IF(ISBLANK(H12),\"N/A\",IF(AND(H12=0,H13=0,NOT(ISBLANK(H12)),NOT(ISBLANK(H13))),1,H12/H13))","v":0.10270674616719805},null,null,null,null,null,"Mandatory Assessment","version #6",{"$f":"OR(AND(F16<E16,F16>0),AND(G16<F16,G16>0),AND(H16<G16,H16>0),AND(I16<H16,I16>0),AND(G17>F17, F17>0),AND(H17>G17, G17>0),AND(I17<H17,I17>0))","v":false},6,null,null,"Columbia",{"$f":"IF(P15=TRUE,A19,\"\")","v":""}]
[{"$f":"LEFT(B15,3)&\" \"&RIGHT(B15,6)","v":"CGE CQ2-17"},"CGE \nCQ2-17","RPE 03/31/16",null,"Qtr 1","Qtr 2","Qtr 3","Qtr 4","Qtr 5",null,null,"Internal","The standard was not met despit pursuit of all collections efforts within the control of the Clerk. ","Other","version #7",{"$f":"OR(AND(G20<F20,D10>0),AND(H20<G20,H20>0),AND(I20<H20,I20>0),AND(J20<I20,J20>0),AND(H21>G21, G21>0),AND(I21>H21, H21>0),AND(J21<I21, J21>0))","v":false},7,null,null,"Dade",{"$f":"IF(P16=TRUE,A23,\"\")","v":""}]
[null,null,"C = Cumulative Collections",null,{"$f":"LOOKUP($U$11&\" \"&$A15,Lookup!$X$2:$X$5361,Lookup!$I$2:$I$5361)","v":1341.75},{"$f":"LOOKUP($U$11&\" \"&$A15,Lookup!$X$2:$X$5361,Lookup!$J$2:$J$5361)","v":1995.25},{"$f":"LOOKUP($U$11&\" \"&$A15,Lookup!$X$2:$X$5361,Lookup!$K$2:$K$5361)","v":2211.25},2361.25,2629.25,null,null,null,null,"Procedural","version #8",{"$f":"OR(AND(H24<G24, H24>0),AND(I24<H24, I24>0),AND(J24<I24, J24>0),AND(K24<J24, K24>0),AND(I25>H25, H25>0),AND(J25>I25, I25>0),AND(K25<J25, J25>0))","v":false},8,null,null,"Desoto",{"$f":"IF(P17=TRUE,A27,\"\")","v":""}]
[null,null,"A = Amount Assessed - Adjusted",null,{"$f":"LOOKUP($U$11&\" \"&$A15,Lookup!$X$2:$X$5361,Lookup!$D$2:$D$5361)","v":41790.75},{"$f":"LOOKUP($U$11&\" \"&$A15,Lookup!$X$2:$X$5361,Lookup!$E$2:$E$5361)","v":41290.75},{"$f":"LOOKUP($U$11&\" \"&$A15,Lookup!$X$2:$X$5361,Lookup!$F$2:$F$5361)","v":41240.75},41240.75,41240.75,null,null,null,null,"Staffing - Insufficient Personnel","version #9",{"$f":"OR(AND(I28<H28, I28>0),AND(J28<I28, J28>0),AND(K28<J28, K28>0),AND(J29>I29, I29>0),AND(K29>J29, J29>0))","v":false},9,null,null,"Dixie",{"$f":"IF(P18=TRUE,A31,\"\")","v":""}]
[null,null,"CR = Collection Rate",null,{"$f":"IF(ISBLANK(E16),\"N/A\",IF(OR(E16=0,E16=\"N/A\"),0,E16/E17))","v":3.2106387178980997E-2},{"$f":"IF(ISBLANK(F16),\"N/A\",IF(OR(F16=0,F16=\"N/A\"),0,F16/F17))","v":4.8321960729703385E-2},{"$f":"IF(ISBLANK(G16),\"N/A\",IF(OR(G16=0,G16=\"N/A\"),0,G16/G17))","v":5.361808405521238E-2},{"$f":"IF(ISBLANK(H16),\"N/A\",IF(AND(H16=0,H17=0,NOT(ISBLANK(H16)),NOT(ISBLANK(H17))),1,H16/H17))","v":5.7255263301467602E-2},{"$f":"IF(ISBLANK(I16),\"N/A\",IF(AND(I16=0,I17=0,NOT(ISBLANK(I16)),NOT(ISBLANK(I17))),1,I16/I17))","v":6.3753690221443601E-2},null,null,null,null,"Staffing - Training Required","version #10",{"$f":"OR(AND(J32<I32, J32>0),AND(K32<J32, K32>0),AND(K33>J33, J33>0))","v":false},10,null,null,"Duval",{"$f":"IF(P19=TRUE,A35,\"\")","v":""}]
[{"$f":"LEFT(B19,3)&\" \"&RIGHT(B19,6)","v":"CGE CQ3-17"},"CGE\nCQ3-17","RPE 06/30/16",null,null,"Qtr 1","Qtr 2","Qtr 3","Qtr 4","Qtr 5",null,null,null,"Systems","version #11",{"$f":"OR(K36<J36)","v":false},11,null,null,"Escambia",{"$f":"U12&\" \"&U13&\" \"&U14&\" \"&U15&\" \"&U16&\" \"&U17&\" \"&U18","v":"      "}]
[null,null,"C = Cumulative Collections",null,null,{"$f":"LOOKUP($U$11&\" \"&$A19,Lookup!$X$2:$X$5361,Lookup!$I$2:$I$5361)","v":844.25},{"$f":"LOOKUP($U$11&\" \"&$A19,Lookup!$X$2:$X$5361,Lookup!$J$2:$J$5361)","v":994.25},1282.25,1865.75,null,null,null,null,null,"version #12",{"$f":"COUNTIF(P13:P19,\"TRUE\")","v":0},12,null,null,"Flagler"]
[null,null,"A = Amount Assessed - Adjusted",null,null,{"$f":"LOOKUP($U$11&\" \"&$A19,Lookup!$X$2:$X$5361,Lookup!$D$2:$D$5361)","v":42424.25},{"$f":"LOOKUP($U$11&\" \"&$A19,Lookup!$X$2:$X$5361,Lookup!$E$2:$E$5361)","v":41974.25},41974.25,41824.25,null,null,null,null,null,null,null,null,null,null,"Franklin"]
[null,null,"CR = Collection Rate",null,null,{"$f":"IF(ISBLANK(F20),\"N/A\",IF(OR(F20=0,F20=\"N/A\"),0,F20/F21))","v":1.9900175017825889E-2},{"$f":"IF(ISBLANK(G20),\"N/A\",IF(OR(G20=0,G20=\"N/A\"),0,G20/G21))","v":2.368714152128984E-2},{"$f":"IF(ISBLANK(H20),\"N/A\",IF(AND(H20=0,H21=0,NOT(ISBLANK(H20)),NOT(ISBLANK(H21))),1,H20/H21))","v":3.0548491039149001E-2},{"$f":"IF(ISBLANK(I20),\"N/A\",IF(AND(I20=0,I21=0,NOT(ISBLANK(I20)),NOT(ISBLANK(I21))),1,I20/I21))","v":4.4609287674016868E-2},{"$f":"IF(ISBLANK(J20),\"N/A\",IF(AND(J20=0,J21=0,NOT(ISBLANK(J20)),NOT(ISBLANK(J21))),1,J20/J21))","v":"N/A"},null,null,null,null,"Q1","Q2",null,null,null,"Gadsden"]
[{"$f":"LEFT(B23,3)&\" \"&RIGHT(B23,6)","v":"CGE CQ4-17"},"CGE\nCQ4-17","RPE 09/30/16",null,null,null,"Qtr 1","Qtr 2","Qtr 3","Qtr 4","Qtr 5",null,null,null,false,false,{"$f":"IF(AND(OR(ISBLANK(H12),ISBLANK(H13)),O23=FALSE),\"Red\",\"Gray\")","v":"Gray"},{"$f":"IF(AND(OR(ISBLANK(I16),ISBLANK(I17)),P23=FALSE),\"Red\",\"Gray\")","v":"Gray"},{"$f":"IF(AND('Circuit Criminal'!D4=1,S36=1),A11,IF(AND('Circuit Criminal'!D4=2,S36=1),A15,IF(AND('Circuit Criminal'!D4=3,S36=1),A19,IF(AND('Circuit Criminal'!D4=4,S36=1),A23,\"\"))))","v":""},"Gilchrist"]
[null,null,"C = Cumulative Collections",null,null,null,{"$f":"LOOKUP($U$11&\" \"&$A23,Lookup!$X$2:$X$5361,Lookup!$I$2:$I$5361)","v":703.95},991.95,1603.95,null,null,null,null,null,false,false,{"$f":"IF(AND(OR(ISBLANK(H16),ISBLANK(H17)),O24=FALSE),\"Red\",\"Gray\")","v":"Gray"},{"$f":"IF(AND(OR(ISBLANK(I20),ISBLANK(I21)),P24=FALSE),\"Red\",\"Gray\")","v":"Gray"},{"$f":"IF(AND('Circuit Criminal'!D4=1,S37=1),A15,IF(AND('Circuit Criminal'!D4=2,S37=1),A19,IF(AND('Circuit Criminal'!D4=3,S37=1),A23,IF(AND('Circuit Criminal'!D4=4,S37=1),A27,\"\"))))","v":""},"Glades"]
[null,null,"A = Amount Assessed - Adjusted",null,null,null,{"$f":"LOOKUP($U$11&\" \"&$A23,Lookup!$X$2:$X$5361,Lookup!$D$2:$D$5361)","v":40511.949999999997},40261.949999999997,40111.949999999997,null,null,null,null,null,false,false,{"$f":"IF(AND(OR(ISBLANK(H20),ISBLANK(H21)),O25=FALSE),\"Red\",\"Gray\")","v":"Gray"},{"$f":"IF(AND(OR(ISBLANK(I24),ISBLANK(I25)),P25=FALSE),\"Red\",\"Gray\")","v":"Gray"},{"$f":"IF(AND('Circuit Criminal'!D4=1,S38=1),A19,IF(AND('Circuit Criminal'!D4=2,S38=1),A23,IF(AND('Circuit Criminal'!D4=3,S38=1),A27,IF(AND('Circuit Criminal'!D4=4,S38=1),A31,\"\"))))","v":""},"Gulf"]
[null,null,"CR = Collection Rate",null,null,null,{"$f":"IF(ISBLANK(G24),\"N/A\",IF(OR(G24=0,G24=\"N/A\"),0,G24/G25))","v":1.7376354384323639E-2},{"$f":"IF(ISBLANK(H24),\"N/A\",IF(AND(H24=0,H25=0,NOT(ISBLANK(H24)),NOT(ISBLANK(H25))),1,H24/H25))","v":2.4637405788840334E-2},{"$f":"IF(ISBLANK(I24),\"N/A\",IF(AND(I24=0,I25=0,NOT(ISBLANK(I24)),NOT(ISBLANK(I25))),1,I24/I25))","v":3.9986836840392954E-2},{"$f":"IF(ISBLANK(J24),\"N/A\",IF(AND(J24=0,J25=0,NOT(ISBLANK(J24)),NOT(ISBLANK(J25))),1,J24/J25))","v":"N/A"},{"$f":"IF(ISBLANK(K24),\"N/A\",IF(AND(K24=0,K25=0,NOT(ISBLANK(K24)),NOT(ISBLANK(K25))),1,K24/K25))","v":"N/A"},null,null,null,false,false,{"$f":"IF(AND(OR(ISBLANK(H24),ISBLANK(H25)),O26=FALSE),\"Red\",\"Gray\")","v":"Gray"},{"$f":"IF(AND(OR(ISBLANK(I28),ISBLANK(I29)),P26=FALSE),\"Red\",\"Gray\")","v":"Gray"},{"$f":"IF(AND('Circuit Criminal'!D4=1,S39=1),A23,IF(AND('Circuit Criminal'!D4=2,S39=1),A27,IF(AND('Circuit Criminal'!D4=3,S39=1),A31,IF(AND('Circuit Criminal'!D4=4,S39=1),A35,\"\"))))","v":""},"Hamilton"]
[{"$f":"LEFT(B27,3)&\" \"&RIGHT(B27,6)","v":"CGE CQ1-18"},"CGE\nCQ1-18","RPE 12/31/16",null,null,null,null,"Qtr 1","Qtr 2","Qtr 3","Qtr 4",null,null,null,false,false,{"$f":"IF(AND(OR(ISBLANK(H28),ISBLANK(H29)),O27=FALSE),\"Red\",\"Gray\")","v":"Gray"},{"$f":"IF(AND(OR(ISBLANK(I32),ISBLANK(I33)),P27=FALSE),\"Red\",\"Gray\")","v":"Gray"},{"$f":"IF(AND('Circuit Criminal'!D4=1,S40=1),A27,IF(AND('Circuit Criminal'!D4=2,S40=1),A31,IF(AND('Circuit Criminal'!D4=3,S40=1),A35,IF(AND('Circuit Criminal'!D4=4,S40=1),A39,\"\"))))","v":""},"Hardee"]
[null,null,"C = Cumulative Collections",null,null,null,null,607.04999999999995,1251.05,null,null,null,null,null,null,null,null,null,null,"Hendry"]
[null,null,"A = Amount Assessed - Adjusted",null,null,null,null,34673.050000000003,34473.050000000003,null,null,null,null,null,"Q3","Q4",null,null,null,"Hernando"]
[null,null,"CR = Collection Rate",null,null,null,null,{"$f":"IF(ISBLANK(H28),\"N/A\",IF(AND(H28=0,H29=0,NOT(ISBLANK(H28)),NOT(ISBLANK(H29))),1,H28/H29))","v":1.7507833894047392E-2},{"$f":"IF(ISBLANK(I28),\"N/A\",IF(AND(I28=0,I29=0,NOT(ISBLANK(I28)),NOT(ISBLANK(I29))),1,I28/I29))","v":3.6290667637473323E-2},{"$f":"IF(ISBLANK(J28),\"N/A\",IF(AND(J28=0,J29=0,NOT(ISBLANK(J28)),NOT(ISBLANK(J29))),1,J28/J29))","v":"N/A"},{"$f":"IF(ISBLANK(K28),\"N/A\",IF(AND(K28=0,K29=0,NOT(ISBLANK(K28)),NOT(ISBLANK(K29))),1,K28/K29))","v":"N/A"},"Additional Notes Related to Collection Issues",null,null,false,false,{"$f":"IF(AND(OR(ISBLANK(J20),ISBLANK(J21)),O30=FALSE),\"Red\",\"Gray\")","v":"Red"},{"$f":"IF(AND(OR(ISBLANK(K24),ISBLANK(K25)),P30=FALSE),\"Red\",\"Gray\")","v":"Red"},null,"Highlands"]
[{"$f":"LEFT(B31,3)&\" \"&RIGHT(B31,6)","v":"CGE CQ2-18"},"CGE\nCQ2-18","RPE 03/31/17",null,null,null,null,null,"Qtr 1","Qtr 2","Qtr 3","10/01/16 - 12/31/16: ",null,null,false,false,{"$f":"IF(AND(OR(ISBLANK(J24),ISBLANK(J25)),O31=FALSE),\"Red\",\"Gray\")","v":"Red"},{"$f":"IF(AND(OR(ISBLANK(K28),ISBLANK(K29)),P31=FALSE),\"Red\",\"Gray\")","v":"Red"},null,"Hillsborough"]
[null,null,"C = Cumulative Collections",null,null,null,null,null,1296.8499999999999,null,null,null,null,null,false,false,{"$f":"IF(AND(OR(ISBLANK(J28),ISBLANK(J29)),O32=FALSE),\"Red\",\"Gray\")","v":"Red"},{"$f":"IF(AND(OR(ISBLANK(K32),ISBLANK(K33)),P32=FALSE),\"Red\",\"Gray\")","v":"Red"},null,"Holmes"]
[null,null,"A = Amount Assessed - Adjusted",null,null,null,null,null,48038.35,null,null,null,null,null,false,false,{"$f":"IF(AND(OR(ISBLANK(J32),ISBLANK(J33)),O33=FALSE),\"Red\",\"Gray\")","v":"Red"},{"$f":"IF(AND(OR(ISBLANK(K36),ISBLANK(K37)),P33=FALSE),\"Red\",\"Gray\")","v":"Red"},null,"Indian River"]
[null,null,"CR = Collection Rate",null,null,null,null,null,{"$f":"IF(ISBLANK(I32),\"N/A\",IF(AND(I32=0,I33=0,NOT(ISBLANK(I32)),NOT(ISBLANK(I33))),1,I32/I33))","v":2.6996139542677881E-2},{"$f":"IF(ISBLANK(J32),\"N/A\",IF(AND(J32=0,J33=0,NOT(ISBLANK(J32)),NOT(ISBLANK(J33))),1,J32/J33))","v":"N/A"},{"$f":"IF(ISBLANK(K32),\"N/A\",IF(AND(K32=0,K33=0,NOT(ISBLANK(K32)),NOT(ISBLANK(K33))),1,K32/K33))","v":"N/A"},"01/01/17 - 03/31/17: ",null,null,false,false,{"$f":"IF(AND(OR(ISBLANK(J36),ISBLANK(J37)),O34=FALSE),\"Red\",\"Gray\")","v":"Red"},{"$f":"IF(AND(OR(ISBLANK(K40),ISBLANK(K41)),P34=FALSE),\"Red\",\"Gray\")","v":"Red"},null,"Jackson"]
[{"$f":"LEFT(B35,3)&\" \"&RIGHT(B35,6)","v":"CGE CQ3-18"},"CGE\nCQ3-18","RPE 06/30/17",null,null,null,null,null,null,"Qtr 1","Qtr 2",null,null,null,null,null,null,null,null,"Jefferson"]
[null,null,"C = Cumulative Collections",null,null,null,null,null,null,null,null,null,null,null,{"$f":"IF(AND('Circuit Criminal'!$D$4=1,Q23=\"Red\"),\"Red\",\"Gray\")","v":"Gray"},{"$f":"IF(AND('Circuit Criminal'!$D$4=2,R23=\"Red\"),\"Red\",\"Gray\")","v":"Gray"},{"$f":"IF(AND('Circuit Criminal'!$D$4=3,Q30=\"Red\"),\"Red\",\"Gray\")","v":"Gray"},{"$f":"IF(AND('Circuit Criminal'!$D$4=4,R30=\"Red\"),\"Red\",\"Gray\")","v":"Gray"},{"$f":"COUNTIF(O36:R36,\"Red\")","v":0},"Lafayette"]
[null,null,"A = Amount Assessed - Adjusted",null,null,null,null,null,null,null,null,"04/01/17 - 06/30/17: ",null,null,{"$f":"IF(AND('Circuit Criminal'!$D$4=1,Q24=\"Red\"),\"Red\",\"Gray\")","v":"Gray"},{"$f":"IF(AND('Circuit Criminal'!$D$4=2,R24=\"Red\"),\"Red\",\"Gray\")","v":"Gray"},{"$f":"IF(AND('Circuit Criminal'!$D$4=3,Q31=\"Red\"),\"Red\",\"Gray\")","v":"Gray"},{"$f":"IF(AND('Circuit Criminal'!$D$4=4,R31=\"Red\"),\"Red\",\"Gray\")","v":"Gray"},{"$f":"COUNTIF(O37:R37,\"Red\")","v":0},"Lake"]
[null,null,"CR = Collection Rate",null,null,null,null,null,null,{"$f":"IF(ISBLANK(J36),\"N/A\",IF(AND(J36=0,J37=0,NOT(ISBLANK(J36)),NOT(ISBLANK(J37))),1,J36/J37))","v":"N/A"},{"$f":"IF(ISBLANK(K36),\"N/A\",IF(AND(K36=0,K37=0,NOT(ISBLANK(K36)),NOT(ISBLANK(K37))),1,K36/K37))","v":"N/A"},null,null,null,{"$f":"IF(AND('Circuit Criminal'!$D$4=1,Q25=\"Red\"),\"Red\",\"Gray\")","v":"Gray"},{"$f":"IF(AND('Circuit Criminal'!$D$4=2,R25=\"Red\"),\"Red\",\"Gray\")","v":"Gray"},{"$f":"IF(AND('Circuit Criminal'!$D$4=3,Q32=\"Red\"),\"Red\",\"Gray\")","v":"Gray"},{"$f":"IF(AND('Circuit Criminal'!$D$4=4,R32=\"Red\"),\"Red\",\"Gray\")","v":"Gray"},{"$f":"COUNTIF(O38:R38,\"Red\")","v":0},"Lee"]
[{"$f":"LEFT(B39,3)&\" \"&RIGHT(B39,6)","v":"CGE CQ4-18"},"CGE\nCQ4-18","RPE 09/30/17",null,null,null,null,null,null,null,"Qtr 1",null,null,null,{"$f":"IF(AND('Circuit Criminal'!$D$4=1,Q26=\"Red\"),\"Red\",\"Gray\")","v":"Gray"},{"$f":"IF(AND('Circuit Criminal'!$D$4=2,R26=\"Red\"),\"Red\",\"Gray\")","v":"Gray"},{"$f":"IF(AND('Circuit Criminal'!$D$4=3,Q33=\"Red\"),\"Red\",\"Gray\")","v":"Gray"},{"$f":"IF(AND('Circuit Criminal'!$D$4=4,R33=\"Red\"),\"Red\",\"Gray\")","v":"Gray"},{"$f":"COUNTIF(O39:R39,\"Red\")","v":0},"Leon"]
[null,null,"C = Cumulative Collections",null,null,null,null,null,null,null,null,"07/01/17- 09/30/17: ",null,null,{"$f":"IF(AND('Circuit Criminal'!$D$4=1,Q27=\"Red\"),\"Red\",\"Gray\")","v":"Gray"},{"$f":"IF(AND('Circuit Criminal'!$D$4=2,R27=\"Red\"),\"Red\",\"Gray\")","v":"Gray"},{"$f":"IF(AND('Circuit Criminal'!$D$4=3,Q34=\"Red\"),\"Red\",\"Gray\")","v":"Gray"},{"$f":"IF(AND('Circuit Criminal'!$D$4=4,R34=\"Red\"),\"Red\",\"Gray\")","v":"Gray"},{"$f":"COUNTIF(O40:R40,\"Red\")","v":0},"Levy"]
[null,null,"A = Amount Assessed - Adjusted",null,null,null,null,null,null,null,null,null,null,null,{"$f":"COUNTIF(O36:O40,\"Red\")","v":0},{"$f":"COUNTIF(P36:P40,\"Red\")","v":0},{"$f":"COUNTIF(Q36:Q40,\"Red\")","v":0},{"$f":"COUNTIF(R36:R40,\"Red\")","v":0},null,"Liberty"]
[null,null,"CR = Collection Rate",null,null,null,null,null,null,null,{"$f":"IF(ISBLANK(K40),\"N/A\",IF(OR(K40=0,K40=\"N/A\"),0,K40/K41))","v":"N/A"},null,null,null,{"$f":"SUM(O41:R41)","v":0},null,null,null,null,"Madison"]
[null,null,"Business Rules","Purpose of Report:  The CCOC Collection Rate Performance Measure     report tracks dollars in the quarter they are assessed and then how well     those assessed dollars have been collected over the next five quarters.  ",null,null,null,"Adjustments to Assessments: The amount assessed in a given assessment control group should be adjusted in the reporting period when assessments are later adjusted by the Court or other provisions of law.  ",null,null,null,null,null,null,null,null,null,null,null,"Manatee"]
[null,null,"NOTES:","The following conditions will alert when performance standards are not met and/or established business rules within the control group are not followed.",null,null,null,null,null,null,null,null,null,null,null,null,null,null,null,"Martin"]
[null,null,null,"1.) Action Plan: If the 5th quarter Collection Rate is below Standard (red numbers on rose background), select a \"Reason Code\" and write a brief statement in \"Current Action to Improve\" in the green area ONLY. ",null,null,null,null,null,null,null,null,null,null,null,null,null,null,null,"Nassau"]
[null,null,null,"2.) Additional Notes Related to Collection Issues: Include a brief explaination when either of the following conditions not consistant with the Collection Report Business Rules. ",null,null,null,null,null,null,null,null,null,null,null,null,null,null,null,"Okaloosa"]
[null,null,null,null,"a.) Cumulative Collection amount has Decreased from the previous quarter in the same Control Group (font color for amount will change to RED)",null,null,null,null,null,null,null,null,null,null,null,null,null,null,"Okeechobee"]
[null,null,null,null,"b.) The Amount Assessed - Adjusted has Increased from the previous quarter in the same Control Group (font color for amount will change to RED)",null,null,null,null,null,null,null,null,null,null,null,null,null,null,"Orange"]
[null,null,null,null,null,null,null,null,null,null,null,null,null,null,null,null,null,null,null,"Nassau"]
[null,null,null,null,null,null,null,null,null,null,null,null,null,null,null,null,null,null,null,"Okaloosa"]
[null,null,null,null,null,null,null,null,null,null,null,null,null,null,null,null,null,null,null,"Okeechobee"]
[null,null,null,null,null,null,null,null,null,null,null,null,null,null,null,null,null,null,null,"Orange"]
[null,null,null,null,null,null,null,null,null,null,null,null,null,null,null,null,null,null,null,"Pasco"]
[null,null,null,null,null,null,null,null,null,null,null,null,null,null,null,null,null,null,null,"Pinellas"]
[null,null,null,null,null,null,null,null,null,null,null,null,null,null,null,null,null,null,null,"Polk"]
[null,{"$f":"MAX('County Criminal'!B56:B99)","v":1},null,"Issue",null,"Calc 1 Needed","Calc 2 Needed","Calc 3 Needed","Calc 4 Needed","Standard",null,null,null,null,null,null,null,null,null,"Putnam"]
[{"$f":"D$8","v":"Juvenile Delinquency"},{"$f":"IF(E57=\"YES\",MAX(B56)+1,0)","v":0},{"$f":"A$11","v":"CGE CQ1-17"},{"$f":"\"After 3rd Q, Collections went up by more than set percentage of: \"&TEXT(J57,\"#0%\")","v":"After 3rd Q, Collections went up by more than set percentage of: 500%"},{"$f":"IF(MAX(F57:G57)>V$10,\"YES\",\"NO\")","v":"NO"},{"$f":"IFERROR(IF(NOT(ISBLANK(G12)),(G12-F12)/F12,0),0)","v":1.7995968902965735E-2},{"$f":"IFERROR(IF(NOT(ISBLANK(H12)),(H12-G12)/G12,0),0)","v":0},null,null,{"$f":"V$10","v":5},null,null,null,null,null,null,null,null,null,"Santa Rosa"]
[{"$f":"D$8","v":"Juvenile Delinquency"},{"$f":"IF(E58=\"YES\",MAX(B$56:B57)+1,0)","v":0},{"$f":"A$11","v":"CGE CQ1-17"},{"$f":"\"Assessments dropped by more than set percentage of: \"&TEXT(J58,\"#0%\")","v":"Assessments dropped by more than set percentage of: 15%"},{"$f":"IF(MIN(F58:I58)<(-1*V$11),\"YES\",\"NO\")","v":"NO"},{"$f":"IFERROR(IF(NOT(ISBLANK(E13)),(E13-D13)/D13,0),0)","v":-9.3524115483789149E-3},{"$f":"IFERROR(IF(NOT(ISBLANK(F13)),(F13-E13)/E13,0),0)","v":-1.1887109793086876E-2},{"$f":"IFERROR(IF(NOT(ISBLANK(G13)),(G13-F13)/F13,0),0)","v":-8.996494965561418E-3},{"$f":"IFERROR(IF(NOT(ISBLANK(H13)),(H13-G13)/G13,0),0)","v":0},{"$f":"V$11","v":0.15},null,null,null,null,null,null,null,null,null,"Sumter"]
["Juvenile Delinquency",{"$f":"IF(E59=\"YES\",MAX(B$56:B58)+1,0)","v":0},{"$f":"A$11","v":"CGE CQ1-17"},{"$f":"\"The 5th Quarter Collection Rate did not meet the established performance measure standard of: \"&TEXT(J59,\"#0%\")","v":"The 5th Quarter Collection Rate did not meet the established performance measure standard of: 9%"},{"$f":"IF(F59=\"N/A\",\"NO\",IF(F59<H$8,\"YES\",\"NO\"))","v":"NO"},{"$f":"H14","v":0.10270674616719805},null,null,null,{"$f":"H$8","v":0.09},null,null,null,null,null,null,null,null,null,"Washington"]
["Juvenile Delinquency",{"$f":"IF(E60=\"YES\",MAX(B$56:B59)+1,0)","v":0},{"$f":"A$11","v":"CGE CQ1-17"},"Collections amount decreased from prior quarter",{"$f":"IF(MIN(F60:I60)<0,\"YES\",\"NO\")","v":"NO"},{"$f":"IFERROR(IF(NOT(ISBLANK(E12)),(E12-D12)/D12,0),0)","v":0.82185573137211221},0.13293100636111563,1.7995968902965735E-2,0]
["Juvenile Delinquency",{"$f":"IF(E61=\"YES\",MAX(B$56:B60)+1,0)","v":0},{"$f":"A$11","v":"CGE CQ1-17"},"Assessment amount increased from prior quarter",{"$f":"IF(MAX(F61:I61)>0,\"YES\",\"NO\")","v":"NO"},-9.3524115483789149E-3,-1.1887109793086876E-2,-8.996494965561418E-3,0]
["Juvenile Delinquency",{"$f":"IF(E62=\"YES\",MAX(B$56:B61)+1,0)","v":0},{"$f":"A$15","v":"CGE CQ2-17"},{"$f":"\"After 3rd Q, Collections went up by more than set percentage of: \"&TEXT(J62,\"#0%\")","v":"After 3rd Q, Collections went up by more than set percentage of: 500%"},{"$f":"IF(MAX(F62:G62)>V$10,\"YES\",\"NO\")","v":"NO"},{"$f":"IFERROR(IF(NOT(ISBLANK(H16)),(H16-G16)/G16,0),0)","v":6.7834934991520629E-2},{"$f":"IFERROR(IF(NOT(ISBLANK(I16)),(I16-H16)/H16,0),0)","v":0.113499205929063},null,null,{"$f":"V$10","v":5},null,null,null,null,null,null,null,null,null,"Sarasota"]
["Juvenile Delinquency",{"$f":"IF(E63=\"YES\",MAX(B$56:B62)+1,0)","v":0},{"$f":"A$15","v":"CGE CQ2-17"},{"$f":"\"Assessments dropped by more than set percentage of: \"&TEXT(J63,\"#0%\")","v":"Assessments dropped by more than set percentage of: 15%"},{"$f":"IF(MIN(F63:I63)<(-1*V$11),\"YES\",\"NO\")","v":"NO"},{"$f":"IFERROR(IF(NOT(ISBLANK(F17)),(F17-E17)/E17,0),0)","v":-1.1964370105824854E-2},{"$f":"IFERROR(IF(NOT(ISBLANK(G17)),(G17-F17)/F17,0),0)","v":-1.2109249650345416E-3},{"$f":"IFERROR(IF(NOT(ISBLANK(H17)),(H17-G17)/G17,0),0)","v":0},{"$f":"IFERROR(IF(NOT(ISBLANK(I17)),(I17-H17)/H17,0),0)","v":0},{"$f":"V$11","v":0.15},null,null,null,null,null,null,null,null,null,"Suwannee"]
["Juvenile Delinquency",{"$f":"IF(E64=\"YES\",MAX(B$56:B63)+1,0)","v":0},{"$f":"A$15","v":"CGE CQ2-17"},"Collections amount decreased from prior quarter",{"$f":"IF(MIN(F64:I64)<0,\"YES\",\"NO\")","v":"NO"},{"$f":"IFERROR(IF(NOT(ISBLANK(F16)),(F16-E16)/E16,0),0)","v":0.48705049375815168},0.10825711063776469,6.7834934991520629E-2,0.113499205929063]
["Juvenile Delinquency",{"$f":"IF(E65=\"YES\",MAX(B$56:B64)+1,0)","v":0},{"$f":"A$15","v":"CGE CQ2-17"},"Assessment amount increased from prior quarter",{"$f":"IF(MAX(F65:I65)>0,\"YES\",\"NO\")","v":"NO"},-1.1964370105824854E-2,-1.2109249650345416E-3,0,0]
["Juvenile Delinquency",{"$f":"IF(E66=\"YES\",MAX(B$56:B65)+1,0)","v":2},{"$f":"A$15","v":"CGE CQ2-17"},{"$f":"\"The 5th Quarter Collection Rate did not meet the established performance measure standard of: \"&TEXT(J66,\"#0%\")","v":"The 5th Quarter Collection Rate did not meet the established performance measure standard of: 9%"},{"$f":"IF(F66=\"N/A\",\"NO\",IF(F66<H$8,\"YES\",\"NO\"))","v":"YES"},{"$f":"I18","v":6.3753690221443601E-2},null,null,null,{"$f":"H$8","v":0.09}]
["Juvenile Delinquency",{"$f":"IF(E67=\"YES\",MAX(B$56:B66)+1,0)","v":0},{"$f":"A$19","v":"CGE CQ3-17"},{"$f":"\"After 3rd Q, Collections went up by more than set percentage of: \"&TEXT(J67,\"#0%\")","v":"After 3rd Q, Collections went up by more than set percentage of: 500%"},{"$f":"IF(MAX(F67:G67)>V$10,\"YES\",\"NO\")","v":"NO"},{"$f":"IFERROR(IF(NOT(ISBLANK(I20)),(I20-H20)/H20,0),0)","v":0.45505946578280365},{"$f":"IFERROR(IF(NOT(ISBLANK(J20)),(J20-I20)/I20,0),0)","v":0},null,null,{"$f":"V$10","v":5},null,null,null,null,null,null,null,null,null,"Seminole"]
["Juvenile Delinquency",{"$f":"IF(E68=\"YES\",MAX(B$56:B67)+1,0)","v":0},{"$f":"A$19","v":"CGE CQ3-17"},{"$f":"\"Assessments dropped by more than set percentage of: \"&TEXT(J68,\"#0%\")","v":"Assessments dropped by more than set percentage of: 15%"},{"$f":"IF(MIN(F68:I68)<(-1*V$11),\"YES\",\"NO\")","v":"NO"},{"$f":"IFERROR(IF(NOT(ISBLANK(G21)),(G21-F21)/F21,0),0)","v":-1.0607140963010542E-2},{"$f":"IFERROR(IF(NOT(ISBLANK(H21)),(H21-G21)/G21,0),0)","v":0},{"$f":"IFERROR(IF(NOT(ISBLANK(I21)),(I21-H21)/H21,0),0)","v":-3.5736195405516478E-3},{"$f":"IFERROR(IF(NOT(ISBLANK(J21)),(J21-I21)/I21,0),0)","v":0},{"$f":"V$11","v":0.15},null,null,null,null,null,null,null,null,null,"Taylor"]
["Juvenile Delinquency",{"$f":"IF(E69=\"YES\",MAX(B$56:B68)+1,0)","v":0},{"$f":"A$19","v":"CGE CQ3-17"},"Collections amount decreased from prior quarter",{"$f":"IF(MIN(F69:I69)<0,\"YES\",\"NO\")","v":"NO"},{"$f":"IFERROR(IF(NOT(ISBLANK(G20)),(G20-F20)/F20,0),0)","v":0.17767249037607344},0.28966557706814183,0.45505946578280365,0]
["Juvenile Delinquency",{"$f":"IF(E70=\"YES\",MAX(B$56:B69)+1,0)","v":0},{"$f":"A$19","v":"CGE CQ3-17"},"Assessment amount increased from prior quarter",{"$f":"IF(MAX(F70:I70)>0,\"YES\",\"NO\")","v":"NO"},-1.0607140963010542E-2,0,-3.5736195405516478E-3,0]
["Juvenile Delinquency",{"$f":"IF(E71=\"YES\",MAX(B$56:B70)+1,0)","v":0},{"$f":"A$19","v":"CGE CQ3-17"},{"$f":"\"The 5th Quarter Collection Rate did not meet the established performance measure standard of: \"&TEXT(J71,\"#0%\")","v":"The 5th Quarter Collection Rate did not meet the established performance measure standard of: 9%"},{"$f":"IF(F71=\"N/A\",\"NO\",IF(F71<H$8,\"YES\",\"NO\"))","v":"NO"},{"$f":"J22","v":"N/A"},null,null,null,{"$f":"H$8","v":0.09}]
["Juvenile Delinquency",{"$f":"IF(E72=\"YES\",MAX(B$56:B71)+1,0)","v":0},{"$f":"A$23","v":"CGE CQ4-17"},{"$f":"\"After 3rd Q, Collections went up by more than set percentage of: \"&TEXT(J72,\"#0%\")","v":"After 3rd Q, Collections went up by more than set percentage of: 500%"},{"$f":"IF(MAX(F72:G72)>V$10,\"YES\",\"NO\")","v":"NO"},{"$f":"IFERROR(IF(NOT(ISBLANK(J24)),(J24-I24)/I24,0),0)","v":0},{"$f":"IFERROR(IF(NOT(ISBLANK(K24)),(K24-J24)/J24,0),0)","v":0},null,null,{"$f":"V$10","v":5},null,null,null,null,null,null,null,null,null,"St. Johns"]
["Juvenile Delinquency",{"$f":"IF(E73=\"YES\",MAX(B$56:B72)+1,0)","v":0},{"$f":"A$23","v":"CGE CQ4-17"},{"$f":"\"Assessments dropped by more than set percentage of: \"&TEXT(J73,\"#0%\")","v":"Assessments dropped by more than set percentage of: 15%"},{"$f":"IF(MIN(F73:I73)<(-1*V$11),\"YES\",\"NO\")","v":"NO"},{"$f":"IFERROR(IF(NOT(ISBLANK(H25)),(H25-G25)/G25,0),0)","v":-6.1710186747367139E-3},{"$f":"IFERROR(IF(NOT(ISBLANK(I25)),(I25-H25)/H25,0),0)","v":-3.7256019641373557E-3},{"$f":"IFERROR(IF(NOT(ISBLANK(J25)),(J25-I25)/I25,0),0)","v":0},{"$f":"IFERROR(IF(NOT(ISBLANK(K25)),(K25-J25)/J25,0),0)","v":0},{"$f":"V$11","v":0.15},null,null,null,null,null,null,null,null,null,"Union"]
["Juvenile Delinquency",{"$f":"IF(E74=\"YES\",MAX(B$56:B73)+1,0)","v":0},{"$f":"A$23","v":"CGE CQ4-17"},"Collections amount decreased from prior quarter",{"$f":"IF(MIN(F74:I74)<0,\"YES\",\"NO\")","v":"NO"},{"$f":"IFERROR(IF(NOT(ISBLANK(H24)),(H24-G24)/G24,0),0)","v":0.40911996590666949},0.61696658097686374,0,0]
["Juvenile Delinquency",{"$f":"IF(E75=\"YES\",MAX(B$56:B74)+1,0)","v":0},{"$f":"A$23","v":"CGE CQ4-17"},"Assessment amount increased from prior quarter",{"$f":"IF(MAX(F75:I75)>0,\"YES\",\"NO\")","v":"NO"},-6.1710186747367139E-3,-3.7256019641373557E-3,0,0]
["Juvenile Delinquency",{"$f":"IF(E76=\"YES\",MAX(B$56:B75)+1,0)","v":0},{"$f":"A$23","v":"CGE CQ4-17"},{"$f":"\"The 5th Quarter Collection Rate did not meet the established performance measure standard of: \"&TEXT(J76,\"#0%\")","v":"The 5th Quarter Collection Rate did not meet the established performance measure standard of: 9%"},{"$f":"IF(F76=\"N/A\",\"NO\",IF(F76<H$8,\"YES\",\"NO\"))","v":"NO"},{"$f":"K26","v":"N/A"},null,null,null,{"$f":"H$8","v":0.09}]
["Juvenile Delinquency",{"$f":"IF(E77=\"YES\",MAX(B$56:B76)+1,0)","v":0},{"$f":"A$27","v":"CGE CQ1-18"},{"$f":"\"After 3rd Q, Collections went up by more than set percentage of: \"&TEXT(J77,\"#0%\")","v":"After 3rd Q, Collections went up by more than set percentage of: 500%"},{"$f":"IF(MAX(F77)>V$10,\"YES\",\"NO\")","v":"NO"},{"$f":"IFERROR(IF(NOT(ISBLANK(K28)),(K28-J28)/J28,0),0)","v":0},null,null,null,{"$f":"V$10","v":5},null,null,null,null,null,null,null,null,null,"St. Lucie"]
["Juvenile Delinquency",{"$f":"IF(E78=\"YES\",MAX(B$56:B77)+1,0)","v":0},{"$f":"A$27","v":"CGE CQ1-18"},{"$f":"\"Assessments dropped by more than set percentage of: \"&TEXT(J78,\"#0%\")","v":"Assessments dropped by more than set percentage of: 15%"},{"$f":"IF(MIN(F78:H78)<(-1*V$11),\"YES\",\"NO\")","v":"NO"},{"$f":"IFERROR(IF(NOT(ISBLANK(I29)),(I29-H29)/H29,0),0)","v":-5.7681686497149795E-3},{"$f":"IFERROR(IF(NOT(ISBLANK(J29)),(J29-I29)/I29,0),0)","v":0},{"$f":"IFERROR(IF(NOT(ISBLANK(K29)),(K29-J29)/J29,0),0)","v":0},null,{"$f":"V$11","v":0.15},null,null,null,null,null,null,null,null,null,"Volusia"]
["Juvenile Delinquency",{"$f":"IF(E79=\"YES\",MAX(B$56:B78)+1,0)","v":0},{"$f":"A$27","v":"CGE CQ1-18"},"Collections amount decreased from prior quarter",{"$f":"IF(MIN(F79:H79)<0,\"YES\",\"NO\")","v":"NO"},{"$f":"IFERROR(IF(NOT(ISBLANK(I28)),(I28-H28)/H28,0),0)","v":1.0608681327732477},0,0]
["Juvenile Delinquency",{"$f":"IF(E80=\"YES\",MAX(B$56:B79)+1,0)","v":0},{"$f":"A$27","v":"CGE CQ1-18"},"Assessment amount increased from prior quarter",{"$f":"IF(MAX(F80:H80)>0,\"YES\",\"NO\")","v":"NO"},-5.7681686497149795E-3,0,0]
["Juvenile Delinquency",{"$f":"IF(E81=\"YES\",MAX(B$56:B80)+1,0)","v":0},{"$f":"A$31","v":"CGE CQ2-18"},{"$f":"\"Assessments dropped by more than set percentage of: \"&TEXT(J81,\"#0%\")","v":"Assessments dropped by more than set percentage of: 15%"},{"$f":"IF(MIN(F81:G81)<(-1*V$11),\"YES\",\"NO\")","v":"NO"},{"$f":"IFERROR(IF(NOT(ISBLANK(J33)),(J33-I33)/I33,0),0)","v":0},{"$f":"IFERROR(IF(NOT(ISBLANK(K33)),(K33-J33)/J33,0),0)","v":0},null,null,{"$f":"V$11","v":0.15},null,null,null,null,null,null,null,null,null,"Wakulla"]
["Juvenile Delinquency",{"$f":"IF(E82=\"YES\",MAX(B$56:B81)+1,0)","v":0},{"$f":"A$31","v":"CGE CQ2-18"},"Collections amount decreased from prior quarter",{"$f":"IF(MIN(F82:G82)<0,\"YES\",\"NO\")","v":"NO"},{"$f":"IFERROR(IF(NOT(ISBLANK(J32)),(J32-I32)/I32,0),0)","v":0},{"$f":"IFERROR(IF(NOT(ISBLANK(K32)),(K32-J32)/J32,0),0)","v":0}]
["Juvenile Delinquency",{"$f":"IF(E83=\"YES\",MAX(B$56:B82)+1,0)","v":0},{"$f":"A$31","v":"CGE CQ2-18"},"Assessment amount increased from prior quarter",{"$f":"IF(MAX(F83:G83)>0,\"YES\",\"NO\")","v":"NO"},{"$f":"IFERROR(IF(NOT(ISBLANK(J33)),(J33-I33)/I33,0),0)","v":0},{"$f":"IFERROR(IF(NOT(ISBLANK(K33)),(K33-J33)/J33,0),0)","v":0}]
["Juvenile Delinquency",{"$f":"IF(E84=\"YES\",MAX(B$56:B83)+1,0)","v":0},{"$f":"A$35","v":"CGE CQ3-18"},{"$f":"\"Assessments dropped by more than set percentage of: \"&TEXT(J84,\"#0%\")","v":"Assessments dropped by more than set percentage of: 15%"},{"$f":"IF(MIN(F84)<(-1*V$11),\"YES\",\"NO\")","v":"NO"},{"$f":"IFERROR(IF(NOT(ISBLANK(K37)),(K37-J37)/J37,0),0)","v":0},null,null,null,{"$f":"V$11","v":0.15},null,null,null,null,null,null,null,null,null,"Walton"]
["Juvenile Delinquency",{"$f":"IF(E85=\"YES\",MAX(B$56:B84)+1,0)","v":0},{"$f":"A$35","v":"CGE CQ3-18"},"Collections amount decreased from prior quarter",{"$f":"IF(MIN(F85)<0,\"YES\",\"NO\")","v":"NO"},{"$f":"IFERROR(IF(NOT(ISBLANK(K36)),(K36-J36)/J36,0),0)","v":0}]
["Juvenile Delinquency",{"$f":"IF(E86=\"YES\",MAX(B$56:B85)+1,0)","v":0},{"$f":"A$35","v":"CGE CQ3-18"},"Assessment amount increased from prior quarter",{"$f":"IF(MAX(F86)>0,\"YES\",\"NO\")","v":"NO"},{"$f":"IFERROR(IF(NOT(ISBLANK(K37)),(K37-J37)/J37,0),0)","v":0}]

{"sheet":"Criminal Traffic","index":5,"n_rows":86,"n_cols":22,"rows_kept":86,"cut":false,"hidden":false,"merged":[[29,11,29,12],[30,11,32,12],[33,11,35,12],[36,11,38,12],[39,11,41,12],[5,3,5,4],[22,12,25,12],[8,11,8,12],[10,11,13,11],[10,12,13,12],[14,11,17,11],[14,12,17,12],[18,11,21,11],[18,12,21,12],[22,11,25,11],[7,3,7,4],[10,8,13,8],[24,3,25,3],[24,4,25,4],[24,5,25,5],[34,0,37,0],[42,3,42,6],[42,7,42,10],[52,0,52,1],[34,1,37,1],[38,1,41,1],[38,0,41,0],[30,0,33,0],[26,0,29,0],[26,1,29,1],[30,1,33,1],[10,0,13,0],[14,0,17,0],[18,1,21,1],[22,1,25,1],[10,1,13,1],[14,1,17,1],[18,0,21,0],[22,0,25,0]]}
[]
[null,null,null,null,null,null,null,null,null,null,null,null,"County Fiscal Year 2016-2017",null,null,null,null,null,null,"CountyNames"]
[null,null,null,null,null,null,null,null,null,null,null,null,"Collections Quarterly Report Form for CCOC",null,null,null,null,null,null,"Alachua"]
[null,null,"Report for Quarter Ending: ",{"$f":"'Circuit Criminal'!D4","v":"March 2017"},null,null,null,null,"REQUIRED: Reason Codes AND Action to Improve / Descriptions Required if Measure(s) Not Met",null,null,null,null,null,null,null,null,null,null,"Baker"]
[null,null,"Version #: ",{"$f":"'Circuit Criminal'!$D$5","v":1},null,null,null,null,null,"Internal: Must clarify reason AND expected duration internal reason will be resolved",null,null,null,null,null,null,null,null,null,"Bay"]
[null,null,"County: ",{"$f":"'Circuit Criminal'!D6","v":"Brevard"},null,null,null,null,null,"External: Detailed explanation of external reason the measure wasn't met ",null,null,null,null,null,null,null,null,null,"Bradford"]
[null,null,null,null,null,null,null,null,null,null,null,null,null,null,null,null,null,null,null,"Brevard"]
[null,null,"Court/Case Type:","Criminal Traffic",null,null,"Performance Measure Standard:",0.4,null,null,null,null,null,null,null,null,null,null,null,"Broward"]
[null,null,null,null,null,null,null,null,null,null,null,"Action Plan",null,1,"version #1","Qtr1 - December",1,null,null,"Calhoun"]
[null,null,"Control Groups","10/01/15 - 12/31/15","01/01/16 - 03/31/16","04/01/16 - 06/30/16","07/01/16 - 09/30/16","10/01/16 - 12/31/16","01/01/17 - 03/31/17","04/01/17 - 06/30/17","07/01/17- 09/30/17","Reason Code","Current Actions to Improve",null,"version #2","Qtr 2 - March",null,null,null,"Charlotte",null,5]
[{"$f":"LEFT(B11,3)&\" \"&RIGHT(B11,6)","v":"CGE CQ1-17"},"CGE\nCQ1-17","RPE 12/31/15","Qtr 1","Qtr 2","Qtr 3","Qtr 4","Qtr 5",null,null,null,null,null,"Economy","version #3","Qtr 3 - June",3,null,null,"Citrus",{"$f":"D6&\" \"&D8","v":"Brevard Criminal Traffic"},0.15]
[null,null,"C = Cumulative Collections",{"$f":"LOOKUP($U$11&\" \"&$A11,Lookup!$X$2:$X$5361,Lookup!$I$2:$I$5361)","v":107888.21},{"$f":"LOOKUP($U$11&\" \"&$A11,Lookup!$X$2:$X$5361,Lookup!$J$2:$J$5361)","v":181939.71},{"$f":"LOOKUP($U$11&\" \"&$A11,Lookup!$X$2:$X$5361,Lookup!$K$2:$K$5361)","v":236375.04000000001},{"$f":"LOOKUP($U$11&\" \"&$A11,Lookup!$X$2:$X$5361,Lookup!$L$2:$L$5361)","v":266856.51},288967.46999999997,null,null,null,null,null,"Incarcerations","version #4","Qtr 4 - September",4,null,null,"Clay",{"$f":"IF(P13=TRUE,A11,\"\")","v":"CGE CQ1-17"}]
[null,null,"A = Amount Assessed - Adjusted",{"$f":"LOOKUP($U$11&\" \"&$A11,Lookup!$X$2:$X$5361,Lookup!$D$2:$D$5361)","v":522208.05},{"$f":"LOOKUP($U$11&\" \"&$A11,Lookup!$X$2:$X$5361,Lookup!$E$2:$E$5361)","v":518822.05},{"$f":"LOOKUP($U$11&\" \"&$A11,Lookup!$X$2:$X$5361,Lookup!$F$2:$F$5361)","v":515890.05},{"$f":"LOOKUP($U$11&\" \"&$A11,Lookup!$X$2:$X$5361,Lookup!$G$2:$G$5361)","v":515092.05},512601.05,null,null,null,null,null,"Late/Non-pay/Pay Plans","version #5",{"$f":"OR(AND(E12<D12,E12>0),AND(F12<E12,F12>0),AND(G12<F12,G12>0),AND(H12<G12,H12>0),AND(F13>E13,E13>0),AND(G13>F13,F13>0),AND(H13<G13,G13>0))","v":true},5,null,null,"Collier",{"$f":"IF(P14=TRUE,A15,\"\")","v":"CGE CQ2-17"}]
[null,null,"CR = Collection Rate ",{"$f":"IF(ISBLANK(D12),\"N/A\",IF(OR(D12=0,D12=\"N/A\"),0,D12/D13))","v":0.2066000514545879},{"$f":"IF(ISBLANK(E12),\"N/A\",IF(OR(E12=0,E12=\"N/A\"),0,E12/E13))","v":0.35067844552867405},{"$f":"IF(ISBLANK(F12),\"N/A\",IF(OR(F12=0,F12=\"N/A\"),0,F12/F13))","v":0.45818879429831999},{"$f":"IF(ISBLANK(G12),\"N/A\",IF(OR(G12=0,G12=\"N/A\"),0,G12/G13))","v":0.51807538089551186},{"$f":"IF(ISBLANK(H12),\"N/A\",IF(AND(H12=0,H13=0,NOT(ISBLANK(H12)),NOT(ISBLANK(H13))),1,H12/H13))","v":0.56372781522784621},null,null,null,null,null,"Mandatory Assessment","version #6",{"$f":"OR(AND(F16<E16,F16>0),AND(G16<F16,G16>0),AND(H16<G16,H16>0),AND(I16<H16,I16>0),AND(G17>F17, F17>0),AND(H17>G17, G17>0),AND(I17<H17,I17>0))","v":true},6,null,null,"Columbia",{"$f":"IF(P15=TRUE,A19,\"\")","v":""}]
[{"$f":"LEFT(B15,3)&\" \"&RIGHT(B15,6)","v":"CGE CQ2-17"},"CGE \nCQ2-17","RPE 03/31/16",null,"Qtr 1","Qtr 2","Qtr 3","Qtr 4","Qtr 5",null,null,null,null,"Other","version #7",{"$f":"OR(AND(G20<F20,D10>0),AND(H20<G20,H20>0),AND(I20<H20,I20>0),AND(J20<I20,J20>0),AND(H21>G21, G21>0),AND(I21>H21, H21>0),AND(J21<I21, J21>0))","v":false},7,null,null,"Dade",{"$f":"IF(P16=TRUE,A23,\"\")","v":""}]
[null,null,"C = Cumulative Collections",null,{"$f":"LOOKUP($U$11&\" \"&$A15,Lookup!$X$2:$X$5361,Lookup!$I$2:$I$5361)","v":139399.06},{"$f":"LOOKUP($U$11&\" \"&$A15,Lookup!$X$2:$X$5361,Lookup!$J$2:$J$5361)","v":200933.17},{"$f":"LOOKUP($U$11&\" \"&$A15,Lookup!$X$2:$X$5361,Lookup!$K$2:$K$5361)","v":269501.42},315375.2,367045.89,null,null,null,null,"Procedural","version #8",{"$f":"OR(AND(H24<G24, H24>0),AND(I24<H24, I24>0),AND(J24<I24, J24>0),AND(K24<J24, K24>0),AND(I25>H25, H25>0),AND(J25>I25, I25>0),AND(K25<J25, J25>0))","v":false},8,null,null,"Desoto",{"$f":"IF(P17=TRUE,A27,\"\")","v":""}]
[null,null,"A = Amount Assessed - Adjusted",null,{"$f":"LOOKUP($U$11&\" \"&$A15,Lookup!$X$2:$X$5361,Lookup!$D$2:$D$5361)","v":620836.30000000005},{"$f":"LOOKUP($U$11&\" \"&$A15,Lookup!$X$2:$X$5361,Lookup!$E$2:$E$5361)","v":614418.55000000005},{"$f":"LOOKUP($U$11&\" \"&$A15,Lookup!$X$2:$X$5361,Lookup!$F$2:$F$5361)","v":611717.55000000005},610879.55000000005,610760.55000000005,null,null,null,null,"Staffing - Insufficient Personnel","version #9",{"$f":"OR(AND(I28<H28, I28>0),AND(J28<I28, J28>0),AND(K28<J28, K28>0),AND(J29>I29, I29>0),AND(K29>J29, J29>0))","v":false},9,null,null,"Dixie",{"$f":"IF(P18=TRUE,A31,\"\")","v":""}]
[null,null,"CR = Collection Rate",null,{"$f":"IF(ISBLANK(E16),\"N/A\",IF(OR(E16=0,E16=\"N/A\"),0,E16/E17))","v":0.22453432571516838},{"$f":"IF(ISBLANK(F16),\"N/A\",IF(OR(F16=0,F16=\"N/A\"),0,F16/F17))","v":0.32702979101135538},{"$f":"IF(ISBLANK(G16),\"N/A\",IF(OR(G16=0,G16=\"N/A\"),0,G16/G17))","v":0.44056512683018489},{"$f":"IF(ISBLANK(H16),\"N/A\",IF(AND(H16=0,H17=0,NOT(ISBLANK(H16)),NOT(ISBLANK(H17))),1,H16/H17))","v":0.51626413095674917},{"$f":"IF(ISBLANK(I16),\"N/A\",IF(AND(I16=0,I17=0,NOT(ISBLANK(I16)),NOT(ISBLANK(I17))),1,I16/I17))","v":0.60096528827868789},null,null,null,null,"Staffing - Training Required","version #10",{"$f":"OR(AND(J32<I32, J32>0),AND(K32<J32, K32>0),AND(K33>J33, J33>0))","v":false},10,null,null,"Duval",{"$f":"IF(P19=TRUE,A35,\"\")","v":""}]
[{"$f":"LEFT(B19,3)&\" \"&RIGHT(B19,6)","v":"CGE CQ3-17"},"CGE\nCQ3-17","RPE 06/30/16",null,null,"Qtr 1","Qtr 2","Qtr 3","Qtr 4","Qtr 5",null,null,null,"Systems","version #11",{"$f":"OR(K36<J36)","v":false},11,null,null,"Escambia",{"$f":"U12&\" \"&U13&\" \"&U14&\" \"&U15&\" \"&U16&\" \"&U17&\" \"&U18","v":"CGE CQ1-17 CGE CQ2-17     "}]
[null,null,"C = Cumulative Collections",null,null,{"$f":"LOOKUP($U$11&\" \"&$A19,Lookup!$X$2:$X$5361,Lookup!$I$2:$I$5361)","v":121289.89},{"$f":"LOOKUP($U$11&\" \"&$A19,Lookup!$X$2:$X$5361,Lookup!$J$2:$J$5361)","v":187579.73},249509.65,325109.39,null,null,null,null,null,"version #12",{"$f":"COUNTIF(P13:P19,\"TRUE\")","v":2},12,null,null,"Flagler"]
[null,null,"A = Amount Assessed - Adjusted",null,null,{"$f":"LOOKUP($U$11&\" \"&$A19,Lookup!$X$2:$X$5361,Lookup!$D$2:$D$5361)","v":659083.78},{"$f":"LOOKUP($U$11&\" \"&$A19,Lookup!$X$2:$X$5361,Lookup!$E$2:$E$5361)","v":651314.78},648885.78,647923.78,null,null,null,null,null,null,null,null,null,null,"Franklin"]
[null,null,"CR = Collection Rate",null,null,{"$f":"IF(ISBLANK(F20),\"N/A\",IF(OR(F20=0,F20=\"N/A\"),0,F20/F21))","v":0.18402803054871111},{"$f":"IF(ISBLANK(G20),\"N/A\",IF(OR(G20=0,G20=\"N/A\"),0,G20/G21))","v":0.28800164798962491},{"$f":"IF(ISBLANK(H20),\"N/A\",IF(AND(H20=0,H21=0,NOT(ISBLANK(H20)),NOT(ISBLANK(H21))),1,H20/H21))","v":0.38452013850573208},{"$f":"IF(ISBLANK(I20),\"N/A\",IF(AND(I20=0,I21=0,NOT(ISBLANK(I20)),NOT(ISBLANK(I21))),1,I20/I21))","v":0.50177104164937425},{"$f":"IF(ISBLANK(J20),\"N/A\",IF(AND(J20=0,J21=0,NOT(ISBLANK(J20)),NOT(ISBLANK(J21))),1,J20/J21))","v":"N/A"},null,null,null,null,"Q1","Q2",null,null,null,"Gadsden"]
[{"$f":"LEFT(B23,3)&\" \"&RIGHT(B23,6)","v":"CGE CQ4-17"},"CGE\nCQ4-17","RPE 09/30/16",null,null,null,"Qtr 1","Qtr 2","Qtr 3","Qtr 4","Qtr 5",null,null,null,false,false,{"$f":"IF(AND(OR(ISBLANK(H12),ISBLANK(H13)),O23=FALSE),\"Red\",\"Gray\")","v":"Gray"},{"$f":"IF(AND(OR(ISBLANK(I16),ISBLANK(I17)),P23=FALSE),\"Red\",\"Gray\")","v":"Gray"},{"$f":"IF(AND('Circuit Criminal'!D4=1,S36=1),A11,IF(AND('Circuit Criminal'!D4=2,S36=1),A15,IF(AND('Circuit Criminal'!D4=3,S36=1),A19,IF(AND('Circuit Criminal'!D4=4,S36=1),A23,\"\"))))","v":""},"Gilchrist"]
[null,null,"C = Cumulative Collections",null,null,null,{"$f":"LOOKUP($U$11&\" \"&$A23,Lookup!$X$2:$X$5361,Lookup!$I$2:$I$5361)","v":122862.77},183690.14,261584.35,null,null,null,null,null,false,false,{"$f":"IF(AND(OR(ISBLANK(H16),ISBLANK(H17)),O24=FALSE),\"Red\",\"Gray\")","v":"Gray"},{"$f":"IF(AND(OR(ISBLANK(I20),ISBLANK(I21)),P24=FALSE),\"Red\",\"Gray\")","v":"Gray"},{"$f":"IF(AND('Circuit Criminal'!D4=1,S37=1),A15,IF(AND('Circuit Criminal'!D4=2,S37=1),A19,IF(AND('Circuit Criminal'!D4=3,S37=1),A23,IF(AND('Circuit Criminal'!D4=4,S37=1),A27,\"\"))))","v":""},"Glades"]
[null,null,"A = Amount Assessed - Adjusted",null,null,null,{"$f":"LOOKUP($U$11&\" \"&$A23,Lookup!$X$2:$X$5361,Lookup!$D$2:$D$5361)","v":604031.9},600204.9,598194.9,null,null,null,null,null,false,false,{"$f":"IF(AND(OR(ISBLANK(H20),ISBLANK(H21)),O25=FALSE),\"Red\",\"Gray\")","v":"Gray"},{"$f":"IF(AND(OR(ISBLANK(I24),ISBLANK(I25)),P25=FALSE),\"Red\",\"Gray\")","v":"Gray"},{"$f":"IF(AND('Circuit Criminal'!D4=1,S38=1),A19,IF(AND('Circuit Criminal'!D4=2,S38=1),A23,IF(AND('Circuit Criminal'!D4=3,S38=1),A27,IF(AND('Circuit Criminal'!D4=4,S38=1),A31,\"\"))))","v":""},"Gulf"]
[null,null,"CR = Collection Rate",null,null,null,{"$f":"IF(ISBLANK(G24),\"N/A\",IF(OR(G24=0,G24=\"N/A\"),0,G24/G25))","v":0.20340443940129652},{"$f":"IF(ISBLANK(H24),\"N/A\",IF(AND(H24=0,H25=0,NOT(ISBLANK(H24)),NOT(ISBLANK(H25))),1,H24/H25))","v":0.30604571872039033},{"$f":"IF(ISBLANK(I24),\"N/A\",IF(AND(I24=0,I25=0,NOT(ISBLANK(I24)),NOT(ISBLANK(I25))),1,I24/I25))","v":0.43728950213383633},{"$f":"IF(ISBLANK(J24),\"N/A\",IF(AND(J24=0,J25=0,NOT(ISBLANK(J24)),NOT(ISBLANK(J25))),1,J24/J25))","v":"N/A"},{"$f":"IF(ISBLANK(K24),\"N/A\",IF(AND(K24=0,K25=0,NOT(ISBLANK(K24)),NOT(ISBLANK(K25))),1,K24/K25))","v":"N/A"},null,null,null,false,false,{"$f":"IF(AND(OR(ISBLANK(H24),ISBLANK(H25)),O26=FALSE),\"Red\",\"Gray\")","v":"Gray"},{"$f":"IF(AND(OR(ISBLANK(I28),ISBLANK(I29)),P26=FALSE),\"Red\",\"Gray\")","v":"Gray"},{"$f":"IF(AND('Circuit Criminal'!D4=1,S39=1),A23,IF(AND('Circuit Criminal'!D4=2,S39=1),A27,IF(AND('Circuit Criminal'!D4=3,S39=1),A31,IF(AND('Circuit Criminal'!D4=4,S39=1),A35,\"\"))))","v":""},"Hamilton"]
[{"$f":"LEFT(B27,3)&\" \"&RIGHT(B27,6)","v":"CGE CQ1-18"},"CGE\nCQ1-18","RPE 12/31/16",null,null,null,null,"Qtr 1","Qtr 2","Qtr 3","Qtr 4",null,null,null,false,false,{"$f":"IF(AND(OR(ISBLANK(H28),ISBLANK(H29)),O27=FALSE),\"Red\",\"Gray\")","v":"Gray"},{"$f":"IF(AND(OR(ISBLANK(I32),ISBLANK(I33)),P27=FALSE),\"Red\",\"Gray\")","v":"Gray"},{"$f":"IF(AND('Circuit Criminal'!D4=1,S40=1),A27,IF(AND('Circuit Criminal'!D4=2,S40=1),A31,IF(AND('Circuit Criminal'!D4=3,S40=1),A35,IF(AND('Circuit Criminal'!D4=4,S40=1),A39,\"\"))))","v":""},"Hardee"]
[null,null,"C = Cumulative Collections",null,null,null,null,115388.84,192688.76,null,null,null,null,null,null,null,null,null,null,"Hendry"]
[null,null,"A = Amount Assessed - Adjusted",null,null,null,null,582436.65,578010.65,null,null,null,null,null,"Q3","Q4",null,null,null,"Hernando"]
[null,null,"CR = Collection Rate",null,null,null,null,{"$f":"IF(ISBLANK(H28),\"N/A\",IF(AND(H28=0,H29=0,NOT(ISBLANK(H28)),NOT(ISBLANK(H29))),1,H28/H29))","v":0.19811397514218926},{"$f":"IF(ISBLANK(I28),\"N/A\",IF(AND(I28=0,I29=0,NOT(ISBLANK(I28)),NOT(ISBLANK(I29))),1,I28/I29))","v":0.3333654146337961},{"$f":"IF(ISBLANK(J28),\"N/A\",IF(AND(J28=0,J29=0,NOT(ISBLANK(J28)),NOT(ISBLANK(J29))),1,J28/J29))","v":"N/A"},{"$f":"IF(ISBLANK(K28),\"N/A\",IF(AND(K28=0,K29=0,NOT(ISBLANK(K28)),NOT(ISBLANK(K29))),1,K28/K29))","v":"N/A"},"Additional Notes Related to Collection Issues",null,null,false,false,{"$f":"IF(AND(OR(ISBLANK(J20),ISBLANK(J21)),O30=FALSE),\"Red\",\"Gray\")","v":"Red"},{"$f":"IF(AND(OR(ISBLANK(K24),ISBLANK(K25)),P30=FALSE),\"Red\",\"Gray\")","v":"Red"},null,"Highlands"]
[{"$f":"LEFT(B31,3)&\" \"&RIGHT(B31,6)","v":"CGE CQ2-18"},"CGE\nCQ2-18","RPE 03/31/17",null,null,null,null,null,"Qtr 1","Qtr 2","Qtr 3","10/01/16 - 12/31/16: ",null,null,false,false,{"$f":"IF(AND(OR(ISBLANK(J24),ISBLANK(J25)),O31=FALSE),\"Red\",\"Gray\")","v":"Red"},{"$f":"IF(AND(OR(ISBLANK(K28),ISBLANK(K29)),P31=FALSE),\"Red\",\"Gray\")","v":"Red"},null,"Hillsborough"]
[null,null,"C = Cumulative Collections",null,null,null,null,null,157326.35,null,null,null,null,null,false,false,{"$f":"IF(AND(OR(ISBLANK(J28),ISBLANK(J29)),O32=FALSE),\"Red\",\"Gray\")","v":"Red"},{"$f":"IF(AND(OR(ISBLANK(K32),ISBLANK(K33)),P32=FALSE),\"Red\",\"Gray\")","v":"Red"},null,"Holmes"]
[null,null,"A = Amount Assessed - Adjusted",null,null,null,null,null,661495.55000000005,null,null,null,null,null,false,false,{"$f":"IF(AND(OR(ISBLANK(J32),ISBLANK(J33)),O33=FALSE),\"Red\",\"Gray\")","v":"Red"},{"$f":"IF(AND(OR(ISBLANK(K36),ISBLANK(K37)),P33=FALSE),\"Red\",\"Gray\")","v":"Red"},null,"Indian River"]
[null,null,"CR = Collection Rate",null,null,null,null,null,{"$f":"IF(ISBLANK(I32),\"N/A\",IF(AND(I32=0,I33=0,NOT(ISBLANK(I32)),NOT(ISBLANK(I33))),1,I32/I33))","v":0.23783432859072143},{"$f":"IF(ISBLANK(J32),\"N/A\",IF(AND(J32=0,J33=0,NOT(ISBLANK(J32)),NOT(ISBLANK(J33))),1,J32/J33))","v":"N/A"},{"$f":"IF(ISBLANK(K32),\"N/A\",IF(AND(K32=0,K33=0,NOT(ISBLANK(K32)),NOT(ISBLANK(K33))),1,K32/K33))","v":"N/A"},"01/01/17 - 03/31/17: ",null,null,false,false,{"$f":"IF(AND(OR(ISBLANK(J36),ISBLANK(J37)),O34=FALSE),\"Red\",\"Gray\")","v":"Red"},{"$f":"IF(AND(OR(ISBLANK(K40),ISBLANK(K41)),P34=FALSE),\"Red\",\"Gray\")","v":"Red"},null,"Jackson"]
[{"$f":"LEFT(B35,3)&\" \"&RIGHT(B35,6)","v":"CGE CQ3-18"},"CGE\nCQ3-18","RPE 06/30/17",null,null,null,null,null,null,"Qtr 1","Qtr 2",null,null,null,null,null,null,null,null,"Jefferson"]
[null,null,"C = Cumulative Collections",null,null,null,null,null,null,null,null,null,null,null,{"$f":"IF(AND('Circuit Criminal'!$D$4=1,Q23=\"Red\"),\"Red\",\"Gray\")","v":"Gray"},{"$f":"IF(AND('Circuit Criminal'!$D$4=2,R23=\"Red\"),\"Red\",\"Gray\")","v":"Gray"},{"$f":"IF(AND('Circuit Criminal'!$D$4=3,Q30=\"Red\"),\"Red\",\"Gray\")","v":"Gray"},{"$f":"IF(AND('Circuit Criminal'!$D$4=4,R30=\"Red\"),\"Red\",\"Gray\")","v":"Gray"},{"$f":"COUNTIF(O36:R36,\"Red\")","v":0},"Lafayette"]
[null,null,"A = Amount Assessed - Adjusted",null,null,null,null,null,null,null,null,"04/01/17 - 06/30/17: ",null,null,{"$f":"IF(AND('Circuit Criminal'!$D$4=1,Q24=\"Red\"),\"Red\",\"Gray\")","v":"Gray"},{"$f":"IF(AND('Circuit Criminal'!$D$4=2,R24=\"Red\"),\"Red\",\"Gray\")","v":"Gray"},{"$f":"IF(AND('Circuit Criminal'!$D$4=3,Q31=\"Red\"),\"Red\",\"Gray\")","v":"Gray"},{"$f":"IF(AND('Circuit Criminal'!$D$4=4,R31=\"Red\"),\"Red\",\"Gray\")","v":"Gray"},{"$f":"COUNTIF(O37:R37,\"Red\")","v":0},"Lake"]
[null,null,"CR = Collection Rate",null,null,null,null,null,null,{"$f":"IF(ISBLANK(J36),\"N/A\",IF(AND(J36=0,J37=0,NOT(ISBLANK(J36)),NOT(ISBLANK(J37))),1,J36/J37))","v":"N/A"},{"$f":"IF(ISBLANK(K36),\"N/A\",IF(AND(K36=0,K37=0,NOT(ISBLANK(K36)),NOT(ISBLANK(K37))),1,K36/K37))","v":"N/A"},null,null,null,{"$f":"IF(AND('Circuit Criminal'!$D$4=1,Q25=\"Red\"),\"Red\",\"Gray\")","v":"Gray"},{"$f":"IF(AND('Circuit Criminal'!$D$4=2,R25=\"Red\"),\"Red\",\"Gray\")","v":"Gray"},{"$f":"IF(AND('Circuit Criminal'!$D$4=3,Q32=\"Red\"),\"Red\",\"Gray\")","v":"Gray"},{"$f":"IF(AND('Circuit Criminal'!$D$4=4,R32=\"Red\"),\"Red\",\"Gray\")","v":"Gray"},{"$f":"COUNTIF(O38:R38,\"Red\")","v":0},"Lee"]
[{"$f":"LEFT(B39,3)&\" \"&RIGHT(B39,6)","v":"CGE CQ4-18"},"CGE\nCQ4-18","RPE 09/30/17",null,null,null,null,null,null,null,"Qtr 1",null,null,null,{"$f":"IF(AND('Circuit Criminal'!$D$4=1,Q26=\"Red\"),\"Red\",\"Gray\")","v":"Gray"},{"$f":"IF(AND('Circuit Criminal'!$D$4=2,R26=\"Red\"),\"Red\",\"Gray\")","v":"Gray"},{"$f":"IF(AND('Circuit Criminal'!$D$4=3,Q33=\"Red\"),\"Red\",\"Gray\")","v":"Gray"},{"$f":"IF(AND('Circuit Criminal'!$D$4=4,R33=\"Red\"),\"Red\",\"Gray\")","v":"Gray"},{"$f":"COUNTIF(O39:R39,\"Red\")","v":0},"Leon"]
[null,null,"C = Cumulative Collections",null,null,null,null,null,null,null,null,"07/01/17- 09/30/17: ",null,null,{"$f":"IF(AND('Circuit Criminal'!$D$4=1,Q27=\"Red\"),\"Red\",\"Gray\")","v":"Gray"},{"$f":"IF(AND('Circuit Criminal'!$D$4=2,R27=\"Red\"),\"Red\",\"Gray\")","v":"Gray"},{"$f":"IF(AND('Circuit Criminal'!$D$4=3,Q34=\"Red\"),\"Red\",\"Gray\")","v":"Gray"},{"$f":"IF(AND('Circuit Criminal'!$D$4=4,R34=\"Red\"),\"Red\",\"Gray\")","v":"Gray"},{"$f":"COUNTIF(O40:R40,\"Red\")","v":0},"Levy"]
[null,null,"A = Amount Assessed - Adjusted",null,null,null,null,null,null,null,null,null,null,null,{"$f":"COUNTIF(O36:O40,\"Red\")","v":0},{"$f":"COUNTIF(P36:P40,\"Red\")","v":0},{"$f":"COUNTIF(Q36:Q40,\"Red\")","v":0},{"$f":"COUNTIF(R36:R40,\"Red\")","v":0},null,"Liberty"]
[null,null,"CR = Collection Rate",null,null,null,null,null,null,null,{"$f":"IF(ISBLANK(K40),\"N/A\",IF(OR(K40=0,K40=\"N/A\"),0,K40/K41))","v":"N/A"},null,null,null,{"$f":"SUM(O41:R41)","v":0},null,null,null,null,"Madison"]
[null,null,"Business Rules","Purpose of Report:  The CCOC Collection Rate Performance Measure     report tracks dollars in the quarter they are assessed and then how well     those assessed dollars have been collected over the next five quarters.  ",null,null,null,"Adjustments to Assessments: The amount assessed in a given assessment control group should be adjusted in the reporting period when assessments are later adjusted by the Court or other provisions of law.  ",null,null,null,null,null,null,null,null,null,null,null,"Manatee"]
[null,null,"NOTES:","The following conditions will alert when performance standards are not met and/or established business rules within the control group are not followed.",null,null,null,null,null,null,null,null,null,null,null,null,null,null,null,"Martin"]
[null,null,null,"1.) Action Plan: If the 5th quarter Collection Rate is below Standard (red numbers on rose background), select a \"Reason Code\" and write a brief statement in \"Current Action to Improve\" in the green area ONLY. ",null,null,null,null,null,null,null,null,null,null,null,null,null,null,null,"Nassau"]
[null,null,null,"2.) Additional Notes Related to Collection Issues: Include a brief explaination when either of the following conditions not consistant with the Collection Report Business Rules. ",null,null,null,null,null,null,null,null,null,null,null,null,null,null,null,"Okaloosa"]
[null,null,null,null,"a.) Cumulative Collection amount has Decreased from the previous quarter in the same Control Group (font color for amount will change to RED)",null,null,null,null,null,null,null,null,null,null,null,null,null,null,"Okeechobee"]
[null,null,null,null,"b.) The Amount Assessed - Adjusted has Increased from the previous quarter in the same Control Group (font color for amount will change to RED)",null,null,null,null,null,null,null,null,null,null,null,null,null,null,"Orange"]
[null,null,{"$f":"CELL(\"filename\",B49)","v":"S:\\REPORTS\\Article V Performance Measure\\2016-2017 Reports\\Collections Quarterly\\[Brevard FY1617 Collections Quarterly Ver5 Mar 2017.xlsm]Criminal Traffic"},null,null,null,null,null,null,null,null,null,null,null,null,null,null,null,null,"Nassau"]
[null,null,{"$f":"SEARCH(\"\\[\",C49)","v":81},null,null,null,null,null,null,null,null,null,null,null,null,null,null,null,null,"Okaloosa"]
[null,null,{"$f":"SEARCH(\".xls]\",C49)","v":{"$error":"#VALUE!"}},null,null,null,null,null,null,null,null,null,null,null,null,null,null,null,null,"Okeechobee"]
[null,null,null,null,null,null,null,null,null,null,null,null,null,null,null,null,null,null,null,"Orange"]
[null,null,null,null,null,null,null,null,null,null,null,null,null,null,null,null,null,null,null,"Pasco"]
[null,null,null,null,null,null,null,null,null,null,null,null,null,null,null,null,null,null,null,"Pinellas"]
[null,null,null,null,null,null,null,null,null,null,null,null,null,null,null,null,null,null,null,"Polk"]
[null,{"$f":"MAX('Juvenile Delinquency'!B56:B99)","v":2},null,"Issue",null,"Calc 1 Needed","Calc 2 Needed","Calc 3 Needed","Calc 4 Needed","Standard",null,null,null,null,null,null,null,null,null,"Putnam"]
[{"$f":"D$8","v":"Criminal Traffic"},{"$f":"IF(E57=\"YES\",MAX(B56)+1,0)","v":0},{"$f":"A$11","v":"CGE CQ1-17"},{"$f":"\"After 3rd Q, Collections went up by more than set percentage of: \"&TEXT(J57,\"#0%\")","v":"After 3rd Q, Collections went up by more than set percentage of: 500%"},{"$f":"IF(MAX(F57:G57)>V$10,\"YES\",\"NO\")","v":"NO"},{"$f":"IFERROR(IF(NOT(ISBLANK(G12)),(G12-F12)/F12,0),0)","v":0.12895384385762557},{"$f":"IFERROR(IF(NOT(ISBLANK(H12)),(H12-G12)/G12,0),0)","v":8.2857112985551526E-2},null,null,{"$f":"V$10","v":5},null,null,null,null,null,null,null,null,null,"Santa Rosa"]
[{"$f":"D$8","v":"Criminal Traffic"},{"$f":"IF(E58=\"YES\",MAX(B$56:B57)+1,0)","v":0},{"$f":"A$11","v":"CGE CQ1-17"},{"$f":"\"Assessments dropped by more than set percentage of: \"&TEXT(J58,\"#0%\")","v":"Assessments dropped by more than set percentage of: 15%"},{"$f":"IF(MIN(F58:I58)<(-1*V$11),\"YES\",\"NO\")","v":"NO"},{"$f":"IFERROR(IF(NOT(ISBLANK(E13)),(E13-D13)/D13,0),0)","v":-6.4840057521135495E-3},{"$f":"IFERROR(IF(NOT(ISBLANK(F13)),(F13-E13)/E13,0),0)","v":-5.6512632799627545E-3},{"$f":"IFERROR(IF(NOT(ISBLANK(G13)),(G13-F13)/F13,0),0)","v":-1.5468412309948604E-3},{"$f":"IFERROR(IF(NOT(ISBLANK(H13)),(H13-G13)/G13,0),0)","v":-4.8360288224211572E-3},{"$f":"V$11","v":0.15},null,null,null,null,null,null,null,null,null,"Sumter"]
["Criminal Traffic",{"$f":"IF(E59=\"YES\",MAX(B$56:B58)+1,0)","v":0},{"$f":"A$11","v":"CGE CQ1-17"},{"$f":"\"The 5th Quarter Collection Rate did not meet the established performance measure standard of: \"&TEXT(J59,\"#0%\")","v":"The 5th Quarter Collection Rate did not meet the established performance measure standard of: 40%"},{"$f":"IF(F59=\"N/A\",\"NO\",IF(F59<H$8,\"YES\",\"NO\"))","v":"NO"},{"$f":"H14","v":0.56372781522784621},null,null,null,{"$f":"H$8","v":0.4},null,null,null,null,null,null,null,null,null,"Washington"]
["Criminal Traffic",{"$f":"IF(E60=\"YES\",MAX(B$56:B59)+1,0)","v":0},{"$f":"A$11","v":"CGE CQ1-17"},"Collections amount decreased from prior quarter",{"$f":"IF(MIN(F60:I60)<0,\"YES\",\"NO\")","v":"NO"},{"$f":"IFERROR(IF(NOT(ISBLANK(E12)),(E12-D12)/D12,0),0)","v":0.68637249612353357},0.29919433201251128,0.12895384385762557,8.2857112985551526E-2]
["Criminal Traffic",{"$f":"IF(E61=\"YES\",MAX(B$56:B60)+1,0)","v":0},{"$f":"A$11","v":"CGE CQ1-17"},"Assessment amount increased from prior quarter",{"$f":"IF(MAX(F61:I61)>0,\"YES\",\"NO\")","v":"NO"},-6.4840057521135495E-3,-5.6512632799627545E-3,-1.5468412309948604E-3,-4.8360288224211572E-3]
["Criminal Traffic",{"$f":"IF(E62=\"YES\",MAX(B$56:B61)+1,0)","v":0},{"$f":"A$15","v":"CGE CQ2-17"},{"$f":"\"After 3rd Q, Collections went up by more than set percentage of: \"&TEXT(J62,\"#0%\")","v":"After 3rd Q, Collections went up by more than set percentage of: 500%"},{"$f":"IF(MAX(F62:G62)>V$10,\"YES\",\"NO\")","v":"NO"},{"$f":"IFERROR(IF(NOT(ISBLANK(H16)),(H16-G16)/G16,0),0)","v":0.17021721072935361},{"$f":"IFERROR(IF(NOT(ISBLANK(I16)),(I16-H16)/H16,0),0)","v":0.16383878630913273},null,null,{"$f":"V$10","v":5},null,null,null,null,null,null,null,null,null,"Sarasota"]
["Criminal Traffic",{"$f":"IF(E63=\"YES\",MAX(B$56:B62)+1,0)","v":0},{"$f":"A$15","v":"CGE CQ2-17"},{"$f":"\"Assessments dropped by more than set percentage of: \"&TEXT(J63,\"#0%\")","v":"Assessments dropped by more than set percentage of: 15%"},{"$f":"IF(MIN(F63:I63)<(-1*V$11),\"YES\",\"NO\")","v":"NO"},{"$f":"IFERROR(IF(NOT(ISBLANK(F17)),(F17-E17)/E17,0),0)","v":-1.033726603937302E-2},{"$f":"IFERROR(IF(NOT(ISBLANK(G17)),(G17-F17)/F17,0),0)","v":-4.3960261290939212E-3},{"$f":"IFERROR(IF(NOT(ISBLANK(H17)),(H17-G17)/G17,0),0)","v":-1.3699132875949038E-3},{"$f":"IFERROR(IF(NOT(ISBLANK(I17)),(I17-H17)/H17,0),0)","v":-1.9480108640074789E-4},{"$f":"V$11","v":0.15},null,null,null,null,null,null,null,null,null,"Suwannee"]
["Criminal Traffic",{"$f":"IF(E64=\"YES\",MAX(B$56:B63)+1,0)","v":0},{"$f":"A$15","v":"CGE CQ2-17"},"Collections amount decreased from prior quarter",{"$f":"IF(MIN(F64:I64)<0,\"YES\",\"NO\")","v":"NO"},{"$f":"IFERROR(IF(NOT(ISBLANK(F16)),(F16-E16)/E16,0),0)","v":0.44142413872805181},0.34124903319845085,0.17021721072935361,0.16383878630913273]
["Criminal Traffic",{"$f":"IF(E65=\"YES\",MAX(B$56:B64)+1,0)","v":0},{"$f":"A$15","v":"CGE CQ2-17"},"Assessment amount increased from prior quarter",{"$f":"IF(MAX(F65:I65)>0,\"YES\",\"NO\")","v":"NO"},-1.033726603937302E-2,-4.3960261290939212E-3,-1.3699132875949038E-3,-1.9480108640074789E-4]
["Criminal Traffic",{"$f":"IF(E66=\"YES\",MAX(B$56:B65)+1,0)","v":0},{"$f":"A$15","v":"CGE CQ2-17"},{"$f":"\"The 5th Quarter Collection Rate did not meet the established performance measure standard of: \"&TEXT(J66,\"#0%\")","v":"The 5th Quarter Collection Rate did not meet the established performance measure standard of: 40%"},{"$f":"IF(F66=\"N/A\",\"NO\",IF(F66<H$8,\"YES\",\"NO\"))","v":"NO"},{"$f":"I18","v":0.60096528827868789},null,null,null,{"$f":"H$8","v":0.4}]
["Criminal Traffic",{"$f":"IF(E67=\"YES\",MAX(B$56:B66)+1,0)","v":0},{"$f":"A$19","v":"CGE CQ3-17"},{"$f":"\"After 3rd Q, Collections went up by more than set percentage of: \"&TEXT(J67,\"#0%\")","v":"After 3rd Q, Collections went up by more than set percentage of: 500%"},{"$f":"IF(MAX(F67:G67)>V$10,\"YES\",\"NO\")","v":"NO"},{"$f":"IFERROR(IF(NOT(ISBLANK(I20)),(I20-H20)/H20,0),0)","v":0.30299325096243779},{"$f":"IFERROR(IF(NOT(ISBLANK(J20)),(J20-I20)/I20,0),0)","v":0},null,null,{"$f":"V$10","v":5},null,null,null,null,null,null,null,null,null,"Seminole"]
["Criminal Traffic",{"$f":"IF(E68=\"YES\",MAX(B$56:B67)+1,0)","v":0},{"$f":"A$19","v":"CGE CQ3-17"},{"$f":"\"Assessments dropped by more than set percentage of: \"&TEXT(J68,\"#0%\")","v":"Assessments dropped by more than set percentage of: 15%"},{"$f":"IF(MIN(F68:I68)<(-1*V$11),\"YES\",\"NO\")","v":"NO"},{"$f":"IFERROR(IF(NOT(ISBLANK(G21)),(G21-F21)/F21,0),0)","v":-1.178757577678516E-2},{"$f":"IFERROR(IF(NOT(ISBLANK(H21)),(H21-G21)/G21,0),0)","v":-3.7293795175352843E-3},{"$f":"IFERROR(IF(NOT(ISBLANK(I21)),(I21-H21)/H21,0),0)","v":-1.4825413495731098E-3},{"$f":"IFERROR(IF(NOT(ISBLANK(J21)),(J21-I21)/I21,0),0)","v":0},{"$f":"V$11","v":0.15},null,null,null,null,null,null,null,null,null,"Taylor"]
["Criminal Traffic",{"$f":"IF(E69=\"YES\",MAX(B$56:B68)+1,0)","v":0},{"$f":"A$19","v":"CGE CQ3-17"},"Collections amount decreased from prior quarter",{"$f":"IF(MIN(F69:I69)<0,\"YES\",\"NO\")","v":"NO"},{"$f":"IFERROR(IF(NOT(ISBLANK(G20)),(G20-F20)/F20,0),0)","v":0.54654052369904871},0.33015251701236581,0.30299325096243779,0]
["Criminal Traffic",{"$f":"IF(E70=\"YES\",MAX(B$56:B69)+1,0)","v":0},{"$f":"A$19","v":"CGE CQ3-17"},"Assessment amount increased from prior quarter",{"$f":"IF(MAX(F70:I70)>0,\"YES\",\"NO\")","v":"NO"},-1.178757577678516E-2,-3.7293795175352843E-3,-1.4825413495731098E-3,0]
["Criminal Traffic",{"$f":"IF(E71=\"YES\",MAX(B$56:B70)+1,0)","v":0},{"$f":"A$19","v":"CGE CQ3-17"},{"$f":"\"The 5th Quarter Collection Rate did not meet the established performance measure standard of: \"&TEXT(J71,\"#0%\")","v":"The 5th Quarter Collection Rate did not meet the established performance measure standard of: 40%"},{"$f":"IF(F71=\"N/A\",\"NO\",IF(F71<H$8,\"YES\",\"NO\"))","v":"NO"},{"$f":"J22","v":"N/A"},null,null,null,{"$f":"H$8","v":0.4}]
["Criminal Traffic",{"$f":"IF(E72=\"YES\",MAX(B$56:B71)+1,0)","v":0},{"$f":"A$23","v":"CGE CQ4-17"},{"$f":"\"After 3rd Q, Collections went up by more than set percentage of: \"&TEXT(J72,\"#0%\")","v":"After 3rd Q, Collections went up by more than set percentage of: 500%"},{"$f":"IF(MAX(F72:G72)>V$10,\"YES\",\"NO\")","v":"NO"},{"$f":"IFERROR(IF(NOT(ISBLANK(J24)),(J24-I24)/I24,0),0)","v":0},{"$f":"IFERROR(IF(NOT(ISBLANK(K24)),(K24-J24)/J24,0),0)","v":0},null,null,{"$f":"V$10","v":5},null,null,null,null,null,null,null,null,null,"St. Johns"]
["Criminal Traffic",{"$f":"IF(E73=\"YES\",MAX(B$56:B72)+1,0)","v":0},{"$f":"A$23","v":"CGE CQ4-17"},{"$f":"\"Assessments dropped by more than set percentage of: \"&TEXT(J73,\"#0%\")","v":"Assessments dropped by more than set percentage of: 15%"},{"$f":"IF(MIN(F73:I73)<(-1*V$11),\"YES\",\"NO\")","v":"NO"},{"$f":"IFERROR(IF(NOT(ISBLANK(H25)),(H25-G25)/G25,0),0)","v":-6.3357580948953194E-3},{"$f":"IFERROR(IF(NOT(ISBLANK(I25)),(I25-H25)/H25,0),0)","v":-3.3488563655511643E-3},{"$f":"IFERROR(IF(NOT(ISBLANK(J25)),(J25-I25)/I25,0),0)","v":0},{"$f":"IFERROR(IF(NOT(ISBLANK(K25)),(K25-J25)/J25,0),0)","v":0},{"$f":"V$11","v":0.15},null,null,null,null,null,null,null,null,null,"Union"]
["Criminal Traffic",{"$f":"IF(E74=\"YES\",MAX(B$56:B73)+1,0)","v":0},{"$f":"A$23","v":"CGE CQ4-17"},"Collections amount decreased from prior quarter",{"$f":"IF(MIN(F74:I74)<0,\"YES\",\"NO\")","v":"NO"},{"$f":"IFERROR(IF(NOT(ISBLANK(H24)),(H24-G24)/G24,0),0)","v":0.49508382400950268},0.42405221096788315,0,0]
["Criminal Traffic",{"$f":"IF(E75=\"YES\",MAX(B$56:B74)+1,0)","v":0},{"$f":"A$23","v":"CGE CQ4-17"},"Assessment amount increased from prior quarter",{"$f":"IF(MAX(F75:I75)>0,\"YES\",\"NO\")","v":"NO"},-6.3357580948953194E-3,-3.3488563655511643E-3,0,0]
["Criminal Traffic",{"$f":"IF(E76=\"YES\",MAX(B$56:B75)+1,0)","v":0},{"$f":"A$23","v":"CGE CQ4-17"},{"$f":"\"The 5th Quarter Collection Rate did not meet the established performance measure standard of: \"&TEXT(J76,\"#0%\")","v":"The 5th Quarter Collection Rate did not meet the established performance measure standard of: 40%"},{"$f":"IF(F76=\"N/A\",\"NO\",IF(F76<H$8,\"YES\",\"NO\"))","v":"NO"},{"$f":"K26","v":"N/A"},null,null,null,{"$f":"H$8","v":0.4}]
["Criminal Traffic",{"$f":"IF(E77=\"YES\",MAX(B$56:B76)+1,0)","v":0},{"$f":"A$27","v":"CGE CQ1-18"},{"$f":"\"After 3rd Q, Collections went up by more than set percentage of: \"&TEXT(J77,\"#0%\")","v":"After 3rd Q, Collections went up by more than set percentage of: 500%"},{"$f":"IF(MAX(F77)>V$10,\"YES\",\"NO\")","v":"NO"},{"$f":"IFERROR(IF(NOT(ISBLANK(K28)),(K28-J28)/J28,0),0)","v":0},null,null,null,{"$f":"V$10","v":5},null,null,null,null,null,null,null,null,null,"St. Lucie"]
["Criminal Traffic",{"$f":"IF(E78=\"YES\",MAX(B$56:B77)+1,0)","v":0},{"$f":"A$27","v":"CGE CQ1-18"},{"$f":"\"Assessments dropped by more than set percentage of: \"&TEXT(J78,\"#0%\")","v":"Assessments dropped by more than set percentage of: 15%"},{"$f":"IF(MIN(F78:H78)<(-1*V$11),\"YES\",\"NO\")","v":"NO"},{"$f":"IFERROR(IF(NOT(ISBLANK(I29)),(I29-H29)/H29,0),0)","v":-7.5991097057508308E-3},{"$f":"IFERROR(IF(NOT(ISBLANK(J29)),(J29-I29)/I29,0),0)","v":0},{"$f":"IFERROR(IF(NOT(ISBLANK(K29)),(K29-J29)/J29,0),0)","v":0},null,{"$f":"V$11","v":0.15},null,null,null,null,null,null,null,null,null,"Volusia"]
["Criminal Traffic",{"$f":"IF(E79=\"YES\",MAX(B$56:B78)+1,0)","v":0},{"$f":"A$27","v":"CGE CQ1-18"},"Collections amount decreased from prior quarter",{"$f":"IF(MIN(F79:H79)<0,\"YES\",\"NO\")","v":"NO"},{"$f":"IFERROR(IF(NOT(ISBLANK(I28)),(I28-H28)/H28,0),0)","v":0.66990811243097703},0,0]
["Criminal Traffic",{"$f":"IF(E80=\"YES\",MAX(B$56:B79)+1,0)","v":0},{"$f":"A$27","v":"CGE CQ1-18"},"Assessment amount increased from prior quarter",{"$f":"IF(MAX(F80:H80)>0,\"YES\",\"NO\")","v":"NO"},-7.5991097057508308E-3,0,0]
["Criminal Traffic",{"$f":"IF(E81=\"YES\",MAX(B$56:B80)+1,0)","v":0},{"$f":"A$31","v":"CGE CQ2-18"},{"$f":"\"Assessments dropped by more than set percentage of: \"&TEXT(J81,\"#0%\")","v":"Assessments dropped by more than set percentage of: 15%"},{"$f":"IF(MIN(F81:G81)<(-1*V$11),\"YES\",\"NO\")","v":"NO"},{"$f":"IFERROR(IF(NOT(ISBLANK(J33)),(J33-I33)/I33,0),0)","v":0},{"$f":"IFERROR(IF(NOT(ISBLANK(K33)),(K33-J33)/J33,0),0)","v":0},null,null,{"$f":"V$11","v":0.15},null,null,null,null,null,null,null,null,null,"Wakulla"]
["Criminal Traffic",{"$f":"IF(E82=\"YES\",MAX(B$56:B81)+1,0)","v":0},{"$f":"A$31","v":"CGE CQ2-18"},"Collections amount decreased from prior quarter",{"$f":"IF(MIN(F82:G82)<0,\"YES\",\"NO\")","v":"NO"},{"$f":"IFERROR(IF(NOT(ISBLANK(J32)),(J32-I32)/I32,0),0)","v":0},{"$f":"IFERROR(IF(NOT(ISBLANK(K32)),(K32-J32)/J32,0),0)","v":0}]
["Criminal Traffic",{"$f":"IF(E83=\"YES\",MAX(B$56:B82)+1,0)","v":0},{"$f":"A$31","v":"CGE CQ2-18"},"Assessment amount increased from prior quarter",{"$f":"IF(MAX(F83:G83)>0,\"YES\",\"NO\")","v":"NO"},{"$f":"IFERROR(IF(NOT(ISBLANK(J33)),(J33-I33)/I33,0),0)","v":0},{"$f":"IFERROR(IF(NOT(ISBLANK(K33)),(K33-J33)/J33,0),0)","v":0}]
["Criminal Traffic",{"$f":"IF(E84=\"YES\",MAX(B$56:B83)+1,0)","v":0},{"$f":"A$35","v":"CGE CQ3-18"},{"$f":"\"Assessments dropped by more than set percentage of: \"&TEXT(J84,\"#0%\")","v":"Assessments dropped by more than set percentage of: 15%"},{"$f":"IF(MIN(F84)<(-1*V$11),\"YES\",\"NO\")","v":"NO"},{"$f":"IFERROR(IF(NOT(ISBLANK(K37)),(K37-J37)/J37,0),0)","v":0},null,null,null,{"$f":"V$11","v":0.15},null,null,null,null,null,null,null,null,null,"Walton"]
["Criminal Traffic",{"$f":"IF(E85=\"YES\",MAX(B$56:B84)+1,0)","v":0},{"$f":"A$35","v":"CGE CQ3-18"},"Collections amount decreased from prior quarter",{"$f":"IF(MIN(F85)<0,\"YES\",\"NO\")","v":"NO"},{"$f":"IFERROR(IF(NOT(ISBLANK(K36)),(K36-J36)/J36,0),0)","v":0}]
["Criminal Traffic",{"$f":"IF(E86=\"YES\",MAX(B$56:B85)+1,0)","v":0},{"$f":"A$35","v":"CGE CQ3-18"},"Assessment amount increased from prior quarter",{"$f":"IF(MAX(F86)>0,\"YES\",\"NO\")","v":"NO"},{"$f":"IFERROR(IF(NOT(ISBLANK(K37)),(K37-J37)/J37,0),0)","v":0}]

{"sheet":"Circuit Civil","index":6,"n_rows":86,"n_cols":22,"rows_kept":86,"cut":false,"hidden":false,"merged":[[29,11,29,12],[30,11,32,12],[33,11,35,12],[36,11,38,12],[39,11,41,12],[5,3,5,4],[22,12,25,12],[8,11,8,12],[10,11,13,11],[10,12,13,12],[14,11,17,11],[14,12,17,12],[18,11,21,11],[18,12,21,12],[22,11,25,11],[7,3,7,4],[10,8,13,8],[24,3,25,3],[24,4,25,4],[24,5,25,5],[34,0,37,0],[42,3,42,6],[42,7,42,10],[52,0,52,1],[34,1,37,1],[38,1,41,1],[38,0,41,0],[30,0,33,0],[26,0,29,0],[26,1,29,1],[30,1,33,1],[10,0,13,0],[14,0,17,0],[18,1,21,1],[22,1,25,1],[10,1,13,1],[14,1,17,1],[18,0,21,0],[22,0,25,0]]}
[]
[null,null,null,null,null,null,null,null,null,null,null,null,"County Fiscal Year 2016-2017",null,null,null,null,null,null,"CountyNames"]
[null,null,null,null,null,null,null,null,null,null,null,null,"Collections Quarterly Report Form for CCOC",null,null,null,null,null,null,"Alachua"]
[null,null,"Report for Quarter Ending: ",{"$f":"'Circuit Criminal'!D4","v":"March 2017"},null,null,null,null,"REQUIRED: Reason Codes AND Action to Improve / Descriptions Required if Measure(s) Not Met",null,null,null,null,null,null,null,null,null,null,"Baker"]
[null,null,"Version #: ",{"$f":"'Circuit Criminal'!$D$5","v":1},null,null,null,null,null,"Internal: Must clarify reason AND expected duration internal reason will be resolved",null,null,null,null,null,null,null,null,null,"Bay"]
[null,null,"County: ",{"$f":"'Circuit Criminal'!D6","v":"Brevard"},null,null,null,null,null,"External: Detailed explanation of external reason the measure wasn't met ",null,null,null,null,null,null,null,null,null,"Bradford"]
[null,null,null,null,null,null,null,null,null,null,null,null,null,null,null,null,null,null,null,"Brevard"]
[null,null,"Court/Case Type:","Circuit Civil",null,null,"Performance Measure Standard:",0.9,null,null,null,null,null,null,null,null,null,null,null,"Broward"]
[null,null,null,null,null,null,null,null,null,null,null,"Action Plan",null,1,"version #1","Qtr1 - December",1,null,null,"Calhoun"]
[null,null,"Control Groups","10/01/15 - 12/31/15","01/01/16 - 03/31/16","04/01/16 - 06/30/16","07/01/16 - 09/30/16","10/01/16 - 12/31/16","01/01/17 - 03/31/17","04/01/17 - 06/30/17","07/01/17- 09/30/17","Reason Code","Current Actions to Improve",null,"version #2","Qtr 2 - March",null,null,null,"Charlotte",null,5]
[{"$f":"LEFT(B11,3)&\" \"&RIGHT(B11,6)","v":"CGE CQ1-17"},"CGE\nCQ1-17","RPE 12/31/15","Qtr 1","Qtr 2","Qtr 3","Qtr 4","Qtr 5",null,null,null,null,null,"Economy","version #3","Qtr 3 - June",3,null,null,"Citrus",{"$f":"D6&\" \"&D8","v":"Brevard Circuit Civil"},0.15]
[null,null,"C = Cumulative Collections",{"$f":"LOOKUP($U$11&\" \"&$A11,Lookup!$X$2:$X$5361,Lookup!$I$2:$I$5361)","v":763884.34},{"$f":"LOOKUP($U$11&\" \"&$A11,Lookup!$X$2:$X$5361,Lookup!$J$2:$J$5361)","v":824144.15},{"$f":"LOOKUP($U$11&\" \"&$A11,Lookup!$X$2:$X$5361,Lookup!$K$2:$K$5361)","v":823374.76},{"$f":"LOOKUP($U$11&\" \"&$A11,Lookup!$X$2:$X$5361,Lookup!$L$2:$L$5361)","v":820913.99},818619.6,null,null,null,null,null,"Incarcerations","version #4","Qtr 4 - September",4,null,null,"Clay",{"$f":"IF(P13=TRUE,A11,\"\")","v":"CGE CQ1-17"}]
[null,null,"A = Amount Assessed - Adjusted",{"$f":"LOOKUP($U$11&\" \"&$A11,Lookup!$X$2:$X$5361,Lookup!$D$2:$D$5361)","v":834675.06},{"$f":"LOOKUP($U$11&\" \"&$A11,Lookup!$X$2:$X$5361,Lookup!$E$2:$E$5361)","v":834224.06},{"$f":"LOOKUP($U$11&\" \"&$A11,Lookup!$X$2:$X$5361,Lookup!$F$2:$F$5361)","v":833318.06},{"$f":"LOOKUP($U$11&\" \"&$A11,Lookup!$X$2:$X$5361,Lookup!$G$2:$G$5361)","v":832516.06},831610.06,null,null,null,null,null,"Late/Non-pay/Pay Plans","version #5",{"$f":"OR(AND(E12<D12,E12>0),AND(F12<E12,F12>0),AND(G12<F12,G12>0),AND(H12<G12,H12>0),AND(F13>E13,E13>0),AND(G13>F13,F13>0),AND(H13<G13,G13>0))","v":true},5,null,null,"Collier",{"$f":"IF(P14=TRUE,A15,\"\")","v":"CGE CQ2-17"}]
[null,null,"CR = Collection Rate ",{"$f":"IF(ISBLANK(D12),\"N/A\",IF(OR(D12=0,D12=\"N/A\"),0,D12/D13))","v":0.91518768992570587},{"$f":"IF(ISBLANK(E12),\"N/A\",IF(OR(E12=0,E12=\"N/A\"),0,E12/E13))","v":0.98791702315562557},{"$f":"IF(ISBLANK(F12),\"N/A\",IF(OR(F12=0,F12=\"N/A\"),0,F12/F13))","v":0.98806782130702886},{"$f":"IF(ISBLANK(G12),\"N/A\",IF(OR(G12=0,G12=\"N/A\"),0,G12/G13))","v":0.98606384842593897},{"$f":"IF(ISBLANK(H12),\"N/A\",IF(AND(H12=0,H13=0,NOT(ISBLANK(H12)),NOT(ISBLANK(H13))),1,H12/H13))","v":0.98437914519696879},null,null,null,null,null,"Mandatory Assessment","version #6",{"$f":"OR(AND(F16<E16,F16>0),AND(G16<F16,G16>0),AND(H16<G16,H16>0),AND(I16<H16,I16>0),AND(G17>F17, F17>0),AND(H17>G17, G17>0),AND(I17<H17,I17>0))","v":true},6,null,null,"Columbia",{"$f":"IF(P15=TRUE,A19,\"\")","v":"CGE CQ3-17"}]
[{"$f":"LEFT(B15,3)&\" \"&RIGHT(B15,6)","v":"CGE CQ2-17"},"CGE \nCQ2-17","RPE 03/31/16",null,"Qtr 1","Qtr 2","Qtr 3","Qtr 4","Qtr 5",null,null,"Internal","Balance Adjustments","Other","version #7",{"$f":"OR(AND(G20<F20,D10>0),AND(H20<G20,H20>0),AND(I20<H20,I20>0),AND(J20<I20,J20>0),AND(H21>G21, G21>0),AND(I21>H21, H21>0),AND(J21<I21, J21>0))","v":true},7,null,null,"Dade",{"$f":"IF(P16=TRUE,A23,\"\")","v":"CGE CQ4-17"}]
[null,null,"C = Cumulative Collections",null,{"$f":"LOOKUP($U$11&\" \"&$A15,Lookup!$X$2:$X$5361,Lookup!$I$2:$I$5361)","v":887414.34},{"$f":"LOOKUP($U$11&\" \"&$A15,Lookup!$X$2:$X$5361,Lookup!$J$2:$J$5361)","v":910777.87},{"$f":"LOOKUP($U$11&\" \"&$A15,Lookup!$X$2:$X$5361,Lookup!$K$2:$K$5361)","v":910501.86},907901.18,907514.81,null,null,null,null,"Procedural","version #8",{"$f":"OR(AND(H24<G24, H24>0),AND(I24<H24, I24>0),AND(J24<I24, J24>0),AND(K24<J24, K24>0),AND(I25>H25, H25>0),AND(J25>I25, I25>0),AND(K25<J25, J25>0))","v":true},8,null,null,"Desoto",{"$f":"IF(P17=TRUE,A27,\"\")","v":""}]
[null,null,"A = Amount Assessed - Adjusted",null,{"$f":"LOOKUP($U$11&\" \"&$A15,Lookup!$X$2:$X$5361,Lookup!$D$2:$D$5361)","v":918122.82},{"$f":"LOOKUP($U$11&\" \"&$A15,Lookup!$X$2:$X$5361,Lookup!$E$2:$E$5361)","v":917216.82},{"$f":"LOOKUP($U$11&\" \"&$A15,Lookup!$X$2:$X$5361,Lookup!$F$2:$F$5361)","v":916310.82},915909.82,915508.82,null,null,null,null,"Staffing - Insufficient Personnel","version #9",{"$f":"OR(AND(I28<H28, I28>0),AND(J28<I28, J28>0),AND(K28<J28, K28>0),AND(J29>I29, I29>0),AND(K29>J29, J29>0))","v":false},9,null,null,"Dixie",{"$f":"IF(P18=TRUE,A31,\"\")","v":""}]
[null,null,"CR = Collection Rate",null,{"$f":"IF(ISBLANK(E16),\"N/A\",IF(OR(E16=0,E16=\"N/A\"),0,E16/E17))","v":0.96655297163836973},{"$f":"IF(ISBLANK(F16),\"N/A\",IF(OR(F16=0,F16=\"N/A\"),0,F16/F17))","v":0.992979904140877},{"$f":"IF(ISBLANK(G16),\"N/A\",IF(OR(G16=0,G16=\"N/A\"),0,G16/G17))","v":0.99366049175322413},{"$f":"IF(ISBLANK(H16),\"N/A\",IF(AND(H16=0,H17=0,NOT(ISBLANK(H16)),NOT(ISBLANK(H17))),1,H16/H17))","v":0.99125608239466212},{"$f":"IF(ISBLANK(I16),\"N/A\",IF(AND(I16=0,I17=0,NOT(ISBLANK(I16)),NOT(ISBLANK(I17))),1,I16/I17))","v":0.99126823267524622},null,null,null,null,"Staffing - Training Required","version #10",{"$f":"OR(AND(J32<I32, J32>0),AND(K32<J32, K32>0),AND(K33>J33, J33>0))","v":false},10,null,null,"Duval",{"$f":"IF(P19=TRUE,A35,\"\")","v":""}]
[{"$f":"LEFT(B19,3)&\" \"&RIGHT(B19,6)","v":"CGE CQ3-17"},"CGE\nCQ3-17","RPE 06/30/16",null,null,"Qtr 1","Qtr 2","Qtr 3","Qtr 4","Qtr 5",null,"Internal","Balance Adjustments","Systems","version #11",{"$f":"OR(K36<J36)","v":false},11,null,null,"Escambia",{"$f":"U12&\" \"&U13&\" \"&U14&\" \"&U15&\" \"&U16&\" \"&U17&\" \"&U18","v":"CGE CQ1-17 CGE CQ2-17 CGE CQ3-17 CGE CQ4-17   "}]
[null,null,"C = Cumulative Collections",null,null,{"$f":"LOOKUP($U$11&\" \"&$A19,Lookup!$X$2:$X$5361,Lookup!$I$2:$I$5361)","v":759269.57},{"$f":"LOOKUP($U$11&\" \"&$A19,Lookup!$X$2:$X$5361,Lookup!$J$2:$J$5361)","v":797870.81},796828.64,793937.53,null,null,null,null,null,"version #12",{"$f":"COUNTIF(P13:P19,\"TRUE\")","v":4},12,null,null,"Flagler"]
[null,null,"A = Amount Assessed - Adjusted",null,null,{"$f":"LOOKUP($U$11&\" \"&$A19,Lookup!$X$2:$X$5361,Lookup!$D$2:$D$5361)","v":805449.73},{"$f":"LOOKUP($U$11&\" \"&$A19,Lookup!$X$2:$X$5361,Lookup!$E$2:$E$5361)","v":805349.73},804042.73,800923.73,null,null,null,null,null,null,null,null,null,null,"Franklin"]
[null,null,"CR = Collection Rate",null,null,{"$f":"IF(ISBLANK(F20),\"N/A\",IF(OR(F20=0,F20=\"N/A\"),0,F20/F21))","v":0.94266537279738116},{"$f":"IF(ISBLANK(G20),\"N/A\",IF(OR(G20=0,G20=\"N/A\"),0,G20/G21))","v":0.99071345066447103},{"$f":"IF(ISBLANK(H20),\"N/A\",IF(AND(H20=0,H21=0,NOT(ISBLANK(H20)),NOT(ISBLANK(H21))),1,H20/H21))","v":0.99102772809101825},{"$f":"IF(ISBLANK(I20),\"N/A\",IF(AND(I20=0,I21=0,NOT(ISBLANK(I20)),NOT(ISBLANK(I21))),1,I20/I21))","v":0.99127732174947547},{"$f":"IF(ISBLANK(J20),\"N/A\",IF(AND(J20=0,J21=0,NOT(ISBLANK(J20)),NOT(ISBLANK(J21))),1,J20/J21))","v":"N/A"},null,null,null,null,"Q1","Q2",null,null,null,"Gadsden"]
[{"$f":"LEFT(B23,3)&\" \"&RIGHT(B23,6)","v":"CGE CQ4-17"},"CGE\nCQ4-17","RPE 09/30/16",null,null,null,"Qtr 1","Qtr 2","Qtr 3","Qtr 4","Qtr 5","Internal","Balance Adjustments",null,false,false,{"$f":"IF(AND(OR(ISBLANK(H12),ISBLANK(H13)),O23=FALSE),\"Red\",\"Gray\")","v":"Gray"},{"$f":"IF(AND(OR(ISBLANK(I16),ISBLANK(I17)),P23=FALSE),\"Red\",\"Gray\")","v":"Gray"},{"$f":"IF(AND('Circuit Criminal'!D4=1,S36=1),A11,IF(AND('Circuit Criminal'!D4=2,S36=1),A15,IF(AND('Circuit Criminal'!D4=3,S36=1),A19,IF(AND('Circuit Criminal'!D4=4,S36=1),A23,\"\"))))","v":""},"Gilchrist"]
[null,null,"C = Cumulative Collections",null,null,null,{"$f":"LOOKUP($U$11&\" \"&$A23,Lookup!$X$2:$X$5361,Lookup!$I$2:$I$5361)","v":652916.49},701038.91,700654.19,null,null,null,null,null,false,false,{"$f":"IF(AND(OR(ISBLANK(H16),ISBLANK(H17)),O24=FALSE),\"Red\",\"Gray\")","v":"Gray"},{"$f":"IF(AND(OR(ISBLANK(I20),ISBLANK(I21)),P24=FALSE),\"Red\",\"Gray\")","v":"Gray"},{"$f":"IF(AND('Circuit Criminal'!D4=1,S37=1),A15,IF(AND('Circuit Criminal'!D4=2,S37=1),A19,IF(AND('Circuit Criminal'!D4=3,S37=1),A23,IF(AND('Circuit Criminal'!D4=4,S37=1),A27,\"\"))))","v":""},"Glades"]
[null,null,"A = Amount Assessed - Adjusted",null,null,null,{"$f":"LOOKUP($U$11&\" \"&$A23,Lookup!$X$2:$X$5361,Lookup!$D$2:$D$5361)","v":708383.15},706427.15,706427.15,null,null,null,null,null,false,false,{"$f":"IF(AND(OR(ISBLANK(H20),ISBLANK(H21)),O25=FALSE),\"Red\",\"Gray\")","v":"Gray"},{"$f":"IF(AND(OR(ISBLANK(I24),ISBLANK(I25)),P25=FALSE),\"Red\",\"Gray\")","v":"Gray"},{"$f":"IF(AND('Circuit Criminal'!D4=1,S38=1),A19,IF(AND('Circuit Criminal'!D4=2,S38=1),A23,IF(AND('Circuit Criminal'!D4=3,S38=1),A27,IF(AND('Circuit Criminal'!D4=4,S38=1),A31,\"\"))))","v":""},"Gulf"]
[null,null,"CR = Collection Rate",null,null,null,{"$f":"IF(ISBLANK(G24),\"N/A\",IF(OR(G24=0,G24=\"N/A\"),0,G24/G25))","v":0.92169963387751386},{"$f":"IF(ISBLANK(H24),\"N/A\",IF(AND(H24=0,H25=0,NOT(ISBLANK(H24)),NOT(ISBLANK(H25))),1,H24/H25))","v":0.9923725468365705},{"$f":"IF(ISBLANK(I24),\"N/A\",IF(AND(I24=0,I25=0,NOT(ISBLANK(I24)),NOT(ISBLANK(I25))),1,I24/I25))","v":0.99182794715633438},{"$f":"IF(ISBLANK(J24),\"N/A\",IF(AND(J24=0,J25=0,NOT(ISBLANK(J24)),NOT(ISBLANK(J25))),1,J24/J25))","v":"N/A"},{"$f":"IF(ISBLANK(K24),\"N/A\",IF(AND(K24=0,K25=0,NOT(ISBLANK(K24)),NOT(ISBLANK(K25))),1,K24/K25))","v":"N/A"},null,null,null,false,false,{"$f":"IF(AND(OR(ISBLANK(H24),ISBLANK(H25)),O26=FALSE),\"Red\",\"Gray\")","v":"Gray"},{"$f":"IF(AND(OR(ISBLANK(I28),ISBLANK(I29)),P26=FALSE),\"Red\",\"Gray\")","v":"Gray"},{"$f":"IF(AND('Circuit Criminal'!D4=1,S39=1),A23,IF(AND('Circuit Criminal'!D4=2,S39=1),A27,IF(AND('Circuit Criminal'!D4=3,S39=1),A31,IF(AND('Circuit Criminal'!D4=4,S39=1),A35,\"\"))))","v":""},"Hamilton"]
[{"$f":"LEFT(B27,3)&\" \"&RIGHT(B27,6)","v":"CGE CQ1-18"},"CGE\nCQ1-18","RPE 12/31/16",null,null,null,null,"Qtr 1","Qtr 2","Qtr 3","Qtr 4",null,null,null,false,false,{"$f":"IF(AND(OR(ISBLANK(H28),ISBLANK(H29)),O27=FALSE),\"Red\",\"Gray\")","v":"Gray"},{"$f":"IF(AND(OR(ISBLANK(I32),ISBLANK(I33)),P27=FALSE),\"Red\",\"Gray\")","v":"Gray"},{"$f":"IF(AND('Circuit Criminal'!D4=1,S40=1),A27,IF(AND('Circuit Criminal'!D4=2,S40=1),A31,IF(AND('Circuit Criminal'!D4=3,S40=1),A35,IF(AND('Circuit Criminal'!D4=4,S40=1),A39,\"\"))))","v":""},"Hardee"]
[null,null,"C = Cumulative Collections",null,null,null,null,684666.55,704954.87,null,null,null,null,null,null,null,null,null,null,"Hendry"]
[null,null,"A = Amount Assessed - Adjusted",null,null,null,null,708770.09,708740.09,null,null,null,null,null,"Q3","Q4",null,null,null,"Hernando"]
[null,null,"CR = Collection Rate",null,null,null,null,{"$f":"IF(ISBLANK(H28),\"N/A\",IF(AND(H28=0,H29=0,NOT(ISBLANK(H28)),NOT(ISBLANK(H29))),1,H28/H29))","v":0.96599244192147005},{"$f":"IF(ISBLANK(I28),\"N/A\",IF(AND(I28=0,I29=0,NOT(ISBLANK(I28)),NOT(ISBLANK(I29))),1,I28/I29))","v":0.99465922691067188},{"$f":"IF(ISBLANK(J28),\"N/A\",IF(AND(J28=0,J29=0,NOT(ISBLANK(J28)),NOT(ISBLANK(J29))),1,J28/J29))","v":"N/A"},{"$f":"IF(ISBLANK(K28),\"N/A\",IF(AND(K28=0,K29=0,NOT(ISBLANK(K28)),NOT(ISBLANK(K29))),1,K28/K29))","v":"N/A"},"Additional Notes Related to Collection Issues",null,null,false,false,{"$f":"IF(AND(OR(ISBLANK(J20),ISBLANK(J21)),O30=FALSE),\"Red\",\"Gray\")","v":"Red"},{"$f":"IF(AND(OR(ISBLANK(K24),ISBLANK(K25)),P30=FALSE),\"Red\",\"Gray\")","v":"Red"},null,"Highlands"]
[{"$f":"LEFT(B31,3)&\" \"&RIGHT(B31,6)","v":"CGE CQ2-18"},"CGE\nCQ2-18","RPE 03/31/17",null,null,null,null,null,"Qtr 1","Qtr 2","Qtr 3","10/01/16 - 12/31/16: ",null,null,false,false,{"$f":"IF(AND(OR(ISBLANK(J24),ISBLANK(J25)),O31=FALSE),\"Red\",\"Gray\")","v":"Red"},{"$f":"IF(AND(OR(ISBLANK(K28),ISBLANK(K29)),P31=FALSE),\"Red\",\"Gray\")","v":"Red"},null,"Hillsborough"]
[null,null,"C = Cumulative Collections",null,null,null,null,null,694238.11,null,null,null,null,null,false,false,{"$f":"IF(AND(OR(ISBLANK(J28),ISBLANK(J29)),O32=FALSE),\"Red\",\"Gray\")","v":"Red"},{"$f":"IF(AND(OR(ISBLANK(K32),ISBLANK(K33)),P32=FALSE),\"Red\",\"Gray\")","v":"Red"},null,"Holmes"]
[null,null,"A = Amount Assessed - Adjusted",null,null,null,null,null,737282.73,null,null,null,null,null,false,false,{"$f":"IF(AND(OR(ISBLANK(J32),ISBLANK(J33)),O33=FALSE),\"Red\",\"Gray\")","v":"Red"},{"$f":"IF(AND(OR(ISBLANK(K36),ISBLANK(K37)),P33=FALSE),\"Red\",\"Gray\")","v":"Red"},null,"Indian River"]
[null,null,"CR = Collection Rate",null,null,null,null,null,{"$f":"IF(ISBLANK(I32),\"N/A\",IF(AND(I32=0,I33=0,NOT(ISBLANK(I32)),NOT(ISBLANK(I33))),1,I32/I33))","v":0.94161721379259755},{"$f":"IF(ISBLANK(J32),\"N/A\",IF(AND(J32=0,J33=0,NOT(ISBLANK(J32)),NOT(ISBLANK(J33))),1,J32/J33))","v":"N/A"},{"$f":"IF(ISBLANK(K32),\"N/A\",IF(AND(K32=0,K33=0,NOT(ISBLANK(K32)),NOT(ISBLANK(K33))),1,K32/K33))","v":"N/A"},"01/01/17 - 03/31/17: ",null,null,false,false,{"$f":"IF(AND(OR(ISBLANK(J36),ISBLANK(J37)),O34=FALSE),\"Red\",\"Gray\")","v":"Red"},{"$f":"IF(AND(OR(ISBLANK(K40),ISBLANK(K41)),P34=FALSE),\"Red\",\"Gray\")","v":"Red"},null,"Jackson"]
[{"$f":"LEFT(B35,3)&\" \"&RIGHT(B35,6)","v":"CGE CQ3-18"},"CGE\nCQ3-18","RPE 06/30/17",null,null,null,null,null,null,"Qtr 1","Qtr 2",null,null,null,null,null,null,null,null,"Jefferson"]
[null,null,"C = Cumulative Collections",null,null,null,null,null,null,null,null,null,null,null,{"$f":"IF(AND('Circuit Criminal'!$D$4=1,Q23=\"Red\"),\"Red\",\"Gray\")","v":"Gray"},{"$f":"IF(AND('Circuit Criminal'!$D$4=2,R23=\"Red\"),\"Red\",\"Gray\")","v":"Gray"},{"$f":"IF(AND('Circuit Criminal'!$D$4=3,Q30=\"Red\"),\"Red\",\"Gray\")","v":"Gray"},{"$f":"IF(AND('Circuit Criminal'!$D$4=4,R30=\"Red\"),\"Red\",\"Gray\")","v":"Gray"},{"$f":"COUNTIF(O36:R36,\"Red\")","v":0},"Lafayette"]
[null,null,"A = Amount Assessed - Adjusted",null,null,null,null,null,null,null,null,"04/01/17 - 06/30/17: ",null,null,{"$f":"IF(AND('Circuit Criminal'!$D$4=1,Q24=\"Red\"),\"Red\",\"Gray\")","v":"Gray"},{"$f":"IF(AND('Circuit Criminal'!$D$4=2,R24=\"Red\"),\"Red\",\"Gray\")","v":"Gray"},{"$f":"IF(AND('Circuit Criminal'!$D$4=3,Q31=\"Red\"),\"Red\",\"Gray\")","v":"Gray"},{"$f":"IF(AND('Circuit Criminal'!$D$4=4,R31=\"Red\"),\"Red\",\"Gray\")","v":"Gray"},{"$f":"COUNTIF(O37:R37,\"Red\")","v":0},"Lake"]
[null,null,"CR = Collection Rate",null,null,null,null,null,null,{"$f":"IF(ISBLANK(J36),\"N/A\",IF(AND(J36=0,J37=0,NOT(ISBLANK(J36)),NOT(ISBLANK(J37))),1,J36/J37))","v":"N/A"},{"$f":"IF(ISBLANK(K36),\"N/A\",IF(AND(K36=0,K37=0,NOT(ISBLANK(K36)),NOT(ISBLANK(K37))),1,K36/K37))","v":"N/A"},null,null,null,{"$f":"IF(AND('Circuit Criminal'!$D$4=1,Q25=\"Red\"),\"Red\",\"Gray\")","v":"Gray"},{"$f":"IF(AND('Circuit Criminal'!$D$4=2,R25=\"Red\"),\"Red\",\"Gray\")","v":"Gray"},{"$f":"IF(AND('Circuit Criminal'!$D$4=3,Q32=\"Red\"),\"Red\",\"Gray\")","v":"Gray"},{"$f":"IF(AND('Circuit Criminal'!$D$4=4,R32=\"Red\"),\"Red\",\"Gray\")","v":"Gray"},{"$f":"COUNTIF(O38:R38,\"Red\")","v":0},"Lee"]
[{"$f":"LEFT(B39,3)&\" \"&RIGHT(B39,6)","v":"CGE CQ4-18"},"CGE\nCQ4-18","RPE 09/30/17",null,null,null,null,null,null,null,"Qtr 1",null,null,null,{"$f":"IF(AND('Circuit Criminal'!$D$4=1,Q26=\"Red\"),\"Red\",\"Gray\")","v":"Gray"},{"$f":"IF(AND('Circuit Criminal'!$D$4=2,R26=\"Red\"),\"Red\",\"Gray\")","v":"Gray"},{"$f":"IF(AND('Circuit Criminal'!$D$4=3,Q33=\"Red\"),\"Red\",\"Gray\")","v":"Gray"},{"$f":"IF(AND('Circuit Criminal'!$D$4=4,R33=\"Red\"),\"Red\",\"Gray\")","v":"Gray"},{"$f":"COUNTIF(O39:R39,\"Red\")","v":0},"Leon"]
[null,null,"C = Cumulative Collections",null,null,null,null,null,null,null,null,"07/01/17- 09/30/17: ",null,null,{"$f":"IF(AND('Circuit Criminal'!$D$4=1,Q27=\"Red\"),\"Red\",\"Gray\")","v":"Gray"},{"$f":"IF(AND('Circuit Criminal'!$D$4=2,R27=\"Red\"),\"Red\",\"Gray\")","v":"Gray"},{"$f":"IF(AND('Circuit Criminal'!$D$4=3,Q34=\"Red\"),\"Red\",\"Gray\")","v":"Gray"},{"$f":"IF(AND('Circuit Criminal'!$D$4=4,R34=\"Red\"),\"Red\",\"Gray\")","v":"Gray"},{"$f":"COUNTIF(O40:R40,\"Red\")","v":0},"Levy"]
[null,null,"A = Amount Assessed - Adjusted",null,null,null,null,null,null,null,null,null,null,null,{"$f":"COUNTIF(O36:O40,\"Red\")","v":0},{"$f":"COUNTIF(P36:P40,\"Red\")","v":0},{"$f":"COUNTIF(Q36:Q40,\"Red\")","v":0},{"$f":"COUNTIF(R36:R40,\"Red\")","v":0},null,"Liberty"]
[null,null,"CR = Collection Rate",null,null,null,null,null,null,null,{"$f":"IF(ISBLANK(K40),\"N/A\",IF(OR(K40=0,K40=\"N/A\"),0,K40/K41))","v":"N/A"},null,null,null,{"$f":"SUM(O41:R41)","v":0},null,null,null,null,"Madison"]
[null,null,"Business Rules","Purpose of Report:  The CCOC Collection Rate Performance Measure     report tracks dollars in the quarter they are assessed and then how well     those assessed dollars have been collected over the next five quarters.  ",null,null,null,"Adjustments to Assessments: The amount assessed in a given assessment control group should be adjusted in the reporting period when assessments are later adjusted by the Court or other provisions of law.  ",null,null,null,null,null,null,null,null,null,null,null,"Manatee"]
[null,null,"NOTES:","The following conditions will alert when performance standards are not met and/or established business rules within the control group are not followed.",null,null,null,null,null,null,null,null,null,null,null,null,null,null,null,"Martin"]
[null,null,null,"1.) Action Plan: If the 5th quarter Collection Rate is below Standard (red numbers on rose background), select a \"Reason Code\" and write a brief statement in \"Current Action to Improve\" in the green area ONLY. ",null,null,null,null,null,null,null,null,null,null,null,null,null,null,null,"Nassau"]
[null,null,null,"2.) Additional Notes Related to Collection Issues: Include a brief explaination when either of the following conditions not consistant with the Collection Report Business Rules. ",null,null,null,null,null,null,null,null,null,null,null,null,null,null,null,"Okaloosa"]
[null,null,null,null,"a.) Cumulative Collection amount has Decreased from the previous quarter in the same Control Group (font color for amount will change to RED)",null,null,null,null,null,null,null,null,null,null,null,null,null,null,"Okeechobee"]
[null,null,null,null,"b.) The Amount Assessed - Adjusted has Increased from the previous quarter in the same Control Group (font color for amount will change to RED)",null,null,null,null,null,null,null,null,null,null,null,null,null,null,"Orange"]
[null,null,null,null,null,null,null,null,null,null,null,null,null,null,null,null,null,null,null,"Nassau"]
[null,null,null,null,null,null,null,null,null,null,null,null,null,null,null,null,null,null,null,"Okaloosa"]
[null,null,null,null,null,null,null,null,null,null,null,null,null,null,null,null,null,null,null,"Okeechobee"]
[null,null,null,null,null,null,null,null,null,null,null,null,null,null,null,null,null,null,null,"Orange"]
[null,null,null,null,null,null,null,null,null,null,null,null,null,null,null,null,null,null,null,"Pasco"]
[null,null,null,null,null,null,null,null,null,null,null,null,null,null,null,null,null,null,null,"Pinellas"]
[null,null,null,null,null,null,null,null,null,null,null,null,null,null,null,null,null,null,null,"Polk"]
[null,{"$f":"MAX('Criminal Traffic'!B56:B99)","v":2},null,"Issue",null,"Calc 1 Needed","Calc 2 Needed","Calc 3 Needed","Calc 4 Needed","Standard",null,null,null,null,null,null,null,null,null,"Putnam"]
[{"$f":"D$8","v":"Circuit Civil"},{"$f":"IF(E57=\"YES\",MAX(B56)+1,0)","v":0},{"$f":"A$11","v":"CGE CQ1-17"},{"$f":"\"After 3rd Q, Collections went up by more than set percentage of: \"&TEXT(J57,\"#0%\")","v":"After 3rd Q, Collections went up by more than set percentage of: 500%"},{"$f":"IF(MAX(F57:G57)>V$10,\"YES\",\"NO\")","v":"NO"},{"$f":"IFERROR(IF(NOT(ISBLANK(G12)),(G12-F12)/F12,0),0)","v":-2.9886390979485681E-3},{"$f":"IFERROR(IF(NOT(ISBLANK(H12)),(H12-G12)/G12,0),0)","v":-2.7949213047276903E-3},null,null,{"$f":"V$10","v":5},null,null,null,null,null,null,null,null,null,"Santa Rosa"]
[{"$f":"D$8","v":"Circuit Civil"},{"$f":"IF(E58=\"YES\",MAX(B$56:B57)+1,0)","v":0},{"$f":"A$11","v":"CGE CQ1-17"},{"$f":"\"Assessments dropped by more than set percentage of: \"&TEXT(J58,\"#0%\")","v":"Assessments dropped by more than set percentage of: 15%"},{"$f":"IF(MIN(F58:I58)<(-1*V$11),\"YES\",\"NO\")","v":"NO"},{"$f":"IFERROR(IF(NOT(ISBLANK(E13)),(E13-D13)/D13,0),0)","v":-5.40330029748343E-4},{"$f":"IFERROR(IF(NOT(ISBLANK(F13)),(F13-E13)/E13,0),0)","v":-1.0860391631476081E-3},{"$f":"IFERROR(IF(NOT(ISBLANK(G13)),(G13-F13)/F13,0),0)","v":-9.6241763919049103E-4},{"$f":"IFERROR(IF(NOT(ISBLANK(H13)),(H13-G13)/G13,0),0)","v":-1.0882672942069129E-3},{"$f":"V$11","v":0.15},null,null,null,null,null,null,null,null,null,"Sumter"]
["Circuit Civil",{"$f":"IF(E59=\"YES\",MAX(B$56:B58)+1,0)","v":0},{"$f":"A$11","v":"CGE CQ1-17"},{"$f":"\"The 5th Quarter Collection Rate did not meet the established performance measure standard of: \"&TEXT(J59,\"#0%\")","v":"The 5th Quarter Collection Rate did not meet the established performance measure standard of: 90%"},{"$f":"IF(F59=\"N/A\",\"NO\",IF(F59<H$8,\"YES\",\"NO\"))","v":"NO"},{"$f":"H14","v":0.98437914519696879},null,null,null,{"$f":"H$8","v":0.9},null,null,null,null,null,null,null,null,null,"Washington"]
["Circuit Civil",{"$f":"IF(E60=\"YES\",MAX(B$56:B59)+1,0)","v":3},{"$f":"A$11","v":"CGE CQ1-17"},"Collections amount decreased from prior quarter",{"$f":"IF(MIN(F60:I60)<0,\"YES\",\"NO\")","v":"YES"},{"$f":"IFERROR(IF(NOT(ISBLANK(E12)),(E12-D12)/D12,0),0)","v":7.8886039213737588E-2},-9.3356241138156952E-4,-2.9886390979485681E-3,-2.7949213047276903E-3]
["Circuit Civil",{"$f":"IF(E61=\"YES\",MAX(B$56:B60)+1,0)","v":0},{"$f":"A$11","v":"CGE CQ1-17"},"Assessment amount increased from prior quarter",{"$f":"IF(MAX(F61:I61)>0,\"YES\",\"NO\")","v":"NO"},-5.40330029748343E-4,-1.0860391631476081E-3,-9.6241763919049103E-4,-1.0882672942069129E-3]
["Circuit Civil",{"$f":"IF(E62=\"YES\",MAX(B$56:B61)+1,0)","v":0},{"$f":"A$15","v":"CGE CQ2-17"},{"$f":"\"After 3rd Q, Collections went up by more than set percentage of: \"&TEXT(J62,\"#0%\")","v":"After 3rd Q, Collections went up by more than set percentage of: 500%"},{"$f":"IF(MAX(F62:G62)>V$10,\"YES\",\"NO\")","v":"NO"},{"$f":"IFERROR(IF(NOT(ISBLANK(H16)),(H16-G16)/G16,0),0)","v":-2.8563148679344101E-3},{"$f":"IFERROR(IF(NOT(ISBLANK(I16)),(I16-H16)/H16,0),0)","v":-4.2556393637465626E-4},null,null,{"$f":"V$10","v":5},null,null,null,null,null,null,null,null,null,"Sarasota"]
["Circuit Civil",{"$f":"IF(E63=\"YES\",MAX(B$56:B62)+1,0)","v":0},{"$f":"A$15","v":"CGE CQ2-17"},{"$f":"\"Assessments dropped by more than set percentage of: \"&TEXT(J63,\"#0%\")","v":"Assessments dropped by more than set percentage of: 15%"},{"$f":"IF(MIN(F63:I63)<(-1*V$11),\"YES\",\"NO\")","v":"NO"},{"$f":"IFERROR(IF(NOT(ISBLANK(F17)),(F17-E17)/E17,0),0)","v":-9.8679608028912741E-4},{"$f":"IFERROR(IF(NOT(ISBLANK(G17)),(G17-F17)/F17,0),0)","v":-9.8777080865132864E-4},{"$f":"IFERROR(IF(NOT(ISBLANK(H17)),(H17-G17)/G17,0),0)","v":-4.3762442966678057E-4},{"$f":"IFERROR(IF(NOT(ISBLANK(I17)),(I17-H17)/H17,0),0)","v":-4.3781602865662037E-4},{"$f":"V$11","v":0.15},null,null,null,null,null,null,null,null,null,"Suwannee"]
["Circuit Civil",{"$f":"IF(E64=\"YES\",MAX(B$56:B63)+1,0)","v":4},{"$f":"A$15","v":"CGE CQ2-17"},"Collections amount decreased from prior quarter",{"$f":"IF(MIN(F64:I64)<0,\"YES\",\"NO\")","v":"YES"},{"$f":"IFERROR(IF(NOT(ISBLANK(F16)),(F16-E16)/E16,0),0)","v":2.6327645325181503E-2},-3.0304864565935193E-4,-2.8563148679344101E-3,-4.2556393637465626E-4]
["Circuit Civil",{"$f":"IF(E65=\"YES\",MAX(B$56:B64)+1,0)","v":0},{"$f":"A$15","v":"CGE CQ2-17"},"Assessment amount increased from prior quarter",{"$f":"IF(MAX(F65:I65)>0,\"YES\",\"NO\")","v":"NO"},-9.8679608028912741E-4,-9.8777080865132864E-4,-4.3762442966678057E-4,-4.3781602865662037E-4]
["Circuit Civil",{"$f":"IF(E66=\"YES\",MAX(B$56:B65)+1,0)","v":0},{"$f":"A$15","v":"CGE CQ2-17"},{"$f":"\"The 5th Quarter Collection Rate did not meet the established performance measure standard of: \"&TEXT(J66,\"#0%\")","v":"The 5th Quarter Collection Rate did not meet the established performance measure standard of: 90%"},{"$f":"IF(F66=\"N/A\",\"NO\",IF(F66<H$8,\"YES\",\"NO\"))","v":"NO"},{"$f":"I18","v":0.99126823267524622},null,null,null,{"$f":"H$8","v":0.9}]
["Circuit Civil",{"$f":"IF(E67=\"YES\",MAX(B$56:B66)+1,0)","v":0},{"$f":"A$19","v":"CGE CQ3-17"},{"$f":"\"After 3rd Q, Collections went up by more than set percentage of: \"&TEXT(J67,\"#0%\")","v":"After 3rd Q, Collections went up by more than set percentage of: 500%"},{"$f":"IF(MAX(F67:G67)>V$10,\"YES\",\"NO\")","v":"NO"},{"$f":"IFERROR(IF(NOT(ISBLANK(I20)),(I20-H20)/H20,0),0)","v":-3.6282706906719444E-3},{"$f":"IFERROR(IF(NOT(ISBLANK(J20)),(J20-I20)/I20,0),0)","v":0},null,null,{"$f":"V$10","v":5},null,null,null,null,null,null,null,null,null,"Seminole"]
["Circuit Civil",{"$f":"IF(E68=\"YES\",MAX(B$56:B67)+1,0)","v":0},{"$f":"A$19","v":"CGE CQ3-17"},{"$f":"\"Assessments dropped by more than set percentage of: \"&TEXT(J68,\"#0%\")","v":"Assessments dropped by more than set percentage of: 15%"},{"$f":"IF(MIN(F68:I68)<(-1*V$11),\"YES\",\"NO\")","v":"NO"},{"$f":"IFERROR(IF(NOT(ISBLANK(G21)),(G21-F21)/F21,0),0)","v":-1.2415424113432878E-4},{"$f":"IFERROR(IF(NOT(ISBLANK(H21)),(H21-G21)/G21,0),0)","v":-1.6228974212234479E-3},{"$f":"IFERROR(IF(NOT(ISBLANK(I21)),(I21-H21)/H21,0),0)","v":-3.8791470697085964E-3},{"$f":"IFERROR(IF(NOT(ISBLANK(J21)),(J21-I21)/I21,0),0)","v":0},{"$f":"V$11","v":0.15},null,null,null,null,null,null,null,null,null,"Taylor"]
["Circuit Civil",{"$f":"IF(E69=\"YES\",MAX(B$56:B68)+1,0)","v":5},{"$f":"A$19","v":"CGE CQ3-17"},"Collections amount decreased from prior quarter",{"$f":"IF(MIN(F69:I69)<0,\"YES\",\"NO\")","v":"YES"},{"$f":"IFERROR(IF(NOT(ISBLANK(G20)),(G20-F20)/F20,0),0)","v":5.0839967154221802E-2},-1.3061889054445316E-3,-3.6282706906719444E-3,0]
["Circuit Civil",{"$f":"IF(E70=\"YES\",MAX(B$56:B69)+1,0)","v":0},{"$f":"A$19","v":"CGE CQ3-17"},"Assessment amount increased from prior quarter",{"$f":"IF(MAX(F70:I70)>0,\"YES\",\"NO\")","v":"NO"},-1.2415424113432878E-4,-1.6228974212234479E-3,-3.8791470697085964E-3,0]
["Circuit Civil",{"$f":"IF(E71=\"YES\",MAX(B$56:B70)+1,0)","v":0},{"$f":"A$19","v":"CGE CQ3-17"},{"$f":"\"The 5th Quarter Collection Rate did not meet the established performance measure standard of: \"&TEXT(J71,\"#0%\")","v":"The 5th Quarter Collection Rate did not meet the established performance measure standard of: 90%"},{"$f":"IF(F71=\"N/A\",\"NO\",IF(F71<H$8,\"YES\",\"NO\"))","v":"NO"},{"$f":"J22","v":"N/A"},null,null,null,{"$f":"H$8","v":0.9}]
["Circuit Civil",{"$f":"IF(E72=\"YES\",MAX(B$56:B71)+1,0)","v":0},{"$f":"A$23","v":"CGE CQ4-17"},{"$f":"\"After 3rd Q, Collections went up by more than set percentage of: \"&TEXT(J72,\"#0%\")","v":"After 3rd Q, Collections went up by more than set percentage of: 500%"},{"$f":"IF(MAX(F72:G72)>V$10,\"YES\",\"NO\")","v":"NO"},{"$f":"IFERROR(IF(NOT(ISBLANK(J24)),(J24-I24)/I24,0),0)","v":0},{"$f":"IFERROR(IF(NOT(ISBLANK(K24)),(K24-J24)/J24,0),0)","v":0},null,null,{"$f":"V$10","v":5},null,null,null,null,null,null,null,null,null,"St. Johns"]
["Circuit Civil",{"$f":"IF(E73=\"YES\",MAX(B$56:B72)+1,0)","v":0},{"$f":"A$23","v":"CGE CQ4-17"},{"$f":"\"Assessments dropped by more than set percentage of: \"&TEXT(J73,\"#0%\")","v":"Assessments dropped by more than set percentage of: 15%"},{"$f":"IF(MIN(F73:I73)<(-1*V$11),\"YES\",\"NO\")","v":"NO"},{"$f":"IFERROR(IF(NOT(ISBLANK(H25)),(H25-G25)/G25,0),0)","v":-2.7612175698984369E-3},{"$f":"IFERROR(IF(NOT(ISBLANK(I25)),(I25-H25)/H25,0),0)","v":0},{"$f":"IFERROR(IF(NOT(ISBLANK(J25)),(J25-I25)/I25,0),0)","v":0},{"$f":"IFERROR(IF(NOT(ISBLANK(K25)),(K25-J25)/J25,0),0)","v":0},{"$f":"V$11","v":0.15},null,null,null,null,null,null,null,null,null,"Union"]
["Circuit Civil",{"$f":"IF(E74=\"YES\",MAX(B$56:B73)+1,0)","v":6},{"$f":"A$23","v":"CGE CQ4-17"},"Collections amount decreased from prior quarter",{"$f":"IF(MIN(F74:I74)<0,\"YES\",\"NO\")","v":"YES"},{"$f":"IFERROR(IF(NOT(ISBLANK(H24)),(H24-G24)/G24,0),0)","v":7.3703790204471695E-2},-5.4878551605657441E-4,0,0]
["Circuit Civil",{"$f":"IF(E75=\"YES\",MAX(B$56:B74)+1,0)","v":0},{"$f":"A$23","v":"CGE CQ4-17"},"Assessment amount increased from prior quarter",{"$f":"IF(MAX(F75:I75)>0,\"YES\",\"NO\")","v":"NO"},-2.7612175698984369E-3,0,0,0]
["Circuit Civil",{"$f":"IF(E76=\"YES\",MAX(B$56:B75)+1,0)","v":0},{"$f":"A$23","v":"CGE CQ4-17"},{"$f":"\"The 5th Quarter Collection Rate did not meet the established performance measure standard of: \"&TEXT(J76,\"#0%\")","v":"The 5th Quarter Collection Rate did not meet the established performance measure standard of: 90%"},{"$f":"IF(F76=\"N/A\",\"NO\",IF(F76<H$8,\"YES\",\"NO\"))","v":"NO"},{"$f":"K26","v":"N/A"},null,null,null,{"$f":"H$8","v":0.9}]
["Circuit Civil",{"$f":"IF(E77=\"YES\",MAX(B$56:B76)+1,0)","v":0},{"$f":"A$27","v":"CGE CQ1-18"},{"$f":"\"After 3rd Q, Collections went up by more than set percentage of: \"&TEXT(J77,\"#0%\")","v":"After 3rd Q, Collections went up by more than set percentage of: 500%"},{"$f":"IF(MAX(F77)>V$10,\"YES\",\"NO\")","v":"NO"},{"$f":"IFERROR(IF(NOT(ISBLANK(K28)),(K28-J28)/J28,0),0)","v":0},null,null,null,{"$f":"V$10","v":5},null,null,null,null,null,null,null,null,null,"St. Lucie"]
["Circuit Civil",{"$f":"IF(E78=\"YES\",MAX(B$56:B77)+1,0)","v":0},{"$f":"A$27","v":"CGE CQ1-18"},{"$f":"\"Assessments dropped by more than set percentage of: \"&TEXT(J78,\"#0%\")","v":"Assessments dropped by more than set percentage of: 15%"},{"$f":"IF(MIN(F78:H78)<(-1*V$11),\"YES\",\"NO\")","v":"NO"},{"$f":"IFERROR(IF(NOT(ISBLANK(I29)),(I29-H29)/H29,0),0)","v":-4.2326842544949947E-5},{"$f":"IFERROR(IF(NOT(ISBLANK(J29)),(J29-I29)/I29,0),0)","v":0},{"$f":"IFERROR(IF(NOT(ISBLANK(K29)),(K29-J29)/J29,0),0)","v":0},null,{"$f":"V$11","v":0.15},null,null,null,null,null,null,null,null,null,"Volusia"]
["Circuit Civil",{"$f":"IF(E79=\"YES\",MAX(B$56:B78)+1,0)","v":0},{"$f":"A$27","v":"CGE CQ1-18"},"Collections amount decreased from prior quarter",{"$f":"IF(MIN(F79:H79)<0,\"YES\",\"NO\")","v":"NO"},{"$f":"IFERROR(IF(NOT(ISBLANK(I28)),(I28-H28)/H28,0),0)","v":2.9632410112630663E-2},0,0]
["Circuit Civil",{"$f":"IF(E80=\"YES\",MAX(B$56:B79)+1,0)","v":0},{"$f":"A$27","v":"CGE CQ1-18"},"Assessment amount increased from prior quarter",{"$f":"IF(MAX(F80:H80)>0,\"YES\",\"NO\")","v":"NO"},-4.2326842544949947E-5,0,0]
["Circuit Civil",{"$f":"IF(E81=\"YES\",MAX(B$56:B80)+1,0)","v":0},{"$f":"A$31","v":"CGE CQ2-18"},{"$f":"\"Assessments dropped by more than set percentage of: \"&TEXT(J81,\"#0%\")","v":"Assessments dropped by more than set percentage of: 15%"},{"$f":"IF(MIN(F81:G81)<(-1*V$11),\"YES\",\"NO\")","v":"NO"},{"$f":"IFERROR(IF(NOT(ISBLANK(J33)),(J33-I33)/I33,0),0)","v":0},{"$f":"IFERROR(IF(NOT(ISBLANK(K33)),(K33-J33)/J33,0),0)","v":0},null,null,{"$f":"V$11","v":0.15},null,null,null,null,null,null,null,null,null,"Wakulla"]
["Circuit Civil",{"$f":"IF(E82=\"YES\",MAX(B$56:B81)+1,0)","v":0},{"$f":"A$31","v":"CGE CQ2-18"},"Collections amount decreased from prior quarter",{"$f":"IF(MIN(F82:G82)<0,\"YES\",\"NO\")","v":"NO"},{"$f":"IFERROR(IF(NOT(ISBLANK(J32)),(J32-I32)/I32,0),0)","v":0},{"$f":"IFERROR(IF(NOT(ISBLANK(K32)),(K32-J32)/J32,0),0)","v":0}]
["Circuit Civil",{"$f":"IF(E83=\"YES\",MAX(B$56:B82)+1,0)","v":0},{"$f":"A$31","v":"CGE CQ2-18"},"Assessment amount increased from prior quarter",{"$f":"IF(MAX(F83:G83)>0,\"YES\",\"NO\")","v":"NO"},{"$f":"IFERROR(IF(NOT(ISBLANK(J33)),(J33-I33)/I33,0),0)","v":0},{"$f":"IFERROR(IF(NOT(ISBLANK(K33)),(K33-J33)/J33,0),0)","v":0}]
["Circuit Civil",{"$f":"IF(E84=\"YES\",MAX(B$56:B83)+1,0)","v":0},{"$f":"A$35","v":"CGE CQ3-18"},{"$f":"\"Assessments dropped by more than set percentage of: \"&TEXT(J84,\"#0%\")","v":"Assessments dropped by more than set percentage of: 15%"},{"$f":"IF(MIN(F84)<(-1*V$11),\"YES\",\"NO\")","v":"NO"},{"$f":"IFERROR(IF(NOT(ISBLANK(K37)),(K37-J37)/J37,0),0)","v":0},null,null,null,{"$f":"V$11","v":0.15},null,null,null,null,null,null,null,null,null,"Walton"]
["Circuit Civil",{"$f":"IF(E85=\"YES\",MAX(B$56:B84)+1,0)","v":0},{"$f":"A$35","v":"CGE CQ3-18"},"Collections amount decreased from prior quarter",{"$f":"IF(MIN(F85)<0,\"YES\",\"NO\")","v":"NO"},{"$f":"IFERROR(IF(NOT(ISBLANK(K36)),(K36-J36)/J36,0),0)","v":0}]
["Circuit Civil",{"$f":"IF(E86=\"YES\",MAX(B$56:B85)+1,0)","v":0},{"$f":"A$35","v":"CGE CQ3-18"},"Assessment amount increased from prior quarter",{"$f":"IF(MAX(F86)>0,\"YES\",\"NO\")","v":"NO"},{"$f":"IFERROR(IF(NOT(ISBLANK(K37)),(K37-J37)/J37,0),0)","v":0}]

{"sheet":"County Civil","index":7,"n_rows":86,"n_cols":22,"rows_kept":86,"cut":false,"hidden":false,"merged":[[30,11,32,12],[33,11,35,12],[36,11,38,12],[39,11,41,12],[42,7,42,10],[52,0,52,1],[34,1,37,1],[38,1,41,1],[5,3,5,4],[7,3,7,4],[26,1,29,1],[30,1,33,1],[10,1,13,1],[38,0,41,0],[26,0,29,0],[42,3,42,6],[30,0,33,0],[34,0,37,0],[10,8,13,8],[18,1,21,1],[22,1,25,1],[10,0,13,0],[18,12,21,12],[14,1,17,1],[24,4,25,4],[24,5,25,5],[22,11,25,11],[22,12,25,12],[14,0,17,0],[18,0,21,0],[22,0,25,0],[24,3,25,3],[18,11,21,11],[29,11,29,12],[8,11,8,12],[10,11,13,11],[10,12,13,12],[14,11,17,11],[14,12,17,12]]}
[]
[null,null,null,null,null,null,null,null,null,null,null,null,"County Fiscal Year 2016-2017",null,null,null,null,null,null,"CountyNames"]
[null,null,null,null,null,null,null,null,null,null,null,null,"Collections Quarterly Report Form for CCOC",null,null,null,null,null,null,"Alachua"]
[null,null,"Report for Quarter Ending: ",{"$f":"'Circuit Criminal'!D4","v":"March 2017"},null,null,null,null,"REQUIRED: Reason Codes AND Action to Improve / Descriptions Required if Measure(s) Not Met",null,null,null,null,null,null,null,null,null,null,"Baker"]
[null,null,"Version #: ",{"$f":"'Circuit Criminal'!$D$5","v":1},null,null,null,null,null,"Internal: Must clarify reason AND expected duration internal reason will be resolved",null,null,null,null,null,null,null,null,null,"Bay"]
[null,null,"County: ",{"$f":"'Circuit Criminal'!D6","v":"Brevard"},null,null,null,null,null,"External: Detailed explanation of external reason the measure wasn't met ",null,null,null,null,null,null,null,null,null,"Bradford"]
[null,null,null,null,null,null,null,null,null,null,null,null,null,null,null,null,null,null,null,"Brevard"]
[null,null,"Court/Case Type:","County Civil",null,null,"Performance Measure Standard:",0.9,null,null,null,null,null,null,null,null,null,null,null,"Broward"]
[null,null,null,null,null,null,null,null,null,null,null,"Action Plan",null,1,"version #1","Qtr1 - December",1,null,null,"Calhoun"]
[null,null,"Control Groups","10/01/15 - 12/31/15","01/01/16 - 03/31/16","04/01/16 - 06/30/16","07/01/16 - 09/30/16","10/01/16 - 12/31/16","01/01/17 - 03/31/17","04/01/17 - 06/30/17","07/01/17- 09/30/17","Reason Code","Current Actions to Improve",null,"version #2","Qtr 2 - March",null,null,null,"Charlotte",null,5]
[{"$f":"LEFT(B11,3)&\" \"&RIGHT(B11,6)","v":"CGE CQ1-17"},"CGE\nCQ1-17","RPE 12/31/15","Qtr 1","Qtr 2","Qtr 3","Qtr 4","Qtr 5",null,null,null,null,null,"Economy","version #3","Qtr 3 - June",3,null,null,"Citrus",{"$f":"D6&\" \"&D8","v":"Brevard County Civil"},0.15]
[null,null,"C = Cumulative Collections",{"$f":"LOOKUP($U$11&\" \"&$A11,Lookup!$X$2:$X$5361,Lookup!$I$2:$I$5361)","v":474778.08},{"$f":"LOOKUP($U$11&\" \"&$A11,Lookup!$X$2:$X$5361,Lookup!$J$2:$J$5361)","v":483042.08},{"$f":"LOOKUP($U$11&\" \"&$A11,Lookup!$X$2:$X$5361,Lookup!$K$2:$K$5361)","v":483042.08},{"$f":"LOOKUP($U$11&\" \"&$A11,Lookup!$X$2:$X$5361,Lookup!$L$2:$L$5361)","v":483042.08},483042.08,null,null,null,null,null,"Incarcerations","version #4","Qtr 4 - September",4,null,null,"Clay",{"$f":"IF(P13=TRUE,A11,\"\")","v":""}]
[null,null,"A = Amount Assessed - Adjusted",{"$f":"LOOKUP($U$11&\" \"&$A11,Lookup!$X$2:$X$5361,Lookup!$D$2:$D$5361)","v":486738.08},{"$f":"LOOKUP($U$11&\" \"&$A11,Lookup!$X$2:$X$5361,Lookup!$E$2:$E$5361)","v":486738.08},{"$f":"LOOKUP($U$11&\" \"&$A11,Lookup!$X$2:$X$5361,Lookup!$F$2:$F$5361)","v":486543.08},{"$f":"LOOKUP($U$11&\" \"&$A11,Lookup!$X$2:$X$5361,Lookup!$G$2:$G$5361)","v":486543.08},486543.08,null,null,null,null,null,"Late/Non-pay/Pay Plans","version #5",{"$f":"OR(AND(E12<D12,E12>0),AND(F12<E12,F12>0),AND(G12<F12,G12>0),AND(H12<G12,H12>0),AND(F13>E13,E13>0),AND(G13>F13,F13>0),AND(H13<G13,G13>0))","v":false},5,null,null,"Collier",{"$f":"IF(P14=TRUE,A15,\"\")","v":""}]
[null,null,"CR = Collection Rate ",{"$f":"IF(ISBLANK(D12),\"N/A\",IF(OR(D12=0,D12=\"N/A\"),0,D12/D13))","v":0.97542826318417497},{"$f":"IF(ISBLANK(E12),\"N/A\",IF(OR(E12=0,E12=\"N/A\"),0,E12/E13))","v":0.99240659370641393},{"$f":"IF(ISBLANK(F12),\"N/A\",IF(OR(F12=0,F12=\"N/A\"),0,F12/F13))","v":0.9928043370794627},{"$f":"IF(ISBLANK(G12),\"N/A\",IF(OR(G12=0,G12=\"N/A\"),0,G12/G13))","v":0.9928043370794627},{"$f":"IF(ISBLANK(H12),\"N/A\",IF(AND(H12=0,H13=0,NOT(ISBLANK(H12)),NOT(ISBLANK(H13))),1,H12/H13))","v":0.9928043370794627},null,null,null,null,null,"Mandatory Assessment","version #6",{"$f":"OR(AND(F16<E16,F16>0),AND(G16<F16,G16>0),AND(H16<G16,H16>0),AND(I16<H16,I16>0),AND(G17>F17, F17>0),AND(H17>G17, G17>0),AND(I17<H17,I17>0))","v":false},6,null,null,"Columbia",{"$f":"IF(P15=TRUE,A19,\"\")","v":""}]
[{"$f":"LEFT(B15,3)&\" \"&RIGHT(B15,6)","v":"CGE CQ2-17"},"CGE \nCQ2-17","RPE 03/31/16",null,"Qtr 1","Qtr 2","Qtr 3","Qtr 4","Qtr 5",null,null,null,null,"Other","version #7",{"$f":"OR(AND(G20<F20,D10>0),AND(H20<G20,H20>0),AND(I20<H20,I20>0),AND(J20<I20,J20>0),AND(H21>G21, G21>0),AND(I21>H21, H21>0),AND(J21<I21, J21>0))","v":false},7,null,null,"Dade",{"$f":"IF(P16=TRUE,A23,\"\")","v":""}]
[null,null,"C = Cumulative Collections",null,{"$f":"LOOKUP($U$11&\" \"&$A15,Lookup!$X$2:$X$5361,Lookup!$I$2:$I$5361)","v":477367.87},{"$f":"LOOKUP($U$11&\" \"&$A15,Lookup!$X$2:$X$5361,Lookup!$J$2:$J$5361)","v":487108.87},{"$f":"LOOKUP($U$11&\" \"&$A15,Lookup!$X$2:$X$5361,Lookup!$K$2:$K$5361)","v":487214.87},487214.87,487214.87,null,null,null,null,"Procedural","version #8",{"$f":"OR(AND(H24<G24, H24>0),AND(I24<H24, I24>0),AND(J24<I24, J24>0),AND(K24<J24, K24>0),AND(I25>H25, H25>0),AND(J25>I25, I25>0),AND(K25<J25, J25>0))","v":false},8,null,null,"Desoto",{"$f":"IF(P17=TRUE,A27,\"\")","v":""}]
[null,null,"A = Amount Assessed - Adjusted",null,{"$f":"LOOKUP($U$11&\" \"&$A15,Lookup!$X$2:$X$5361,Lookup!$D$2:$D$5361)","v":490168.86},{"$f":"LOOKUP($U$11&\" \"&$A15,Lookup!$X$2:$X$5361,Lookup!$E$2:$E$5361)","v":490168.86},{"$f":"LOOKUP($U$11&\" \"&$A15,Lookup!$X$2:$X$5361,Lookup!$F$2:$F$5361)","v":490168.86},490168.86,490168.86,null,null,null,null,"Staffing - Insufficient Personnel","version #9",{"$f":"OR(AND(I28<H28, I28>0),AND(J28<I28, J28>0),AND(K28<J28, K28>0),AND(J29>I29, I29>0),AND(K29>J29, J29>0))","v":false},9,null,null,"Dixie",{"$f":"IF(P18=TRUE,A31,\"\")","v":""}]
[null,null,"CR = Collection Rate",null,{"$f":"IF(ISBLANK(E16),\"N/A\",IF(OR(E16=0,E16=\"N/A\"),0,E16/E17))","v":0.97388453032287692},{"$f":"IF(ISBLANK(F16),\"N/A\",IF(OR(F16=0,F16=\"N/A\"),0,F16/F17))","v":0.99375727376888034},{"$f":"IF(ISBLANK(G16),\"N/A\",IF(OR(G16=0,G16=\"N/A\"),0,G16/G17))","v":0.99397352577640286},{"$f":"IF(ISBLANK(H16),\"N/A\",IF(AND(H16=0,H17=0,NOT(ISBLANK(H16)),NOT(ISBLANK(H17))),1,H16/H17))","v":0.99397352577640286},{"$f":"IF(ISBLANK(I16),\"N/A\",IF(AND(I16=0,I17=0,NOT(ISBLANK(I16)),NOT(ISBLANK(I17))),1,I16/I17))","v":0.99397352577640286},null,null,null,null,"Staffing - Training Required","version #10",{"$f":"OR(AND(J32<I32, J32>0),AND(K32<J32, K32>0),AND(K33>J33, J33>0))","v":false},10,null,null,"Duval",{"$f":"IF(P19=TRUE,A35,\"\")","v":""}]
[{"$f":"LEFT(B19,3)&\" \"&RIGHT(B19,6)","v":"CGE CQ3-17"},"CGE\nCQ3-17","RPE 06/30/16",null,null,"Qtr 1","Qtr 2","Qtr 3","Qtr 4","Qtr 5",null,null,null,"Systems","version #11",{"$f":"OR(K36<J36)","v":false},11,null,null,"Escambia",{"$f":"U12&\" \"&U13&\" \"&U14&\" \"&U15&\" \"&U16&\" \"&U17&\" \"&U18","v":"      "}]
[null,null,"C = Cumulative Collections",null,null,{"$f":"LOOKUP($U$11&\" \"&$A19,Lookup!$X$2:$X$5361,Lookup!$I$2:$I$5361)","v":467669.3},{"$f":"LOOKUP($U$11&\" \"&$A19,Lookup!$X$2:$X$5361,Lookup!$J$2:$J$5361)","v":483353.8},483451.3,483451.3,".",null,null,null,null,"version #12",{"$f":"COUNTIF(P13:P19,\"TRUE\")","v":0},12,null,null,"Flagler"]
[null,null,"A = Amount Assessed - Adjusted",null,null,{"$f":"LOOKUP($U$11&\" \"&$A19,Lookup!$X$2:$X$5361,Lookup!$D$2:$D$5361)","v":484686.28},{"$f":"LOOKUP($U$11&\" \"&$A19,Lookup!$X$2:$X$5361,Lookup!$E$2:$E$5361)","v":484686.28},484686.28,484686.28,null,null,null,null,null,null,null,null,null,null,"Franklin"]
[null,null,"CR = Collection Rate",null,null,{"$f":"IF(ISBLANK(F20),\"N/A\",IF(OR(F20=0,F20=\"N/A\"),0,F20/F21))","v":0.96489073303250916},{"$f":"IF(ISBLANK(G20),\"N/A\",IF(OR(G20=0,G20=\"N/A\"),0,G20/G21))","v":0.99725084027548694},{"$f":"IF(ISBLANK(H20),\"N/A\",IF(AND(H20=0,H21=0,NOT(ISBLANK(H20)),NOT(ISBLANK(H21))),1,H20/H21))","v":0.99745200132341272},{"$f":"IF(ISBLANK(I20),\"N/A\",IF(AND(I20=0,I21=0,NOT(ISBLANK(I20)),NOT(ISBLANK(I21))),1,I20/I21))","v":0.99745200132341272},{"$f":"IF(ISBLANK(J20),\"N/A\",IF(AND(J20=0,J21=0,NOT(ISBLANK(J20)),NOT(ISBLANK(J21))),1,J20/J21))","v":{"$error":"#VALUE!"}},null,null,null,null,"Q1","Q2",null,null,null,"Gadsden"]
[{"$f":"LEFT(B23,3)&\" \"&RIGHT(B23,6)","v":"CGE CQ4-17"},"CGE\nCQ4-17","RPE 09/30/16",null,null,null,"Qtr 1","Qtr 2","Qtr 3","Qtr 4","Qtr 5",null,null,null,false,false,{"$f":"IF(AND(OR(ISBLANK(H12),ISBLANK(H13)),O23=FALSE),\"Red\",\"Gray\")","v":"Gray"},{"$f":"IF(AND(OR(ISBLANK(I16),ISBLANK(I17)),P23=FALSE),\"Red\",\"Gray\")","v":"Gray"},{"$f":"IF(AND('Circuit Criminal'!D4=1,S36=1),A11,IF(AND('Circuit Criminal'!D4=2,S36=1),A15,IF(AND('Circuit Criminal'!D4=3,S36=1),A19,IF(AND('Circuit Criminal'!D4=4,S36=1),A23,\"\"))))","v":""},"Gilchrist"]
[null,null,"C = Cumulative Collections",null,null,null,{"$f":"LOOKUP($U$11&\" \"&$A23,Lookup!$X$2:$X$5361,Lookup!$I$2:$I$5361)","v":475617.35},493382.35,493497.35,null,null,null,null,null,false,false,{"$f":"IF(AND(OR(ISBLANK(H16),ISBLANK(H17)),O24=FALSE),\"Red\",\"Gray\")","v":"Gray"},{"$f":"IF(AND(OR(ISBLANK(I20),ISBLANK(I21)),P24=FALSE),\"Red\",\"Gray\")","v":"Gray"},{"$f":"IF(AND('Circuit Criminal'!D4=1,S37=1),A15,IF(AND('Circuit Criminal'!D4=2,S37=1),A19,IF(AND('Circuit Criminal'!D4=3,S37=1),A23,IF(AND('Circuit Criminal'!D4=4,S37=1),A27,\"\"))))","v":""},"Glades"]
[null,null,"A = Amount Assessed - Adjusted",null,null,null,{"$f":"LOOKUP($U$11&\" \"&$A23,Lookup!$X$2:$X$5361,Lookup!$D$2:$D$5361)","v":495466.56},495466.56,495466.56,null,null,null,null,null,false,false,{"$f":"IF(AND(OR(ISBLANK(H20),ISBLANK(H21)),O25=FALSE),\"Red\",\"Gray\")","v":"Gray"},{"$f":"IF(AND(OR(ISBLANK(I24),ISBLANK(I25)),P25=FALSE),\"Red\",\"Gray\")","v":"Gray"},{"$f":"IF(AND('Circuit Criminal'!D4=1,S38=1),A19,IF(AND('Circuit Criminal'!D4=2,S38=1),A23,IF(AND('Circuit Criminal'!D4=3,S38=1),A27,IF(AND('Circuit Criminal'!D4=4,S38=1),A31,\"\"))))","v":""},"Gulf"]
[null,null,"CR = Collection Rate",null,null,null,{"$f":"IF(ISBLANK(G24),\"N/A\",IF(OR(G24=0,G24=\"N/A\"),0,G24/G25))","v":0.95993834578866433},{"$f":"IF(ISBLANK(H24),\"N/A\",IF(AND(H24=0,H25=0,NOT(ISBLANK(H24)),NOT(ISBLANK(H25))),1,H24/H25))","v":0.99579343962183842},{"$f":"IF(ISBLANK(I24),\"N/A\",IF(AND(I24=0,I25=0,NOT(ISBLANK(I24)),NOT(ISBLANK(I25))),1,I24/I25))","v":0.99602554408515476},{"$f":"IF(ISBLANK(J24),\"N/A\",IF(AND(J24=0,J25=0,NOT(ISBLANK(J24)),NOT(ISBLANK(J25))),1,J24/J25))","v":"N/A"},{"$f":"IF(ISBLANK(K24),\"N/A\",IF(AND(K24=0,K25=0,NOT(ISBLANK(K24)),NOT(ISBLANK(K25))),1,K24/K25))","v":"N/A"},null,null,null,false,false,{"$f":"IF(AND(OR(ISBLANK(H24),ISBLANK(H25)),O26=FALSE),\"Red\",\"Gray\")","v":"Gray"},{"$f":"IF(AND(OR(ISBLANK(I28),ISBLANK(I29)),P26=FALSE),\"Red\",\"Gray\")","v":"Gray"},{"$f":"IF(AND('Circuit Criminal'!D4=1,S39=1),A23,IF(AND('Circuit Criminal'!D4=2,S39=1),A27,IF(AND('Circuit Criminal'!D4=3,S39=1),A31,IF(AND('Circuit Criminal'!D4=4,S39=1),A35,\"\"))))","v":""},"Hamilton"]
[{"$f":"LEFT(B27,3)&\" \"&RIGHT(B27,6)","v":"CGE CQ1-18"},"CGE\nCQ1-18","RPE 12/31/16",null,null,null,null,"Qtr 1","Qtr 2","Qtr 3","Qtr 4",null,null,null,false,false,{"$f":"IF(AND(OR(ISBLANK(H28),ISBLANK(H29)),O27=FALSE),\"Red\",\"Gray\")","v":"Gray"},{"$f":"IF(AND(OR(ISBLANK(I32),ISBLANK(I33)),P27=FALSE),\"Red\",\"Gray\")","v":"Gray"},{"$f":"IF(AND('Circuit Criminal'!D4=1,S40=1),A27,IF(AND('Circuit Criminal'!D4=2,S40=1),A31,IF(AND('Circuit Criminal'!D4=3,S40=1),A35,IF(AND('Circuit Criminal'!D4=4,S40=1),A39,\"\"))))","v":""},"Hardee"]
[null,null,"C = Cumulative Collections",null,null,null,null,475406.14,484694.14,null,null,null,null,null,null,null,null,null,null,"Hendry"]
[null,null,"A = Amount Assessed - Adjusted",null,null,null,null,487920.14,487910.14,null,null,null,null,null,"Q3","Q4",null,null,null,"Hernando"]
[null,null,"CR = Collection Rate",null,null,null,null,{"$f":"IF(ISBLANK(H28),\"N/A\",IF(AND(H28=0,H29=0,NOT(ISBLANK(H28)),NOT(ISBLANK(H29))),1,H28/H29))","v":0.97435236020386451},{"$f":"IF(ISBLANK(I28),\"N/A\",IF(AND(I28=0,I29=0,NOT(ISBLANK(I28)),NOT(ISBLANK(I29))),1,I28/I29))","v":0.99340862233361249},{"$f":"IF(ISBLANK(J28),\"N/A\",IF(AND(J28=0,J29=0,NOT(ISBLANK(J28)),NOT(ISBLANK(J29))),1,J28/J29))","v":"N/A"},{"$f":"IF(ISBLANK(K28),\"N/A\",IF(AND(K28=0,K29=0,NOT(ISBLANK(K28)),NOT(ISBLANK(K29))),1,K28/K29))","v":"N/A"},"Additional Notes Related to Collection Issues",null,null,false,false,{"$f":"IF(AND(OR(ISBLANK(J20),ISBLANK(J21)),O30=FALSE),\"Red\",\"Gray\")","v":"Red"},{"$f":"IF(AND(OR(ISBLANK(K24),ISBLANK(K25)),P30=FALSE),\"Red\",\"Gray\")","v":"Red"},null,"Highlands"]
[{"$f":"LEFT(B31,3)&\" \"&RIGHT(B31,6)","v":"CGE CQ2-18"},"CGE\nCQ2-18","RPE 03/31/17",null,null,null,null,null,"Qtr 1","Qtr 2","Qtr 3","10/01/16 - 12/31/16: ",null,null,false,false,{"$f":"IF(AND(OR(ISBLANK(J24),ISBLANK(J25)),O31=FALSE),\"Red\",\"Gray\")","v":"Red"},{"$f":"IF(AND(OR(ISBLANK(K28),ISBLANK(K29)),P31=FALSE),\"Red\",\"Gray\")","v":"Red"},null,"Hillsborough"]
[null,null,"C = Cumulative Collections",null,null,null,null,null,555771.34,null,null,null,null,null,false,false,{"$f":"IF(AND(OR(ISBLANK(J28),ISBLANK(J29)),O32=FALSE),\"Red\",\"Gray\")","v":"Red"},{"$f":"IF(AND(OR(ISBLANK(K32),ISBLANK(K33)),P32=FALSE),\"Red\",\"Gray\")","v":"Red"},null,"Holmes"]
[null,null,"A = Amount Assessed - Adjusted",null,null,null,null,null,581496.12,null,null,null,null,null,false,false,{"$f":"IF(AND(OR(ISBLANK(J32),ISBLANK(J33)),O33=FALSE),\"Red\",\"Gray\")","v":"Red"},{"$f":"IF(AND(OR(ISBLANK(K36),ISBLANK(K37)),P33=FALSE),\"Red\",\"Gray\")","v":"Red"},null,"Indian River"]
[null,null,"CR = Collection Rate",null,null,null,null,null,{"$f":"IF(ISBLANK(I32),\"N/A\",IF(AND(I32=0,I33=0,NOT(ISBLANK(I32)),NOT(ISBLANK(I33))),1,I32/I33))","v":0.95576104617860558},{"$f":"IF(ISBLANK(J32),\"N/A\",IF(AND(J32=0,J33=0,NOT(ISBLANK(J32)),NOT(ISBLANK(J33))),1,J32/J33))","v":"N/A"},{"$f":"IF(ISBLANK(K32),\"N/A\",IF(AND(K32=0,K33=0,NOT(ISBLANK(K32)),NOT(ISBLANK(K33))),1,K32/K33))","v":"N/A"},"01/01/17 - 03/31/17: ",null,null,false,false,{"$f":"IF(AND(OR(ISBLANK(J36),ISBLANK(J37)),O34=FALSE),\"Red\",\"Gray\")","v":"Red"},{"$f":"IF(AND(OR(ISBLANK(K40),ISBLANK(K41)),P34=FALSE),\"Red\",\"Gray\")","v":"Red"},null,"Jackson"]
[{"$f":"LEFT(B35,3)&\" \"&RIGHT(B35,6)","v":"CGE CQ3-18"},"CGE\nCQ3-18","RPE 06/30/17",null,null,null,null,null,null,"Qtr 1","Qtr 2",null,null,null,null,null,null,null,null,"Jefferson"]
[null,null,"C = Cumulative Collections",null,null,null,null,null,null,null,null,null,null,null,{"$f":"IF(AND('Circuit Criminal'!$D$4=1,Q23=\"Red\"),\"Red\",\"Gray\")","v":"Gray"},{"$f":"IF(AND('Circuit Criminal'!$D$4=2,R23=\"Red\"),\"Red\",\"Gray\")","v":"Gray"},{"$f":"IF(AND('Circuit Criminal'!$D$4=3,Q30=\"Red\"),\"Red\",\"Gray\")","v":"Gray"},{"$f":"IF(AND('Circuit Criminal'!$D$4=4,R30=\"Red\"),\"Red\",\"Gray\")","v":"Gray"},{"$f":"COUNTIF(O36:R36,\"Red\")","v":0},"Lafayette"]
[null,null,"A = Amount Assessed - Adjusted",null,null,null,null,null,null,null,null,"04/01/17 - 06/30/17: ",null,null,{"$f":"IF(AND('Circuit Criminal'!$D$4=1,Q24=\"Red\"),\"Red\",\"Gray\")","v":"Gray"},{"$f":"IF(AND('Circuit Criminal'!$D$4=2,R24=\"Red\"),\"Red\",\"Gray\")","v":"Gray"},{"$f":"IF(AND('Circuit Criminal'!$D$4=3,Q31=\"Red\"),\"Red\",\"Gray\")","v":"Gray"},{"$f":"IF(AND('Circuit Criminal'!$D$4=4,R31=\"Red\"),\"Red\",\"Gray\")","v":"Gray"},{"$f":"COUNTIF(O37:R37,\"Red\")","v":0},"Lake"]
[null,null,"CR = Collection Rate",null,null,null,null,null,null,{"$f":"IF(ISBLANK(J36),\"N/A\",IF(AND(J36=0,J37=0,NOT(ISBLANK(J36)),NOT(ISBLANK(J37))),1,J36/J37))","v":"N/A"},{"$f":"IF(ISBLANK(K36),\"N/A\",IF(AND(K36=0,K37=0,NOT(ISBLANK(K36)),NOT(ISBLANK(K37))),1,K36/K37))","v":"N/A"},null,null,null,{"$f":"IF(AND('Circuit Criminal'!$D$4=1,Q25=\"Red\"),\"Red\",\"Gray\")","v":"Gray"},{"$f":"IF(AND('Circuit Criminal'!$D$4=2,R25=\"Red\"),\"Red\",\"Gray\")","v":"Gray"},{"$f":"IF(AND('Circuit Criminal'!$D$4=3,Q32=\"Red\"),\"Red\",\"Gray\")","v":"Gray"},{"$f":"IF(AND('Circuit Criminal'!$D$4=4,R32=\"Red\"),\"Red\",\"Gray\")","v":"Gray"},{"$f":"COUNTIF(O38:R38,\"Red\")","v":0},"Lee"]
[{"$f":"LEFT(B39,3)&\" \"&RIGHT(B39,6)","v":"CGE CQ4-18"},"CGE\nCQ4-18","RPE 09/30/17",null,null,null,null,null,null,null,"Qtr 1",null,null,null,{"$f":"IF(AND('Circuit Criminal'!$D$4=1,Q26=\"Red\"),\"Red\",\"Gray\")","v":"Gray"},{"$f":"IF(AND('Circuit Criminal'!$D$4=2,R26=\"Red\"),\"Red\",\"Gray\")","v":"Gray"},{"$f":"IF(AND('Circuit Criminal'!$D$4=3,Q33=\"Red\"),\"Red\",\"Gray\")","v":"Gray"},{"$f":"IF(AND('Circuit Criminal'!$D$4=4,R33=\"Red\"),\"Red\",\"Gray\")","v":"Gray"},{"$f":"COUNTIF(O39:R39,\"Red\")","v":0},"Leon"]
[null,null,"C = Cumulative Collections",null,null,null,null,null,null,null,null,"07/01/17- 09/30/17: ",null,null,{"$f":"IF(AND('Circuit Criminal'!$D$4=1,Q27=\"Red\"),\"Red\",\"Gray\")","v":"Gray"},{"$f":"IF(AND('Circuit Criminal'!$D$4=2,R27=\"Red\"),\"Red\",\"Gray\")","v":"Gray"},{"$f":"IF(AND('Circuit Criminal'!$D$4=3,Q34=\"Red\"),\"Red\",\"Gray\")","v":"Gray"},{"$f":"IF(AND('Circuit Criminal'!$D$4=4,R34=\"Red\"),\"Red\",\"Gray\")","v":"Gray"},{"$f":"COUNTIF(O40:R40,\"Red\")","v":0},"Levy"]
[null,null,"A = Amount Assessed - Adjusted",null,null,null,null,null,null,null,null,null,null,null,{"$f":"COUNTIF(O36:O40,\"Red\")","v":0},{"$f":"COUNTIF(P36:P40,\"Red\")","v":0},{"$f":"COUNTIF(Q36:Q40,\"Red\")","v":0},{"$f":"COUNTIF(R36:R40,\"Red\")","v":0},null,"Liberty"]
[null,null,"CR = Collection Rate",null,null,null,null,null,null,null,{"$f":"IF(ISBLANK(K40),\"N/A\",IF(OR(K40=0,K40=\"N/A\"),0,K40/K41))","v":"N/A"},null,null,null,{"$f":"SUM(O41:R41)","v":0},null,null,null,null,"Madison"]
[null,null,"Business Rules","Purpose of Report:  The CCOC Collection Rate Performance Measure     report tracks dollars in the quarter they are assessed and then how well     those assessed dollars have been collected over the next five quarters.  ",null,null,null,"Adjustments to Assessments: The amount assessed in a given assessment control group should be adjusted in the reporting period when assessments are later adjusted by the Court or other provisions of law.  ",null,null,null,null,null,null,null,null,null,null,null,"Manatee"]
[null,null,"NOTES:","The following conditions will alert when performance standards are not met and/or established business rules within the control group are not followed.",null,null,null,null,null,null,null,null,null,null,null,null,null,null,null,"Martin"]
[null,null,null,"1.) Action Plan: If the 5th quarter Collection Rate is below Standard (red numbers on rose background), select a \"Reason Code\" and write a brief statement in \"Current Action to Improve\" in the green area ONLY. ",null,null,null,null,null,null,null,null,null,null,null,null,null,null,null,"Nassau"]
[null,null,null,"2.) Additional Notes Related to Collection Issues: Include a brief explaination when either of the following conditions not consistant with the Collection Report Business Rules. ",null,null,null,null,null,null,null,null,null,null,null,null,null,null,null,"Okaloosa"]
[null,null,null,null,"a.) Cumulative Collection amount has Decreased from the previous quarter in the same Control Group (font color for amount will change to RED)",null,null,null,null,null,null,null,null,null,null,null,null,null,null,"Okeechobee"]
[null,null,null,null,"b.) The Amount Assessed - Adjusted has Increased from the previous quarter in the same Control Group (font color for amount will change to RED)",null,null,null,null,null,null,null,null,null,null,null,null,null,null,"Orange"]
[null,null,null,null,null,null,null,null,null,null,null,null,null,null,null,null,null,null,null,"Nassau"]
[null,null,null,null,null,null,null,null,null,null,null,null,null,null,null,null,null,null,null,"Okaloosa"]
[null,null,null,null,null,null,null,null,null,null,null,null,null,null,null,null,null,null,null,"Okeechobee"]
[null,null,null,null,null,null,null,null,null,null,null,null,null,null,null,null,null,null,null,"Orange"]
[null,null,null,null,null,null,null,null,null,null,null,null,null,null,null,null,null,null,null,"Pasco"]
[null,null,null,null,null,null,null,null,null,null,null,null,null,null,null,null,null,null,null,"Pinellas"]
[null,null,null,null,null,null,null,null,null,null,null,null,null,null,null,null,null,null,null,"Polk"]
[null,{"$f":"MAX('Circuit Civil'!B56:B99)","v":6},null,"Issue",null,"Calc 1 Needed","Calc 2 Needed","Calc 3 Needed","Calc 4 Needed","Standard",null,null,null,null,null,null,null,null,null,"Putnam"]
[{"$f":"D$8","v":"County Civil"},{"$f":"IF(E57=\"YES\",MAX(B56)+1,0)","v":0},{"$f":"A$11","v":"CGE CQ1-17"},{"$f":"\"After 3rd Q, Collections went up by more than set percentage of: \"&TEXT(J57,\"#0%\")","v":"After 3rd Q, Collections went up by more than set percentage of: 500%"},{"$f":"IF(MAX(F57:G57)>V$10,\"YES\",\"NO\")","v":"NO"},{"$f":"IFERROR(IF(NOT(ISBLANK(G12)),(G12-F12)/F12,0),0)","v":0},{"$f":"IFERROR(IF(NOT(ISBLANK(H12)),(H12-G12)/G12,0),0)","v":0},null,null,{"$f":"V$10","v":5},null,null,null,null,null,null,null,null,null,"Santa Rosa"]
[{"$f":"D$8","v":"County Civil"},{"$f":"IF(E58=\"YES\",MAX(B$56:B57)+1,0)","v":0},{"$f":"A$11","v":"CGE CQ1-17"},{"$f":"\"Assessments dropped by more than set percentage of: \"&TEXT(J58,\"#0%\")","v":"Assessments dropped by more than set percentage of: 15%"},{"$f":"IF(MIN(F58:I58)<(-1*V$11),\"YES\",\"NO\")","v":"NO"},{"$f":"IFERROR(IF(NOT(ISBLANK(E13)),(E13-D13)/D13,0),0)","v":0},{"$f":"IFERROR(IF(NOT(ISBLANK(F13)),(F13-E13)/E13,0),0)","v":-4.0062614373627804E-4},{"$f":"IFERROR(IF(NOT(ISBLANK(G13)),(G13-F13)/F13,0),0)","v":0},{"$f":"IFERROR(IF(NOT(ISBLANK(H13)),(H13-G13)/G13,0),0)","v":0},{"$f":"V$11","v":0.15},null,null,null,null,null,null,null,null,null,"Sumter"]
["County Civil",{"$f":"IF(E59=\"YES\",MAX(B$56:B58)+1,0)","v":0},{"$f":"A$11","v":"CGE CQ1-17"},{"$f":"\"The 5th Quarter Collection Rate did not meet the established performance measure standard of: \"&TEXT(J59,\"#0%\")","v":"The 5th Quarter Collection Rate did not meet the established performance measure standard of: 90%"},{"$f":"IF(F59=\"N/A\",\"NO\",IF(F59<H$8,\"YES\",\"NO\"))","v":"NO"},{"$f":"H14","v":0.9928043370794627},null,null,null,{"$f":"H$8","v":0.9},null,null,null,null,null,null,null,null,null,"Washington"]
["County Civil",{"$f":"IF(E60=\"YES\",MAX(B$56:B59)+1,0)","v":0},{"$f":"A$11","v":"CGE CQ1-17"},"Collections amount decreased from prior quarter",{"$f":"IF(MIN(F60:I60)<0,\"YES\",\"NO\")","v":"NO"},{"$f":"IFERROR(IF(NOT(ISBLANK(E12)),(E12-D12)/D12,0),0)","v":1.7406026832578286E-2},0,0,0]
["County Civil",{"$f":"IF(E61=\"YES\",MAX(B$56:B60)+1,0)","v":0},{"$f":"A$11","v":"CGE CQ1-17"},"Assessment amount increased from prior quarter",{"$f":"IF(MAX(F61:I61)>0,\"YES\",\"NO\")","v":"NO"},0,-4.0062614373627804E-4,0,0]
["County Civil",{"$f":"IF(E62=\"YES\",MAX(B$56:B61)+1,0)","v":0},{"$f":"A$15","v":"CGE CQ2-17"},{"$f":"\"After 3rd Q, Collections went up by more than set percentage of: \"&TEXT(J62,\"#0%\")","v":"After 3rd Q, Collections went up by more than set percentage of: 500%"},{"$f":"IF(MAX(F62:G62)>V$10,\"YES\",\"NO\")","v":"NO"},{"$f":"IFERROR(IF(NOT(ISBLANK(H16)),(H16-G16)/G16,0),0)","v":0},{"$f":"IFERROR(IF(NOT(ISBLANK(I16)),(I16-H16)/H16,0),0)","v":0},null,null,{"$f":"V$10","v":5},null,null,null,null,null,null,null,null,null,"Sarasota"]
["County Civil",{"$f":"IF(E63=\"YES\",MAX(B$56:B62)+1,0)","v":0},{"$f":"A$15","v":"CGE CQ2-17"},{"$f":"\"Assessments dropped by more than set percentage of: \"&TEXT(J63,\"#0%\")","v":"Assessments dropped by more than set percentage of: 15%"},{"$f":"IF(MIN(F63:I63)<(-1*V$11),\"YES\",\"NO\")","v":"NO"},{"$f":"IFERROR(IF(NOT(ISBLANK(F17)),(F17-E17)/E17,0),0)","v":0},{"$f":"IFERROR(IF(NOT(ISBLANK(G17)),(G17-F17)/F17,0),0)","v":0},{"$f":"IFERROR(IF(NOT(ISBLANK(H17)),(H17-G17)/G17,0),0)","v":0},{"$f":"IFERROR(IF(NOT(ISBLANK(I17)),(I17-H17)/H17,0),0)","v":0},{"$f":"V$11","v":0.15},null,null,null,null,null,null,null,null,null,"Suwannee"]
["County Civil",{"$f":"IF(E64=\"YES\",MAX(B$56:B63)+1,0)","v":0},{"$f":"A$15","v":"CGE CQ2-17"},"Collections amount decreased from prior quarter",{"$f":"IF(MIN(F64:I64)<0,\"YES\",\"NO\")","v":"NO"},{"$f":"IFERROR(IF(NOT(ISBLANK(F16)),(F16-E16)/E16,0),0)","v":2.0405646488105705E-2},2.1761049023804474E-4,0,0]
["County Civil",{"$f":"IF(E65=\"YES\",MAX(B$56:B64)+1,0)","v":0},{"$f":"A$15","v":"CGE CQ2-17"},"Assessment amount increased from prior quarter",{"$f":"IF(MAX(F65:I65)>0,\"YES\",\"NO\")","v":"NO"},0,0,0,0]
["County Civil",{"$f":"IF(E66=\"YES\",MAX(B$56:B65)+1,0)","v":0},{"$f":"A$15","v":"CGE CQ2-17"},{"$f":"\"The 5th Quarter Collection Rate did not meet the established performance measure standard of: \"&TEXT(J66,\"#0%\")","v":"The 5th Quarter Collection Rate did not meet the established performance measure standard of: 90%"},{"$f":"IF(F66=\"N/A\",\"NO\",IF(F66<H$8,\"YES\",\"NO\"))","v":"NO"},{"$f":"I18","v":0.99397352577640286},null,null,null,{"$f":"H$8","v":0.9}]
["County Civil",{"$f":"IF(E67=\"YES\",MAX(B$56:B66)+1,0)","v":0},{"$f":"A$19","v":"CGE CQ3-17"},{"$f":"\"After 3rd Q, Collections went up by more than set percentage of: \"&TEXT(J67,\"#0%\")","v":"After 3rd Q, Collections went up by more than set percentage of: 500%"},{"$f":"IF(MAX(F67:G67)>V$10,\"YES\",\"NO\")","v":"NO"},{"$f":"IFERROR(IF(NOT(ISBLANK(I20)),(I20-H20)/H20,0),0)","v":0},{"$f":"IFERROR(IF(NOT(ISBLANK(J20)),(J20-I20)/I20,0),0)","v":0},null,null,{"$f":"V$10","v":5},null,null,null,null,null,null,null,null,null,"Seminole"]
["County Civil",{"$f":"IF(E68=\"YES\",MAX(B$56:B67)+1,0)","v":0},{"$f":"A$19","v":"CGE CQ3-17"},{"$f":"\"Assessments dropped by more than set percentage of: \"&TEXT(J68,\"#0%\")","v":"Assessments dropped by more than set percentage of: 15%"},{"$f":"IF(MIN(F68:I68)<(-1*V$11),\"YES\",\"NO\")","v":"NO"},{"$f":"IFERROR(IF(NOT(ISBLANK(G21)),(G21-F21)/F21,0),0)","v":0},{"$f":"IFERROR(IF(NOT(ISBLANK(H21)),(H21-G21)/G21,0),0)","v":0},{"$f":"IFERROR(IF(NOT(ISBLANK(I21)),(I21-H21)/H21,0),0)","v":0},{"$f":"IFERROR(IF(NOT(ISBLANK(J21)),(J21-I21)/I21,0),0)","v":0},{"$f":"V$11","v":0.15},null,null,null,null,null,null,null,null,null,"Taylor"]
["County Civil",{"$f":"IF(E69=\"YES\",MAX(B$56:B68)+1,0)","v":0},{"$f":"A$19","v":"CGE CQ3-17"},"Collections amount decreased from prior quarter",{"$f":"IF(MIN(F69:I69)<0,\"YES\",\"NO\")","v":"NO"},{"$f":"IFERROR(IF(NOT(ISBLANK(G20)),(G20-F20)/F20,0),0)","v":3.3537587350719836E-2},2.0171559631888692E-4,0,0]
["County Civil",{"$f":"IF(E70=\"YES\",MAX(B$56:B69)+1,0)","v":0},{"$f":"A$19","v":"CGE CQ3-17"},"Assessment amount increased from prior quarter",{"$f":"IF(MAX(F70:I70)>0,\"YES\",\"NO\")","v":"NO"},0,0,0,0]
["County Civil",{"$f":"IF(E71=\"YES\",MAX(B$56:B70)+1,0)","v":{"$error":"#VALUE!"}},{"$f":"A$19","v":"CGE CQ3-17"},{"$f":"\"The 5th Quarter Collection Rate did not meet the established performance measure standard of: \"&TEXT(J71,\"#0%\")","v":"The 5th Quarter Collection Rate did not meet the established performance measure standard of: 90%"},{"$f":"IF(F71=\"N/A\",\"NO\",IF(F71<H$8,\"YES\",\"NO\"))","v":{"$error":"#VALUE!"}},{"$f":"J22","v":{"$error":"#VALUE!"}},null,null,null,{"$f":"H$8","v":0.9}]
["County Civil",{"$f":"IF(E72=\"YES\",MAX(B$56:B71)+1,0)","v":0},{"$f":"A$23","v":"CGE CQ4-17"},{"$f":"\"After 3rd Q, Collections went up by more than set percentage of: \"&TEXT(J72,\"#0%\")","v":"After 3rd Q, Collections went up by more than set percentage of: 500%"},{"$f":"IF(MAX(F72:G72)>V$10,\"YES\",\"NO\")","v":"NO"},{"$f":"IFERROR(IF(NOT(ISBLANK(J24)),(J24-I24)/I24,0),0)","v":0},{"$f":"IFERROR(IF(NOT(ISBLANK(K24)),(K24-J24)/J24,0),0)","v":0},null,null,{"$f":"V$10","v":5},null,null,null,null,null,null,null,null,null,"St. Johns"]
["County Civil",{"$f":"IF(E73=\"YES\",MAX(B$56:B72)+1,0)","v":0},{"$f":"A$23","v":"CGE CQ4-17"},{"$f":"\"Assessments dropped by more than set percentage of: \"&TEXT(J73,\"#0%\")","v":"Assessments dropped by more than set percentage of: 15%"},{"$f":"IF(MIN(F73:I73)<(-1*V$11),\"YES\",\"NO\")","v":"NO"},{"$f":"IFERROR(IF(NOT(ISBLANK(H25)),(H25-G25)/G25,0),0)","v":0},{"$f":"IFERROR(IF(NOT(ISBLANK(I25)),(I25-H25)/H25,0),0)","v":0},{"$f":"IFERROR(IF(NOT(ISBLANK(J25)),(J25-I25)/I25,0),0)","v":0},{"$f":"IFERROR(IF(NOT(ISBLANK(K25)),(K25-J25)/J25,0),0)","v":0},{"$f":"V$11","v":0.15},null,null,null,null,null,null,null,null,null,"Union"]
["County Civil",{"$f":"IF(E74=\"YES\",MAX(B$56:B73)+1,0)","v":0},{"$f":"A$23","v":"CGE CQ4-17"},"Collections amount decreased from prior quarter",{"$f":"IF(MIN(F74:I74)<0,\"YES\",\"NO\")","v":"NO"},{"$f":"IFERROR(IF(NOT(ISBLANK(H24)),(H24-G24)/G24,0),0)","v":3.7351454903821323E-2},2.3308494922852431E-4,0,0]
["County Civil",{"$f":"IF(E75=\"YES\",MAX(B$56:B74)+1,0)","v":0},{"$f":"A$23","v":"CGE CQ4-17"},"Assessment amount increased from prior quarter",{"$f":"IF(MAX(F75:I75)>0,\"YES\",\"NO\")","v":"NO"},0,0,0,0]
["County Civil",{"$f":"IF(E76=\"YES\",MAX(B$56:B75)+1,0)","v":0},{"$f":"A$23","v":"CGE CQ4-17"},{"$f":"\"The 5th Quarter Collection Rate did not meet the established performance measure standard of: \"&TEXT(J76,\"#0%\")","v":"The 5th Quarter Collection Rate did not meet the established performance measure standard of: 90%"},{"$f":"IF(F76=\"N/A\",\"NO\",IF(F76<H$8,\"YES\",\"NO\"))","v":"NO"},{"$f":"K26","v":"N/A"},null,null,null,{"$f":"H$8","v":0.9}]
["County Civil",{"$f":"IF(E77=\"YES\",MAX(B$56:B76)+1,0)","v":0},{"$f":"A$27","v":"CGE CQ1-18"},{"$f":"\"After 3rd Q, Collections went up by more than set percentage of: \"&TEXT(J77,\"#0%\")","v":"After 3rd Q, Collections went up by more than set percentage of: 500%"},{"$f":"IF(MAX(F77)>V$10,\"YES\",\"NO\")","v":"NO"},{"$f":"IFERROR(IF(NOT(ISBLANK(K28)),(K28-J28)/J28,0),0)","v":0},null,null,null,{"$f":"V$10","v":5},null,null,null,null,null,null,null,null,null,"St. Lucie"]
["County Civil",{"$f":"IF(E78=\"YES\",MAX(B$56:B77)+1,0)","v":0},{"$f":"A$27","v":"CGE CQ1-18"},{"$f":"\"Assessments dropped by more than set percentage of: \"&TEXT(J78,\"#0%\")","v":"Assessments dropped by more than set percentage of: 15%"},{"$f":"IF(MIN(F78:H78)<(-1*V$11),\"YES\",\"NO\")","v":"NO"},{"$f":"IFERROR(IF(NOT(ISBLANK(I29)),(I29-H29)/H29,0),0)","v":-2.0495157260776324E-5},{"$f":"IFERROR(IF(NOT(ISBLANK(J29)),(J29-I29)/I29,0),0)","v":0},{"$f":"IFERROR(IF(NOT(ISBLANK(K29)),(K29-J29)/J29,0),0)","v":0},null,{"$f":"V$11","v":0.15},null,null,null,null,null,null,null,null,null,"Volusia"]
["County Civil",{"$f":"IF(E79=\"YES\",MAX(B$56:B78)+1,0)","v":0},{"$f":"A$27","v":"CGE CQ1-18"},"Collections amount decreased from prior quarter",{"$f":"IF(MIN(F79:H79)<0,\"YES\",\"NO\")","v":"NO"},{"$f":"IFERROR(IF(NOT(ISBLANK(I28)),(I28-H28)/H28,0),0)","v":1.9536979476116989E-2},0,0]
["County Civil",{"$f":"IF(E80=\"YES\",MAX(B$56:B79)+1,0)","v":0},{"$f":"A$27","v":"CGE CQ1-18"},"Assessment amount increased from prior quarter",{"$f":"IF(MAX(F80:H80)>0,\"YES\",\"NO\")","v":"NO"},-2.0495157260776324E-5,0,0]
["County Civil",{"$f":"IF(E81=\"YES\",MAX(B$56:B80)+1,0)","v":0},{"$f":"A$31","v":"CGE CQ2-18"},{"$f":"\"Assessments dropped by more than set percentage of: \"&TEXT(J81,\"#0%\")","v":"Assessments dropped by more than set percentage of: 15%"},{"$f":"IF(MIN(F81:G81)<(-1*V$11),\"YES\",\"NO\")","v":"NO"},{"$f":"IFERROR(IF(NOT(ISBLANK(J33)),(J33-I33)/I33,0),0)","v":0},{"$f":"IFERROR(IF(NOT(ISBLANK(K33)),(K33-J33)/J33,0),0)","v":0},null,null,{"$f":"V$11","v":0.15},null,null,null,null,null,null,null,null,null,"Wakulla"]
["County Civil",{"$f":"IF(E82=\"YES\",MAX(B$56:B81)+1,0)","v":0},{"$f":"A$31","v":"CGE CQ2-18"},"Collections amount decreased from prior quarter",{"$f":"IF(MIN(F82:G82)<0,\"YES\",\"NO\")","v":"NO"},{"$f":"IFERROR(IF(NOT(ISBLANK(J32)),(J32-I32)/I32,0),0)","v":0},{"$f":"IFERROR(IF(NOT(ISBLANK(K32)),(K32-J32)/J32,0),0)","v":0}]
["County Civil",{"$f":"IF(E83=\"YES\",MAX(B$56:B82)+1,0)","v":0},{"$f":"A$31","v":"CGE CQ2-18"},"Assessment amount increased from prior quarter",{"$f":"IF(MAX(F83:G83)>0,\"YES\",\"NO\")","v":"NO"},{"$f":"IFERROR(IF(NOT(ISBLANK(J33)),(J33-I33)/I33,0),0)","v":0},{"$f":"IFERROR(IF(NOT(ISBLANK(K33)),(K33-J33)/J33,0),0)","v":0}]
["County Civil",{"$f":"IF(E84=\"YES\",MAX(B$56:B83)+1,0)","v":0},{"$f":"A$35","v":"CGE CQ3-18"},{"$f":"\"Assessments dropped by more than set percentage of: \"&TEXT(J84,\"#0%\")","v":"Assessments dropped by more than set percentage of: 15%"},{"$f":"IF(MIN(F84)<(-1*V$11),\"YES\",\"NO\")","v":"NO"},{"$f":"IFERROR(IF(NOT(ISBLANK(K37)),(K37-J37)/J37,0),0)","v":0},null,null,null,{"$f":"V$11","v":0.15},null,null,null,null,null,null,null,null,null,"Walton"]
["County Civil",{"$f":"IF(E85=\"YES\",MAX(B$56:B84)+1,0)","v":0},{"$f":"A$35","v":"CGE CQ3-18"},"Collections amount decreased from prior quarter",{"$f":"IF(MIN(F85)<0,\"YES\",\"NO\")","v":"NO"},{"$f":"IFERROR(IF(NOT(ISBLANK(K36)),(K36-J36)/J36,0),0)","v":0}]
["County Civil",{"$f":"IF(E86=\"YES\",MAX(B$56:B85)+1,0)","v":0},{"$f":"A$35","v":"CGE CQ3-18"},"Assessment amount increased from prior quarter",{"$f":"IF(MAX(F86)>0,\"YES\",\"NO\")","v":"NO"},{"$f":"IFERROR(IF(NOT(ISBLANK(K37)),(K37-J37)/J37,0),0)","v":0}]

{"sheet":"Civil Traffic","index":8,"n_rows":86,"n_cols":22,"rows_kept":86,"cut":false,"hidden":false,"merged":[[29,11,29,12],[30,11,32,12],[33,11,35,12],[36,11,38,12],[39,11,41,12],[5,3,5,4],[22,12,25,12],[8,11,8,12],[10,11,13,11],[10,12,13,12],[14,11,17,11],[14,12,17,12],[18,11,21,11],[18,12,21,12],[22,11,25,11],[7,3,7,4],[10,8,13,8],[24,3,25,3],[24,4,25,4],[24,5,25,5],[34,0,37,0],[42,3,42,6],[42,7,42,10],[52,0,52,1],[34,1,37,1],[38,1,41,1],[38,0,41,0],[30,0,33,0],[26,0,29,0],[26,1,29,1],[30,1,33,1],[10,0,13,0],[14,0,17,0],[18,1,21,1],[22,1,25,1],[10,1,13,1],[14,1,17,1],[18,0,21,0],[22,0,25,0]]}
[]
[null,null,null,null,null,null,null,null,null,null,null,null,"County Fiscal Year 2016-2017",null,null,null,null,null,null,"CountyNames"]
[null,null,null,null,null,null,null,null,null,null,null,null,"Collections Quarterly Report Form for CCOC",null,null,null,null,null,null,"Alachua"]
[null,null,"Report for Quarter Ending: ",{"$f":"'Circuit Criminal'!D4","v":"March 2017"},null,null,null,null,"REQUIRED: Reason Codes AND Action to Improve / Descriptions Required if Measure(s) Not Met",null,null,null,null,null,null,null,null,null,null,"Baker"]
[null,null,"Version #: ",{"$f":"'Circuit Criminal'!$D$5","v":1},null,null,null,null,null,"Internal: Must clarify reason AND expected duration internal reason will be resolved",null,null,null,null,null,null,null,null,null,"Bay"]
[null,null,"County: ",{"$f":"'Circuit Criminal'!D6","v":"Brevard"},null,null,null,null,null,"External: Detailed explanation of external reason the measure wasn't met ",null,null,null,null,null,null,null,null,null,"Bradford"]
[null,null,null,null,null,null,null,null,null,null,null,null,null,null,null,null,null,null,null,"Brevard"]
[null,null,"Court/Case Type:","Civil Traffic",null,null,"Performance Measure Standard:",0.9,null,null,null,null,null,null,null,null,null,null,null,"Broward"]
[null,null,null,null,null,null,null,null,null,null,null,"Action Plan",null,1,"version #1","Qtr1 - December",1,null,null,"Calhoun"]
[null,null,"Control Groups","10/01/15 - 12/31/15","01/01/16 - 03/31/16","04/01/16 - 06/30/16","07/01/16 - 09/30/16","10/01/16 - 12/31/16","01/01/17 - 03/31/17","04/01/17 - 06/30/17","07/01/17- 09/30/17","Reason Code","Current Actions to Improve",null,"version #2","Qtr 2 - March",null,null,null,"Charlotte",null,5]
[{"$f":"LEFT(B11,3)&\" \"&RIGHT(B11,6)","v":"CGE CQ1-17"},"CGE\nCQ1-17","RPE 12/31/15","Qtr 1","Qtr 2","Qtr 3","Qtr 4","Qtr 5",null,null,null,null,null,"Economy","version #3","Qtr 3 - June",3,null,null,"Citrus",{"$f":"D6&\" \"&D8","v":"Brevard Civil Traffic"},0.15]
[null,null,"C = Cumulative Collections",{"$f":"LOOKUP($U$11&\" \"&$A11,Lookup!$X$2:$X$5361,Lookup!$I$2:$I$5361)","v":753746.82},{"$f":"LOOKUP($U$11&\" \"&$A11,Lookup!$X$2:$X$5361,Lookup!$J$2:$J$5361)","v":1096736.53},{"$f":"LOOKUP($U$11&\" \"&$A11,Lookup!$X$2:$X$5361,Lookup!$K$2:$K$5361)","v":1161086.08},{"$f":"LOOKUP($U$11&\" \"&$A11,Lookup!$X$2:$X$5361,Lookup!$L$2:$L$5361)","v":1182441.47},1192847.47,null,null,null,null,null,"Incarcerations","version #4","Qtr 4 - September",4,null,null,"Clay",{"$f":"IF(P13=TRUE,A11,\"\")","v":"CGE CQ1-17"}]
[null,null,"A = Amount Assessed - Adjusted",{"$f":"LOOKUP($U$11&\" \"&$A11,Lookup!$X$2:$X$5361,Lookup!$D$2:$D$5361)","v":1367103.7},{"$f":"LOOKUP($U$11&\" \"&$A11,Lookup!$X$2:$X$5361,Lookup!$E$2:$E$5361)","v":1306025.75},{"$f":"LOOKUP($U$11&\" \"&$A11,Lookup!$X$2:$X$5361,Lookup!$F$2:$F$5361)","v":1302154},{"$f":"LOOKUP($U$11&\" \"&$A11,Lookup!$X$2:$X$5361,Lookup!$G$2:$G$5361)","v":1301506},1301490,null,null,null,null,null,"Late/Non-pay/Pay Plans","version #5",{"$f":"OR(AND(E12<D12,E12>0),AND(F12<E12,F12>0),AND(G12<F12,G12>0),AND(H12<G12,H12>0),AND(F13>E13,E13>0),AND(G13>F13,F13>0),AND(H13<G13,G13>0))","v":true},5,null,null,"Collier",{"$f":"IF(P14=TRUE,A15,\"\")","v":"CGE CQ2-17"}]
[null,null,"CR = Collection Rate ",{"$f":"IF(ISBLANK(D12),\"N/A\",IF(OR(D12=0,D12=\"N/A\"),0,D12/D13))","v":0.55134575380053463},{"$f":"IF(ISBLANK(E12),\"N/A\",IF(OR(E12=0,E12=\"N/A\"),0,E12/E13))","v":0.8397510768834382},{"$f":"IF(ISBLANK(F12),\"N/A\",IF(OR(F12=0,F12=\"N/A\"),0,F12/F13))","v":0.89166571695820929},{"$f":"IF(ISBLANK(G12),\"N/A\",IF(OR(G12=0,G12=\"N/A\"),0,G12/G13))","v":0.90851787851919241},{"$f":"IF(ISBLANK(H12),\"N/A\",IF(AND(H12=0,H13=0,NOT(ISBLANK(H12)),NOT(ISBLANK(H13))),1,H12/H13))","v":0.91652449884363307},null,null,null,null,null,"Mandatory Assessment","version #6",{"$f":"OR(AND(F16<E16,F16>0),AND(G16<F16,G16>0),AND(H16<G16,H16>0),AND(I16<H16,I16>0),AND(G17>F17, F17>0),AND(H17>G17, G17>0),AND(I17<H17,I17>0))","v":true},6,null,null,"Columbia",{"$f":"IF(P15=TRUE,A19,\"\")","v":""}]
[{"$f":"LEFT(B15,3)&\" \"&RIGHT(B15,6)","v":"CGE CQ2-17"},"CGE \nCQ2-17","RPE 03/31/16",null,"Qtr 1","Qtr 2","Qtr 3","Qtr 4","Qtr 5",null,null,null,null,"Out of State","version #7",{"$f":"OR(AND(G20<F20,D10>0),AND(H20<G20,H20>0),AND(I20<H20,I20>0),AND(J20<I20,J20>0),AND(H21>G21, G21>0),AND(I21>H21, H21>0),AND(J21<I21, J21>0))","v":false},7,null,null,"Dade",{"$f":"IF(P16=TRUE,A23,\"\")","v":""}]
[null,null,"C = Cumulative Collections",null,{"$f":"LOOKUP($U$11&\" \"&$A15,Lookup!$X$2:$X$5361,Lookup!$I$2:$I$5361)","v":843113.9},{"$f":"LOOKUP($U$11&\" \"&$A15,Lookup!$X$2:$X$5361,Lookup!$J$2:$J$5361)","v":1221989.6499999999},{"$f":"LOOKUP($U$11&\" \"&$A15,Lookup!$X$2:$X$5361,Lookup!$K$2:$K$5361)","v":1305782.8600000001},1331110.6000000001,1350080.17,null,null,null,null,"Procedural","version #8",{"$f":"OR(AND(H24<G24, H24>0),AND(I24<H24, I24>0),AND(J24<I24, J24>0),AND(K24<J24, K24>0),AND(I25>H25, H25>0),AND(J25>I25, I25>0),AND(K25<J25, J25>0))","v":false},8,null,null,"Desoto",{"$f":"IF(P17=TRUE,A27,\"\")","v":""}]
[null,null,"A = Amount Assessed - Adjusted",null,{"$f":"LOOKUP($U$11&\" \"&$A15,Lookup!$X$2:$X$5361,Lookup!$D$2:$D$5361)","v":1557605.4},{"$f":"LOOKUP($U$11&\" \"&$A15,Lookup!$X$2:$X$5361,Lookup!$E$2:$E$5361)","v":1492934.05},{"$f":"LOOKUP($U$11&\" \"&$A15,Lookup!$X$2:$X$5361,Lookup!$F$2:$F$5361)","v":1486664.38},1486185.58,1485583.58,null,null,null,null,"Staffing - Insufficient Personnel","version #9",{"$f":"OR(AND(I28<H28, I28>0),AND(J28<I28, J28>0),AND(K28<J28, K28>0),AND(J29>I29, I29>0),AND(K29>J29, J29>0))","v":false},9,null,null,"Dixie",{"$f":"IF(P18=TRUE,A31,\"\")","v":""}]
[null,null,"CR = Collection Rate",null,{"$f":"IF(ISBLANK(E16),\"N/A\",IF(OR(E16=0,E16=\"N/A\"),0,E16/E17))","v":0.54128850606193335},{"$f":"IF(ISBLANK(F16),\"N/A\",IF(OR(F16=0,F16=\"N/A\"),0,F16/F17))","v":0.81851549303199289},{"$f":"IF(ISBLANK(G16),\"N/A\",IF(OR(G16=0,G16=\"N/A\"),0,G16/G17))","v":0.87833062900181968},{"$f":"IF(ISBLANK(H16),\"N/A\",IF(AND(H16=0,H17=0,NOT(ISBLANK(H16)),NOT(ISBLANK(H17))),1,H16/H17))","v":0.89565570943031225},{"$f":"IF(ISBLANK(I16),\"N/A\",IF(AND(I16=0,I17=0,NOT(ISBLANK(I16)),NOT(ISBLANK(I17))),1,I16/I17))","v":0.90878775733372053},null,null,null,null,"Staffing - Training Required","version #10",{"$f":"OR(AND(J32<I32, J32>0),AND(K32<J32, K32>0),AND(K33>J33, J33>0))","v":false},10,null,null,"Duval",{"$f":"IF(P19=TRUE,A35,\"\")","v":""}]
[{"$f":"LEFT(B19,3)&\" \"&RIGHT(B19,6)","v":"CGE CQ3-17"},"CGE\nCQ3-17","RPE 06/30/16",null,null,"Qtr 1","Qtr 2","Qtr 3","Qtr 4","Qtr 5",null,null,null,"Systems","version #11",{"$f":"OR(K36<J36)","v":false},11,null,null,"Escambia",{"$f":"U12&\" \"&U13&\" \"&U14&\" \"&U15&\" \"&U16&\" \"&U17&\" \"&U18","v":"CGE CQ1-17 CGE CQ2-17     "}]
[null,null,"C = Cumulative Collections",null,null,{"$f":"LOOKUP($U$11&\" \"&$A19,Lookup!$X$2:$X$5361,Lookup!$I$2:$I$5361)","v":773028.58},{"$f":"LOOKUP($U$11&\" \"&$A19,Lookup!$X$2:$X$5361,Lookup!$J$2:$J$5361)","v":1113398.1299999999},1188880.72,1234748.6200000001,null,null,null,null,"Other","version #12",{"$f":"COUNTIF(P13:P19,\"TRUE\")","v":2},12,null,null,"Flagler"]
[null,null,"A = Amount Assessed - Adjusted",null,null,{"$f":"LOOKUP($U$11&\" \"&$A19,Lookup!$X$2:$X$5361,Lookup!$D$2:$D$5361)","v":1442106.93},{"$f":"LOOKUP($U$11&\" \"&$A19,Lookup!$X$2:$X$5361,Lookup!$E$2:$E$5361)","v":1379772.58},1376470.58,1375692.58,null,null,null,null,null,null,null,null,null,null,"Franklin"]
[null,null,"CR = Collection Rate",null,null,{"$f":"IF(ISBLANK(F20),\"N/A\",IF(OR(F20=0,F20=\"N/A\"),0,F20/F21))","v":0.53604109648096621},{"$f":"IF(ISBLANK(G20),\"N/A\",IF(OR(G20=0,G20=\"N/A\"),0,G20/G21))","v":0.80694322103429528},{"$f":"IF(ISBLANK(H20),\"N/A\",IF(AND(H20=0,H21=0,NOT(ISBLANK(H20)),NOT(ISBLANK(H21))),1,H20/H21))","v":0.8637167675606986},{"$f":"IF(ISBLANK(I20),\"N/A\",IF(AND(I20=0,I21=0,NOT(ISBLANK(I20)),NOT(ISBLANK(I21))),1,I20/I21))","v":0.89754690688235017},{"$f":"IF(ISBLANK(J20),\"N/A\",IF(AND(J20=0,J21=0,NOT(ISBLANK(J20)),NOT(ISBLANK(J21))),1,J20/J21))","v":"N/A"},null,null,null,null,"Q1","Q2",null,null,null,"Gadsden"]
[{"$f":"LEFT(B23,3)&\" \"&RIGHT(B23,6)","v":"CGE CQ4-17"},"CGE\nCQ4-17","RPE 09/30/16",null,null,null,"Qtr 1","Qtr 2","Qtr 3","Qtr 4","Qtr 5",null,null,null,false,false,{"$f":"IF(AND(OR(ISBLANK(H12),ISBLANK(H13)),O23=FALSE),\"Red\",\"Gray\")","v":"Gray"},{"$f":"IF(AND(OR(ISBLANK(I16),ISBLANK(I17)),P23=FALSE),\"Red\",\"Gray\")","v":"Gray"},{"$f":"IF(AND('Circuit Criminal'!D4=1,S36=1),A11,IF(AND('Circuit Criminal'!D4=2,S36=1),A15,IF(AND('Circuit Criminal'!D4=3,S36=1),A19,IF(AND('Circuit Criminal'!D4=4,S36=1),A23,\"\"))))","v":""},"Gilchrist"]
[null,null,"C = Cumulative Collections",null,null,null,{"$f":"LOOKUP($U$11&\" \"&$A23,Lookup!$X$2:$X$5361,Lookup!$I$2:$I$5361)","v":713614.93},1019800.11,1120669.3999999999,null,null,null,null,null,false,false,{"$f":"IF(AND(OR(ISBLANK(H16),ISBLANK(H17)),O24=FALSE),\"Red\",\"Gray\")","v":"Gray"},{"$f":"IF(AND(OR(ISBLANK(I20),ISBLANK(I21)),P24=FALSE),\"Red\",\"Gray\")","v":"Gray"},{"$f":"IF(AND('Circuit Criminal'!D4=1,S37=1),A15,IF(AND('Circuit Criminal'!D4=2,S37=1),A19,IF(AND('Circuit Criminal'!D4=3,S37=1),A23,IF(AND('Circuit Criminal'!D4=4,S37=1),A27,\"\"))))","v":""},"Glades"]
[null,null,"A = Amount Assessed - Adjusted",null,null,null,{"$f":"LOOKUP($U$11&\" \"&$A23,Lookup!$X$2:$X$5361,Lookup!$D$2:$D$5361)","v":1331806.75},1272367.1499999999,1267288.1499999999,null,null,null,null,null,false,false,{"$f":"IF(AND(OR(ISBLANK(H20),ISBLANK(H21)),O25=FALSE),\"Red\",\"Gray\")","v":"Gray"},{"$f":"IF(AND(OR(ISBLANK(I24),ISBLANK(I25)),P25=FALSE),\"Red\",\"Gray\")","v":"Gray"},{"$f":"IF(AND('Circuit Criminal'!D4=1,S38=1),A19,IF(AND('Circuit Criminal'!D4=2,S38=1),A23,IF(AND('Circuit Criminal'!D4=3,S38=1),A27,IF(AND('Circuit Criminal'!D4=4,S38=1),A31,\"\"))))","v":""},"Gulf"]
[null,null,"CR = Collection Rate",null,null,null,{"$f":"IF(ISBLANK(G24),\"N/A\",IF(OR(G24=0,G24=\"N/A\"),0,G24/G25))","v":0.53582468327330524},{"$f":"IF(ISBLANK(H24),\"N/A\",IF(AND(H24=0,H25=0,NOT(ISBLANK(H24)),NOT(ISBLANK(H25))),1,H24/H25))","v":0.80149830180699022},{"$f":"IF(ISBLANK(I24),\"N/A\",IF(AND(I24=0,I25=0,NOT(ISBLANK(I24)),NOT(ISBLANK(I25))),1,I24/I25))","v":0.8843051203469392},{"$f":"IF(ISBLANK(J24),\"N/A\",IF(AND(J24=0,J25=0,NOT(ISBLANK(J24)),NOT(ISBLANK(J25))),1,J24/J25))","v":"N/A"},{"$f":"IF(ISBLANK(K24),\"N/A\",IF(AND(K24=0,K25=0,NOT(ISBLANK(K24)),NOT(ISBLANK(K25))),1,K24/K25))","v":"N/A"},null,null,null,false,false,{"$f":"IF(AND(OR(ISBLANK(H24),ISBLANK(H25)),O26=FALSE),\"Red\",\"Gray\")","v":"Gray"},{"$f":"IF(AND(OR(ISBLANK(I28),ISBLANK(I29)),P26=FALSE),\"Red\",\"Gray\")","v":"Gray"},{"$f":"IF(AND('Circuit Criminal'!D4=1,S39=1),A23,IF(AND('Circuit Criminal'!D4=2,S39=1),A27,IF(AND('Circuit Criminal'!D4=3,S39=1),A31,IF(AND('Circuit Criminal'!D4=4,S39=1),A35,\"\"))))","v":""},"Hamilton"]
[{"$f":"LEFT(B27,3)&\" \"&RIGHT(B27,6)","v":"CGE CQ1-18"},"CGE\nCQ1-18","RPE 12/31/16",null,null,null,null,"Qtr 1","Qtr 2","Qtr 3","Qtr 4",null,null,null,false,false,{"$f":"IF(AND(OR(ISBLANK(H28),ISBLANK(H29)),O27=FALSE),\"Red\",\"Gray\")","v":"Gray"},{"$f":"IF(AND(OR(ISBLANK(I32),ISBLANK(I33)),P27=FALSE),\"Red\",\"Gray\")","v":"Gray"},{"$f":"IF(AND('Circuit Criminal'!D4=1,S40=1),A27,IF(AND('Circuit Criminal'!D4=2,S40=1),A31,IF(AND('Circuit Criminal'!D4=3,S40=1),A35,IF(AND('Circuit Criminal'!D4=4,S40=1),A39,\"\"))))","v":""},"Hardee"]
[null,null,"C = Cumulative Collections",null,null,null,null,593037.85,896156.16000000003,null,null,null,null,null,null,null,null,null,null,"Hendry"]
[null,null,"A = Amount Assessed - Adjusted",null,null,null,null,1139756.1000000001,1088001.8999999999,null,null,null,null,null,"Q3","Q4",null,null,null,"Hernando"]
[null,null,"CR = Collection Rate",null,null,null,null,{"$f":"IF(ISBLANK(H28),\"N/A\",IF(AND(H28=0,H29=0,NOT(ISBLANK(H28)),NOT(ISBLANK(H29))),1,H28/H29))","v":0.52031996143736359},{"$f":"IF(ISBLANK(I28),\"N/A\",IF(AND(I28=0,I29=0,NOT(ISBLANK(I28)),NOT(ISBLANK(I29))),1,I28/I29))","v":0.82367150277954493},{"$f":"IF(ISBLANK(J28),\"N/A\",IF(AND(J28=0,J29=0,NOT(ISBLANK(J28)),NOT(ISBLANK(J29))),1,J28/J29))","v":"N/A"},{"$f":"IF(ISBLANK(K28),\"N/A\",IF(AND(K28=0,K29=0,NOT(ISBLANK(K28)),NOT(ISBLANK(K29))),1,K28/K29))","v":"N/A"},"Additional Notes Related to Collection Issues",null,null,false,false,{"$f":"IF(AND(OR(ISBLANK(J20),ISBLANK(J21)),O30=FALSE),\"Red\",\"Gray\")","v":"Red"},{"$f":"IF(AND(OR(ISBLANK(K24),ISBLANK(K25)),P30=FALSE),\"Red\",\"Gray\")","v":"Red"},null,"Highlands"]
[{"$f":"LEFT(B31,3)&\" \"&RIGHT(B31,6)","v":"CGE CQ2-18"},"CGE\nCQ2-18","RPE 03/31/17",null,null,null,null,null,"Qtr 1","Qtr 2","Qtr 3","10/01/16 - 12/31/16: ",null,null,false,false,{"$f":"IF(AND(OR(ISBLANK(J24),ISBLANK(J25)),O31=FALSE),\"Red\",\"Gray\")","v":"Red"},{"$f":"IF(AND(OR(ISBLANK(K28),ISBLANK(K29)),P31=FALSE),\"Red\",\"Gray\")","v":"Red"},null,"Hillsborough"]
[null,null,"C = Cumulative Collections",null,null,null,null,null,901177.09,null,null,null,null,null,false,false,{"$f":"IF(AND(OR(ISBLANK(J28),ISBLANK(J29)),O32=FALSE),\"Red\",\"Gray\")","v":"Red"},{"$f":"IF(AND(OR(ISBLANK(K32),ISBLANK(K33)),P32=FALSE),\"Red\",\"Gray\")","v":"Red"},null,"Holmes"]
[null,null,"A = Amount Assessed - Adjusted",null,null,null,null,null,1605788.95,null,null,null,null,null,false,false,{"$f":"IF(AND(OR(ISBLANK(J32),ISBLANK(J33)),O33=FALSE),\"Red\",\"Gray\")","v":"Red"},{"$f":"IF(AND(OR(ISBLANK(K36),ISBLANK(K37)),P33=FALSE),\"Red\",\"Gray\")","v":"Red"},null,"Indian River"]
[null,null,"CR = Collection Rate",null,null,null,null,null,{"$f":"IF(ISBLANK(I32),\"N/A\",IF(AND(I32=0,I33=0,NOT(ISBLANK(I32)),NOT(ISBLANK(I33))),1,I32/I33))","v":0.56120518826586774},{"$f":"IF(ISBLANK(J32),\"N/A\",IF(AND(J32=0,J33=0,NOT(ISBLANK(J32)),NOT(ISBLANK(J33))),1,J32/J33))","v":"N/A"},{"$f":"IF(ISBLANK(K32),\"N/A\",IF(AND(K32=0,K33=0,NOT(ISBLANK(K32)),NOT(ISBLANK(K33))),1,K32/K33))","v":"N/A"},"01/01/17 - 03/31/17: ",null,null,false,false,{"$f":"IF(AND(OR(ISBLANK(J36),ISBLANK(J37)),O34=FALSE),\"Red\",\"Gray\")","v":"Red"},{"$f":"IF(AND(OR(ISBLANK(K40),ISBLANK(K41)),P34=FALSE),\"Red\",\"Gray\")","v":"Red"},null,"Jackson"]
[{"$f":"LEFT(B35,3)&\" \"&RIGHT(B35,6)","v":"CGE CQ3-18"},"CGE\nCQ3-18","RPE 06/30/17",null,null,null,null,null,null,"Qtr 1","Qtr 2",null,null,null,null,null,null,null,null,"Jefferson"]
[null,null,"C = Cumulative Collections",null,null,null,null,null,null,null,null,null,null,null,{"$f":"IF(AND('Circuit Criminal'!$D$4=1,Q23=\"Red\"),\"Red\",\"Gray\")","v":"Gray"},{"$f":"IF(AND('Circuit Criminal'!$D$4=2,R23=\"Red\"),\"Red\",\"Gray\")","v":"Gray"},{"$f":"IF(AND('Circuit Criminal'!$D$4=3,Q30=\"Red\"),\"Red\",\"Gray\")","v":"Gray"},{"$f":"IF(AND('Circuit Criminal'!$D$4=4,R30=\"Red\"),\"Red\",\"Gray\")","v":"Gray"},{"$f":"COUNTIF(O36:R36,\"Red\")","v":0},"Lafayette"]
[null,null,"A = Amount Assessed - Adjusted",null,null,null,null,null,null,null,null,"04/01/17 - 06/30/17: ",null,null,{"$f":"IF(AND('Circuit Criminal'!$D$4=1,Q24=\"Red\"),\"Red\",\"Gray\")","v":"Gray"},{"$f":"IF(AND('Circuit Criminal'!$D$4=2,R24=\"Red\"),\"Red\",\"Gray\")","v":"Gray"},{"$f":"IF(AND('Circuit Criminal'!$D$4=3,Q31=\"Red\"),\"Red\",\"Gray\")","v":"Gray"},{"$f":"IF(AND('Circuit Criminal'!$D$4=4,R31=\"Red\"),\"Red\",\"Gray\")","v":"Gray"},{"$f":"COUNTIF(O37:R37,\"Red\")","v":0},"Lake"]
[null,null,"CR = Collection Rate",null,null,null,null,null,null,{"$f":"IF(ISBLANK(J36),\"N/A\",IF(AND(J36=0,J37=0,NOT(ISBLANK(J36)),NOT(ISBLANK(J37))),1,J36/J37))","v":"N/A"},{"$f":"IF(ISBLANK(K36),\"N/A\",IF(AND(K36=0,K37=0,NOT(ISBLANK(K36)),NOT(ISBLANK(K37))),1,K36/K37))","v":"N/A"},null,null,null,{"$f":"IF(AND('Circuit Criminal'!$D$4=1,Q25=\"Red\"),\"Red\",\"Gray\")","v":"Gray"},{"$f":"IF(AND('Circuit Criminal'!$D$4=2,R25=\"Red\"),\"Red\",\"Gray\")","v":"Gray"},{"$f":"IF(AND('Circuit Criminal'!$D$4=3,Q32=\"Red\"),\"Red\",\"Gray\")","v":"Gray"},{"$f":"IF(AND('Circuit Criminal'!$D$4=4,R32=\"Red\"),\"Red\",\"Gray\")","v":"Gray"},{"$f":"COUNTIF(O38:R38,\"Red\")","v":0},"Lee"]
[{"$f":"LEFT(B39,3)&\" \"&RIGHT(B39,6)","v":"CGE CQ4-18"},"CGE\nCQ4-18","RPE 09/30/17",null,null,null,null,null,null,null,"Qtr 1",null,null,null,{"$f":"IF(AND('Circuit Criminal'!$D$4=1,Q26=\"Red\"),\"Red\",\"Gray\")","v":"Gray"},{"$f":"IF(AND('Circuit Criminal'!$D$4=2,R26=\"Red\"),\"Red\",\"Gray\")","v":"Gray"},{"$f":"IF(AND('Circuit Criminal'!$D$4=3,Q33=\"Red\"),\"Red\",\"Gray\")","v":"Gray"},{"$f":"IF(AND('Circuit Criminal'!$D$4=4,R33=\"Red\"),\"Red\",\"Gray\")","v":"Gray"},{"$f":"COUNTIF(O39:R39,\"Red\")","v":0},"Leon"]
[null,null,"C = Cumulative Collections",null,null,null,null,null,null,null,null,"07/01/17- 09/30/17: ",null,null,{"$f":"IF(AND('Circuit Criminal'!$D$4=1,Q27=\"Red\"),\"Red\",\"Gray\")","v":"Gray"},{"$f":"IF(AND('Circuit Criminal'!$D$4=2,R27=\"Red\"),\"Red\",\"Gray\")","v":"Gray"},{"$f":"IF(AND('Circuit Criminal'!$D$4=3,Q34=\"Red\"),\"Red\",\"Gray\")","v":"Gray"},{"$f":"IF(AND('Circuit Criminal'!$D$4=4,R34=\"Red\"),\"Red\",\"Gray\")","v":"Gray"},{"$f":"COUNTIF(O40:R40,\"Red\")","v":0},"Levy"]
[null,null,"A = Amount Assessed - Adjusted",null,null,null,null,null,null,null,null,null,null,null,{"$f":"COUNTIF(O36:O40,\"Red\")","v":0},{"$f":"COUNTIF(P36:P40,\"Red\")","v":0},{"$f":"COUNTIF(Q36:Q40,\"Red\")","v":0},{"$f":"COUNTIF(R36:R40,\"Red\")","v":0},null,"Liberty"]
[null,null,"CR = Collection Rate",null,null,null,null,null,null,null,{"$f":"IF(ISBLANK(K40),\"N/A\",IF(OR(K40=0,K40=\"N/A\"),0,K40/K41))","v":"N/A"},null,null,null,{"$f":"SUM(O41:R41)","v":0},null,null,null,null,"Madison"]
[null,null,"Business Rules","Purpose of Report:  The CCOC Collection Rate Performance Measure     report tracks dollars in the quarter they are assessed and then how well     those assessed dollars have been collected over the next five quarters.  ",null,null,null,"Adjustments to Assessments: The amount assessed in a given assessment control group should be adjusted in the reporting period when assessments are later adjusted by the Court or other provisions of law.  ",null,null,null,null,null,null,null,null,null,null,null,"Manatee"]
[null,null,"NOTES:","The following conditions will alert when performance standards are not met and/or established business rules within the control group are not followed.",null,null,null,null,null,null,null,null,null,null,null,null,null,null,null,"Martin"]
[null,null,null,"1.) Action Plan: If the 5th quarter Collection Rate is below Standard (red numbers on rose background), select a \"Reason Code\" and write a brief statement in \"Current Action to Improve\" in the green area ONLY. ",null,null,null,null,null,null,null,null,null,null,null,null,null,null,null,"Nassau"]
[null,null,null,"2.) Additional Notes Related to Collection Issues: Include a brief explaination when either of the following conditions not consistant with the Collection Report Business Rules. ",null,null,null,null,null,null,null,null,null,null,null,null,null,null,null,"Okaloosa"]
[null,null,null,null,"a.) Cumulative Collection amount has Decreased from the previous quarter in the same Control Group (font color for amount will change to RED)",null,null,null,null,null,null,null,null,null,null,null,null,null,null,"Okeechobee"]
[null,null,null,null,"b.) The Amount Assessed - Adjusted has Increased from the previous quarter in the same Control Group (font color for amount will change to RED)",null,null,null,null,null,null,null,null,null,null,null,null,null,null,"Orange"]
[null,null,null,null,null,null,null,null,null,null,null,null,null,null,null,null,null,null,null,"Nassau"]
[null,null,null,null,null,null,null,null,null,null,null,null,null,null,null,null,null,null,null,"Okaloosa"]
[null,null,null,null,null,null,null,null,null,null,null,null,null,null,null,null,null,null,null,"Okeechobee"]
[null,null,null,null,null,null,null,null,null,null,null,null,null,null,null,null,null,null,null,"Orange"]
[null,null,null,null,null,null,null,null,null,null,null,null,null,null,null,null,null,null,null,"Pasco"]
[null,null,null,null,null,null,null,null,null,null,null,null,null,null,null,null,null,null,null,"Pinellas"]
[null,null,null,null,null,null,null,null,null,null,null,null,null,null,null,null,null,null,null,"Polk"]
[null,{"$f":"MAX('County Civil'!B56:B99)","v":{"$error":"#VALUE!"}},null,"Issue",null,"Calc 1 Needed","Calc 2 Needed","Calc 3 Needed","Calc 4 Needed","Standard",null,null,null,null,null,null,null,null,null,"Putnam"]
[{"$f":"D$8","v":"Civil Traffic"},{"$f":"IF(E57=\"YES\",MAX(B56)+1,0)","v":0},{"$f":"A$11","v":"CGE CQ1-17"},{"$f":"\"After 3rd Q, Collections went up by more than set percentage of: \"&TEXT(J57,\"#0%\")","v":"After 3rd Q, Collections went up by more than set percentage of: 500%"},{"$f":"IF(MAX(F57:G57)>V$10,\"YES\",\"NO\")","v":"NO"},{"$f":"IFERROR(IF(NOT(ISBLANK(G12)),(G12-F12)/F12,0),0)","v":1.8392598419576175E-2},{"$f":"IFERROR(IF(NOT(ISBLANK(H12)),(H12-G12)/G12,0),0)","v":8.8004355936535279E-3},null,null,{"$f":"V$10","v":5},null,null,null,null,null,null,null,null,null,"Santa Rosa"]
[{"$f":"D$8","v":"Civil Traffic"},{"$f":"IF(E58=\"YES\",MAX(B$56:B57)+1,0)","v":0},{"$f":"A$11","v":"CGE CQ1-17"},{"$f":"\"Assessments dropped by more than set percentage of: \"&TEXT(J58,\"#0%\")","v":"Assessments dropped by more than set percentage of: 15%"},{"$f":"IF(MIN(F58:I58)<(-1*V$11),\"YES\",\"NO\")","v":"NO"},{"$f":"IFERROR(IF(NOT(ISBLANK(E13)),(E13-D13)/D13,0),0)","v":-4.4676896127192077E-2},{"$f":"IFERROR(IF(NOT(ISBLANK(F13)),(F13-E13)/E13,0),0)","v":-2.9645280730490955E-3},{"$f":"IFERROR(IF(NOT(ISBLANK(G13)),(G13-F13)/F13,0),0)","v":-4.9763699224515689E-4},{"$f":"IFERROR(IF(NOT(ISBLANK(H13)),(H13-G13)/G13,0),0)","v":-1.2293450817744982E-5},{"$f":"V$11","v":0.15},null,null,null,null,null,null,null,null,null,"Sumter"]
["Civil Traffic",{"$f":"IF(E59=\"YES\",MAX(B$56:B58)+1,0)","v":0},{"$f":"A$11","v":"CGE CQ1-17"},{"$f":"\"The 5th Quarter Collection Rate did not meet the established performance measure standard of: \"&TEXT(J59,\"#0%\")","v":"The 5th Quarter Collection Rate did not meet the established performance measure standard of: 90%"},{"$f":"IF(F59=\"N/A\",\"NO\",IF(F59<H$8,\"YES\",\"NO\"))","v":"NO"},{"$f":"H14","v":0.91652449884363307},null,null,null,{"$f":"H$8","v":0.9},null,null,null,null,null,null,null,null,null,"Washington"]
["Civil Traffic",{"$f":"IF(E60=\"YES\",MAX(B$56:B59)+1,0)","v":0},{"$f":"A$11","v":"CGE CQ1-17"},"Collections amount decreased from prior quarter",{"$f":"IF(MIN(F60:I60)<0,\"YES\",\"NO\")","v":"NO"},{"$f":"IFERROR(IF(NOT(ISBLANK(E12)),(E12-D12)/D12,0),0)","v":0.45504631117382371},5.8673663400269929E-2,1.8392598419576175E-2,8.8004355936535279E-3]
["Civil Traffic",{"$f":"IF(E61=\"YES\",MAX(B$56:B60)+1,0)","v":0},{"$f":"A$11","v":"CGE CQ1-17"},"Assessment amount increased from prior quarter",{"$f":"IF(MAX(F61:I61)>0,\"YES\",\"NO\")","v":"NO"},-4.4676896127192077E-2,-2.9645280730490955E-3,-4.9763699224515689E-4,-1.2293450817744982E-5]
["Civil Traffic",{"$f":"IF(E62=\"YES\",MAX(B$56:B61)+1,0)","v":0},{"$f":"A$15","v":"CGE CQ2-17"},{"$f":"\"After 3rd Q, Collections went up by more than set percentage of: \"&TEXT(J62,\"#0%\")","v":"After 3rd Q, Collections went up by more than set percentage of: 500%"},{"$f":"IF(MAX(F62:G62)>V$10,\"YES\",\"NO\")","v":"NO"},{"$f":"IFERROR(IF(NOT(ISBLANK(H16)),(H16-G16)/G16,0),0)","v":1.9396594009512415E-2},{"$f":"IFERROR(IF(NOT(ISBLANK(I16)),(I16-H16)/H16,0),0)","v":1.4250934520392092E-2},null,null,{"$f":"V$10","v":5},null,null,null,null,null,null,null,null,null,"Sarasota"]
["Civil Traffic",{"$f":"IF(E63=\"YES\",MAX(B$56:B62)+1,0)","v":0},{"$f":"A$15","v":"CGE CQ2-17"},{"$f":"\"Assessments dropped by more than set percentage of: \"&TEXT(J63,\"#0%\")","v":"Assessments dropped by more than set percentage of: 15%"},{"$f":"IF(MIN(F63:I63)<(-1*V$11),\"YES\",\"NO\")","v":"NO"},{"$f":"IFERROR(IF(NOT(ISBLANK(F17)),(F17-E17)/E17,0),0)","v":-4.1519726369721024E-2},{"$f":"IFERROR(IF(NOT(ISBLANK(G17)),(G17-F17)/F17,0),0)","v":-4.1995625995670458E-3},{"$f":"IFERROR(IF(NOT(ISBLANK(H17)),(H17-G17)/G17,0),0)","v":-3.2206327563980095E-4},{"$f":"IFERROR(IF(NOT(ISBLANK(I17)),(I17-H17)/H17,0),0)","v":-4.0506381443964755E-4},{"$f":"V$11","v":0.15},null,null,null,null,null,null,null,null,null,"Suwannee"]
["Civil Traffic",{"$f":"IF(E64=\"YES\",MAX(B$56:B63)+1,0)","v":0},{"$f":"A$15","v":"CGE CQ2-17"},"Collections amount decreased from prior quarter",{"$f":"IF(MIN(F64:I64)<0,\"YES\",\"NO\")","v":"NO"},{"$f":"IFERROR(IF(NOT(ISBLANK(F16)),(F16-E16)/E16,0),0)","v":0.4493767093627562},6.8571129059890323E-2,1.9396594009512415E-2,1.4250934520392092E-2]
["Civil Traffic",{"$f":"IF(E65=\"YES\",MAX(B$56:B64)+1,0)","v":0},{"$f":"A$15","v":"CGE CQ2-17"},"Assessment amount increased from prior quarter",{"$f":"IF(MAX(F65:I65)>0,\"YES\",\"NO\")","v":"NO"},-4.1519726369721024E-2,-4.1995625995670458E-3,-3.2206327563980095E-4,-4.0506381443964755E-4]
["Civil Traffic",{"$f":"IF(E66=\"YES\",MAX(B$56:B65)+1,0)","v":0},{"$f":"A$15","v":"CGE CQ2-17"},{"$f":"\"The 5th Quarter Collection Rate did not meet the established performance measure standard of: \"&TEXT(J66,\"#0%\")","v":"The 5th Quarter Collection Rate did not meet the established performance measure standard of: 90%"},{"$f":"IF(F66=\"N/A\",\"NO\",IF(F66<H$8,\"YES\",\"NO\"))","v":"NO"},{"$f":"I18","v":0.90878775733372053},null,null,null,{"$f":"H$8","v":0.9}]
["Civil Traffic",{"$f":"IF(E67=\"YES\",MAX(B$56:B66)+1,0)","v":0},{"$f":"A$19","v":"CGE CQ3-17"},{"$f":"\"After 3rd Q, Collections went up by more than set percentage of: \"&TEXT(J67,\"#0%\")","v":"After 3rd Q, Collections went up by more than set percentage of: 500%"},{"$f":"IF(MAX(F67:G67)>V$10,\"YES\",\"NO\")","v":"NO"},{"$f":"IFERROR(IF(NOT(ISBLANK(I20)),(I20-H20)/H20,0),0)","v":3.8580741724872233E-2},{"$f":"IFERROR(IF(NOT(ISBLANK(J20)),(J20-I20)/I20,0),0)","v":0},null,null,{"$f":"V$10","v":5},null,null,null,null,null,null,null,null,null,"Seminole"]
["Civil Traffic",{"$f":"IF(E68=\"YES\",MAX(B$56:B67)+1,0)","v":0},{"$f":"A$19","v":"CGE CQ3-17"},{"$f":"\"Assessments dropped by more than set percentage of: \"&TEXT(J68,\"#0%\")","v":"Assessments dropped by more than set percentage of: 15%"},{"$f":"IF(MIN(F68:I68)<(-1*V$11),\"YES\",\"NO\")","v":"NO"},{"$f":"IFERROR(IF(NOT(ISBLANK(G21)),(G21-F21)/F21,0),0)","v":-4.3224499309492855E-2},{"$f":"IFERROR(IF(NOT(ISBLANK(H21)),(H21-G21)/G21,0),0)","v":-2.3931480070433055E-3},{"$f":"IFERROR(IF(NOT(ISBLANK(I21)),(I21-H21)/H21,0),0)","v":-5.6521367859529547E-4},{"$f":"IFERROR(IF(NOT(ISBLANK(J21)),(J21-I21)/I21,0),0)","v":0},{"$f":"V$11","v":0.15},null,null,null,null,null,null,null,null,null,"Taylor"]
["Civil Traffic",{"$f":"IF(E69=\"YES\",MAX(B$56:B68)+1,0)","v":0},{"$f":"A$19","v":"CGE CQ3-17"},"Collections amount decreased from prior quarter",{"$f":"IF(MIN(F69:I69)<0,\"YES\",\"NO\")","v":"NO"},{"$f":"IFERROR(IF(NOT(ISBLANK(G20)),(G20-F20)/F20,0),0)","v":0.44030655373699112},6.7794787835686501E-2,3.8580741724872233E-2,0]
["Civil Traffic",{"$f":"IF(E70=\"YES\",MAX(B$56:B69)+1,0)","v":0},{"$f":"A$19","v":"CGE CQ3-17"},"Assessment amount increased from prior quarter",{"$f":"IF(MAX(F70:I70)>0,\"YES\",\"NO\")","v":"NO"},-4.3224499309492855E-2,-2.3931480070433055E-3,-5.6521367859529547E-4,0]
["Civil Traffic",{"$f":"IF(E71=\"YES\",MAX(B$56:B70)+1,0)","v":0},{"$f":"A$19","v":"CGE CQ3-17"},{"$f":"\"The 5th Quarter Collection Rate did not meet the established performance measure standard of: \"&TEXT(J71,\"#0%\")","v":"The 5th Quarter Collection Rate did not meet the established performance measure standard of: 90%"},{"$f":"IF(F71=\"N/A\",\"NO\",IF(F71<H$8,\"YES\",\"NO\"))","v":"NO"},{"$f":"J22","v":"N/A"},null,null,null,{"$f":"H$8","v":0.9}]
["Civil Traffic",{"$f":"IF(E72=\"YES\",MAX(B$56:B71)+1,0)","v":0},{"$f":"A$23","v":"CGE CQ4-17"},{"$f":"\"After 3rd Q, Collections went up by more than set percentage of: \"&TEXT(J72,\"#0%\")","v":"After 3rd Q, Collections went up by more than set percentage of: 500%"},{"$f":"IF(MAX(F72:G72)>V$10,\"YES\",\"NO\")","v":"NO"},{"$f":"IFERROR(IF(NOT(ISBLANK(J24)),(J24-I24)/I24,0),0)","v":0},{"$f":"IFERROR(IF(NOT(ISBLANK(K24)),(K24-J24)/J24,0),0)","v":0},null,null,{"$f":"V$10","v":5},null,null,null,null,null,null,null,null,null,"St. Johns"]
["Civil Traffic",{"$f":"IF(E73=\"YES\",MAX(B$56:B72)+1,0)","v":0},{"$f":"A$23","v":"CGE CQ4-17"},{"$f":"\"Assessments dropped by more than set percentage of: \"&TEXT(J73,\"#0%\")","v":"Assessments dropped by more than set percentage of: 15%"},{"$f":"IF(MIN(F73:I73)<(-1*V$11),\"YES\",\"NO\")","v":"NO"},{"$f":"IFERROR(IF(NOT(ISBLANK(H25)),(H25-G25)/G25,0),0)","v":-4.4630799475975091E-2},{"$f":"IFERROR(IF(NOT(ISBLANK(I25)),(I25-H25)/H25,0),0)","v":-3.9917723433837479E-3},{"$f":"IFERROR(IF(NOT(ISBLANK(J25)),(J25-I25)/I25,0),0)","v":0},{"$f":"IFERROR(IF(NOT(ISBLANK(K25)),(K25-J25)/J25,0),0)","v":0},{"$f":"V$11","v":0.15},null,null,null,null,null,null,null,null,null,"Union"]
["Civil Traffic",{"$f":"IF(E74=\"YES\",MAX(B$56:B73)+1,0)","v":0},{"$f":"A$23","v":"CGE CQ4-17"},"Collections amount decreased from prior quarter",{"$f":"IF(MIN(F74:I74)<0,\"YES\",\"NO\")","v":"NO"},{"$f":"IFERROR(IF(NOT(ISBLANK(H24)),(H24-G24)/G24,0),0)","v":0.42906218343834246},9.89108444006737E-2,0,0]
["Civil Traffic",{"$f":"IF(E75=\"YES\",MAX(B$56:B74)+1,0)","v":0},{"$f":"A$23","v":"CGE CQ4-17"},"Assessment amount increased from prior quarter",{"$f":"IF(MAX(F75:I75)>0,\"YES\",\"NO\")","v":"NO"},-4.4630799475975091E-2,-3.9917723433837479E-3,0,0]
["Civil Traffic",{"$f":"IF(E76=\"YES\",MAX(B$56:B75)+1,0)","v":0},{"$f":"A$23","v":"CGE CQ4-17"},{"$f":"\"The 5th Quarter Collection Rate did not meet the established performance measure standard of: \"&TEXT(J76,\"#0%\")","v":"The 5th Quarter Collection Rate did not meet the established performance measure standard of: 90%"},{"$f":"IF(F76=\"N/A\",\"NO\",IF(F76<H$8,\"YES\",\"NO\"))","v":"NO"},{"$f":"K26","v":"N/A"},null,null,null,{"$f":"H$8","v":0.9}]
["Civil Traffic",{"$f":"IF(E77=\"YES\",MAX(B$56:B76)+1,0)","v":0},{"$f":"A$27","v":"CGE CQ1-18"},{"$f":"\"After 3rd Q, Collections went up by more than set percentage of: \"&TEXT(J77,\"#0%\")","v":"After 3rd Q, Collections went up by more than set percentage of: 500%"},{"$f":"IF(MAX(F77)>V$10,\"YES\",\"NO\")","v":"NO"},{"$f":"IFERROR(IF(NOT(ISBLANK(K28)),(K28-J28)/J28,0),0)","v":0},null,null,null,{"$f":"V$10","v":5},null,null,null,null,null,null,null,null,null,"St. Lucie"]
["Civil Traffic",{"$f":"IF(E78=\"YES\",MAX(B$56:B77)+1,0)","v":0},{"$f":"A$27","v":"CGE CQ1-18"},{"$f":"\"Assessments dropped by more than set percentage of: \"&TEXT(J78,\"#0%\")","v":"Assessments dropped by more than set percentage of: 15%"},{"$f":"IF(MIN(F78:H78)<(-1*V$11),\"YES\",\"NO\")","v":"NO"},{"$f":"IFERROR(IF(NOT(ISBLANK(I29)),(I29-H29)/H29,0),0)","v":-4.5408136003834663E-2},{"$f":"IFERROR(IF(NOT(ISBLANK(J29)),(J29-I29)/I29,0),0)","v":0},{"$f":"IFERROR(IF(NOT(ISBLANK(K29)),(K29-J29)/J29,0),0)","v":0},null,{"$f":"V$11","v":0.15},null,null,null,null,null,null,null,null,null,"Volusia"]
["Civil Traffic",{"$f":"IF(E79=\"YES\",MAX(B$56:B78)+1,0)","v":0},{"$f":"A$27","v":"CGE CQ1-18"},"Collections amount decreased from prior quarter",{"$f":"IF(MIN(F79:H79)<0,\"YES\",\"NO\")","v":"NO"},{"$f":"IFERROR(IF(NOT(ISBLANK(I28)),(I28-H28)/H28,0),0)","v":0.51112810084550264},0,0]
["Civil Traffic",{"$f":"IF(E80=\"YES\",MAX(B$56:B79)+1,0)","v":0},{"$f":"A$27","v":"CGE CQ1-18"},"Assessment amount increased from prior quarter",{"$f":"IF(MAX(F80:H80)>0,\"YES\",\"NO\")","v":"NO"},-4.5408136003834663E-2,0,0]
["Civil Traffic",{"$f":"IF(E81=\"YES\",MAX(B$56:B80)+1,0)","v":0},{"$f":"A$31","v":"CGE CQ2-18"},{"$f":"\"Assessments dropped by more than set percentage of: \"&TEXT(J81,\"#0%\")","v":"Assessments dropped by more than set percentage of: 15%"},{"$f":"IF(MIN(F81:G81)<(-1*V$11),\"YES\",\"NO\")","v":"NO"},{"$f":"IFERROR(IF(NOT(ISBLANK(J33)),(J33-I33)/I33,0),0)","v":0},{"$f":"IFERROR(IF(NOT(ISBLANK(K33)),(K33-J33)/J33,0),0)","v":0},null,null,{"$f":"V$11","v":0.15},null,null,null,null,null,null,null,null,null,"Wakulla"]
["Civil Traffic",{"$f":"IF(E82=\"YES\",MAX(B$56:B81)+1,0)","v":0},{"$f":"A$31","v":"CGE CQ2-18"},"Collections amount decreased from prior quarter",{"$f":"IF(MIN(F82:G82)<0,\"YES\",\"NO\")","v":"NO"},{"$f":"IFERROR(IF(NOT(ISBLANK(J32)),(J32-I32)/I32,0),0)","v":0},{"$f":"IFERROR(IF(NOT(ISBLANK(K32)),(K32-J32)/J32,0),0)","v":0}]
["Civil Traffic",{"$f":"IF(E83=\"YES\",MAX(B$56:B82)+1,0)","v":0},{"$f":"A$31","v":"CGE CQ2-18"},"Assessment amount increased from prior quarter",{"$f":"IF(MAX(F83:G83)>0,\"YES\",\"NO\")","v":"NO"},{"$f":"IFERROR(IF(NOT(ISBLANK(J33)),(J33-I33)/I33,0),0)","v":0},{"$f":"IFERROR(IF(NOT(ISBLANK(K33)),(K33-J33)/J33,0),0)","v":0}]
["Civil Traffic",{"$f":"IF(E84=\"YES\",MAX(B$56:B83)+1,0)","v":0},{"$f":"A$35","v":"CGE CQ3-18"},{"$f":"\"Assessments dropped by more than set percentage of: \"&TEXT(J84,\"#0%\")","v":"Assessments dropped by more than set percentage of: 15%"},{"$f":"IF(MIN(F84)<(-1*V$11),\"YES\",\"NO\")","v":"NO"},{"$f":"IFERROR(IF(NOT(ISBLANK(K37)),(K37-J37)/J37,0),0)","v":0},null,null,null,{"$f":"V$11","v":0.15},null,null,null,null,null,null,null,null,null,"Walton"]
["Civil Traffic",{"$f":"IF(E85=\"YES\",MAX(B$56:B84)+1,0)","v":0},{"$f":"A$35","v":"CGE CQ3-18"},"Collections amount decreased from prior quarter",{"$f":"IF(MIN(F85)<0,\"YES\",\"NO\")","v":"NO"},{"$f":"IFERROR(IF(NOT(ISBLANK(K36)),(K36-J36)/J36,0),0)","v":0}]
["Civil Traffic",{"$f":"IF(E86=\"YES\",MAX(B$56:B85)+1,0)","v":0},{"$f":"A$35","v":"CGE CQ3-18"},"Assessment amount increased from prior quarter",{"$f":"IF(MAX(F86)>0,\"YES\",\"NO\")","v":"NO"},{"$f":"IFERROR(IF(NOT(ISBLANK(K37)),(K37-J37)/J37,0),0)","v":0}]

{"sheet":"Probate","index":9,"n_rows":91,"n_cols":22,"rows_kept":91,"cut":false,"hidden":false,"merged":[[42,7,42,10],[57,0,57,1],[34,1,37,1],[38,1,41,1],[5,3,5,4],[7,3,7,4],[26,1,29,1],[30,1,33,1],[10,1,13,1],[38,0,41,0],[26,0,29,0],[52,0,52,1],[42,3,42,6],[10,8,13,8],[18,1,21,1],[22,1,25,1],[10,0,13,0],[14,0,17,0],[18,0,21,0],[22,0,25,0],[24,3,25,3],[30,0,33,0],[14,1,17,1],[34,0,37,0],[24,4,25,4],[24,5,25,5],[39,11,41,12],[8,11,8,12],[10,11,13,11],[10,12,13,12],[14,11,17,11],[14,12,17,12],[18,11,21,11],[18,12,21,12],[22,11,25,11],[22,12,25,12],[29,11,29,12],[30,11,32,12],[33,11,35,12],[36,11,38,12]]}
[]
[null,null,null,null,null,null,null,null,null,null,null,null,"County Fiscal Year 2016-2017",null,null,null,null,null,null,"CountyNames"]
[null,null,null,null,null,null,null,null,null,null,null,null,"Collections Quarterly Report Form for CCOC",null,null,null,null,null,null,"Alachua"]
[null,null,"Report for Quarter Ending: ",{"$f":"'Circuit Criminal'!D4","v":"March 2017"},null,null,null,null,"REQUIRED: Reason Codes AND Action to Improve / Descriptions Required if Measure(s) Not Met",null,null,null,null,null,null,null,null,null,null,"Baker"]
[null,null,"Version #: ",{"$f":"'Circuit Criminal'!$D$5","v":1},null,null,null,null,null,"Internal: Must clarify reason AND expected duration internal reason will be resolved",null,null,null,null,null,null,null,null,null,"Bay"]
[null,null,"County: ",{"$f":"'Circuit Criminal'!D6","v":"Brevard"},null,null,null,null,null,"External: Detailed explanation of external reason the measure wasn't met ",null,null,null,null,null,null,null,null,null,"Bradford"]
[null,null,null,null,null,null,null,null,null,null,null,null,null,null,null,null,null,null,null,"Brevard"]
[null,null,"Court/Case Type:","Probate",null,null,"Performance Measure Standard:",0.9,null,null,null,null,null,null,null,null,null,null,null,"Broward"]
[null,null,null,null,null,null,null,null,null,null,null,"Action Plan",null,1,"version #1","Qtr1 - December",1,null,null,"Calhoun"]
[null,null,"Control Groups","10/01/15 - 12/31/15","01/01/16 - 03/31/16","04/01/16 - 06/30/16","07/01/16 - 09/30/16","10/01/16 - 12/31/16","01/01/17 - 03/31/17","04/01/17 - 06/30/17","07/01/17- 09/30/17","Reason Code","Current Actions to Improve",null,"version #2","Qtr 2 - March",null,null,null,"Charlotte",null,5]
[{"$f":"LEFT(B11,3)&\" \"&RIGHT(B11,6)","v":"CGE CQ1-17"},"CGE\nCQ1-17","RPE 12/31/15","Qtr 1","Qtr 2","Qtr 3","Qtr 4","Qtr 5",null,null,null,null,null,"Economy","version #3","Qtr 3 - June",3,null,null,"Citrus",{"$f":"D6&\" \"&D8","v":"Brevard Probate"},0.15]
[null,null,"C = Cumulative Collections",{"$f":"LOOKUP($U$11&\" \"&$A11,Lookup!$X$2:$X$5361,Lookup!$I$2:$I$5361)","v":196189.85},{"$f":"LOOKUP($U$11&\" \"&$A11,Lookup!$X$2:$X$5361,Lookup!$J$2:$J$5361)","v":197488.85},{"$f":"LOOKUP($U$11&\" \"&$A11,Lookup!$X$2:$X$5361,Lookup!$K$2:$K$5361)","v":197659.85},{"$f":"LOOKUP($U$11&\" \"&$A11,Lookup!$X$2:$X$5361,Lookup!$L$2:$L$5361)","v":197659.85},197659.85,null,null,null,null,null,"Incarcerations","version #4","Qtr 4 - September",4,null,null,"Clay",{"$f":"IF(P13=TRUE,A11,\"\")","v":""}]
[null,null,"A = Amount Assessed - Adjusted",{"$f":"LOOKUP($U$11&\" \"&$A11,Lookup!$X$2:$X$5361,Lookup!$D$2:$D$5361)","v":198583.85},{"$f":"LOOKUP($U$11&\" \"&$A11,Lookup!$X$2:$X$5361,Lookup!$E$2:$E$5361)","v":198583.85},{"$f":"LOOKUP($U$11&\" \"&$A11,Lookup!$X$2:$X$5361,Lookup!$F$2:$F$5361)","v":198583.85},{"$f":"LOOKUP($U$11&\" \"&$A11,Lookup!$X$2:$X$5361,Lookup!$G$2:$G$5361)","v":198583.85},198583.85,null,null,null,null,null,"Late/Non-pay/Pay Plans","version #5",{"$f":"OR(AND(E12<D12,E12>0),AND(F12<E12,F12>0),AND(G12<F12,G12>0),AND(H12<G12,H12>0),AND(F13>E13,E13>0),AND(G13>F13,F13>0),AND(H13<G13,G13>0))","v":false},5,null,null,"Collier",{"$f":"IF(P14=TRUE,A15,\"\")","v":"CGE CQ2-17"}]
[null,null,"CR = Collection Rate ",{"$f":"IF(ISBLANK(D12),\"N/A\",IF(OR(D12=0,D12=\"N/A\"),0,D12/D13))","v":0.98794463900261775},{"$f":"IF(ISBLANK(E12),\"N/A\",IF(OR(E12=0,E12=\"N/A\"),0,E12/E13))","v":0.99448595643603444},{"$f":"IF(ISBLANK(F12),\"N/A\",IF(OR(F12=0,F12=\"N/A\"),0,F12/F13))","v":0.99534705365013321},{"$f":"IF(ISBLANK(G12),\"N/A\",IF(OR(G12=0,G12=\"N/A\"),0,G12/G13))","v":0.99534705365013321},{"$f":"IF(ISBLANK(H12),\"N/A\",IF(AND(H12=0,H13=0,NOT(ISBLANK(H12)),NOT(ISBLANK(H13))),1,H12/H13))","v":0.99534705365013321},null,null,null,null,null,"Mandatory Assessment","version #6",{"$f":"OR(AND(F16<E16,F16>0),AND(G16<F16,G16>0),AND(H16<G16,H16>0),AND(I16<H16,I16>0),AND(G17>F17, F17>0),AND(H17>G17, G17>0),AND(I17<H17,I17>0))","v":true},6,null,null,"Columbia",{"$f":"IF(P15=TRUE,A19,\"\")","v":""}]
[{"$f":"LEFT(B15,3)&\" \"&RIGHT(B15,6)","v":"CGE CQ2-17"},"CGE \nCQ2-17","RPE 03/31/16",null,"Qtr 1","Qtr 2","Qtr 3","Qtr 4","Qtr 5",null,null,"Internal","Balance Adjustment","Other","version #7",{"$f":"OR(AND(G20<F20,D10>0),AND(H20<G20,H20>0),AND(I20<H20,I20>0),AND(J20<I20,J20>0),AND(H21>G21, G21>0),AND(I21>H21, H21>0),AND(J21<I21, J21>0))","v":false},7,null,null,"Dade",{"$f":"IF(P16=TRUE,A23,\"\")","v":""}]
[null,null,"C = Cumulative Collections",null,{"$f":"LOOKUP($U$11&\" \"&$A15,Lookup!$X$2:$X$5361,Lookup!$I$2:$I$5361)","v":231727},{"$f":"LOOKUP($U$11&\" \"&$A15,Lookup!$X$2:$X$5361,Lookup!$J$2:$J$5361)","v":238930},{"$f":"LOOKUP($U$11&\" \"&$A15,Lookup!$X$2:$X$5361,Lookup!$K$2:$K$5361)","v":238724},238763.16,238686.6,null,null,null,null,"Procedural","version #8",{"$f":"OR(AND(H24<G24, H24>0),AND(I24<H24, I24>0),AND(J24<I24, J24>0),AND(K24<J24, K24>0),AND(I25>H25, H25>0),AND(J25>I25, I25>0),AND(K25<J25, J25>0))","v":false},8,null,null,"Desoto",{"$f":"IF(P17=TRUE,A27,\"\")","v":""}]
[null,null,"A = Amount Assessed - Adjusted",null,{"$f":"LOOKUP($U$11&\" \"&$A15,Lookup!$X$2:$X$5361,Lookup!$D$2:$D$5361)","v":240099.20000000001},{"$f":"LOOKUP($U$11&\" \"&$A15,Lookup!$X$2:$X$5361,Lookup!$E$2:$E$5361)","v":240099.20000000001},{"$f":"LOOKUP($U$11&\" \"&$A15,Lookup!$X$2:$X$5361,Lookup!$F$2:$F$5361)","v":240099.20000000001},240099.20000000001,240099.20000000001,null,null,null,null,"Staffing - Insufficient Personnel","version #9",{"$f":"OR(AND(I28<H28, I28>0),AND(J28<I28, J28>0),AND(K28<J28, K28>0),AND(J29>I29, I29>0),AND(K29>J29, J29>0))","v":false},9,null,null,"Dixie",{"$f":"IF(P18=TRUE,A31,\"\")","v":""}]
[null,null,"CR = Collection Rate",null,{"$f":"IF(ISBLANK(E16),\"N/A\",IF(OR(E16=0,E16=\"N/A\"),0,E16/E17))","v":0.96513024616491849},{"$f":"IF(ISBLANK(F16),\"N/A\",IF(OR(F16=0,F16=\"N/A\"),0,F16/F17))","v":0.99513034612360218},{"$f":"IF(ISBLANK(G16),\"N/A\",IF(OR(G16=0,G16=\"N/A\"),0,G16/G17))","v":0.99427236742146574},{"$f":"IF(ISBLANK(H16),\"N/A\",IF(AND(H16=0,H17=0,NOT(ISBLANK(H16)),NOT(ISBLANK(H17))),1,H16/H17))","v":0.9944354666737748},{"$f":"IF(ISBLANK(I16),\"N/A\",IF(AND(I16=0,I17=0,NOT(ISBLANK(I16)),NOT(ISBLANK(I17))),1,I16/I17))","v":0.99411659847263134},null,null,null,null,"Staffing - Training Required","version #10",{"$f":"OR(AND(J32<I32, J32>0),AND(K32<J32, K32>0),AND(K33>J33, J33>0))","v":false},10,null,null,"Duval",{"$f":"IF(P19=TRUE,A35,\"\")","v":""}]
[{"$f":"LEFT(B19,3)&\" \"&RIGHT(B19,6)","v":"CGE CQ3-17"},"CGE\nCQ3-17","RPE 06/30/16",null,null,"Qtr 1","Qtr 2","Qtr 3","Qtr 4","Qtr 5",null,null,null,"Systems","version #11",{"$f":"OR(K36<J36)","v":false},11,null,null,"Escambia",{"$f":"U12&\" \"&U13&\" \"&U14&\" \"&U15&\" \"&U16&\" \"&U17&\" \"&U18","v":" CGE CQ2-17     "}]
[null,null,"C = Cumulative Collections",null,null,{"$f":"LOOKUP($U$11&\" \"&$A19,Lookup!$X$2:$X$5361,Lookup!$I$2:$I$5361)","v":227672.75},{"$f":"LOOKUP($U$11&\" \"&$A19,Lookup!$X$2:$X$5361,Lookup!$J$2:$J$5361)","v":235580.25},235770.09,235811.09,null,null,null,null,null,"version #12",{"$f":"COUNTIF(P13:P19,\"TRUE\")","v":1},12,null,null,"Flagler"]
[null,null,"A = Amount Assessed - Adjusted",null,null,{"$f":"LOOKUP($U$11&\" \"&$A19,Lookup!$X$2:$X$5361,Lookup!$D$2:$D$5361)","v":237509.6},{"$f":"LOOKUP($U$11&\" \"&$A19,Lookup!$X$2:$X$5361,Lookup!$E$2:$E$5361)","v":237509.6},237509.6,237509.6,null,null,null,null,null,null,null,null,null,null,"Franklin"]
[null,null,"CR = Collection Rate",null,null,{"$f":"IF(ISBLANK(F20),\"N/A\",IF(OR(F20=0,F20=\"N/A\"),0,F20/F21))","v":0.9585833583147797},{"$f":"IF(ISBLANK(G20),\"N/A\",IF(OR(G20=0,G20=\"N/A\"),0,G20/G21))","v":0.99187674940297144},{"$f":"IF(ISBLANK(H20),\"N/A\",IF(AND(H20=0,H21=0,NOT(ISBLANK(H20)),NOT(ISBLANK(H21))),1,H20/H21))","v":0.99267604341045579},{"$f":"IF(ISBLANK(I20),\"N/A\",IF(AND(I20=0,I21=0,NOT(ISBLANK(I20)),NOT(ISBLANK(I21))),1,I20/I21))","v":0.9928486680117351},{"$f":"IF(ISBLANK(J20),\"N/A\",IF(AND(J20=0,J21=0,NOT(ISBLANK(J20)),NOT(ISBLANK(J21))),1,J20/J21))","v":"N/A"},null,null,null,null,"Q1","Q2",null,null,null,"Gadsden"]
[{"$f":"LEFT(B23,3)&\" \"&RIGHT(B23,6)","v":"CGE CQ4-17"},"CGE\nCQ4-17","RPE 09/30/16",null,null,null,"Qtr 1","Qtr 2","Qtr 3","Qtr 4","Qtr 5",null,null,null,false,false,{"$f":"IF(AND(OR(ISBLANK(H12),ISBLANK(H13)),O23=FALSE),\"Red\",\"Gray\")","v":"Gray"},{"$f":"IF(AND(OR(ISBLANK(I16),ISBLANK(I17)),P23=FALSE),\"Red\",\"Gray\")","v":"Gray"},{"$f":"IF(AND('Circuit Criminal'!D4=1,S36=1),A11,IF(AND('Circuit Criminal'!D4=2,S36=1),A15,IF(AND('Circuit Criminal'!D4=3,S36=1),A19,IF(AND('Circuit Criminal'!D4=4,S36=1),A23,\"\"))))","v":""},"Gilchrist"]
[null,null,"C = Cumulative Collections",null,null,null,{"$f":"LOOKUP($U$11&\" \"&$A23,Lookup!$X$2:$X$5361,Lookup!$I$2:$I$5361)","v":217428.79},233176.79,233247.73,null,null,null,null,null,false,false,{"$f":"IF(AND(OR(ISBLANK(H16),ISBLANK(H17)),O24=FALSE),\"Red\",\"Gray\")","v":"Gray"},{"$f":"IF(AND(OR(ISBLANK(I20),ISBLANK(I21)),P24=FALSE),\"Red\",\"Gray\")","v":"Gray"},{"$f":"IF(AND('Circuit Criminal'!D4=1,S37=1),A15,IF(AND('Circuit Criminal'!D4=2,S37=1),A19,IF(AND('Circuit Criminal'!D4=3,S37=1),A23,IF(AND('Circuit Criminal'!D4=4,S37=1),A27,\"\"))))","v":""},"Glades"]
[null,null,"A = Amount Assessed - Adjusted",null,null,null,{"$f":"LOOKUP($U$11&\" \"&$A23,Lookup!$X$2:$X$5361,Lookup!$D$2:$D$5361)","v":233819.1},233819.1,233819.1,null,null,null,null,null,false,false,{"$f":"IF(AND(OR(ISBLANK(H20),ISBLANK(H21)),O25=FALSE),\"Red\",\"Gray\")","v":"Gray"},{"$f":"IF(AND(OR(ISBLANK(I24),ISBLANK(I25)),P25=FALSE),\"Red\",\"Gray\")","v":"Gray"},{"$f":"IF(AND('Circuit Criminal'!D4=1,S38=1),A19,IF(AND('Circuit Criminal'!D4=2,S38=1),A23,IF(AND('Circuit Criminal'!D4=3,S38=1),A27,IF(AND('Circuit Criminal'!D4=4,S38=1),A31,\"\"))))","v":""},"Gulf"]
[null,null,"CR = Collection Rate",null,null,null,{"$f":"IF(ISBLANK(G24),\"N/A\",IF(OR(G24=0,G24=\"N/A\"),0,G24/G25))","v":0.92990174883061305},{"$f":"IF(ISBLANK(H24),\"N/A\",IF(AND(H24=0,H25=0,NOT(ISBLANK(H24)),NOT(ISBLANK(H25))),1,H24/H25))","v":0.99725296179824485},{"$f":"IF(ISBLANK(I24),\"N/A\",IF(AND(I24=0,I25=0,NOT(ISBLANK(I24)),NOT(ISBLANK(I25))),1,I24/I25))","v":0.99755635874058191},{"$f":"IF(ISBLANK(J24),\"N/A\",IF(AND(J24=0,J25=0,NOT(ISBLANK(J24)),NOT(ISBLANK(J25))),1,J24/J25))","v":"N/A"},{"$f":"IF(ISBLANK(K24),\"N/A\",IF(AND(K24=0,K25=0,NOT(ISBLANK(K24)),NOT(ISBLANK(K25))),1,K24/K25))","v":"N/A"},null,null,null,false,false,{"$f":"IF(AND(OR(ISBLANK(H24),ISBLANK(H25)),O26=FALSE),\"Red\",\"Gray\")","v":"Gray"},{"$f":"IF(AND(OR(ISBLANK(I28),ISBLANK(I29)),P26=FALSE),\"Red\",\"Gray\")","v":"Gray"},{"$f":"IF(AND('Circuit Criminal'!D4=1,S39=1),A23,IF(AND('Circuit Criminal'!D4=2,S39=1),A27,IF(AND('Circuit Criminal'!D4=3,S39=1),A31,IF(AND('Circuit Criminal'!D4=4,S39=1),A35,\"\"))))","v":""},"Hamilton"]
[{"$f":"LEFT(B27,3)&\" \"&RIGHT(B27,6)","v":"CGE CQ1-18"},"CGE\nCQ1-18","RPE 12/31/16",null,null,null,null,"Qtr 1","Qtr 2","Qtr 3","Qtr 4",null,null,null,false,false,{"$f":"IF(AND(OR(ISBLANK(H28),ISBLANK(H29)),O27=FALSE),\"Red\",\"Gray\")","v":"Gray"},{"$f":"IF(AND(OR(ISBLANK(I32),ISBLANK(I33)),P27=FALSE),\"Red\",\"Gray\")","v":"Gray"},{"$f":"IF(AND('Circuit Criminal'!D4=1,S40=1),A27,IF(AND('Circuit Criminal'!D4=2,S40=1),A31,IF(AND('Circuit Criminal'!D4=3,S40=1),A35,IF(AND('Circuit Criminal'!D4=4,S40=1),A39,\"\"))))","v":""},"Hardee"]
[null,null,"C = Cumulative Collections",null,null,null,null,202151.4,204268.4,null,null,null,null,null,null,null,null,null,null,"Hendry"]
[null,null,"A = Amount Assessed - Adjusted",null,null,null,null,205306.4,205306.4,null,null,null,null,null,"Q3","Q4",null,null,null,"Hernando"]
[null,null,"CR = Collection Rate",null,null,null,null,{"$f":"IF(ISBLANK(H28),\"N/A\",IF(AND(H28=0,H29=0,NOT(ISBLANK(H28)),NOT(ISBLANK(H29))),1,H28/H29))","v":0.98463272455218154},{"$f":"IF(ISBLANK(I28),\"N/A\",IF(AND(I28=0,I29=0,NOT(ISBLANK(I28)),NOT(ISBLANK(I29))),1,I28/I29))","v":0.99494414202382386},{"$f":"IF(ISBLANK(J28),\"N/A\",IF(AND(J28=0,J29=0,NOT(ISBLANK(J28)),NOT(ISBLANK(J29))),1,J28/J29))","v":"N/A"},{"$f":"IF(ISBLANK(K28),\"N/A\",IF(AND(K28=0,K29=0,NOT(ISBLANK(K28)),NOT(ISBLANK(K29))),1,K28/K29))","v":"N/A"},"Additional Notes Related to Collection Issues",null,null,false,false,{"$f":"IF(AND(OR(ISBLANK(J20),ISBLANK(J21)),O30=FALSE),\"Red\",\"Gray\")","v":"Red"},{"$f":"IF(AND(OR(ISBLANK(K24),ISBLANK(K25)),P30=FALSE),\"Red\",\"Gray\")","v":"Red"},null,"Highlands"]
[{"$f":"LEFT(B31,3)&\" \"&RIGHT(B31,6)","v":"CGE CQ2-18"},"CGE\nCQ2-18","RPE 03/31/17",null,null,null,null,null,"Qtr 1","Qtr 2","Qtr 3","10/01/16 - 12/31/16: ",null,null,false,false,{"$f":"IF(AND(OR(ISBLANK(J24),ISBLANK(J25)),O31=FALSE),\"Red\",\"Gray\")","v":"Red"},{"$f":"IF(AND(OR(ISBLANK(K28),ISBLANK(K29)),P31=FALSE),\"Red\",\"Gray\")","v":"Red"},null,"Hillsborough"]
[null,null,"C = Cumulative Collections",null,null,null,null,null,227155.33,null,null,null,null,null,false,false,{"$f":"IF(AND(OR(ISBLANK(J28),ISBLANK(J29)),O32=FALSE),\"Red\",\"Gray\")","v":"Red"},{"$f":"IF(AND(OR(ISBLANK(K32),ISBLANK(K33)),P32=FALSE),\"Red\",\"Gray\")","v":"Red"},null,"Holmes"]
[null,null,"A = Amount Assessed - Adjusted",null,null,null,null,null,237180.05,null,null,null,null,null,false,false,{"$f":"IF(AND(OR(ISBLANK(J32),ISBLANK(J33)),O33=FALSE),\"Red\",\"Gray\")","v":"Red"},{"$f":"IF(AND(OR(ISBLANK(K36),ISBLANK(K37)),P33=FALSE),\"Red\",\"Gray\")","v":"Red"},null,"Indian River"]
[null,null,"CR = Collection Rate",null,null,null,null,null,{"$f":"IF(ISBLANK(I32),\"N/A\",IF(AND(I32=0,I33=0,NOT(ISBLANK(I32)),NOT(ISBLANK(I33))),1,I32/I33))","v":0.957733713269729},{"$f":"IF(ISBLANK(J32),\"N/A\",IF(AND(J32=0,J33=0,NOT(ISBLANK(J32)),NOT(ISBLANK(J33))),1,J32/J33))","v":"N/A"},{"$f":"IF(ISBLANK(K32),\"N/A\",IF(AND(K32=0,K33=0,NOT(ISBLANK(K32)),NOT(ISBLANK(K33))),1,K32/K33))","v":"N/A"},"01/01/17 - 03/31/17: ",null,null,false,false,{"$f":"IF(AND(OR(ISBLANK(J36),ISBLANK(J37)),O34=FALSE),\"Red\",\"Gray\")","v":"Red"},{"$f":"IF(AND(OR(ISBLANK(K40),ISBLANK(K41)),P34=FALSE),\"Red\",\"Gray\")","v":"Red"},null,"Jackson"]
[{"$f":"LEFT(B35,3)&\" \"&RIGHT(B35,6)","v":"CGE CQ3-18"},"CGE\nCQ3-18","RPE 06/30/17",null,null,null,null,null,null,"Qtr 1","Qtr 2",null,null,null,null,null,null,null,null,"Jefferson"]
[null,null,"C = Cumulative Collections",null,null,null,null,null,null,null,null,null,null,null,{"$f":"IF(AND('Circuit Criminal'!$D$4=1,Q23=\"Red\"),\"Red\",\"Gray\")","v":"Gray"},{"$f":"IF(AND('Circuit Criminal'!$D$4=2,R23=\"Red\"),\"Red\",\"Gray\")","v":"Gray"},{"$f":"IF(AND('Circuit Criminal'!$D$4=3,Q30=\"Red\"),\"Red\",\"Gray\")","v":"Gray"},{"$f":"IF(AND('Circuit Criminal'!$D$4=4,R30=\"Red\"),\"Red\",\"Gray\")","v":"Gray"},{"$f":"COUNTIF(O36:R36,\"Red\")","v":0},"Lafayette"]
[null,null,"A = Amount Assessed - Adjusted",null,null,null,null,null,null,null,null,"04/01/17 - 06/30/17: ",null,null,{"$f":"IF(AND('Circuit Criminal'!$D$4=1,Q24=\"Red\"),\"Red\",\"Gray\")","v":"Gray"},{"$f":"IF(AND('Circuit Criminal'!$D$4=2,R24=\"Red\"),\"Red\",\"Gray\")","v":"Gray"},{"$f":"IF(AND('Circuit Criminal'!$D$4=3,Q31=\"Red\"),\"Red\",\"Gray\")","v":"Gray"},{"$f":"IF(AND('Circuit Criminal'!$D$4=4,R31=\"Red\"),\"Red\",\"Gray\")","v":"Gray"},{"$f":"COUNTIF(O37:R37,\"Red\")","v":0},"Lake"]
[null,null,"CR = Collection Rate",null,null,null,null,null,null,{"$f":"IF(ISBLANK(J36),\"N/A\",IF(AND(J36=0,J37=0,NOT(ISBLANK(J36)),NOT(ISBLANK(J37))),1,J36/J37))","v":"N/A"},{"$f":"IF(ISBLANK(K36),\"N/A\",IF(AND(K36=0,K37=0,NOT(ISBLANK(K36)),NOT(ISBLANK(K37))),1,K36/K37))","v":"N/A"},null,null,null,{"$f":"IF(AND('Circuit Criminal'!$D$4=1,Q25=\"Red\"),\"Red\",\"Gray\")","v":"Gray"},{"$f":"IF(AND('Circuit Criminal'!$D$4=2,R25=\"Red\"),\"Red\",\"Gray\")","v":"Gray"},{"$f":"IF(AND('Circuit Criminal'!$D$4=3,Q32=\"Red\"),\"Red\",\"Gray\")","v":"Gray"},{"$f":"IF(AND('Circuit Criminal'!$D$4=4,R32=\"Red\"),\"Red\",\"Gray\")","v":"Gray"},{"$f":"COUNTIF(O38:R38,\"Red\")","v":0},"Lee"]
[{"$f":"LEFT(B39,3)&\" \"&RIGHT(B39,6)","v":"CGE CQ4-18"},"CGE\nCQ4-18","RPE 09/30/17",null,null,null,null,null,null,null,"Qtr 1",null,null,null,{"$f":"IF(AND('Circuit Criminal'!$D$4=1,Q26=\"Red\"),\"Red\",\"Gray\")","v":"Gray"},{"$f":"IF(AND('Circuit Criminal'!$D$4=2,R26=\"Red\"),\"Red\",\"Gray\")","v":"Gray"},{"$f":"IF(AND('Circuit Criminal'!$D$4=3,Q33=\"Red\"),\"Red\",\"Gray\")","v":"Gray"},{"$f":"IF(AND('Circuit Criminal'!$D$4=4,R33=\"Red\"),\"Red\",\"Gray\")","v":"Gray"},{"$f":"COUNTIF(O39:R39,\"Red\")","v":0},"Leon"]
[null,null,"C = Cumulative Collections",null,null,null,null,null,null,null,null,"07/01/17- 09/30/17: ",null,null,{"$f":"IF(AND('Circuit Criminal'!$D$4=1,Q27=\"Red\"),\"Red\",\"Gray\")","v":"Gray"},{"$f":"IF(AND('Circuit Criminal'!$D$4=2,R27=\"Red\"),\"Red\",\"Gray\")","v":"Gray"},{"$f":"IF(AND('Circuit Criminal'!$D$4=3,Q34=\"Red\"),\"Red\",\"Gray\")","v":"Gray"},{"$f":"IF(AND('Circuit Criminal'!$D$4=4,R34=\"Red\"),\"Red\",\"Gray\")","v":"Gray"},{"$f":"COUNTIF(O40:R40,\"Red\")","v":0},"Levy"]
[null,null,"A = Amount Assessed - Adjusted",null,null,null,null,null,null,null,null,null,null,null,{"$f":"COUNTIF(O36:O40,\"Red\")","v":0},{"$f":"COUNTIF(P36:P40,\"Red\")","v":0},{"$f":"COUNTIF(Q36:Q40,\"Red\")","v":0},{"$f":"COUNTIF(R36:R40,\"Red\")","v":0},null,"Liberty"]
[null,null,"CR = Collection Rate",null,null,null,null,null,null,null,{"$f":"IF(ISBLANK(K40),\"N/A\",IF(OR(K40=0,K40=\"N/A\"),0,K40/K41))","v":"N/A"},null,null,null,{"$f":"SUM(O41:R41)","v":0},null,null,null,null,"Madison"]
[null,null,"Business Rules","Purpose of Report:  The CCOC Collection Rate Performance Measure     report tracks dollars in the quarter they are assessed and then how well     those assessed dollars have been collected over the next five quarters.  ",null,null,null,"Adjustments to Assessments: The amount assessed in a given assessment control group should be adjusted in the reporting period when assessments are later adjusted by the Court or other provisions of law.  ",null,null,null,null,null,null,null,null,null,null,null,"Manatee"]
[null,null,"NOTES:","The following conditions will alert when performance standards are not met and/or established business rules within the control group are not followed.",null,null,null,null,null,null,null,null,null,null,null,null,null,null,null,"Martin"]
[null,null,null,"1.) Action Plan: If the 5th quarter Collection Rate is below Standard (red numbers on rose background), select a \"Reason Code\" and write a brief statement in \"Current Action to Improve\" in the green area ONLY. ",null,null,null,null,null,null,null,null,null,null,null,null,null,null,null,"Nassau"]
[null,null,null,"2.) Additional Notes Related to Collection Issues: Include a brief explaination when either of the following conditions not consistant with the Collection Report Business Rules. ",null,null,null,null,null,null,null,null,null,null,null,null,null,null,null,"Okaloosa"]
[null,null,null,null,"a.) Cumulative Collection amount has Decreased from the previous quarter in the same Control Group (font color for amount will change to RED)",null,null,null,null,null,null,null,null,null,null,null,null,null,null,"Okeechobee"]
[null,null,null,null,"b.) The Amount Assessed - Adjusted has Increased from the previous quarter in the same Control Group (font color for amount will change to RED)",null,null,null,null,null,null,null,null,null,null,null,null,null,null,"Orange"]
[null,null,null,null,null,null,null,null,null,null,null,null,null,null,null,null,null,null,null,"Nassau"]
[null,null,null,null,null,null,null,null,null,null,null,null,null,null,null,null,null,null,null,"Okaloosa"]
[null,null,null,null,null,null,null,null,null,null,null,null,null,null,null,null,null,null,null,"Okeechobee"]
[null,null,null,null,null,null,null,null,null,null,null,null,null,null,null,null,null,null,null,"Orange"]
[null,null,null,null,null,null,null,null,null,null,null,null,null,null,null,null,null,null,null,"Pasco"]
[null,null,null,null,null,null,null,null,null,null,null,null,null,null,null,null,null,null,null,"Nassau"]
[null,null,null,null,null,null,null,null,null,null,null,null,null,null,null,null,null,null,null,"Okaloosa"]
[null,null,null,null,null,null,null,null,null,null,null,null,null,null,null,null,null,null,null,"Okeechobee"]
[null,null,null,null,null,null,null,null,null,null,null,null,null,null,null,null,null,null,null,"Orange"]
[null,null,null,null,null,null,null,null,null,null,null,null,null,null,null,null,null,null,null,"Pasco"]
[null,null,null,null,null,null,null,null,null,null,null,null,null,null,null,null,null,null,null,"Pinellas"]
[null,null,null,null,null,null,null,null,null,null,null,null,null,null,null,null,null,null,null,"Polk"]
[null,{"$f":"MAX('Civil Traffic'!B56:B99)","v":{"$error":"#VALUE!"}},null,"Issue",null,"Calc 1 Needed","Calc 2 Needed","Calc 3 Needed","Calc 4 Needed","Standard",null,null,null,null,null,null,null,null,null,"Putnam"]
[{"$f":"D$8","v":"Probate"},{"$f":"IF(E62=\"YES\",MAX(B61)+1,0)","v":0},{"$f":"A$11","v":"CGE CQ1-17"},{"$f":"\"After 3rd Q, Collections went up by more than set percentage of: \"&TEXT(J62,\"#0%\")","v":"After 3rd Q, Collections went up by more than set percentage of: 500%"},{"$f":"IF(MAX(F62:G62)>V$10,\"YES\",\"NO\")","v":"NO"},{"$f":"IFERROR(IF(NOT(ISBLANK(G12)),(G12-F12)/F12,0),0)","v":0},{"$f":"IFERROR(IF(NOT(ISBLANK(H12)),(H12-G12)/G12,0),0)","v":0},null,null,{"$f":"V$10","v":5},null,null,null,null,null,null,null,null,null,"Santa Rosa"]
[{"$f":"D$8","v":"Probate"},{"$f":"IF(E63=\"YES\",MAX(B$61:B62)+1,0)","v":0},{"$f":"A$11","v":"CGE CQ1-17"},{"$f":"\"Assessments dropped by more than set percentage of: \"&TEXT(J63,\"#0%\")","v":"Assessments dropped by more than set percentage of: 15%"},{"$f":"IF(MIN(F63:I63)<(-1*V$11),\"YES\",\"NO\")","v":"NO"},{"$f":"IFERROR(IF(NOT(ISBLANK(E13)),(E13-D13)/D13,0),0)","v":0},{"$f":"IFERROR(IF(NOT(ISBLANK(F13)),(F13-E13)/E13,0),0)","v":0},{"$f":"IFERROR(IF(NOT(ISBLANK(G13)),(G13-F13)/F13,0),0)","v":0},{"$f":"IFERROR(IF(NOT(ISBLANK(H13)),(H13-G13)/G13,0),0)","v":0},{"$f":"V$11","v":0.15},null,null,null,null,null,null,null,null,null,"Sumter"]
["Probate",{"$f":"IF(E64=\"YES\",MAX(B$61:B63)+1,0)","v":0},{"$f":"A$11","v":"CGE CQ1-17"},{"$f":"\"The 5th Quarter Collection Rate did not meet the established performance measure standard of: \"&TEXT(J64,\"#0%\")","v":"The 5th Quarter Collection Rate did not meet the established performance measure standard of: 90%"},{"$f":"IF(F64=\"N/A\",\"NO\",IF(F64<H$8,\"YES\",\"NO\"))","v":"NO"},{"$f":"H14","v":0.99534705365013321},null,null,null,{"$f":"H$8","v":0.9},null,null,null,null,null,null,null,null,null,"Washington"]
["Probate",{"$f":"IF(E65=\"YES\",MAX(B$61:B64)+1,0)","v":0},{"$f":"A$11","v":"CGE CQ1-17"},"Collections amount decreased from prior quarter",{"$f":"IF(MIN(F65:I65)<0,\"YES\",\"NO\")","v":"NO"},{"$f":"IFERROR(IF(NOT(ISBLANK(E12)),(E12-D12)/D12,0),0)","v":6.6211376378543536E-3},8.658716681979767E-4,0,0]
["Probate",{"$f":"IF(E66=\"YES\",MAX(B$61:B65)+1,0)","v":0},{"$f":"A$11","v":"CGE CQ1-17"},"Assessment amount increased from prior quarter",{"$f":"IF(MAX(F66:I66)>0,\"YES\",\"NO\")","v":"NO"},0,0,0,0]
["Probate",{"$f":"IF(E67=\"YES\",MAX(B$61:B66)+1,0)","v":0},{"$f":"A$15","v":"CGE CQ2-17"},{"$f":"\"After 3rd Q, Collections went up by more than set percentage of: \"&TEXT(J67,\"#0%\")","v":"After 3rd Q, Collections went up by more than set percentage of: 500%"},{"$f":"IF(MAX(F67:G67)>V$10,\"YES\",\"NO\")","v":"NO"},{"$f":"IFERROR(IF(NOT(ISBLANK(H16)),(H16-G16)/G16,0),0)","v":1.6403880632028406E-4},{"$f":"IFERROR(IF(NOT(ISBLANK(I16)),(I16-H16)/H16,0),0)","v":-3.2065248256890914E-4},null,null,{"$f":"V$10","v":5},null,null,null,null,null,null,null,null,null,"Sarasota"]
["Probate",{"$f":"IF(E68=\"YES\",MAX(B$61:B67)+1,0)","v":0},{"$f":"A$15","v":"CGE CQ2-17"},{"$f":"\"Assessments dropped by more than set percentage of: \"&TEXT(J68,\"#0%\")","v":"Assessments dropped by more than set percentage of: 15%"},{"$f":"IF(MIN(F68:I68)<(-1*V$11),\"YES\",\"NO\")","v":"NO"},{"$f":"IFERROR(IF(NOT(ISBLANK(F17)),(F17-E17)/E17,0),0)","v":0},{"$f":"IFERROR(IF(NOT(ISBLANK(G17)),(G17-F17)/F17,0),0)","v":0},{"$f":"IFERROR(IF(NOT(ISBLANK(H17)),(H17-G17)/G17,0),0)","v":0},{"$f":"IFERROR(IF(NOT(ISBLANK(I17)),(I17-H17)/H17,0),0)","v":0},{"$f":"V$11","v":0.15},null,null,null,null,null,null,null,null,null,"Suwannee"]
["Probate",{"$f":"IF(E69=\"YES\",MAX(B$61:B68)+1,0)","v":{"$error":"#VALUE!"}},{"$f":"A$15","v":"CGE CQ2-17"},"Collections amount decreased from prior quarter",{"$f":"IF(MIN(F69:I69)<0,\"YES\",\"NO\")","v":"YES"},{"$f":"IFERROR(IF(NOT(ISBLANK(F16)),(F16-E16)/E16,0),0)","v":3.1083991075705465E-2},-8.6217720671326326E-4,1.6403880632028406E-4,-3.2065248256890914E-4]
["Probate",{"$f":"IF(E70=\"YES\",MAX(B$61:B69)+1,0)","v":0},{"$f":"A$15","v":"CGE CQ2-17"},"Assessment amount increased from prior quarter",{"$f":"IF(MAX(F70:I70)>0,\"YES\",\"NO\")","v":"NO"},0,0,0,0]
["Probate",{"$f":"IF(E71=\"YES\",MAX(B$61:B70)+1,0)","v":0},{"$f":"A$15","v":"CGE CQ2-17"},{"$f":"\"The 5th Quarter Collection Rate did not meet the established performance measure standard of: \"&TEXT(J71,\"#0%\")","v":"The 5th Quarter Collection Rate did not meet the established performance measure standard of: 90%"},{"$f":"IF(F71=\"N/A\",\"NO\",IF(F71<H$8,\"YES\",\"NO\"))","v":"NO"},{"$f":"I18","v":0.99411659847263134},null,null,null,{"$f":"H$8","v":0.9}]
["Probate",{"$f":"IF(E72=\"YES\",MAX(B$61:B71)+1,0)","v":0},{"$f":"A$19","v":"CGE CQ3-17"},{"$f":"\"After 3rd Q, Collections went up by more than set percentage of: \"&TEXT(J72,\"#0%\")","v":"After 3rd Q, Collections went up by more than set percentage of: 500%"},{"$f":"IF(MAX(F72:G72)>V$10,\"YES\",\"NO\")","v":"NO"},{"$f":"IFERROR(IF(NOT(ISBLANK(I20)),(I20-H20)/H20,0),0)","v":1.7389822432523143E-4},{"$f":"IFERROR(IF(NOT(ISBLANK(J20)),(J20-I20)/I20,0),0)","v":0},null,null,{"$f":"V$10","v":5},null,null,null,null,null,null,null,null,null,"Seminole"]
["Probate",{"$f":"IF(E73=\"YES\",MAX(B$61:B72)+1,0)","v":0},{"$f":"A$19","v":"CGE CQ3-17"},{"$f":"\"Assessments dropped by more than set percentage of: \"&TEXT(J73,\"#0%\")","v":"Assessments dropped by more than set percentage of: 15%"},{"$f":"IF(MIN(F73:I73)<(-1*V$11),\"YES\",\"NO\")","v":"NO"},{"$f":"IFERROR(IF(NOT(ISBLANK(G21)),(G21-F21)/F21,0),0)","v":0},{"$f":"IFERROR(IF(NOT(ISBLANK(H21)),(H21-G21)/G21,0),0)","v":0},{"$f":"IFERROR(IF(NOT(ISBLANK(I21)),(I21-H21)/H21,0),0)","v":0},{"$f":"IFERROR(IF(NOT(ISBLANK(J21)),(J21-I21)/I21,0),0)","v":0},{"$f":"V$11","v":0.15},null,null,null,null,null,null,null,null,null,"Taylor"]
["Probate",{"$f":"IF(E74=\"YES\",MAX(B$61:B73)+1,0)","v":0},{"$f":"A$19","v":"CGE CQ3-17"},"Collections amount decreased from prior quarter",{"$f":"IF(MIN(F74:I74)<0,\"YES\",\"NO\")","v":"NO"},{"$f":"IFERROR(IF(NOT(ISBLANK(G20)),(G20-F20)/F20,0),0)","v":3.4731868438361638E-2},8.0584004813644822E-4,1.7389822432523143E-4,0]
["Probate",{"$f":"IF(E75=\"YES\",MAX(B$61:B74)+1,0)","v":0},{"$f":"A$19","v":"CGE CQ3-17"},"Assessment amount increased from prior quarter",{"$f":"IF(MAX(F75:I75)>0,\"YES\",\"NO\")","v":"NO"},0,0,0,0]
["Probate",{"$f":"IF(E76=\"YES\",MAX(B$61:B75)+1,0)","v":0},{"$f":"A$19","v":"CGE CQ3-17"},{"$f":"\"The 5th Quarter Collection Rate did not meet the established performance measure standard of: \"&TEXT(J76,\"#0%\")","v":"The 5th Quarter Collection Rate did not meet the established performance measure standard of: 90%"},{"$f":"IF(F76=\"N/A\",\"NO\",IF(F76<H$8,\"YES\",\"NO\"))","v":"NO"},{"$f":"J22","v":"N/A"},null,null,null,{"$f":"H$8","v":0.9}]
["Probate",{"$f":"IF(E77=\"YES\",MAX(B$61:B76)+1,0)","v":0},{"$f":"A$23","v":"CGE CQ4-17"},{"$f":"\"After 3rd Q, Collections went up by more than set percentage of: \"&TEXT(J77,\"#0%\")","v":"After 3rd Q, Collections went up by more than set percentage of: 500%"},{"$f":"IF(MAX(F77:G77)>V$10,\"YES\",\"NO\")","v":"NO"},{"$f":"IFERROR(IF(NOT(ISBLANK(J24)),(J24-I24)/I24,0),0)","v":0},{"$f":"IFERROR(IF(NOT(ISBLANK(K24)),(K24-J24)/J24,0),0)","v":0},null,null,{"$f":"V$10","v":5},null,null,null,null,null,null,null,null,null,"St. Johns"]
["Probate",{"$f":"IF(E78=\"YES\",MAX(B$61:B77)+1,0)","v":0},{"$f":"A$23","v":"CGE CQ4-17"},{"$f":"\"Assessments dropped by more than set percentage of: \"&TEXT(J78,\"#0%\")","v":"Assessments dropped by more than set percentage of: 15%"},{"$f":"IF(MIN(F78:I78)<(-1*V$11),\"YES\",\"NO\")","v":"NO"},{"$f":"IFERROR(IF(NOT(ISBLANK(H25)),(H25-G25)/G25,0),0)","v":0},{"$f":"IFERROR(IF(NOT(ISBLANK(I25)),(I25-H25)/H25,0),0)","v":0},{"$f":"IFERROR(IF(NOT(ISBLANK(J25)),(J25-I25)/I25,0),0)","v":0},{"$f":"IFERROR(IF(NOT(ISBLANK(K25)),(K25-J25)/J25,0),0)","v":0},{"$f":"V$11","v":0.15},null,null,null,null,null,null,null,null,null,"Union"]
["Probate",{"$f":"IF(E79=\"YES\",MAX(B$61:B78)+1,0)","v":0},{"$f":"A$23","v":"CGE CQ4-17"},"Collections amount decreased from prior quarter",{"$f":"IF(MIN(F79:I79)<0,\"YES\",\"NO\")","v":"NO"},{"$f":"IFERROR(IF(NOT(ISBLANK(H24)),(H24-G24)/G24,0),0)","v":7.2428310896638842E-2},3.0423268113435441E-4,0,0]
["Probate",{"$f":"IF(E80=\"YES\",MAX(B$61:B79)+1,0)","v":0},{"$f":"A$23","v":"CGE CQ4-17"},"Assessment amount increased from prior quarter",{"$f":"IF(MAX(F80:I80)>0,\"YES\",\"NO\")","v":"NO"},0,0,0,0]
["Probate",{"$f":"IF(E81=\"YES\",MAX(B$61:B80)+1,0)","v":0},{"$f":"A$23","v":"CGE CQ4-17"},{"$f":"\"The 5th Quarter Collection Rate did not meet the established performance measure standard of: \"&TEXT(J81,\"#0%\")","v":"The 5th Quarter Collection Rate did not meet the established performance measure standard of: 90%"},{"$f":"IF(F81=\"N/A\",\"NO\",IF(F81<H$8,\"YES\",\"NO\"))","v":"NO"},{"$f":"K26","v":"N/A"},null,null,null,{"$f":"H$8","v":0.9}]
["Probate",{"$f":"IF(E82=\"YES\",MAX(B$61:B81)+1,0)","v":0},{"$f":"A$27","v":"CGE CQ1-18"},{"$f":"\"After 3rd Q, Collections went up by more than set percentage of: \"&TEXT(J82,\"#0%\")","v":"After 3rd Q, Collections went up by more than set percentage of: 500%"},{"$f":"IF(MAX(F82)>V$10,\"YES\",\"NO\")","v":"NO"},{"$f":"IFERROR(IF(NOT(ISBLANK(K28)),(K28-J28)/J28,0),0)","v":0},null,null,null,{"$f":"V$10","v":5},null,null,null,null,null,null,null,null,null,"St. Lucie"]
["Probate",{"$f":"IF(E83=\"YES\",MAX(B$61:B82)+1,0)","v":0},{"$f":"A$27","v":"CGE CQ1-18"},{"$f":"\"Assessments dropped by more than set percentage of: \"&TEXT(J83,\"#0%\")","v":"Assessments dropped by more than set percentage of: 15%"},{"$f":"IF(MIN(F83:H83)<(-1*V$11),\"YES\",\"NO\")","v":"NO"},{"$f":"IFERROR(IF(NOT(ISBLANK(I29)),(I29-H29)/H29,0),0)","v":0},{"$f":"IFERROR(IF(NOT(ISBLANK(J29)),(J29-I29)/I29,0),0)","v":0},{"$f":"IFERROR(IF(NOT(ISBLANK(K29)),(K29-J29)/J29,0),0)","v":0},null,{"$f":"V$11","v":0.15},null,null,null,null,null,null,null,null,null,"Volusia"]
["Probate",{"$f":"IF(E84=\"YES\",MAX(B$61:B83)+1,0)","v":0},{"$f":"A$27","v":"CGE CQ1-18"},"Collections amount decreased from prior quarter",{"$f":"IF(MIN(F84:H84)<0,\"YES\",\"NO\")","v":"NO"},{"$f":"IFERROR(IF(NOT(ISBLANK(I28)),(I28-H28)/H28,0),0)","v":1.047234894242632E-2},0,0]
["Probate",{"$f":"IF(E85=\"YES\",MAX(B$61:B84)+1,0)","v":0},{"$f":"A$27","v":"CGE CQ1-18"},"Assessment amount increased from prior quarter",{"$f":"IF(MAX(F85:H85)>0,\"YES\",\"NO\")","v":"NO"},0,0,0]
["Probate",{"$f":"IF(E86=\"YES\",MAX(B$61:B85)+1,0)","v":0},{"$f":"A$31","v":"CGE CQ2-18"},{"$f":"\"Assessments dropped by more than set percentage of: \"&TEXT(J86,\"#0%\")","v":"Assessments dropped by more than set percentage of: 15%"},{"$f":"IF(MIN(F86:G86)<(-1*V$11),\"YES\",\"NO\")","v":"NO"},{"$f":"IFERROR(IF(NOT(ISBLANK(J33)),(J33-I33)/I33,0),0)","v":0},{"$f":"IFERROR(IF(NOT(ISBLANK(K33)),(K33-J33)/J33,0),0)","v":0},null,null,{"$f":"V$11","v":0.15},null,null,null,null,null,null,null,null,null,"Wakulla"]
["Probate",{"$f":"IF(E87=\"YES\",MAX(B$61:B86)+1,0)","v":0},{"$f":"A$31","v":"CGE CQ2-18"},"Collections amount decreased from prior quarter",{"$f":"IF(MIN(F87:G87)<0,\"YES\",\"NO\")","v":"NO"},{"$f":"IFERROR(IF(NOT(ISBLANK(J32)),(J32-I32)/I32,0),0)","v":0},{"$f":"IFERROR(IF(NOT(ISBLANK(K32)),(K32-J32)/J32,0),0)","v":0}]
["Probate",{"$f":"IF(E88=\"YES\",MAX(B$61:B87)+1,0)","v":0},{"$f":"A$31","v":"CGE CQ2-18"},"Assessment amount increased from prior quarter",{"$f":"IF(MAX(F88:G88)>0,\"YES\",\"NO\")","v":"NO"},{"$f":"IFERROR(IF(NOT(ISBLANK(J33)),(J33-I33)/I33,0),0)","v":0},{"$f":"IFERROR(IF(NOT(ISBLANK(K33)),(K33-J33)/J33,0),0)","v":0}]
["Probate",{"$f":"IF(E89=\"YES\",MAX(B$61:B88)+1,0)","v":0},{"$f":"A$35","v":"CGE CQ3-18"},{"$f":"\"Assessments dropped by more than set percentage of: \"&TEXT(J89,\"#0%\")","v":"Assessments dropped by more than set percentage of: 15%"},{"$f":"IF(MIN(F89)<(-1*V$11),\"YES\",\"NO\")","v":"NO"},{"$f":"IFERROR(IF(NOT(ISBLANK(K37)),(K37-J37)/J37,0),0)","v":0},null,null,null,{"$f":"V$11","v":0.15},null,null,null,null,null,null,null,null,null,"Walton"]
["Probate",{"$f":"IF(E90=\"YES\",MAX(B$61:B89)+1,0)","v":0},{"$f":"A$35","v":"CGE CQ3-18"},"Collections amount decreased from prior quarter",{"$f":"IF(MIN(F90)<0,\"YES\",\"NO\")","v":"NO"},{"$f":"IFERROR(IF(NOT(ISBLANK(K36)),(K36-J36)/J36,0),0)","v":0}]
["Probate",{"$f":"IF(E91=\"YES\",MAX(B$61:B90)+1,0)","v":0},{"$f":"A$35","v":"CGE CQ3-18"},"Assessment amount increased from prior quarter",{"$f":"IF(MAX(F91)>0,\"YES\",\"NO\")","v":"NO"},{"$f":"IFERROR(IF(NOT(ISBLANK(K37)),(K37-J37)/J37,0),0)","v":0}]

{"sheet":"Family","index":10,"n_rows":86,"n_cols":22,"rows_kept":86,"cut":false,"hidden":false,"merged":[[29,11,29,12],[30,11,32,12],[33,11,35,12],[36,11,38,12],[39,11,41,12],[5,3,5,4],[22,12,25,12],[8,11,8,12],[10,11,13,11],[10,12,13,12],[14,11,17,11],[14,12,17,12],[18,11,21,11],[18,12,21,12],[22,11,25,11],[7,3,7,4],[10,8,13,8],[24,3,25,3],[24,4,25,4],[24,5,25,5],[34,0,37,0],[42,3,42,6],[42,7,42,10],[52,0,52,1],[34,1,37,1],[38,1,41,1],[38,0,41,0],[30,0,33,0],[26,0,29,0],[26,1,29,1],[30,1,33,1],[10,0,13,0],[14,0,17,0],[18,1,21,1],[22,1,25,1],[10,1,13,1],[14,1,17,1],[18,0,21,0],[22,0,25,0]]}
[]
[null,null,null,null,null,null,null,null,null,null,null,null,"County Fiscal Year 2016-2017",null,null,null,null,null,null,"CountyNames"]
[null,null,null,null,null,null,null,null,null,null,null,null,"Collections Quarterly Report Form for CCOC",null,null,null,null,null,null,"Alachua"]
[null,null,"Report for Quarter Ending: ",{"$f":"'Circuit Criminal'!D4","v":"March 2017"},null,null,null,null,"REQUIRED: Reason Codes AND Action to Improve / Descriptions Required if Measure(s) Not Met",null,null,null,null,null,null,null,null,null,null,"Baker"]
[null,null,"Version #: ",{"$f":"'Circuit Criminal'!$D$5","v":1},null,null,null,null,null,"Internal: Must clarify reason AND expected duration internal reason will be resolved",null,null,null,null,null,null,null,null,null,"Bay"]
[null,null,"County: ",{"$f":"'Circuit Criminal'!D6","v":"Brevard"},null,null,null,null,null,"External: Detailed explanation of external reason the measure wasn't met ",null,null,null,null,null,null,null,null,null,"Bradford"]
[null,null,null,null,null,null,null,null,null,null,null,null,null,null,null,null,null,null,null,"Brevard"]
[null,null,"Court/Case Type:","Family",null,null,"Performance Measure Standard:",0.75,null,null,null,null,null,null,null,null,null,null,null,"Broward"]
[null,null,null,null,null,null,null,null,null,null,null,"Action Plan",null,1,"version #1","Qtr1 - December",1,null,null,"Calhoun"]
[null,null,"Control Groups","10/01/15 - 12/31/15","01/01/16 - 03/31/16","04/01/16 - 06/30/16","07/01/16 - 09/30/16","10/01/16 - 12/31/16","01/01/17 - 03/31/17","04/01/17 - 06/30/17","07/01/17- 09/30/17","Reason Code","Current Actions to Improve",null,"version #2","Qtr 2 - March",null,null,null,"Charlotte",null,5]
[{"$f":"LEFT(B11,3)&\" \"&RIGHT(B11,6)","v":"CGE CQ1-17"},"CGE\nCQ1-17","RPE 12/31/15","Qtr 1","Qtr 2","Qtr 3","Qtr 4","Qtr 5",null,null,null,null,null,"Economy","version #3","Qtr 3 - June",3,null,null,"Citrus",{"$f":"D6&\" \"&D8","v":"Brevard Family"},0.15]
[null,null,"C = Cumulative Collections",{"$f":"LOOKUP($U$11&\" \"&$A11,Lookup!$X$2:$X$5361,Lookup!$I$2:$I$5361)","v":274043.21000000002},{"$f":"LOOKUP($U$11&\" \"&$A11,Lookup!$X$2:$X$5361,Lookup!$J$2:$J$5361)","v":285383.98},{"$f":"LOOKUP($U$11&\" \"&$A11,Lookup!$X$2:$X$5361,Lookup!$K$2:$K$5361)","v":289122.57},{"$f":"LOOKUP($U$11&\" \"&$A11,Lookup!$X$2:$X$5361,Lookup!$L$2:$L$5361)","v":289227.81},289515.93,null,null,null,null,null,"Incarcerations","version #4","Qtr 4 - September",4,null,null,"Clay",{"$f":"IF(P13=TRUE,A11,\"\")","v":""}]
[null,null,"A = Amount Assessed - Adjusted",{"$f":"LOOKUP($U$11&\" \"&$A11,Lookup!$X$2:$X$5361,Lookup!$D$2:$D$5361)","v":321813.55},{"$f":"LOOKUP($U$11&\" \"&$A11,Lookup!$X$2:$X$5361,Lookup!$E$2:$E$5361)","v":321813.55},{"$f":"LOOKUP($U$11&\" \"&$A11,Lookup!$X$2:$X$5361,Lookup!$F$2:$F$5361)","v":321813.55},{"$f":"LOOKUP($U$11&\" \"&$A11,Lookup!$X$2:$X$5361,Lookup!$G$2:$G$5361)","v":321813.55},321813.55,null,null,null,null,null,"Late/Non-pay/Pay Plans","version #5",{"$f":"OR(AND(E12<D12,E12>0),AND(F12<E12,F12>0),AND(G12<F12,G12>0),AND(H12<G12,H12>0),AND(F13>E13,E13>0),AND(G13>F13,F13>0),AND(H13<G13,G13>0))","v":false},5,null,null,"Collier",{"$f":"IF(P14=TRUE,A15,\"\")","v":""}]
[null,null,"CR = Collection Rate ",{"$f":"IF(ISBLANK(D12),\"N/A\",IF(OR(D12=0,D12=\"N/A\"),0,D12/D13))","v":0.85155895393466197},{"$f":"IF(ISBLANK(E12),\"N/A\",IF(OR(E12=0,E12=\"N/A\"),0,E12/E13))","v":0.88679914192550313},{"$f":"IF(ISBLANK(F12),\"N/A\",IF(OR(F12=0,F12=\"N/A\"),0,F12/F13))","v":0.89841639669926898},{"$f":"IF(ISBLANK(G12),\"N/A\",IF(OR(G12=0,G12=\"N/A\"),0,G12/G13))","v":0.89874341835513138},{"$f":"IF(ISBLANK(H12),\"N/A\",IF(AND(H12=0,H13=0,NOT(ISBLANK(H12)),NOT(ISBLANK(H13))),1,H12/H13))","v":0.89963871937648365},null,null,null,null,null,"Mandatory Assessment","version #6",{"$f":"OR(AND(F16<E16,F16>0),AND(G16<F16,G16>0),AND(H16<G16,H16>0),AND(I16<H16,I16>0),AND(G17>F17, F17>0),AND(H17>G17, G17>0),AND(I17<H17,I17>0))","v":false},6,null,null,"Columbia",{"$f":"IF(P15=TRUE,A19,\"\")","v":""}]
[{"$f":"LEFT(B15,3)&\" \"&RIGHT(B15,6)","v":"CGE CQ2-17"},"CGE \nCQ2-17","RPE 03/31/16",null,"Qtr 1","Qtr 2","Qtr 3","Qtr 4","Qtr 5",null,null,null,null,"Other","version #7",{"$f":"OR(AND(G20<F20,D10>0),AND(H20<G20,H20>0),AND(I20<H20,I20>0),AND(J20<I20,J20>0),AND(H21>G21, G21>0),AND(I21>H21, H21>0),AND(J21<I21, J21>0))","v":false},7,null,null,"Dade",{"$f":"IF(P16=TRUE,A23,\"\")","v":""}]
[null,null,"C = Cumulative Collections",null,{"$f":"LOOKUP($U$11&\" \"&$A15,Lookup!$X$2:$X$5361,Lookup!$I$2:$I$5361)","v":301961.84000000003},{"$f":"LOOKUP($U$11&\" \"&$A15,Lookup!$X$2:$X$5361,Lookup!$J$2:$J$5361)","v":317341.31},{"$f":"LOOKUP($U$11&\" \"&$A15,Lookup!$X$2:$X$5361,Lookup!$K$2:$K$5361)","v":319056.58},321100.56,322979.65000000002,null,null,null,null,"Procedural","version #8",{"$f":"OR(AND(H24<G24, H24>0),AND(I24<H24, I24>0),AND(J24<I24, J24>0),AND(K24<J24, K24>0),AND(I25>H25, H25>0),AND(J25>I25, I25>0),AND(K25<J25, J25>0))","v":false},8,null,null,"Desoto",{"$f":"IF(P17=TRUE,A27,\"\")","v":""}]
[null,null,"A = Amount Assessed - Adjusted",null,{"$f":"LOOKUP($U$11&\" \"&$A15,Lookup!$X$2:$X$5361,Lookup!$D$2:$D$5361)","v":361179.44},{"$f":"LOOKUP($U$11&\" \"&$A15,Lookup!$X$2:$X$5361,Lookup!$E$2:$E$5361)","v":361119.44},{"$f":"LOOKUP($U$11&\" \"&$A15,Lookup!$X$2:$X$5361,Lookup!$F$2:$F$5361)","v":361059.44},361034.44,361034.44,null,null,null,null,"Staffing - Insufficient Personnel","version #9",{"$f":"OR(AND(I28<H28, I28>0),AND(J28<I28, J28>0),AND(K28<J28, K28>0),AND(J29>I29, I29>0),AND(K29>J29, J29>0))","v":false},9,null,null,"Dixie",{"$f":"IF(P18=TRUE,A31,\"\")","v":""}]
[null,null,"CR = Collection Rate",null,{"$f":"IF(ISBLANK(E16),\"N/A\",IF(OR(E16=0,E16=\"N/A\"),0,E16/E17))","v":0.83604382353547047},{"$f":"IF(ISBLANK(F16),\"N/A\",IF(OR(F16=0,F16=\"N/A\"),0,F16/F17))","v":0.87877105148368639},{"$f":"IF(ISBLANK(G16),\"N/A\",IF(OR(G16=0,G16=\"N/A\"),0,G16/G17))","v":0.88366774179896812},{"$f":"IF(ISBLANK(H16),\"N/A\",IF(AND(H16=0,H17=0,NOT(ISBLANK(H16)),NOT(ISBLANK(H17))),1,H16/H17))","v":0.88939038613601518},{"$f":"IF(ISBLANK(I16),\"N/A\",IF(AND(I16=0,I17=0,NOT(ISBLANK(I16)),NOT(ISBLANK(I17))),1,I16/I17))","v":0.89459512505233574},null,null,null,null,"Staffing - Training Required","version #10",{"$f":"OR(AND(J32<I32, J32>0),AND(K32<J32, K32>0),AND(K33>J33, J33>0))","v":false},10,null,null,"Duval",{"$f":"IF(P19=TRUE,A35,\"\")","v":""}]
[{"$f":"LEFT(B19,3)&\" \"&RIGHT(B19,6)","v":"CGE CQ3-17"},"CGE\nCQ3-17","RPE 06/30/16",null,null,"Qtr 1","Qtr 2","Qtr 3","Qtr 4","Qtr 5",null,null,null,"Systems","version #11",{"$f":"OR(K36<J36)","v":false},11,null,null,"Escambia",{"$f":"U12&\" \"&U13&\" \"&U14&\" \"&U15&\" \"&U16&\" \"&U17&\" \"&U18","v":"      "}]
[null,null,"C = Cumulative Collections",null,null,{"$f":"LOOKUP($U$11&\" \"&$A19,Lookup!$X$2:$X$5361,Lookup!$I$2:$I$5361)","v":313007.90000000002},{"$f":"LOOKUP($U$11&\" \"&$A19,Lookup!$X$2:$X$5361,Lookup!$J$2:$J$5361)","v":326509.28999999998},328752.69,331374.28000000003,null,null,null,null,null,"version #12",{"$f":"COUNTIF(P13:P19,\"TRUE\")","v":0},12,null,null,"Flagler"]
[null,null,"A = Amount Assessed - Adjusted",null,null,{"$f":"LOOKUP($U$11&\" \"&$A19,Lookup!$X$2:$X$5361,Lookup!$D$2:$D$5361)","v":379513.75},{"$f":"LOOKUP($U$11&\" \"&$A19,Lookup!$X$2:$X$5361,Lookup!$E$2:$E$5361)","v":379138.75},379138.75,379138.75,null,null,null,null,null,null,null,null,null,null,"Franklin"]
[null,null,"CR = Collection Rate",null,null,{"$f":"IF(ISBLANK(F20),\"N/A\",IF(OR(F20=0,F20=\"N/A\"),0,F20/F21))","v":0.8247603677073625},{"$f":"IF(ISBLANK(G20),\"N/A\",IF(OR(G20=0,G20=\"N/A\"),0,G20/G21))","v":0.86118680825950911},{"$f":"IF(ISBLANK(H20),\"N/A\",IF(AND(H20=0,H21=0,NOT(ISBLANK(H20)),NOT(ISBLANK(H21))),1,H20/H21))","v":0.86710390325441544},{"$f":"IF(ISBLANK(I20),\"N/A\",IF(AND(I20=0,I21=0,NOT(ISBLANK(I20)),NOT(ISBLANK(I21))),1,I20/I21))","v":0.8740184958672782},{"$f":"IF(ISBLANK(J20),\"N/A\",IF(AND(J20=0,J21=0,NOT(ISBLANK(J20)),NOT(ISBLANK(J21))),1,J20/J21))","v":"N/A"},null,null,null,null,"Q1","Q2",null,null,null,"Gadsden"]
[{"$f":"LEFT(B23,3)&\" \"&RIGHT(B23,6)","v":"CGE CQ4-17"},"CGE\nCQ4-17","RPE 09/30/16",null,null,null,"Qtr 1","Qtr 2","Qtr 3","Qtr 4","Qtr 5",null,null,null,false,false,{"$f":"IF(AND(OR(ISBLANK(H12),ISBLANK(H13)),O23=FALSE),\"Red\",\"Gray\")","v":"Gray"},{"$f":"IF(AND(OR(ISBLANK(I16),ISBLANK(I17)),P23=FALSE),\"Red\",\"Gray\")","v":"Gray"},{"$f":"IF(AND('Circuit Criminal'!D4=1,S36=1),A11,IF(AND('Circuit Criminal'!D4=2,S36=1),A15,IF(AND('Circuit Criminal'!D4=3,S36=1),A19,IF(AND('Circuit Criminal'!D4=4,S36=1),A23,\"\"))))","v":""},"Gilchrist"]
[null,null,"C = Cumulative Collections",null,null,null,{"$f":"LOOKUP($U$11&\" \"&$A23,Lookup!$X$2:$X$5361,Lookup!$I$2:$I$5361)","v":277834.52},291165.78999999998,296176.06,null,null,null,null,null,false,false,{"$f":"IF(AND(OR(ISBLANK(H16),ISBLANK(H17)),O24=FALSE),\"Red\",\"Gray\")","v":"Gray"},{"$f":"IF(AND(OR(ISBLANK(I20),ISBLANK(I21)),P24=FALSE),\"Red\",\"Gray\")","v":"Gray"},{"$f":"IF(AND('Circuit Criminal'!D4=1,S37=1),A15,IF(AND('Circuit Criminal'!D4=2,S37=1),A19,IF(AND('Circuit Criminal'!D4=3,S37=1),A23,IF(AND('Circuit Criminal'!D4=4,S37=1),A27,\"\"))))","v":""},"Glades"]
[null,null,"A = Amount Assessed - Adjusted",null,null,null,{"$f":"LOOKUP($U$11&\" \"&$A23,Lookup!$X$2:$X$5361,Lookup!$D$2:$D$5361)","v":332178.09999999998},332178.09999999998,332178.09999999998,null,null,null,null,null,false,false,{"$f":"IF(AND(OR(ISBLANK(H20),ISBLANK(H21)),O25=FALSE),\"Red\",\"Gray\")","v":"Gray"},{"$f":"IF(AND(OR(ISBLANK(I24),ISBLANK(I25)),P25=FALSE),\"Red\",\"Gray\")","v":"Gray"},{"$f":"IF(AND('Circuit Criminal'!D4=1,S38=1),A19,IF(AND('Circuit Criminal'!D4=2,S38=1),A23,IF(AND('Circuit Criminal'!D4=3,S38=1),A27,IF(AND('Circuit Criminal'!D4=4,S38=1),A31,\"\"))))","v":""},"Gulf"]
[null,null,"CR = Collection Rate",null,null,null,{"$f":"IF(ISBLANK(G24),\"N/A\",IF(OR(G24=0,G24=\"N/A\"),0,G24/G25))","v":0.83640227937964617},{"$f":"IF(ISBLANK(H24),\"N/A\",IF(AND(H24=0,H25=0,NOT(ISBLANK(H24)),NOT(ISBLANK(H25))),1,H24/H25))","v":0.87653517796627778},{"$f":"IF(ISBLANK(I24),\"N/A\",IF(AND(I24=0,I25=0,NOT(ISBLANK(I24)),NOT(ISBLANK(I25))),1,I24/I25))","v":0.89161826140856371},{"$f":"IF(ISBLANK(J24),\"N/A\",IF(AND(J24=0,J25=0,NOT(ISBLANK(J24)),NOT(ISBLANK(J25))),1,J24/J25))","v":"N/A"},{"$f":"IF(ISBLANK(K24),\"N/A\",IF(AND(K24=0,K25=0,NOT(ISBLANK(K24)),NOT(ISBLANK(K25))),1,K24/K25))","v":"N/A"},null,null,null,false,false,{"$f":"IF(AND(OR(ISBLANK(H24),ISBLANK(H25)),O26=FALSE),\"Red\",\"Gray\")","v":"Gray"},{"$f":"IF(AND(OR(ISBLANK(I28),ISBLANK(I29)),P26=FALSE),\"Red\",\"Gray\")","v":"Gray"},{"$f":"IF(AND('Circuit Criminal'!D4=1,S39=1),A23,IF(AND('Circuit Criminal'!D4=2,S39=1),A27,IF(AND('Circuit Criminal'!D4=3,S39=1),A31,IF(AND('Circuit Criminal'!D4=4,S39=1),A35,\"\"))))","v":""},"Hamilton"]
[{"$f":"LEFT(B27,3)&\" \"&RIGHT(B27,6)","v":"CGE CQ1-18"},"CGE\nCQ1-18","RPE 12/31/16",null,null,null,null,"Qtr 1","Qtr 2","Qtr 3","Qtr 4",null,null,null,false,false,{"$f":"IF(AND(OR(ISBLANK(H28),ISBLANK(H29)),O27=FALSE),\"Red\",\"Gray\")","v":"Gray"},{"$f":"IF(AND(OR(ISBLANK(I32),ISBLANK(I33)),P27=FALSE),\"Red\",\"Gray\")","v":"Gray"},{"$f":"IF(AND('Circuit Criminal'!D4=1,S40=1),A27,IF(AND('Circuit Criminal'!D4=2,S40=1),A31,IF(AND('Circuit Criminal'!D4=3,S40=1),A35,IF(AND('Circuit Criminal'!D4=4,S40=1),A39,\"\"))))","v":""},"Hardee"]
[null,null,"C = Cumulative Collections",null,null,null,null,269422.89,280398.95,null,null,null,null,null,null,null,null,null,null,"Hendry"]
[null,null,"A = Amount Assessed - Adjusted",null,null,null,null,308324.5,308324.5,null,null,null,null,null,"Q3","Q4",null,null,null,"Hernando"]
[null,null,"CR = Collection Rate",null,null,null,null,{"$f":"IF(ISBLANK(H28),\"N/A\",IF(AND(H28=0,H29=0,NOT(ISBLANK(H28)),NOT(ISBLANK(H29))),1,H28/H29))","v":0.87382900158761312},{"$f":"IF(ISBLANK(I28),\"N/A\",IF(AND(I28=0,I29=0,NOT(ISBLANK(I28)),NOT(ISBLANK(I29))),1,I28/I29))","v":0.90942805388478698},{"$f":"IF(ISBLANK(J28),\"N/A\",IF(AND(J28=0,J29=0,NOT(ISBLANK(J28)),NOT(ISBLANK(J29))),1,J28/J29))","v":"N/A"},{"$f":"IF(ISBLANK(K28),\"N/A\",IF(AND(K28=0,K29=0,NOT(ISBLANK(K28)),NOT(ISBLANK(K29))),1,K28/K29))","v":"N/A"},"Additional Notes Related to Collection Issues",null,null,false,false,{"$f":"IF(AND(OR(ISBLANK(J20),ISBLANK(J21)),O30=FALSE),\"Red\",\"Gray\")","v":"Red"},{"$f":"IF(AND(OR(ISBLANK(K24),ISBLANK(K25)),P30=FALSE),\"Red\",\"Gray\")","v":"Red"},null,"Highlands"]
[{"$f":"LEFT(B31,3)&\" \"&RIGHT(B31,6)","v":"CGE CQ2-18"},"CGE\nCQ2-18","RPE 03/31/17",null,null,null,null,null,"Qtr 1","Qtr 2","Qtr 3","10/01/16 - 12/31/16: ",null,null,false,false,{"$f":"IF(AND(OR(ISBLANK(J24),ISBLANK(J25)),O31=FALSE),\"Red\",\"Gray\")","v":"Red"},{"$f":"IF(AND(OR(ISBLANK(K28),ISBLANK(K29)),P31=FALSE),\"Red\",\"Gray\")","v":"Red"},null,"Hillsborough"]
[null,null,"C = Cumulative Collections",null,null,null,null,null,294392.21000000002,null,null,null,null,null,false,false,{"$f":"IF(AND(OR(ISBLANK(J28),ISBLANK(J29)),O32=FALSE),\"Red\",\"Gray\")","v":"Red"},{"$f":"IF(AND(OR(ISBLANK(K32),ISBLANK(K33)),P32=FALSE),\"Red\",\"Gray\")","v":"Red"},null,"Holmes"]
[null,null,"A = Amount Assessed - Adjusted",null,null,null,null,null,334879.8,null,null,null,null,null,false,false,{"$f":"IF(AND(OR(ISBLANK(J32),ISBLANK(J33)),O33=FALSE),\"Red\",\"Gray\")","v":"Red"},{"$f":"IF(AND(OR(ISBLANK(K36),ISBLANK(K37)),P33=FALSE),\"Red\",\"Gray\")","v":"Red"},null,"Indian River"]
[null,null,"CR = Collection Rate",null,null,null,null,null,{"$f":"IF(ISBLANK(I32),\"N/A\",IF(AND(I32=0,I33=0,NOT(ISBLANK(I32)),NOT(ISBLANK(I33))),1,I32/I33))","v":0.87909814207963588},{"$f":"IF(ISBLANK(J32),\"N/A\",IF(AND(J32=0,J33=0,NOT(ISBLANK(J32)),NOT(ISBLANK(J33))),1,J32/J33))","v":"N/A"},{"$f":"IF(ISBLANK(K32),\"N/A\",IF(AND(K32=0,K33=0,NOT(ISBLANK(K32)),NOT(ISBLANK(K33))),1,K32/K33))","v":"N/A"},"01/01/17 - 03/31/17: ",null,null,false,false,{"$f":"IF(AND(OR(ISBLANK(J36),ISBLANK(J37)),O34=FALSE),\"Red\",\"Gray\")","v":"Red"},{"$f":"IF(AND(OR(ISBLANK(K40),ISBLANK(K41)),P34=FALSE),\"Red\",\"Gray\")","v":"Red"},null,"Jackson"]
[{"$f":"LEFT(B35,3)&\" \"&RIGHT(B35,6)","v":"CGE CQ3-18"},"CGE\nCQ3-18","RPE 06/30/17",null,null,null,null,null,null,"Qtr 1","Qtr 2",null,null,null,null,null,null,null,null,"Jefferson"]
[null,null,"C = Cumulative Collections",null,null,null,null,null,null,null,null,null,null,null,{"$f":"IF(AND('Circuit Criminal'!$D$4=1,Q23=\"Red\"),\"Red\",\"Gray\")","v":"Gray"},{"$f":"IF(AND('Circuit Criminal'!$D$4=2,R23=\"Red\"),\"Red\",\"Gray\")","v":"Gray"},{"$f":"IF(AND('Circuit Criminal'!$D$4=3,Q30=\"Red\"),\"Red\",\"Gray\")","v":"Gray"},{"$f":"IF(AND('Circuit Criminal'!$D$4=4,R30=\"Red\"),\"Red\",\"Gray\")","v":"Gray"},{"$f":"COUNTIF(O36:R36,\"Red\")","v":0},"Lafayette"]
[null,null,"A = Amount Assessed - Adjusted",null,null,null,null,null,null,null,null,"04/01/17 - 06/30/17: ",null,null,{"$f":"IF(AND('Circuit Criminal'!$D$4=1,Q24=\"Red\"),\"Red\",\"Gray\")","v":"Gray"},{"$f":"IF(AND('Circuit Criminal'!$D$4=2,R24=\"Red\"),\"Red\",\"Gray\")","v":"Gray"},{"$f":"IF(AND('Circuit Criminal'!$D$4=3,Q31=\"Red\"),\"Red\",\"Gray\")","v":"Gray"},{"$f":"IF(AND('Circuit Criminal'!$D$4=4,R31=\"Red\"),\"Red\",\"Gray\")","v":"Gray"},{"$f":"COUNTIF(O37:R37,\"Red\")","v":0},"Lake"]
[null,null,"CR = Collection Rate",null,null,null,null,null,null,{"$f":"IF(ISBLANK(J36),\"N/A\",IF(AND(J36=0,J37=0,NOT(ISBLANK(J36)),NOT(ISBLANK(J37))),1,J36/J37))","v":"N/A"},{"$f":"IF(ISBLANK(K36),\"N/A\",IF(AND(K36=0,K37=0,NOT(ISBLANK(K36)),NOT(ISBLANK(K37))),1,K36/K37))","v":"N/A"},null,null,null,{"$f":"IF(AND('Circuit Criminal'!$D$4=1,Q25=\"Red\"),\"Red\",\"Gray\")","v":"Gray"},{"$f":"IF(AND('Circuit Criminal'!$D$4=2,R25=\"Red\"),\"Red\",\"Gray\")","v":"Gray"},{"$f":"IF(AND('Circuit Criminal'!$D$4=3,Q32=\"Red\"),\"Red\",\"Gray\")","v":"Gray"},{"$f":"IF(AND('Circuit Criminal'!$D$4=4,R32=\"Red\"),\"Red\",\"Gray\")","v":"Gray"},{"$f":"COUNTIF(O38:R38,\"Red\")","v":0},"Lee"]
[{"$f":"LEFT(B39,3)&\" \"&RIGHT(B39,6)","v":"CGE CQ4-18"},"CGE\nCQ4-18","RPE 09/30/17",null,null,null,null,null,null,null,"Qtr 1",null,null,null,{"$f":"IF(AND('Circuit Criminal'!$D$4=1,Q26=\"Red\"),\"Red\",\"Gray\")","v":"Gray"},{"$f":"IF(AND('Circuit Criminal'!$D$4=2,R26=\"Red\"),\"Red\",\"Gray\")","v":"Gray"},{"$f":"IF(AND('Circuit Criminal'!$D$4=3,Q33=\"Red\"),\"Red\",\"Gray\")","v":"Gray"},{"$f":"IF(AND('Circuit Criminal'!$D$4=4,R33=\"Red\"),\"Red\",\"Gray\")","v":"Gray"},{"$f":"COUNTIF(O39:R39,\"Red\")","v":0},"Leon"]
[null,null,"C = Cumulative Collections",null,null,null,null,null,null,null,null,"07/01/17- 09/30/17: ",null,null,{"$f":"IF(AND('Circuit Criminal'!$D$4=1,Q27=\"Red\"),\"Red\",\"Gray\")","v":"Gray"},{"$f":"IF(AND('Circuit Criminal'!$D$4=2,R27=\"Red\"),\"Red\",\"Gray\")","v":"Gray"},{"$f":"IF(AND('Circuit Criminal'!$D$4=3,Q34=\"Red\"),\"Red\",\"Gray\")","v":"Gray"},{"$f":"IF(AND('Circuit Criminal'!$D$4=4,R34=\"Red\"),\"Red\",\"Gray\")","v":"Gray"},{"$f":"COUNTIF(O40:R40,\"Red\")","v":0},"Levy"]
[null,null,"A = Amount Assessed - Adjusted",null,null,null,null,null,null,null,null,null,null,null,{"$f":"COUNTIF(O36:O40,\"Red\")","v":0},{"$f":"COUNTIF(P36:P40,\"Red\")","v":0},{"$f":"COUNTIF(Q36:Q40,\"Red\")","v":0},{"$f":"COUNTIF(R36:R40,\"Red\")","v":0},null,"Liberty"]
[null,null,"CR = Collection Rate",null,null,null,null,null,null,null,{"$f":"IF(ISBLANK(K40),\"N/A\",IF(OR(K40=0,K40=\"N/A\"),0,K40/K41))","v":"N/A"},null,null,null,{"$f":"SUM(O41:R41)","v":0},null,null,null,null,"Madison"]
[null,null,"Business Rules","Purpose of Report:  The CCOC Collection Rate Performance Measure     report tracks dollars in the quarter they are assessed and then how well     those assessed dollars have been collected over the next five quarters.  ",null,null,null,"Adjustments to Assessments: The amount assessed in a given assessment control group should be adjusted in the reporting period when assessments are later adjusted by the Court or other provisions of law.  ",null,null,null,null,null,null,null,null,null,null,null,"Manatee"]
[null,null,"NOTES:","The following conditions will alert when performance standards are not met and/or established business rules within the control group are not followed.",null,null,null,null,null,null,null,null,null,null,null,null,null,null,null,"Martin"]
[null,null,null,"1.) Action Plan: If the 5th quarter Collection Rate is below Standard (red numbers on rose background), select a \"Reason Code\" and write a brief statement in \"Current Action to Improve\" in the green area ONLY. ",null,null,null,null,null,null,null,null,null,null,null,null,null,null,null,"Nassau"]
[null,null,null,"2.) Additional Notes Related to Collection Issues: Include a brief explaination when either of the following conditions not consistant with the Collection Report Business Rules. ",null,null,null,null,null,null,null,null,null,null,null,null,null,null,null,"Okaloosa"]
[null,null,null,null,"a.) Cumulative Collection amount has Decreased from the previous quarter in the same Control Group (font color for amount will change to RED)",null,null,null,null,null,null,null,null,null,null,null,null,null,null,"Okeechobee"]
[null,null,null,null,"b.) The Amount Assessed - Adjusted has Increased from the previous quarter in the same Control Group (font color for amount will change to RED)",null,null,null,null,null,null,null,null,null,null,null,null,null,null,"Orange"]
[null,null,null,null,null,null,null,null,null,null,null,null,null,null,null,null,null,null,null,"Nassau"]
[null,null,null,null,null,null,null,null,null,null,null,null,null,null,null,null,null,null,null,"Okaloosa"]
[null,null,null,null,null,null,null,null,null,null,null,null,null,null,null,null,null,null,null,"Okeechobee"]
[null,null,null,null,null,null,null,null,null,null,null,null,null,null,null,null,null,null,null,"Orange"]
[null,null,null,null,null,null,null,null,null,null,null,null,null,null,null,null,null,null,null,"Pasco"]
[null,null,null,null,null,null,null,null,null,null,null,null,null,null,null,null,null,null,null,"Pinellas"]
[null,null,null,null,null,null,null,null,null,null,null,null,null,null,null,null,null,null,null,"Polk"]
[null,{"$f":"MAX(Probate!B61:B104)","v":{"$error":"#VALUE!"}},null,"Issue",null,"Calc 1 Needed","Calc 2 Needed","Calc 3 Needed","Calc 4 Needed","Standard",null,null,null,null,null,null,null,null,null,"Putnam"]
[{"$f":"D$8","v":"Family"},{"$f":"IF(E57=\"YES\",MAX(B56)+1,0)","v":0},{"$f":"A$11","v":"CGE CQ1-17"},{"$f":"\"After 3rd Q, Collections went up by more than set percentage of: \"&TEXT(J57,\"#0%\")","v":"After 3rd Q, Collections went up by more than set percentage of: 500%"},{"$f":"IF(MAX(F57:G57)>V$10,\"YES\",\"NO\")","v":"NO"},{"$f":"IFERROR(IF(NOT(ISBLANK(G12)),(G12-F12)/F12,0),0)","v":3.6399787121424204E-4},{"$f":"IFERROR(IF(NOT(ISBLANK(H12)),(H12-G12)/G12,0),0)","v":9.9616976666246364E-4},null,null,{"$f":"V$10","v":5},null,null,null,null,null,null,null,null,null,"Santa Rosa"]
[{"$f":"D$8","v":"Family"},{"$f":"IF(E58=\"YES\",MAX(B$56:B57)+1,0)","v":0},{"$f":"A$11","v":"CGE CQ1-17"},{"$f":"\"Assessments dropped by more than set percentage of: \"&TEXT(J58,\"#0%\")","v":"Assessments dropped by more than set percentage of: 15%"},{"$f":"IF(MIN(F58:I58)<(-1*V$11),\"YES\",\"NO\")","v":"NO"},{"$f":"IFERROR(IF(NOT(ISBLANK(E13)),(E13-D13)/D13,0),0)","v":0},{"$f":"IFERROR(IF(NOT(ISBLANK(F13)),(F13-E13)/E13,0),0)","v":0},{"$f":"IFERROR(IF(NOT(ISBLANK(G13)),(G13-F13)/F13,0),0)","v":0},{"$f":"IFERROR(IF(NOT(ISBLANK(H13)),(H13-G13)/G13,0),0)","v":0},{"$f":"V$11","v":0.15},null,null,null,null,null,null,null,null,null,"Sumter"]
["Family",{"$f":"IF(E59=\"YES\",MAX(B$56:B58)+1,0)","v":0},{"$f":"A$11","v":"CGE CQ1-17"},{"$f":"\"The 5th Quarter Collection Rate did not meet the established performance measure standard of: \"&TEXT(J59,\"#0%\")","v":"The 5th Quarter Collection Rate did not meet the established performance measure standard of: 75%"},{"$f":"IF(F59=\"N/A\",\"NO\",IF(F59<H$8,\"YES\",\"NO\"))","v":"NO"},{"$f":"H14","v":0.89963871937648365},null,null,null,{"$f":"H$8","v":0.75},null,null,null,null,null,null,null,null,null,"Washington"]
["Family",{"$f":"IF(E60=\"YES\",MAX(B$56:B59)+1,0)","v":0},{"$f":"A$11","v":"CGE CQ1-17"},"Collections amount decreased from prior quarter",{"$f":"IF(MIN(F60:I60)<0,\"YES\",\"NO\")","v":"NO"},{"$f":"IFERROR(IF(NOT(ISBLANK(E12)),(E12-D12)/D12,0),0)","v":4.138314538061337E-2},1.3100209759496752E-2,3.6399787121424204E-4,9.9616976666246364E-4]
["Family",{"$f":"IF(E61=\"YES\",MAX(B$56:B60)+1,0)","v":0},{"$f":"A$11","v":"CGE CQ1-17"},"Assessment amount increased from prior quarter",{"$f":"IF(MAX(F61:I61)>0,\"YES\",\"NO\")","v":"NO"},0,0,0,0]
["Family",{"$f":"IF(E62=\"YES\",MAX(B$56:B61)+1,0)","v":0},{"$f":"A$15","v":"CGE CQ2-17"},{"$f":"\"After 3rd Q, Collections went up by more than set percentage of: \"&TEXT(J62,\"#0%\")","v":"After 3rd Q, Collections went up by more than set percentage of: 500%"},{"$f":"IF(MAX(F62:G62)>V$10,\"YES\",\"NO\")","v":"NO"},{"$f":"IFERROR(IF(NOT(ISBLANK(H16)),(H16-G16)/G16,0),0)","v":6.4063245459472463E-3},{"$f":"IFERROR(IF(NOT(ISBLANK(I16)),(I16-H16)/H16,0),0)","v":5.8520296570022355E-3},null,null,{"$f":"V$10","v":5},null,null,null,null,null,null,null,null,null,"Sarasota"]
["Family",{"$f":"IF(E63=\"YES\",MAX(B$56:B62)+1,0)","v":0},{"$f":"A$15","v":"CGE CQ2-17"},{"$f":"\"Assessments dropped by more than set percentage of: \"&TEXT(J63,\"#0%\")","v":"Assessments dropped by more than set percentage of: 15%"},{"$f":"IF(MIN(F63:I63)<(-1*V$11),\"YES\",\"NO\")","v":"NO"},{"$f":"IFERROR(IF(NOT(ISBLANK(F17)),(F17-E17)/E17,0),0)","v":-1.66122412726483E-4},{"$f":"IFERROR(IF(NOT(ISBLANK(G17)),(G17-F17)/F17,0),0)","v":-1.6615001396767784E-4},{"$f":"IFERROR(IF(NOT(ISBLANK(H17)),(H17-G17)/G17,0),0)","v":-6.924067682595419E-5},{"$f":"IFERROR(IF(NOT(ISBLANK(I17)),(I17-H17)/H17,0),0)","v":0},{"$f":"V$11","v":0.15},null,null,null,null,null,null,null,null,null,"Suwannee"]
["Family",{"$f":"IF(E64=\"YES\",MAX(B$56:B63)+1,0)","v":0},{"$f":"A$15","v":"CGE CQ2-17"},"Collections amount decreased from prior quarter",{"$f":"IF(MIN(F64:I64)<0,\"YES\",\"NO\")","v":"NO"},{"$f":"IFERROR(IF(NOT(ISBLANK(F16)),(F16-E16)/E16,0),0)","v":5.0931832975981237E-2},5.4051267387785684E-3,6.4063245459472463E-3,5.8520296570022355E-3]
["Family",{"$f":"IF(E65=\"YES\",MAX(B$56:B64)+1,0)","v":0},{"$f":"A$15","v":"CGE CQ2-17"},"Assessment amount increased from prior quarter",{"$f":"IF(MAX(F65:I65)>0,\"YES\",\"NO\")","v":"NO"},-1.66122412726483E-4,-1.6615001396767784E-4,-6.924067682595419E-5,0]
["Family",{"$f":"IF(E66=\"YES\",MAX(B$56:B65)+1,0)","v":0},{"$f":"A$15","v":"CGE CQ2-17"},{"$f":"\"The 5th Quarter Collection Rate did not meet the established performance measure standard of: \"&TEXT(J66,\"#0%\")","v":"The 5th Quarter Collection Rate did not meet the established performance measure standard of: 75%"},{"$f":"IF(F66=\"N/A\",\"NO\",IF(F66<H$8,\"YES\",\"NO\"))","v":"NO"},{"$f":"I18","v":0.89459512505233574},null,null,null,{"$f":"H$8","v":0.75}]
["Family",{"$f":"IF(E67=\"YES\",MAX(B$56:B66)+1,0)","v":0},{"$f":"A$19","v":"CGE CQ3-17"},{"$f":"\"After 3rd Q, Collections went up by more than set percentage of: \"&TEXT(J67,\"#0%\")","v":"After 3rd Q, Collections went up by more than set percentage of: 500%"},{"$f":"IF(MAX(F67:G67)>V$10,\"YES\",\"NO\")","v":"NO"},{"$f":"IFERROR(IF(NOT(ISBLANK(I20)),(I20-H20)/H20,0),0)","v":7.9743530007314184E-3},{"$f":"IFERROR(IF(NOT(ISBLANK(J20)),(J20-I20)/I20,0),0)","v":0},null,null,{"$f":"V$10","v":5},null,null,null,null,null,null,null,null,null,"Seminole"]
["Family",{"$f":"IF(E68=\"YES\",MAX(B$56:B67)+1,0)","v":0},{"$f":"A$19","v":"CGE CQ3-17"},{"$f":"\"Assessments dropped by more than set percentage of: \"&TEXT(J68,\"#0%\")","v":"Assessments dropped by more than set percentage of: 15%"},{"$f":"IF(MIN(F68:I68)<(-1*V$11),\"YES\",\"NO\")","v":"NO"},{"$f":"IFERROR(IF(NOT(ISBLANK(G21)),(G21-F21)/F21,0),0)","v":-9.8810649153028055E-4},{"$f":"IFERROR(IF(NOT(ISBLANK(H21)),(H21-G21)/G21,0),0)","v":0},{"$f":"IFERROR(IF(NOT(ISBLANK(I21)),(I21-H21)/H21,0),0)","v":0},{"$f":"IFERROR(IF(NOT(ISBLANK(J21)),(J21-I21)/I21,0),0)","v":0},{"$f":"V$11","v":0.15},null,null,null,null,null,null,null,null,null,"Taylor"]
["Family",{"$f":"IF(E69=\"YES\",MAX(B$56:B68)+1,0)","v":0},{"$f":"A$19","v":"CGE CQ3-17"},"Collections amount decreased from prior quarter",{"$f":"IF(MIN(F69:I69)<0,\"YES\",\"NO\")","v":"NO"},{"$f":"IFERROR(IF(NOT(ISBLANK(G20)),(G20-F20)/F20,0),0)","v":4.3134342615633516E-2},6.8708611629397232E-3,7.9743530007314184E-3,0]
["Family",{"$f":"IF(E70=\"YES\",MAX(B$56:B69)+1,0)","v":0},{"$f":"A$19","v":"CGE CQ3-17"},"Assessment amount increased from prior quarter",{"$f":"IF(MAX(F70:I70)>0,\"YES\",\"NO\")","v":"NO"},-9.8810649153028055E-4,0,0,0]
["Family",{"$f":"IF(E71=\"YES\",MAX(B$56:B70)+1,0)","v":0},{"$f":"A$19","v":"CGE CQ3-17"},{"$f":"\"The 5th Quarter Collection Rate did not meet the established performance measure standard of: \"&TEXT(J71,\"#0%\")","v":"The 5th Quarter Collection Rate did not meet the established performance measure standard of: 75%"},{"$f":"IF(F71=\"N/A\",\"NO\",IF(F71<H$8,\"YES\",\"NO\"))","v":"NO"},{"$f":"J22","v":"N/A"},null,null,null,{"$f":"H$8","v":0.75}]
["Family",{"$f":"IF(E72=\"YES\",MAX(B$56:B71)+1,0)","v":0},{"$f":"A$23","v":"CGE CQ4-17"},{"$f":"\"After 3rd Q, Collections went up by more than set percentage of: \"&TEXT(J72,\"#0%\")","v":"After 3rd Q, Collections went up by more than set percentage of: 500%"},{"$f":"IF(MAX(F72:G72)>V$10,\"YES\",\"NO\")","v":"NO"},{"$f":"IFERROR(IF(NOT(ISBLANK(J24)),(J24-I24)/I24,0),0)","v":0},{"$f":"IFERROR(IF(NOT(ISBLANK(K24)),(K24-J24)/J24,0),0)","v":0},null,null,{"$f":"V$10","v":5},null,null,null,null,null,null,null,null,null,"St. Johns"]
["Family",{"$f":"IF(E73=\"YES\",MAX(B$56:B72)+1,0)","v":0},{"$f":"A$23","v":"CGE CQ4-17"},{"$f":"\"Assessments dropped by more than set percentage of: \"&TEXT(J73,\"#0%\")","v":"Assessments dropped by more than set percentage of: 15%"},{"$f":"IF(MIN(F73:I73)<(-1*V$11),\"YES\",\"NO\")","v":"NO"},{"$f":"IFERROR(IF(NOT(ISBLANK(H25)),(H25-G25)/G25,0),0)","v":0},{"$f":"IFERROR(IF(NOT(ISBLANK(I25)),(I25-H25)/H25,0),0)","v":0},{"$f":"IFERROR(IF(NOT(ISBLANK(J25)),(J25-I25)/I25,0),0)","v":0},{"$f":"IFERROR(IF(NOT(ISBLANK(K25)),(K25-J25)/J25,0),0)","v":0},{"$f":"V$11","v":0.15},null,null,null,null,null,null,null,null,null,"Union"]
["Family",{"$f":"IF(E74=\"YES\",MAX(B$56:B73)+1,0)","v":0},{"$f":"A$23","v":"CGE CQ4-17"},"Collections amount decreased from prior quarter",{"$f":"IF(MIN(F74:I74)<0,\"YES\",\"NO\")","v":"NO"},{"$f":"IFERROR(IF(NOT(ISBLANK(H24)),(H24-G24)/G24,0),0)","v":4.798277046351173E-2},1.7207619068160512E-2,0,0]
["Family",{"$f":"IF(E75=\"YES\",MAX(B$56:B74)+1,0)","v":0},{"$f":"A$23","v":"CGE CQ4-17"},"Assessment amount increased from prior quarter",{"$f":"IF(MAX(F75:I75)>0,\"YES\",\"NO\")","v":"NO"},0,0,0,0]
["Family",{"$f":"IF(E76=\"YES\",MAX(B$56:B75)+1,0)","v":0},{"$f":"A$23","v":"CGE CQ4-17"},{"$f":"\"The 5th Quarter Collection Rate did not meet the established performance measure standard of: \"&TEXT(J76,\"#0%\")","v":"The 5th Quarter Collection Rate did not meet the established performance measure standard of: 75%"},{"$f":"IF(F76=\"N/A\",\"NO\",IF(F76<H$8,\"YES\",\"NO\"))","v":"NO"},{"$f":"K26","v":"N/A"},null,null,null,{"$f":"H$8","v":0.75}]
["Family",{"$f":"IF(E77=\"YES\",MAX(B$56:B76)+1,0)","v":0},{"$f":"A$27","v":"CGE CQ1-18"},{"$f":"\"After 3rd Q, Collections went up by more than set percentage of: \"&TEXT(J77,\"#0%\")","v":"After 3rd Q, Collections went up by more than set percentage of: 500%"},{"$f":"IF(MAX(F77)>V$10,\"YES\",\"NO\")","v":"NO"},{"$f":"IFERROR(IF(NOT(ISBLANK(K28)),(K28-J28)/J28,0),0)","v":0},null,null,null,{"$f":"V$10","v":5},null,null,null,null,null,null,null,null,null,"St. Lucie"]
["Family",{"$f":"IF(E78=\"YES\",MAX(B$56:B77)+1,0)","v":0},{"$f":"A$27","v":"CGE CQ1-18"},{"$f":"\"Assessments dropped by more than set percentage of: \"&TEXT(J78,\"#0%\")","v":"Assessments dropped by more than set percentage of: 15%"},{"$f":"IF(MIN(F78:H78)<(-1*V$11),\"YES\",\"NO\")","v":"NO"},{"$f":"IFERROR(IF(NOT(ISBLANK(I29)),(I29-H29)/H29,0),0)","v":0},{"$f":"IFERROR(IF(NOT(ISBLANK(J29)),(J29-I29)/I29,0),0)","v":0},{"$f":"IFERROR(IF(NOT(ISBLANK(K29)),(K29-J29)/J29,0),0)","v":0},null,{"$f":"V$11","v":0.15},null,null,null,null,null,null,null,null,null,"Volusia"]
["Family",{"$f":"IF(E79=\"YES\",MAX(B$56:B78)+1,0)","v":0},{"$f":"A$27","v":"CGE CQ1-18"},"Collections amount decreased from prior quarter",{"$f":"IF(MIN(F79:H79)<0,\"YES\",\"NO\")","v":"NO"},{"$f":"IFERROR(IF(NOT(ISBLANK(I28)),(I28-H28)/H28,0),0)","v":4.0739151747648451E-2},0,0]
["Family",{"$f":"IF(E80=\"YES\",MAX(B$56:B79)+1,0)","v":0},{"$f":"A$27","v":"CGE CQ1-18"},"Assessment amount increased from prior quarter",{"$f":"IF(MAX(F80:H80)>0,\"YES\",\"NO\")","v":"NO"},0,0,0]
["Family",{"$f":"IF(E81=\"YES\",MAX(B$56:B80)+1,0)","v":0},{"$f":"A$31","v":"CGE CQ2-18"},{"$f":"\"Assessments dropped by more than set percentage of: \"&TEXT(J81,\"#0%\")","v":"Assessments dropped by more than set percentage of: 15%"},{"$f":"IF(MIN(F81:G81)<(-1*V$11),\"YES\",\"NO\")","v":"NO"},{"$f":"IFERROR(IF(NOT(ISBLANK(J33)),(J33-I33)/I33,0),0)","v":0},{"$f":"IFERROR(IF(NOT(ISBLANK(K33)),(K33-J33)/J33,0),0)","v":0},null,null,{"$f":"V$11","v":0.15},null,null,null,null,null,null,null,null,null,"Wakulla"]
["Family",{"$f":"IF(E82=\"YES\",MAX(B$56:B81)+1,0)","v":0},{"$f":"A$31","v":"CGE CQ2-18"},"Collections amount decreased from prior quarter",{"$f":"IF(MIN(F82:G82)<0,\"YES\",\"NO\")","v":"NO"},{"$f":"IFERROR(IF(NOT(ISBLANK(J32)),(J32-I32)/I32,0),0)","v":0},{"$f":"IFERROR(IF(NOT(ISBLANK(K32)),(K32-J32)/J32,0),0)","v":0}]
["Family",{"$f":"IF(E83=\"YES\",MAX(B$56:B82)+1,0)","v":0},{"$f":"A$31","v":"CGE CQ2-18"},"Assessment amount increased from prior quarter",{"$f":"IF(MAX(F83:G83)>0,\"YES\",\"NO\")","v":"NO"},{"$f":"IFERROR(IF(NOT(ISBLANK(J33)),(J33-I33)/I33,0),0)","v":0},{"$f":"IFERROR(IF(NOT(ISBLANK(K33)),(K33-J33)/J33,0),0)","v":0}]
["Family",{"$f":"IF(E84=\"YES\",MAX(B$56:B83)+1,0)","v":0},{"$f":"A$35","v":"CGE CQ3-18"},{"$f":"\"Assessments dropped by more than set percentage of: \"&TEXT(J84,\"#0%\")","v":"Assessments dropped by more than set percentage of: 15%"},{"$f":"IF(MIN(F84)<(-1*V$11),\"YES\",\"NO\")","v":"NO"},{"$f":"IFERROR(IF(NOT(ISBLANK(K37)),(K37-J37)/J37,0),0)","v":0},null,null,null,{"$f":"V$11","v":0.15},null,null,null,null,null,null,null,null,null,"Walton"]
["Family",{"$f":"IF(E85=\"YES\",MAX(B$56:B84)+1,0)","v":0},{"$f":"A$35","v":"CGE CQ3-18"},"Collections amount decreased from prior quarter",{"$f":"IF(MIN(F85)<0,\"YES\",\"NO\")","v":"NO"},{"$f":"IFERROR(IF(NOT(ISBLANK(K36)),(K36-J36)/J36,0),0)","v":0}]
["Family",{"$f":"IF(E86=\"YES\",MAX(B$56:B85)+1,0)","v":0},{"$f":"A$35","v":"CGE CQ3-18"},"Assessment amount increased from prior quarter",{"$f":"IF(MAX(F86)>0,\"YES\",\"NO\")","v":"NO"},{"$f":"IFERROR(IF(NOT(ISBLANK(K37)),(K37-J37)/J37,0),0)","v":0}]

{"sheet":"Corrective Action Tab","index":11,"n_rows":310,"n_cols":15,"rows_kept":310,"cut":false,"hidden":true,"merged":[[5,3,5,4],[19,5,19,6],[19,7,19,8],[20,5,20,6],[20,7,20,8],[21,5,21,6],[21,7,21,8],[16,5,16,6],[16,7,16,8],[17,5,17,6],[17,7,17,8],[18,5,18,6],[18,7,18,8],[13,5,13,6],[14,5,14,6],[15,5,15,6],[13,7,13,8],[14,7,14,8],[15,7,15,8],[3,7,3,10],[9,5,9,6],[10,5,10,6],[11,5,11,6],[12,5,12,6],[9,7,9,8],[10,7,10,8],[11,7,11,8],[12,7,12,8],[33,5,33,6],[33,7,33,8],[22,5,22,6],[22,7,22,8],[23,5,23,6],[23,7,23,8],[24,5,24,6],[24,7,24,8],[25,5,25,6],[25,7,25,8],[26,5,26,6],[26,7,26,8],[27,5,27,6],[27,7,27,8],[28,5,28,6],[28,7,28,8],[29,5,29,6],[29,7,29,8],[30,5,30,6],[30,7,30,8],[31,5,31,6],[31,7,31,8],[32,5,32,6],[32,7,32,8],[45,5,45,6],[45,7,45,8],[34,5,34,6],[34,7,34,8],[35,5,35,6],[35,7,35,8],[36,5,36,6],[36,7,36,8],[37,5,37,6],[37,7,37,8],[38,5,38,6],[38,7,38,8],[39,5,39,6],[39,7,39,8],[40,5,40,6],[40,7,40,8],[41,5,41,6],[41,7,41,8],[42,5,42,6],[42,7,42,8],[43,5,43,6],[43,7,43,8],[44,5,44,6],[44,7,44,8],[57,5,57,6],[57,7,57,8],[46,5,46,6],[46,7,46,8],[47,5,47,6],[47,7,47,8],[48,5,48,6],[48,7,48,8],[49,5,49,6],[49,7,49,8],[50,5,50,6],[50,7,50,8],[51,5,51,6],[51,7,51,8],[52,5,52,6],[52,7,52,8],[53,5,53,6],[53,7,53,8],[54,5,54,6],[54,7,54,8],[55,5,55,6],[55,7,55,8],[56,5,56,6],[56,7,56,8],[69,5,69,6],[69,7,69,8],[58,5,58,6],[58,7,58,8],[59,5,59,6],[59,7,59,8],[60,5,60,6],[60,7,60,8],[61,5,61,6],[61,7,61,8],[62,5,62,6],[62,7,62,8],[63,5,63,6],[63,7,63,8],[64,5,64,6],[64,7,64,8],[65,5,65,6],[65,7,65,8],[66,5,66,6],[66,7,66,8],[67,5,67,6],[67,7,67,8],[68,5,68,6],[68,7,68,8],[81,5,81,6],[81,7,81,8],[70,5,70,6],[70,7,70,8],[71,5,71,6],[71,7,71,8],[72,5,72,6],[72,7,72,8],[73,5,73,6],[73,7,73,8],[74,5,74,6],[74,7,74,8],[75,5,75,6],[75,7,75,8],[76,5,76,6],[76,7,76,8],[77,5,77,6],[77,7,77,8],[78,5,78,6],[78,7,78,8],[79,5,79,6],[79,7,79,8],[80,5,80,6],[80,7,80,8],[93,5,93,6],[93,7,93,8],[82,5,82,6],[82,7,82,8],[83,5,83,6],[83,7,83,8],[84,5,84,6],[84,7,84,8],[85,5,85,6],[85,7,85,8],[86,5,86,6],[86,7,86,8],[87,5,87,6],[87,7,87,8],[88,5,88,6],[88,7,88,8],[89,5,89,6],[89,7,89,8],[90,5,90,6],[90,7,90,8],[91,5,91,6],[91,7,91,8],[92,5,92,6],[92,7,92,8],[105,5,105,6],[105,7,105,8],[94,5,94,6],[94,7,94,8],[95,5,95,6],[95,7,95,8],[96,5,96,6],[96,7,96,8],[97,5,97,6],[97,7,97,8],[98,5,98,6],[98,7,98,8],[99,5,99,6],[99,7,99,8],[100,5,100,6],[100,7,100,8],[101,5,101,6],[101,7,101,8],[102,5,102,6],[102,7,102,8],[103,5,103,6],[103,7,103,8],[104,5,104,6],[104,7,104,8],[117,5,117,6],[117,7,117,8],[106,5,106,6],[106,7,106,8],[107,5,107,6],[107,7,107,8],[108,5,108,6],[108,7,108,8],[109,5,109,6],[109,7,109,8],[110,5,110,6],[110,7,110,8],[111,5,111,6],[111,7,111,8],[112,5,112,6],[112,7,112,8],[113,5,113,6],[113,7,113,8],[114,5,114,6],[114,7,114,8],[115,5,115,6],[115,7,115,8],[116,5,116,6],[116,7,116,8],[129,5,129,6],[129,7,129,8],[118,5,118,6],[118,7,118,8],[119,5,119,6],[119,7,119,8],[120,5,120,6],[120,7,120,8],[121,5,121,6],[121,7,121,8],[122,5,122,6],[122,7,122,8],[123,5,123,6],[123,7,123,8],[124,5,124,6],[124,7,124,8],[125,5,125,6],[125,7,125,8],[126,5,126,6],[126,7,126,8],[127,5,127,6],[127,7,127,8],[128,5,128,6],[128,7,128,8],[141,5,141,6],[141,7,141,8],[130,5,130,6],[130,7,130,8],[131,5,131,6],[131,7,131,8],[132,5,132,6],[132,7,132,8],[133,5,133,6],[133,7,133,8],[134,5,134,6],[134,7,134,8],[135,5,135,6],[135,7,135,8],[136,5,136,6],[136,7,136,8],[137,5,137,6],[137,7,137,8],[138,5,138,6],[138,7,138,8],[139,5,139,6],[139,7,139,8],[140,5,140,6],[140,7,140,8],[153,5,153,6],[153,7,153,8],[142,5,142,6],[142,7,142,8],[143,5,143,6],[143,7,143,8],[144,5,144,6],[144,7,144,8],[145,5,145,6],[145,7,145,8],[146,5,146,6],[146,7,146,8],[147,5,147,6],[147,7,147,8],[148,5,148,6],[148,7,148,8],[149,5,149,6],[149,7,149,8],[150,5,150,6],[150,7,150,8],[151,5,151,6],[151,7,151,8],[152,5,152,6],[152,7,152,8],[165,5,165,6],[165,7,165,8],[154,5,154,6],[154,7,154,8],[155,5,155,6],[155,7,155,8],[156,5,156,6],[156,7,156,8],[157,5,157,6],[157,7,157,8],[158,5,158,6],[158,7,158,8],[159,5,159,6],[159,7,159,8],[160,5,160,6],[160,7,160,8],[161,5,161,6],[161,7,161,8],[162,5,162,6],[162,7,162,8],[163,5,163,6],[163,7,163,8],[164,5,164,6],[164,7,164,8],[177,5,177,6],[177,7,177,8],[166,5,166,6],[166,7,166,8],[167,5,167,6],[167,7,167,8],[168,5,168,6],[168,7,168,8],[169,5,169,6],[169,7,169,8],[170,5,170,6],[170,7,170,8],[171,5,171,6],[171,7,171,8],[172,5,172,6],[172,7,172,8],[173,5,173,6],[173,7,173,8],[174,5,174,6],[174,7,174,8],[175,5,175,6],[175,7,175,8],[176,5,176,6],[176,7,176,8],[189,5,189,6],[189,7,189,8],[178,5,178,6],[178,7,178,8],[179,5,179,6],[179,7,179,8],[180,5,180,6],[180,7,180,8],[181,5,181,6],[181,7,181,8],[182,5,182,6],[182,7,182,8],[183,5,183,6],[183,7,183,8],[184,5,184,6],[184,7,184,8],[185,5,185,6],[185,7,185,8],[186,5,186,6],[186,7,186,8],[187,5,187,6],[187,7,187,8],[188,5,188,6],[188,7,188,8],[201,5,201,6],[201,7,201,8],[190,5,190,6],[190,7,190,8],[191,5,191,6],[191,7,191,8],[192,5,192,6],[192,7,192,8],[193,5,193,6],[193,7,193,8],[194,5,194,6],[194,7,194,8],[195,5,195,6],[195,7,195,8],[196,5,196,6],[196,7,196,8],[197,5,197,6],[197,7,197,8],[198,5,198,6],[198,7,198,8],[199,5,199,6],[199,7,199,8],[200,5,200,6],[200,7,200,8],[213,5,213,6],[213,7,213,8],[202,5,202,6],[202,7,202,8],[203,5,203,6],[203,7,203,8],[204,5,204,6],[204,7,204,8],[205,5,205,6],[205,7,205,8],[206,5,206,6],[206,7,206,8],[207,5,207,6],[207,7,207,8],[208,5,208,6],[208,7,208,8],[209,5,209,6],[209,7,209,8],[210,5,210,6],[210,7,210,8],[211,5,211,6],[211,7,211,8],[212,5,212,6],[212,7,212,8],[225,5,225,6],[225,7,225,8],[214,5,214,6],[214,7,214,8],[215,5,215,6],[215,7,215,8],[216,5,216,6],[216,7,216,8],[217,5,217,6],[217,7,217,8],[218,5,218,6],[218,7,218,8],[219,5,219,6],[219,7,219,8],[220,5,220,6],[220,7,220,8],[221,5,221,6],[221,7,221,8],[222,5,222,6],[222,7,222,8],[223,5,223,6],[223,7,223,8],[224,5,224,6],[224,7,224,8],[237,5,237,6],[237,7,237,8],[226,5,226,6],[226,7,226,8],[227,5,227,6],[227,7,227,8],[228,5,228,6],[228,7,228,8],[229,5,229,6],[229,7,229,8],[230,5,230,6],[230,7,230,8],[231,5,231,6],[231,7,231,8],[232,5,232,6],[232,7,232,8],[233,5,233,6],[233,7,233,8],[234,5,234,6],[234,7,234,8],[235,5,235,6],[235,7,235,8],[236,5,236,6],[236,7,236,8],[249,5,249,6],[249,7,249,8],[238,5,238,6],[238,7,238,8],[239,5,239,6],[239,7,239,8],[240,5,240,6],[240,7,240,8],[241,5,241,6],[241,7,241,8],[242,5,242,6],[242,7,242,8],[243,5,243,6],[243,7,243,8],[244,5,244,6],[244,7,244,8],[245,5,245,6],[245,7,245,8],[246,5,246,6],[246,7,246,8],[247,5,247,6],[247,7,247,8],[248,5,248,6],[248,7,248,8],[261,5,261,6],[261,7,261,8],[250,5,250,6],[250,7,250,8],[251,5,251,6],[251,7,251,8],[252,5,252,6],[252,7,252,8],[253,5,253,6],[253,7,253,8],[254,5,254,6],[254,7,254,8],[255,5,255,6],[255,7,255,8],[256,5,256,6],[256,7,256,8],[257,5,257,6],[257,7,257,8],[258,5,258,6],[258,7,258,8],[259,5,259,6],[259,7,259,8],[260,5,260,6],[260,7,260,8],[273,5,273,6],[273,7,273,8],[262,5,262,6],[262,7,262,8],[263,5,263,6],[263,7,263,8],[264,5,264,6],[264,7,264,8],[265,5,265,6],[265,7,265,8],[266,5,266,6],[266,7,266,8],[267,5,267,6],[267,7,267,8],[268,5,268,6],[268,7,268,8],[269,5,269,6],[269,7,269,8],[270,5,270,6],[270,7,270,8],[271,5,271,6],[271,7,271,8],[272,5,272,6],[272,7,272,8],[285,5,285,6],[285,7,285,8],[274,5,274,6],[274,7,274,8],[275,5,275,6],[275,7,275,8],[276,5,276,6],[276,7,276,8],[277,5,277,6],[277,7,277,8],[278,5,278,6],[278,7,278,8],[279,5,279,6],[279,7,279,8],[280,5,280,6],[280,7,280,8],[281,5,281,6],[281,7,281,8],[282,5,282,6],[282,7,282,8],[283,5,283,6],[283,7,283,8],[284,5,284,6],[284,7,284,8],[297,5,297,6],[297,7,297,8],[286,5,286,6],[286,7,286,8],[287,5,287,6],[287,7,287,8],[288,5,288,6],[288,7,288,8],[289,5,289,6],[289,7,289,8],[290,5,290,6],[290,7,290,8],[291,5,291,6],[291,7,291,8],[292,5,292,6],[292,7,292,8],[293,5,293,6],[293,7,293,8],[294,5,294,6],[294,7,294,8],[295,5,295,6],[295,7,295,8],[296,5,296,6],[296,7,296,8],[309,5,309,6],[309,7,309,8],[298,5,298,6],[298,7,298,8],[299,5,299,6],[299,7,299,8],[300,5,300,6],[300,7,300,8],[301,5,301,6],[301,7,301,8],[302,5,302,6],[302,7,302,8],[303,5,303,6],[303,7,303,8],[304,5,304,6],[304,7,304,8],[305,5,305,6],[305,7,305,8],[306,5,306,6],[306,7,306,8],[307,5,307,6],[307,7,307,8],[308,5,308,6],[308,7,308,8]]}
[]
[null,null,null,null,null,null,null,null,null,null,"State Fiscal Year 2010-11"]
[null,null,null,null,null,null,null,null,null,null,"Collections Quarterly Report Form for CCOC"]
[null,null,"Report for Quarter Ending: ",{"$f":"Family!D4","v":"March 2017"},null,null,null,"Corrective Action Tab"]
[null,null,"Version #: ",{"$f":"Family!D5","v":1}]
[null,null,"County: ",{"$f":"'Circuit Criminal'!D6:E6","v":"Brevard"}]
[]
["Max All","Max 1","Max 2","Max 3","Max 4","Max 5","Max 6","Max 7","Max 8"]
[{"$f":"MAX(Family!B56:B99)","v":{"$error":"#VALUE!"}},{"$f":"'County Criminal'!B56","v":0},{"$f":"'Juvenile Delinquency'!B56","v":1},{"$f":"'Criminal Traffic'!B56","v":2},null,{"$f":"'County Civil'!B56","v":6},{"$f":"'Civil Traffic'!B56","v":{"$error":"#VALUE!"}},{"$f":"Probate!B61","v":{"$error":"#VALUE!"}},{"$f":"Family!B56","v":{"$error":"#VALUE!"}}]
[null,"Item #","Court Type","Control Group","Issue","Cause",null,"Corrective Action",null,"Timeframe for Rectification","Notes",0,"Cause List","Corrective Action List","Timeframe List"]
[1,{"$f":"IF(A$9=0,\"No items for this report\",IF(A11<=A$9,A11,\"\"))","v":{"$error":"#VALUE!"}},{"$f":"IF($B11<>\"\",VLOOKUP($B11,CATLookup!$A$2:$E$271,2,FALSE),\"\")","v":{"$error":"#VALUE!"}},{"$f":"IF($B11<>\"\",VLOOKUP($B11,CATLookup!$A$2:$E$271,3,FALSE),\"\")","v":{"$error":"#VALUE!"}},{"$f":"IF($B11<>\"\",VLOOKUP($B11,CATLookup!$A$2:$E$271,4,FALSE),\"\")","v":{"$error":"#VALUE!"}},null,null,null,null,null,null,{"$f":"IF(B11<>\"\",L10+1,1)","v":{"$error":"#VALUE!"}},"System Error: Data Entry Error in System",null,"No timeframe needed as issue has resolved itself"]
[2,{"$f":"IF(A$9=0,\"No items for this report\",IF(A12<=A$9,A12,\"\"))","v":{"$error":"#VALUE!"}},{"$f":"IF($B12<>\"\",VLOOKUP($B12,CATLookup!$A$2:$E$271,2,FALSE),\"\")","v":{"$error":"#VALUE!"}},{"$f":"IF($B12<>\"\",VLOOKUP($B12,CATLookup!$A$2:$E$271,3,FALSE),\"\")","v":{"$error":"#VALUE!"}},{"$f":"IF($B12<>\"\",VLOOKUP($B12,CATLookup!$A$2:$E$271,4,FALSE),\"\")","v":{"$error":"#VALUE!"}},null,null,null,null,null,null,{"$f":"IF(B12<>\"\",L11+1,1)","v":{"$error":"#VALUE!"}},"System Error: System is unable to process according to business rules",null,"1 month, will revise report"]
[3,{"$error":"#VALUE!"},{"$f":"IF($B13<>\"\",VLOOKUP($B13,CATLookup!$A$2:$E$271,2,FALSE),\"\")","v":{"$error":"#VALUE!"}},{"$f":"IF($B13<>\"\",VLOOKUP($B13,CATLookup!$A$2:$E$271,3,FALSE),\"\")","v":{"$error":"#VALUE!"}},{"$f":"IF($B13<>\"\",VLOOKUP($B13,CATLookup!$A$2:$E$271,4,FALSE),\"\")","v":{"$error":"#VALUE!"}},null,null,null,null,null,null,{"$error":"#VALUE!"},"Returned Checks",null,"1 month, no report revision"]
[4,{"$error":"#VALUE!"},{"$f":"IF($B14<>\"\",VLOOKUP($B14,CATLookup!$A$2:$E$271,2,FALSE),\"\")","v":{"$error":"#VALUE!"}},{"$f":"IF($B14<>\"\",VLOOKUP($B14,CATLookup!$A$2:$E$271,3,FALSE),\"\")","v":{"$error":"#VALUE!"}},{"$f":"IF($B14<>\"\",VLOOKUP($B14,CATLookup!$A$2:$E$271,4,FALSE),\"\")","v":{"$error":"#VALUE!"}},null,null,null,null,null,null,{"$error":"#VALUE!"},"Economic Factors: Short-staffed and unable to push collection effort",null,"3 months, will revise report"]
[5,{"$error":"#VALUE!"},{"$f":"IF($B15<>\"\",VLOOKUP($B15,CATLookup!$A$2:$E$271,2,FALSE),\"\")","v":{"$error":"#VALUE!"}},{"$f":"IF($B15<>\"\",VLOOKUP($B15,CATLookup!$A$2:$E$271,3,FALSE),\"\")","v":{"$error":"#VALUE!"}},{"$f":"IF($B15<>\"\",VLOOKUP($B15,CATLookup!$A$2:$E$271,4,FALSE),\"\")","v":{"$error":"#VALUE!"}},null,null,null,null,null,null,{"$error":"#VALUE!"},"Economic Factors: Population Area primarily not able to pay due to current economic status",null,"3 months,  no report revision"]
[6,{"$error":"#VALUE!"},{"$f":"IF($B16<>\"\",VLOOKUP($B16,CATLookup!$A$2:$E$271,2,FALSE),\"\")","v":{"$error":"#VALUE!"}},{"$f":"IF($B16<>\"\",VLOOKUP($B16,CATLookup!$A$2:$E$271,3,FALSE),\"\")","v":{"$error":"#VALUE!"}},{"$f":"IF($B16<>\"\",VLOOKUP($B16,CATLookup!$A$2:$E$271,4,FALSE),\"\")","v":{"$error":"#VALUE!"}},null,null,null,null,null,null,{"$error":"#VALUE!"},"Judicial Waivers were unusually large",null,"6 months, will revise report"]
[7,{"$error":"#VALUE!"},{"$f":"IF($B17<>\"\",VLOOKUP($B17,CATLookup!$A$2:$E$271,2,FALSE),\"\")","v":{"$error":"#VALUE!"}},{"$f":"IF($B17<>\"\",VLOOKUP($B17,CATLookup!$A$2:$E$271,3,FALSE),\"\")","v":{"$error":"#VALUE!"}},{"$f":"IF($B17<>\"\",VLOOKUP($B17,CATLookup!$A$2:$E$271,4,FALSE),\"\")","v":{"$error":"#VALUE!"}},null,null,null,null,null,null,{"$error":"#VALUE!"},"Large case outside of the norm (generally drug seizure case)",null,"6 months, no report revision"]
[8,{"$error":"#VALUE!"},{"$f":"IF($B18<>\"\",VLOOKUP($B18,CATLookup!$A$2:$E$271,2,FALSE),\"\")","v":{"$error":"#VALUE!"}},{"$f":"IF($B18<>\"\",VLOOKUP($B18,CATLookup!$A$2:$E$271,3,FALSE),\"\")","v":{"$error":"#VALUE!"}},{"$f":"IF($B18<>\"\",VLOOKUP($B18,CATLookup!$A$2:$E$271,4,FALSE),\"\")","v":{"$error":"#VALUE!"}},null,null,null,null,null,null,{"$error":"#VALUE!"},"Payment Plan Extensions causing decrease in Collections",null,"9 months, will revise report"]
[9,{"$error":"#VALUE!"},{"$f":"IF($B19<>\"\",VLOOKUP($B19,CATLookup!$A$2:$E$271,2,FALSE),\"\")","v":{"$error":"#VALUE!"}},{"$f":"IF($B19<>\"\",VLOOKUP($B19,CATLookup!$A$2:$E$271,3,FALSE),\"\")","v":{"$error":"#VALUE!"}},{"$f":"IF($B19<>\"\",VLOOKUP($B19,CATLookup!$A$2:$E$271,4,FALSE),\"\")","v":{"$error":"#VALUE!"}},null,null,null,null,null,null,{"$error":"#VALUE!"},"Other (Detail in Notes)",null,"9 months, no report revision"]
[10,{"$error":"#VALUE!"},{"$f":"IF($B20<>\"\",VLOOKUP($B20,CATLookup!$A$2:$E$271,2,FALSE),\"\")","v":{"$error":"#VALUE!"}},{"$f":"IF($B20<>\"\",VLOOKUP($B20,CATLookup!$A$2:$E$271,3,FALSE),\"\")","v":{"$error":"#VALUE!"}},{"$f":"IF($B20<>\"\",VLOOKUP($B20,CATLookup!$A$2:$E$271,4,FALSE),\"\")","v":{"$error":"#VALUE!"}},null,null,null,null,null,null,{"$error":"#VALUE!"},null,null,"1 year, will revise report"]
[11,{"$error":"#VALUE!"},{"$f":"IF($B21<>\"\",VLOOKUP($B21,CATLookup!$A$2:$E$271,2,FALSE),\"\")","v":{"$error":"#VALUE!"}},{"$f":"IF($B21<>\"\",VLOOKUP($B21,CATLookup!$A$2:$E$271,3,FALSE),\"\")","v":{"$error":"#VALUE!"}},{"$f":"IF($B21<>\"\",VLOOKUP($B21,CATLookup!$A$2:$E$271,4,FALSE),\"\")","v":{"$error":"#VALUE!"}},null,null,null,null,null,null,{"$error":"#VALUE!"},null,null,"1 year, no report revision"]
[12,{"$error":"#VALUE!"},{"$f":"IF($B22<>\"\",VLOOKUP($B22,CATLookup!$A$2:$E$271,2,FALSE),\"\")","v":{"$error":"#VALUE!"}},{"$f":"IF($B22<>\"\",VLOOKUP($B22,CATLookup!$A$2:$E$271,3,FALSE),\"\")","v":{"$error":"#VALUE!"}},{"$f":"IF($B22<>\"\",VLOOKUP($B22,CATLookup!$A$2:$E$271,4,FALSE),\"\")","v":{"$error":"#VALUE!"}},null,null,null,null,null,null,{"$error":"#VALUE!"},null,null,"18 months, will revise report"]
[13,{"$error":"#VALUE!"},{"$f":"IF($B23<>\"\",VLOOKUP($B23,CATLookup!$A$2:$E$271,2,FALSE),\"\")","v":{"$error":"#VALUE!"}},{"$f":"IF($B23<>\"\",VLOOKUP($B23,CATLookup!$A$2:$E$271,3,FALSE),\"\")","v":{"$error":"#VALUE!"}},{"$f":"IF($B23<>\"\",VLOOKUP($B23,CATLookup!$A$2:$E$271,4,FALSE),\"\")","v":{"$error":"#VALUE!"}},null,null,null,null,null,null,{"$error":"#VALUE!"},null,null,"18 months, no report revision"]
[14,{"$error":"#VALUE!"},{"$f":"IF($B24<>\"\",VLOOKUP($B24,CATLookup!$A$2:$E$271,2,FALSE),\"\")","v":{"$error":"#VALUE!"}},{"$f":"IF($B24<>\"\",VLOOKUP($B24,CATLookup!$A$2:$E$271,3,FALSE),\"\")","v":{"$error":"#VALUE!"}},{"$f":"IF($B24<>\"\",VLOOKUP($B24,CATLookup!$A$2:$E$271,4,FALSE),\"\")","v":{"$error":"#VALUE!"}},null,null,null,null,null,null,{"$error":"#VALUE!"},null,null,"2+ years, will revise report"]
[15,{"$error":"#VALUE!"},{"$f":"IF($B25<>\"\",VLOOKUP($B25,CATLookup!$A$2:$E$271,2,FALSE),\"\")","v":{"$error":"#VALUE!"}},{"$f":"IF($B25<>\"\",VLOOKUP($B25,CATLookup!$A$2:$E$271,3,FALSE),\"\")","v":{"$error":"#VALUE!"}},{"$f":"IF($B25<>\"\",VLOOKUP($B25,CATLookup!$A$2:$E$271,4,FALSE),\"\")","v":{"$error":"#VALUE!"}},null,null,null,null,null,null,{"$error":"#VALUE!"},null,null,"2+ years, no report revision"]
[16,{"$error":"#VALUE!"},{"$f":"IF($B26<>\"\",VLOOKUP($B26,CATLookup!$A$2:$E$271,2,FALSE),\"\")","v":{"$error":"#VALUE!"}},{"$f":"IF($B26<>\"\",VLOOKUP($B26,CATLookup!$A$2:$E$271,3,FALSE),\"\")","v":{"$error":"#VALUE!"}},{"$f":"IF($B26<>\"\",VLOOKUP($B26,CATLookup!$A$2:$E$271,4,FALSE),\"\")","v":{"$error":"#VALUE!"}},null,null,null,null,null,null,{"$error":"#VALUE!"}]
[17,{"$error":"#VALUE!"},{"$f":"IF($B27<>\"\",VLOOKUP($B27,CATLookup!$A$2:$E$271,2,FALSE),\"\")","v":{"$error":"#VALUE!"}},{"$f":"IF($B27<>\"\",VLOOKUP($B27,CATLookup!$A$2:$E$271,3,FALSE),\"\")","v":{"$error":"#VALUE!"}},{"$f":"IF($B27<>\"\",VLOOKUP($B27,CATLookup!$A$2:$E$271,4,FALSE),\"\")","v":{"$error":"#VALUE!"}},null,null,null,null,null,null,{"$error":"#VALUE!"}]
[18,{"$error":"#VALUE!"},{"$f":"IF($B28<>\"\",VLOOKUP($B28,CATLookup!$A$2:$E$271,2,FALSE),\"\")","v":{"$error":"#VALUE!"}},{"$f":"IF($B28<>\"\",VLOOKUP($B28,CATLookup!$A$2:$E$271,3,FALSE),\"\")","v":{"$error":"#VALUE!"}},{"$f":"IF($B28<>\"\",VLOOKUP($B28,CATLookup!$A$2:$E$271,4,FALSE),\"\")","v":{"$error":"#VALUE!"}},null,null,null,null,null,null,{"$error":"#VALUE!"}]
[19,{"$error":"#VALUE!"},{"$f":"IF($B29<>\"\",VLOOKUP($B29,CATLookup!$A$2:$E$271,2,FALSE),\"\")","v":{"$error":"#VALUE!"}},{"$f":"IF($B29<>\"\",VLOOKUP($B29,CATLookup!$A$2:$E$271,3,FALSE),\"\")","v":{"$error":"#VALUE!"}},{"$f":"IF($B29<>\"\",VLOOKUP($B29,CATLookup!$A$2:$E$271,4,FALSE),\"\")","v":{"$error":"#VALUE!"}},null,null,null,null,null,null,{"$error":"#VALUE!"}]
[20,{"$error":"#VALUE!"},{"$f":"IF($B30<>\"\",VLOOKUP($B30,CATLookup!$A$2:$E$271,2,FALSE),\"\")","v":{"$error":"#VALUE!"}},{"$f":"IF($B30<>\"\",VLOOKUP($B30,CATLookup!$A$2:$E$271,3,FALSE),\"\")","v":{"$error":"#VALUE!"}},{"$f":"IF($B30<>\"\",VLOOKUP($B30,CATLookup!$A$2:$E$271,4,FALSE),\"\")","v":{"$error":"#VALUE!"}},null,null,null,null,null,null,{"$error":"#VALUE!"}]
[21,{"$error":"#VALUE!"},{"$f":"IF($B31<>\"\",VLOOKUP($B31,CATLookup!$A$2:$E$271,2,FALSE),\"\")","v":{"$error":"#VALUE!"}},{"$f":"IF($B31<>\"\",VLOOKUP($B31,CATLookup!$A$2:$E$271,3,FALSE),\"\")","v":{"$error":"#VALUE!"}},{"$f":"IF($B31<>\"\",VLOOKUP($B31,CATLookup!$A$2:$E$271,4,FALSE),\"\")","v":{"$error":"#VALUE!"}},null,null,null,null,null,null,{"$error":"#VALUE!"}]
[22,{"$error":"#VALUE!"},{"$f":"IF($B32<>\"\",VLOOKUP($B32,CATLookup!$A$2:$E$271,2,FALSE),\"\")","v":{"$error":"#VALUE!"}},{"$f":"IF($B32<>\"\",VLOOKUP($B32,CATLookup!$A$2:$E$271,3,FALSE),\"\")","v":{"$error":"#VALUE!"}},{"$f":"IF($B32<>\"\",VLOOKUP($B32,CATLookup!$A$2:$E$271,4,FALSE),\"\")","v":{"$error":"#VALUE!"}},null,null,null,null,null,null,{"$error":"#VALUE!"}]
[23,{"$error":"#VALUE!"},{"$f":"IF($B33<>\"\",VLOOKUP($B33,CATLookup!$A$2:$E$271,2,FALSE),\"\")","v":{"$error":"#VALUE!"}},{"$f":"IF($B33<>\"\",VLOOKUP($B33,CATLookup!$A$2:$E$271,3,FALSE),\"\")","v":{"$error":"#VALUE!"}},{"$f":"IF($B33<>\"\",VLOOKUP($B33,CATLookup!$A$2:$E$271,4,FALSE),\"\")","v":{"$error":"#VALUE!"}},null,null,null,null,null,null,{"$error":"#VALUE!"}]
[24,{"$error":"#VALUE!"},{"$f":"IF($B34<>\"\",VLOOKUP($B34,CATLookup!$A$2:$E$271,2,FALSE),\"\")","v":{"$error":"#VALUE!"}},{"$f":"IF($B34<>\"\",VLOOKUP($B34,CATLookup!$A$2:$E$271,3,FALSE),\"\")","v":{"$error":"#VALUE!"}},{"$f":"IF($B34<>\"\",VLOOKUP($B34,CATLookup!$A$2:$E$271,4,FALSE),\"\")","v":{"$error":"#VALUE!"}},null,null,null,null,null,null,{"$error":"#VALUE!"}]
[25,{"$error":"#VALUE!"},{"$f":"IF($B35<>\"\",VLOOKUP($B35,CATLookup!$A$2:$E$271,2,FALSE),\"\")","v":{"$error":"#VALUE!"}},{"$f":"IF($B35<>\"\",VLOOKUP($B35,CATLookup!$A$2:$E$271,3,FALSE),\"\")","v":{"$error":"#VALUE!"}},{"$f":"IF($B35<>\"\",VLOOKUP($B35,CATLookup!$A$2:$E$271,4,FALSE),\"\")","v":{"$error":"#VALUE!"}},null,null,null,null,null,null,{"$error":"#VALUE!"}]
[26,{"$error":"#VALUE!"},{"$f":"IF($B36<>\"\",VLOOKUP($B36,CATLookup!$A$2:$E$271,2,FALSE),\"\")","v":{"$error":"#VALUE!"}},{"$f":"IF($B36<>\"\",VLOOKUP($B36,CATLookup!$A$2:$E$271,3,FALSE),\"\")","v":{"$error":"#VALUE!"}},{"$f":"IF($B36<>\"\",VLOOKUP($B36,CATLookup!$A$2:$E$271,4,FALSE),\"\")","v":{"$error":"#VALUE!"}},null,null,null,null,null,null,{"$error":"#VALUE!"}]
[27,{"$error":"#VALUE!"},{"$f":"IF($B37<>\"\",VLOOKUP($B37,CATLookup!$A$2:$E$271,2,FALSE),\"\")","v":{"$error":"#VALUE!"}},{"$f":"IF($B37<>\"\",VLOOKUP($B37,CATLookup!$A$2:$E$271,3,FALSE),\"\")","v":{"$error":"#VALUE!"}},{"$f":"IF($B37<>\"\",VLOOKUP($B37,CATLookup!$A$2:$E$271,4,FALSE),\"\")","v":{"$error":"#VALUE!"}},null,null,null,null,null,null,{"$error":"#VALUE!"}]
[28,{"$error":"#VALUE!"},{"$f":"IF($B38<>\"\",VLOOKUP($B38,CATLookup!$A$2:$E$271,2,FALSE),\"\")","v":{"$error":"#VALUE!"}},{"$f":"IF($B38<>\"\",VLOOKUP($B38,CATLookup!$A$2:$E$271,3,FALSE),\"\")","v":{"$error":"#VALUE!"}},{"$f":"IF($B38<>\"\",VLOOKUP($B38,CATLookup!$A$2:$E$271,4,FALSE),\"\")","v":{"$error":"#VALUE!"}},null,null,null,null,null,null,{"$error":"#VALUE!"}]
[29,{"$error":"#VALUE!"},{"$f":"IF($B39<>\"\",VLOOKUP($B39,CATLookup!$A$2:$E$271,2,FALSE),\"\")","v":{"$error":"#VALUE!"}},{"$f":"IF($B39<>\"\",VLOOKUP($B39,CATLookup!$A$2:$E$271,3,FALSE),\"\")","v":{"$error":"#VALUE!"}},{"$f":"IF($B39<>\"\",VLOOKUP($B39,CATLookup!$A$2:$E$271,4,FALSE),\"\")","v":{"$error":"#VALUE!"}},null,null,null,null,null,null,{"$error":"#VALUE!"}]
[30,{"$error":"#VALUE!"},{"$f":"IF($B40<>\"\",VLOOKUP($B40,CATLookup!$A$2:$E$271,2,FALSE),\"\")","v":{"$error":"#VALUE!"}},{"$f":"IF($B40<>\"\",VLOOKUP($B40,CATLookup!$A$2:$E$271,3,FALSE),\"\")","v":{"$error":"#VALUE!"}},{"$f":"IF($B40<>\"\",VLOOKUP($B40,CATLookup!$A$2:$E$271,4,FALSE),\"\")","v":{"$error":"#VALUE!"}},null,null,null,null,null,null,{"$error":"#VALUE!"}]
[31,{"$error":"#VALUE!"},{"$f":"IF($B41<>\"\",VLOOKUP($B41,CATLookup!$A$2:$E$271,2,FALSE),\"\")","v":{"$error":"#VALUE!"}},{"$f":"IF($B41<>\"\",VLOOKUP($B41,CATLookup!$A$2:$E$271,3,FALSE),\"\")","v":{"$error":"#VALUE!"}},{"$f":"IF($B41<>\"\",VLOOKUP($B41,CATLookup!$A$2:$E$271,4,FALSE),\"\")","v":{"$error":"#VALUE!"}},null,null,null,null,null,null,{"$error":"#VALUE!"}]
[32,{"$error":"#VALUE!"},{"$f":"IF($B42<>\"\",VLOOKUP($B42,CATLookup!$A$2:$E$271,2,FALSE),\"\")","v":{"$error":"#VALUE!"}},{"$f":"IF($B42<>\"\",VLOOKUP($B42,CATLookup!$A$2:$E$271,3,FALSE),\"\")","v":{"$error":"#VALUE!"}},{"$f":"IF($B42<>\"\",VLOOKUP($B42,CATLookup!$A$2:$E$271,4,FALSE),\"\")","v":{"$error":"#VALUE!"}},null,null,null,null,null,null,{"$error":"#VALUE!"}]
[33,{"$error":"#VALUE!"},{"$f":"IF($B43<>\"\",VLOOKUP($B43,CATLookup!$A$2:$E$271,2,FALSE),\"\")","v":{"$error":"#VALUE!"}},{"$f":"IF($B43<>\"\",VLOOKUP($B43,CATLookup!$A$2:$E$271,3,FALSE),\"\")","v":{"$error":"#VALUE!"}},{"$f":"IF($B43<>\"\",VLOOKUP($B43,CATLookup!$A$2:$E$271,4,FALSE),\"\")","v":{"$error":"#VALUE!"}},null,null,null,null,null,null,{"$error":"#VALUE!"}]
[34,{"$error":"#VALUE!"},{"$f":"IF($B44<>\"\",VLOOKUP($B44,CATLookup!$A$2:$E$271,2,FALSE),\"\")","v":{"$error":"#VALUE!"}},{"$f":"IF($B44<>\"\",VLOOKUP($B44,CATLookup!$A$2:$E$271,3,FALSE),\"\")","v":{"$error":"#VALUE!"}},{"$f":"IF($B44<>\"\",VLOOKUP($B44,CATLookup!$A$2:$E$271,4,FALSE),\"\")","v":{"$error":"#VALUE!"}},null,null,null,null,null,null,{"$error":"#VALUE!"}]
[35,{"$error":"#VALUE!"},{"$f":"IF($B45<>\"\",VLOOKUP($B45,CATLookup!$A$2:$E$271,2,FALSE),\"\")","v":{"$error":"#VALUE!"}},{"$f":"IF($B45<>\"\",VLOOKUP($B45,CATLookup!$A$2:$E$271,3,FALSE),\"\")","v":{"$error":"#VALUE!"}},{"$f":"IF($B45<>\"\",VLOOKUP($B45,CATLookup!$A$2:$E$271,4,FALSE),\"\")","v":{"$error":"#VALUE!"}},null,null,null,null,null,null,{"$error":"#VALUE!"}]
[36,{"$error":"#VALUE!"},{"$f":"IF($B46<>\"\",VLOOKUP($B46,CATLookup!$A$2:$E$271,2,FALSE),\"\")","v":{"$error":"#VALUE!"}},{"$f":"IF($B46<>\"\",VLOOKUP($B46,CATLookup!$A$2:$E$271,3,FALSE),\"\")","v":{"$error":"#VALUE!"}},{"$f":"IF($B46<>\"\",VLOOKUP($B46,CATLookup!$A$2:$E$271,4,FALSE),\"\")","v":{"$error":"#VALUE!"}},null,null,null,null,null,null,{"$error":"#VALUE!"}]
[37,{"$error":"#VALUE!"},{"$f":"IF($B47<>\"\",VLOOKUP($B47,CATLookup!$A$2:$E$271,2,FALSE),\"\")","v":{"$error":"#VALUE!"}},{"$f":"IF($B47<>\"\",VLOOKUP($B47,CATLookup!$A$2:$E$271,3,FALSE),\"\")","v":{"$error":"#VALUE!"}},{"$f":"IF($B47<>\"\",VLOOKUP($B47,CATLookup!$A$2:$E$271,4,FALSE),\"\")","v":{"$error":"#VALUE!"}},null,null,null,null,null,null,{"$error":"#VALUE!"}]
[38,{"$error":"#VALUE!"},{"$f":"IF($B48<>\"\",VLOOKUP($B48,CATLookup!$A$2:$E$271,2,FALSE),\"\")","v":{"$error":"#VALUE!"}},{"$f":"IF($B48<>\"\",VLOOKUP($B48,CATLookup!$A$2:$E$271,3,FALSE),\"\")","v":{"$error":"#VALUE!"}},{"$f":"IF($B48<>\"\",VLOOKUP($B48,CATLookup!$A$2:$E$271,4,FALSE),\"\")","v":{"$error":"#VALUE!"}},null,null,null,null,null,null,{"$error":"#VALUE!"}]
[39,{"$error":"#VALUE!"},{"$f":"IF($B49<>\"\",VLOOKUP($B49,CATLookup!$A$2:$E$271,2,FALSE),\"\")","v":{"$error":"#VALUE!"}},{"$f":"IF($B49<>\"\",VLOOKUP($B49,CATLookup!$A$2:$E$271,3,FALSE),\"\")","v":{"$error":"#VALUE!"}},{"$f":"IF($B49<>\"\",VLOOKUP($B49,CATLookup!$A$2:$E$271,4,FALSE),\"\")","v":{"$error":"#VALUE!"}},null,null,null,null,null,null,{"$error":"#VALUE!"}]
[40,{"$error":"#VALUE!"},{"$f":"IF($B50<>\"\",VLOOKUP($B50,CATLookup!$A$2:$E$271,2,FALSE),\"\")","v":{"$error":"#VALUE!"}},{"$f":"IF($B50<>\"\",VLOOKUP($B50,CATLookup!$A$2:$E$271,3,FALSE),\"\")","v":{"$error":"#VALUE!"}},{"$f":"IF($B50<>\"\",VLOOKUP($B50,CATLookup!$A$2:$E$271,4,FALSE),\"\")","v":{"$error":"#VALUE!"}},null,null,null,null,null,null,{"$error":"#VALUE!"}]
[41,{"$error":"#VALUE!"},{"$f":"IF($B51<>\"\",VLOOKUP($B51,CATLookup!$A$2:$E$271,2,FALSE),\"\")","v":{"$error":"#VALUE!"}},{"$f":"IF($B51<>\"\",VLOOKUP($B51,CATLookup!$A$2:$E$271,3,FALSE),\"\")","v":{"$error":"#VALUE!"}},{"$f":"IF($B51<>\"\",VLOOKUP($B51,CATLookup!$A$2:$E$271,4,FALSE),\"\")","v":{"$error":"#VALUE!"}},null,null,null,null,null,null,{"$error":"#VALUE!"}]
[42,{"$error":"#VALUE!"},{"$f":"IF($B52<>\"\",VLOOKUP($B52,CATLookup!$A$2:$E$271,2,FALSE),\"\")","v":{"$error":"#VALUE!"}},{"$f":"IF($B52<>\"\",VLOOKUP($B52,CATLookup!$A$2:$E$271,3,FALSE),\"\")","v":{"$error":"#VALUE!"}},{"$f":"IF($B52<>\"\",VLOOKUP($B52,CATLookup!$A$2:$E$271,4,FALSE),\"\")","v":{"$error":"#VALUE!"}},null,null,null,null,null,null,{"$error":"#VALUE!"}]
[43,{"$error":"#VALUE!"},{"$f":"IF($B53<>\"\",VLOOKUP($B53,CATLookup!$A$2:$E$271,2,FALSE),\"\")","v":{"$error":"#VALUE!"}},{"$f":"IF($B53<>\"\",VLOOKUP($B53,CATLookup!$A$2:$E$271,3,FALSE),\"\")","v":{"$error":"#VALUE!"}},{"$f":"IF($B53<>\"\",VLOOKUP($B53,CATLookup!$A$2:$E$271,4,FALSE),\"\")","v":{"$error":"#VALUE!"}},null,null,null,null,null,null,{"$error":"#VALUE!"}]
[44,{"$error":"#VALUE!"},{"$f":"IF($B54<>\"\",VLOOKUP($B54,CATLookup!$A$2:$E$271,2,FALSE),\"\")","v":{"$error":"#VALUE!"}},{"$f":"IF($B54<>\"\",VLOOKUP($B54,CATLookup!$A$2:$E$271,3,FALSE),\"\")","v":{"$error":"#VALUE!"}},{"$f":"IF($B54<>\"\",VLOOKUP($B54,CATLookup!$A$2:$E$271,4,FALSE),\"\")","v":{"$error":"#VALUE!"}},null,null,null,null,null,null,{"$error":"#VALUE!"}]
[45,{"$error":"#VALUE!"},{"$f":"IF($B55<>\"\",VLOOKUP($B55,CATLookup!$A$2:$E$271,2,FALSE),\"\")","v":{"$error":"#VALUE!"}},{"$f":"IF($B55<>\"\",VLOOKUP($B55,CATLookup!$A$2:$E$271,3,FALSE),\"\")","v":{"$error":"#VALUE!"}},{"$f":"IF($B55<>\"\",VLOOKUP($B55,CATLookup!$A$2:$E$271,4,FALSE),\"\")","v":{"$error":"#VALUE!"}},null,null,null,null,null,null,{"$error":"#VALUE!"}]
[46,{"$error":"#VALUE!"},{"$f":"IF($B56<>\"\",VLOOKUP($B56,CATLookup!$A$2:$E$271,2,FALSE),\"\")","v":{"$error":"#VALUE!"}},{"$f":"IF($B56<>\"\",VLOOKUP($B56,CATLookup!$A$2:$E$271,3,FALSE),\"\")","v":{"$error":"#VALUE!"}},{"$f":"IF($B56<>\"\",VLOOKUP($B56,CATLookup!$A$2:$E$271,4,FALSE),\"\")","v":{"$error":"#VALUE!"}},null,null,null,null,null,null,{"$error":"#VALUE!"}]
[47,{"$error":"#VALUE!"},{"$f":"IF($B57<>\"\",VLOOKUP($B57,CATLookup!$A$2:$E$271,2,FALSE),\"\")","v":{"$error":"#VALUE!"}},{"$f":"IF($B57<>\"\",VLOOKUP($B57,CATLookup!$A$2:$E$271,3,FALSE),\"\")","v":{"$error":"#VALUE!"}},{"$f":"IF($B57<>\"\",VLOOKUP($B57,CATLookup!$A$2:$E$271,4,FALSE),\"\")","v":{"$error":"#VALUE!"}},null,null,null,null,null,null,{"$error":"#VALUE!"}]
[48,{"$error":"#VALUE!"},{"$f":"IF($B58<>\"\",VLOOKUP($B58,CATLookup!$A$2:$E$271,2,FALSE),\"\")","v":{"$error":"#VALUE!"}},{"$f":"IF($B58<>\"\",VLOOKUP($B58,CATLookup!$A$2:$E$271,3,FALSE),\"\")","v":{"$error":"#VALUE!"}},{"$f":"IF($B58<>\"\",VLOOKUP($B58,CATLookup!$A$2:$E$271,4,FALSE),\"\")","v":{"$error":"#VALUE!"}},null,null,null,null,null,null,{"$error":"#VALUE!"}]
[49,{"$error":"#VALUE!"},{"$f":"IF($B59<>\"\",VLOOKUP($B59,CATLookup!$A$2:$E$271,2,FALSE),\"\")","v":{"$error":"#VALUE!"}},{"$f":"IF($B59<>\"\",VLOOKUP($B59,CATLookup!$A$2:$E$271,3,FALSE),\"\")","v":{"$error":"#VALUE!"}},{"$f":"IF($B59<>\"\",VLOOKUP($B59,CATLookup!$A$2:$E$271,4,FALSE),\"\")","v":{"$error":"#VALUE!"}},null,null,null,null,null,null,{"$error":"#VALUE!"}]
[50,{"$error":"#VALUE!"},{"$f":"IF($B60<>\"\",VLOOKUP($B60,CATLookup!$A$2:$E$271,2,FALSE),\"\")","v":{"$error":"#VALUE!"}},{"$f":"IF($B60<>\"\",VLOOKUP($B60,CATLookup!$A$2:$E$271,3,FALSE),\"\")","v":{"$error":"#VALUE!"}},{"$f":"IF($B60<>\"\",VLOOKUP($B60,CATLookup!$A$2:$E$271,4,FALSE),\"\")","v":{"$error":"#VALUE!"}},null,null,null,null,null,null,{"$error":"#VALUE!"}]
[51,{"$error":"#VALUE!"},{"$f":"IF($B61<>\"\",VLOOKUP($B61,CATLookup!$A$2:$E$271,2,FALSE),\"\")","v":{"$error":"#VALUE!"}},{"$f":"IF($B61<>\"\",VLOOKUP($B61,CATLookup!$A$2:$E$271,3,FALSE),\"\")","v":{"$error":"#VALUE!"}},{"$f":"IF($B61<>\"\",VLOOKUP($B61,CATLookup!$A$2:$E$271,4,FALSE),\"\")","v":{"$error":"#VALUE!"}},null,null,null,null,null,null,{"$error":"#VALUE!"}]
[52,{"$error":"#VALUE!"},{"$f":"IF($B62<>\"\",VLOOKUP($B62,CATLookup!$A$2:$E$271,2,FALSE),\"\")","v":{"$error":"#VALUE!"}},{"$f":"IF($B62<>\"\",VLOOKUP($B62,CATLookup!$A$2:$E$271,3,FALSE),\"\")","v":{"$error":"#VALUE!"}},{"$f":"IF($B62<>\"\",VLOOKUP($B62,CATLookup!$A$2:$E$271,4,FALSE),\"\")","v":{"$error":"#VALUE!"}},null,null,null,null,null,null,{"$error":"#VALUE!"}]
[53,{"$error":"#VALUE!"},{"$f":"IF($B63<>\"\",VLOOKUP($B63,CATLookup!$A$2:$E$271,2,FALSE),\"\")","v":{"$error":"#VALUE!"}},{"$f":"IF($B63<>\"\",VLOOKUP($B63,CATLookup!$A$2:$E$271,3,FALSE),\"\")","v":{"$error":"#VALUE!"}},{"$f":"IF($B63<>\"\",VLOOKUP($B63,CATLookup!$A$2:$E$271,4,FALSE),\"\")","v":{"$error":"#VALUE!"}},null,null,null,null,null,null,{"$error":"#VALUE!"}]
[54,{"$error":"#VALUE!"},{"$f":"IF($B64<>\"\",VLOOKUP($B64,CATLookup!$A$2:$E$271,2,FALSE),\"\")","v":{"$error":"#VALUE!"}},{"$f":"IF($B64<>\"\",VLOOKUP($B64,CATLookup!$A$2:$E$271,3,FALSE),\"\")","v":{"$error":"#VALUE!"}},{"$f":"IF($B64<>\"\",VLOOKUP($B64,CATLookup!$A$2:$E$271,4,FALSE),\"\")","v":{"$error":"#VALUE!"}},null,null,null,null,null,null,{"$error":"#VALUE!"}]
[55,{"$error":"#VALUE!"},{"$f":"IF($B65<>\"\",VLOOKUP($B65,CATLookup!$A$2:$E$271,2,FALSE),\"\")","v":{"$error":"#VALUE!"}},{"$f":"IF($B65<>\"\",VLOOKUP($B65,CATLookup!$A$2:$E$271,3,FALSE),\"\")","v":{"$error":"#VALUE!"}},{"$f":"IF($B65<>\"\",VLOOKUP($B65,CATLookup!$A$2:$E$271,4,FALSE),\"\")","v":{"$error":"#VALUE!"}},null,null,null,null,null,null,{"$error":"#VALUE!"}]
[56,{"$error":"#VALUE!"},{"$f":"IF($B66<>\"\",VLOOKUP($B66,CATLookup!$A$2:$E$271,2,FALSE),\"\")","v":{"$error":"#VALUE!"}},{"$f":"IF($B66<>\"\",VLOOKUP($B66,CATLookup!$A$2:$E$271,3,FALSE),\"\")","v":{"$error":"#VALUE!"}},{"$f":"IF($B66<>\"\",VLOOKUP($B66,CATLookup!$A$2:$E$271,4,FALSE),\"\")","v":{"$error":"#VALUE!"}},null,null,null,null,null,null,{"$error":"#VALUE!"}]
[57,{"$error":"#VALUE!"},{"$f":"IF($B67<>\"\",VLOOKUP($B67,CATLookup!$A$2:$E$271,2,FALSE),\"\")","v":{"$error":"#VALUE!"}},{"$f":"IF($B67<>\"\",VLOOKUP($B67,CATLookup!$A$2:$E$271,3,FALSE),\"\")","v":{"$error":"#VALUE!"}},{"$f":"IF($B67<>\"\",VLOOKUP($B67,CATLookup!$A$2:$E$271,4,FALSE),\"\")","v":{"$error":"#VALUE!"}},null,null,null,null,null,null,{"$error":"#VALUE!"}]
[58,{"$error":"#VALUE!"},{"$f":"IF($B68<>\"\",VLOOKUP($B68,CATLookup!$A$2:$E$271,2,FALSE),\"\")","v":{"$error":"#VALUE!"}},{"$f":"IF($B68<>\"\",VLOOKUP($B68,CATLookup!$A$2:$E$271,3,FALSE),\"\")","v":{"$error":"#VALUE!"}},{"$f":"IF($B68<>\"\",VLOOKUP($B68,CATLookup!$A$2:$E$271,4,FALSE),\"\")","v":{"$error":"#VALUE!"}},null,null,null,null,null,null,{"$error":"#VALUE!"}]
[59,{"$error":"#VALUE!"},{"$f":"IF($B69<>\"\",VLOOKUP($B69,CATLookup!$A$2:$E$271,2,FALSE),\"\")","v":{"$error":"#VALUE!"}},{"$f":"IF($B69<>\"\",VLOOKUP($B69,CATLookup!$A$2:$E$271,3,FALSE),\"\")","v":{"$error":"#VALUE!"}},{"$f":"IF($B69<>\"\",VLOOKUP($B69,CATLookup!$A$2:$E$271,4,FALSE),\"\")","v":{"$error":"#VALUE!"}},null,null,null,null,null,null,{"$error":"#VALUE!"}]
[60,{"$error":"#VALUE!"},{"$f":"IF($B70<>\"\",VLOOKUP($B70,CATLookup!$A$2:$E$271,2,FALSE),\"\")","v":{"$error":"#VALUE!"}},{"$f":"IF($B70<>\"\",VLOOKUP($B70,CATLookup!$A$2:$E$271,3,FALSE),\"\")","v":{"$error":"#VALUE!"}},{"$f":"IF($B70<>\"\",VLOOKUP($B70,CATLookup!$A$2:$E$271,4,FALSE),\"\")","v":{"$error":"#VALUE!"}},null,null,null,null,null,null,{"$error":"#VALUE!"}]
[61,{"$error":"#VALUE!"},{"$f":"IF($B71<>\"\",VLOOKUP($B71,CATLookup!$A$2:$E$271,2,FALSE),\"\")","v":{"$error":"#VALUE!"}},{"$f":"IF($B71<>\"\",VLOOKUP($B71,CATLookup!$A$2:$E$271,3,FALSE),\"\")","v":{"$error":"#VALUE!"}},{"$f":"IF($B71<>\"\",VLOOKUP($B71,CATLookup!$A$2:$E$271,4,FALSE),\"\")","v":{"$error":"#VALUE!"}},null,null,null,null,null,null,{"$error":"#VALUE!"}]
[62,{"$error":"#VALUE!"},{"$f":"IF($B72<>\"\",VLOOKUP($B72,CATLookup!$A$2:$E$271,2,FALSE),\"\")","v":{"$error":"#VALUE!"}},{"$f":"IF($B72<>\"\",VLOOKUP($B72,CATLookup!$A$2:$E$271,3,FALSE),\"\")","v":{"$error":"#VALUE!"}},{"$f":"IF($B72<>\"\",VLOOKUP($B72,CATLookup!$A$2:$E$271,4,FALSE),\"\")","v":{"$error":"#VALUE!"}},null,null,null,null,null,null,{"$error":"#VALUE!"}]
[63,{"$error":"#VALUE!"},{"$f":"IF($B73<>\"\",VLOOKUP($B73,CATLookup!$A$2:$E$271,2,FALSE),\"\")","v":{"$error":"#VALUE!"}},{"$f":"IF($B73<>\"\",VLOOKUP($B73,CATLookup!$A$2:$E$271,3,FALSE),\"\")","v":{"$error":"#VALUE!"}},{"$f":"IF($B73<>\"\",VLOOKUP($B73,CATLookup!$A$2:$E$271,4,FALSE),\"\")","v":{"$error":"#VALUE!"}},null,null,null,null,null,null,{"$error":"#VALUE!"}]
[64,{"$error":"#VALUE!"},{"$f":"IF($B74<>\"\",VLOOKUP($B74,CATLookup!$A$2:$E$271,2,FALSE),\"\")","v":{"$error":"#VALUE!"}},{"$f":"IF($B74<>\"\",VLOOKUP($B74,CATLookup!$A$2:$E$271,3,FALSE),\"\")","v":{"$error":"#VALUE!"}},{"$f":"IF($B74<>\"\",VLOOKUP($B74,CATLookup!$A$2:$E$271,4,FALSE),\"\")","v":{"$error":"#VALUE!"}},null,null,null,null,null,null,{"$error":"#VALUE!"}]
[65,{"$error":"#VALUE!"},{"$f":"IF($B75<>\"\",VLOOKUP($B75,CATLookup!$A$2:$E$271,2,FALSE),\"\")","v":{"$error":"#VALUE!"}},{"$f":"IF($B75<>\"\",VLOOKUP($B75,CATLookup!$A$2:$E$271,3,FALSE),\"\")","v":{"$error":"#VALUE!"}},{"$f":"IF($B75<>\"\",VLOOKUP($B75,CATLookup!$A$2:$E$271,4,FALSE),\"\")","v":{"$error":"#VALUE!"}},null,null,null,null,null,null,{"$error":"#VALUE!"}]
[66,{"$f":"IF(A$9=0,\"No items for this report\",IF(A76<=A$9,A76,\"\"))","v":{"$error":"#VALUE!"}},{"$f":"IF($B76<>\"\",VLOOKUP($B76,CATLookup!$A$2:$E$271,2,FALSE),\"\")","v":{"$error":"#VALUE!"}},{"$f":"IF($B76<>\"\",VLOOKUP($B76,CATLookup!$A$2:$E$271,3,FALSE),\"\")","v":{"$error":"#VALUE!"}},{"$f":"IF($B76<>\"\",VLOOKUP($B76,CATLookup!$A$2:$E$271,4,FALSE),\"\")","v":{"$error":"#VALUE!"}},null,null,null,null,null,null,{"$f":"IF(B76<>\"\",L75+1,1)","v":{"$error":"#VALUE!"}}]
[67,{"$error":"#VALUE!"},{"$f":"IF($B77<>\"\",VLOOKUP($B77,CATLookup!$A$2:$E$271,2,FALSE),\"\")","v":{"$error":"#VALUE!"}},{"$f":"IF($B77<>\"\",VLOOKUP($B77,CATLookup!$A$2:$E$271,3,FALSE),\"\")","v":{"$error":"#VALUE!"}},{"$f":"IF($B77<>\"\",VLOOKUP($B77,CATLookup!$A$2:$E$271,4,FALSE),\"\")","v":{"$error":"#VALUE!"}},null,null,null,null,null,null,{"$error":"#VALUE!"}]
[68,{"$error":"#VALUE!"},{"$f":"IF($B78<>\"\",VLOOKUP($B78,CATLookup!$A$2:$E$271,2,FALSE),\"\")","v":{"$error":"#VALUE!"}},{"$f":"IF($B78<>\"\",VLOOKUP($B78,CATLookup!$A$2:$E$271,3,FALSE),\"\")","v":{"$error":"#VALUE!"}},{"$f":"IF($B78<>\"\",VLOOKUP($B78,CATLookup!$A$2:$E$271,4,FALSE),\"\")","v":{"$error":"#VALUE!"}},null,null,null,null,null,null,{"$error":"#VALUE!"}]
[69,{"$error":"#VALUE!"},{"$f":"IF($B79<>\"\",VLOOKUP($B79,CATLookup!$A$2:$E$271,2,FALSE),\"\")","v":{"$error":"#VALUE!"}},{"$f":"IF($B79<>\"\",VLOOKUP($B79,CATLookup!$A$2:$E$271,3,FALSE),\"\")","v":{"$error":"#VALUE!"}},{"$f":"IF($B79<>\"\",VLOOKUP($B79,CATLookup!$A$2:$E$271,4,FALSE),\"\")","v":{"$error":"#VALUE!"}},null,null,null,null,null,null,{"$error":"#VALUE!"}]
[70,{"$error":"#VALUE!"},{"$f":"IF($B80<>\"\",VLOOKUP($B80,CATLookup!$A$2:$E$271,2,FALSE),\"\")","v":{"$error":"#VALUE!"}},{"$f":"IF($B80<>\"\",VLOOKUP($B80,CATLookup!$A$2:$E$271,3,FALSE),\"\")","v":{"$error":"#VALUE!"}},{"$f":"IF($B80<>\"\",VLOOKUP($B80,CATLookup!$A$2:$E$271,4,FALSE),\"\")","v":{"$error":"#VALUE!"}},null,null,null,null,null,null,{"$error":"#VALUE!"}]
[71,{"$error":"#VALUE!"},{"$f":"IF($B81<>\"\",VLOOKUP($B81,CATLookup!$A$2:$E$271,2,FALSE),\"\")","v":{"$error":"#VALUE!"}},{"$f":"IF($B81<>\"\",VLOOKUP($B81,CATLookup!$A$2:$E$271,3,FALSE),\"\")","v":{"$error":"#VALUE!"}},{"$f":"IF($B81<>\"\",VLOOKUP($B81,CATLookup!$A$2:$E$271,4,FALSE),\"\")","v":{"$error":"#VALUE!"}},null,null,null,null,null,null,{"$error":"#VALUE!"}]
[72,{"$error":"#VALUE!"},{"$f":"IF($B82<>\"\",VLOOKUP($B82,CATLookup!$A$2:$E$271,2,FALSE),\"\")","v":{"$error":"#VALUE!"}},{"$f":"IF($B82<>\"\",VLOOKUP($B82,CATLookup!$A$2:$E$271,3,FALSE),\"\")","v":{"$error":"#VALUE!"}},{"$f":"IF($B82<>\"\",VLOOKUP($B82,CATLookup!$A$2:$E$271,4,FALSE),\"\")","v":{"$error":"#VALUE!"}},null,null,null,null,null,null,{"$error":"#VALUE!"}]
[73,{"$error":"#VALUE!"},{"$f":"IF($B83<>\"\",VLOOKUP($B83,CATLookup!$A$2:$E$271,2,FALSE),\"\")","v":{"$error":"#VALUE!"}},{"$f":"IF($B83<>\"\",VLOOKUP($B83,CATLookup!$A$2:$E$271,3,FALSE),\"\")","v":{"$error":"#VALUE!"}},{"$f":"IF($B83<>\"\",VLOOKUP($B83,CATLookup!$A$2:$E$271,4,FALSE),\"\")","v":{"$error":"#VALUE!"}},null,null,null,null,null,null,{"$error":"#VALUE!"}]
[74,{"$error":"#VALUE!"},{"$f":"IF($B84<>\"\",VLOOKUP($B84,CATLookup!$A$2:$E$271,2,FALSE),\"\")","v":{"$error":"#VALUE!"}},{"$f":"IF($B84<>\"\",VLOOKUP($B84,CATLookup!$A$2:$E$271,3,FALSE),\"\")","v":{"$error":"#VALUE!"}},{"$f":"IF($B84<>\"\",VLOOKUP($B84,CATLookup!$A$2:$E$271,4,FALSE),\"\")","v":{"$error":"#VALUE!"}},null,null,null,null,null,null,{"$error":"#VALUE!"}]
[75,{"$error":"#VALUE!"},{"$f":"IF($B85<>\"\",VLOOKUP($B85,CATLookup!$A$2:$E$271,2,FALSE),\"\")","v":{"$error":"#VALUE!"}},{"$f":"IF($B85<>\"\",VLOOKUP($B85,CATLookup!$A$2:$E$271,3,FALSE),\"\")","v":{"$error":"#VALUE!"}},{"$f":"IF($B85<>\"\",VLOOKUP($B85,CATLookup!$A$2:$E$271,4,FALSE),\"\")","v":{"$error":"#VALUE!"}},null,null,null,null,null,null,{"$error":"#VALUE!"}]
[76,{"$error":"#VALUE!"},{"$f":"IF($B86<>\"\",VLOOKUP($B86,CATLookup!$A$2:$E$271,2,FALSE),\"\")","v":{"$error":"#VALUE!"}},{"$f":"IF($B86<>\"\",VLOOKUP($B86,CATLookup!$A$2:$E$271,3,FALSE),\"\")","v":{"$error":"#VALUE!"}},{"$f":"IF($B86<>\"\",VLOOKUP($B86,CATLookup!$A$2:$E$271,4,FALSE),\"\")","v":{"$error":"#VALUE!"}},null,null,null,null,null,null,{"$error":"#VALUE!"}]
[77,{"$error":"#VALUE!"},{"$f":"IF($B87<>\"\",VLOOKUP($B87,CATLookup!$A$2:$E$271,2,FALSE),\"\")","v":{"$error":"#VALUE!"}},{"$f":"IF($B87<>\"\",VLOOKUP($B87,CATLookup!$A$2:$E$271,3,FALSE),\"\")","v":{"$error":"#VALUE!"}},{"$f":"IF($B87<>\"\",VLOOKUP($B87,CATLookup!$A$2:$E$271,4,FALSE),\"\")","v":{"$error":"#VALUE!"}},null,null,null,null,null,null,{"$error":"#VALUE!"}]
[78,{"$error":"#VALUE!"},{"$f":"IF($B88<>\"\",VLOOKUP($B88,CATLookup!$A$2:$E$271,2,FALSE),\"\")","v":{"$error":"#VALUE!"}},{"$f":"IF($B88<>\"\",VLOOKUP($B88,CATLookup!$A$2:$E$271,3,FALSE),\"\")","v":{"$error":"#VALUE!"}},{"$f":"IF($B88<>\"\",VLOOKUP($B88,CATLookup!$A$2:$E$271,4,FALSE),\"\")","v":{"$error":"#VALUE!"}},null,null,null,null,null,null,{"$error":"#VALUE!"}]
[79,{"$error":"#VALUE!"},{"$f":"IF($B89<>\"\",VLOOKUP($B89,CATLookup!$A$2:$E$271,2,FALSE),\"\")","v":{"$error":"#VALUE!"}},{"$f":"IF($B89<>\"\",VLOOKUP($B89,CATLookup!$A$2:$E$271,3,FALSE),\"\")","v":{"$error":"#VALUE!"}},{"$f":"IF($B89<>\"\",VLOOKUP($B89,CATLookup!$A$2:$E$271,4,FALSE),\"\")","v":{"$error":"#VALUE!"}},null,null,null,null,null,null,{"$error":"#VALUE!"}]
[80,{"$error":"#VALUE!"},{"$f":"IF($B90<>\"\",VLOOKUP($B90,CATLookup!$A$2:$E$271,2,FALSE),\"\")","v":{"$error":"#VALUE!"}},{"$f":"IF($B90<>\"\",VLOOKUP($B90,CATLookup!$A$2:$E$271,3,FALSE),\"\")","v":{"$error":"#VALUE!"}},{"$f":"IF($B90<>\"\",VLOOKUP($B90,CATLookup!$A$2:$E$271,4,FALSE),\"\")","v":{"$error":"#VALUE!"}},null,null,null,null,null,null,{"$error":"#VALUE!"}]
[81,{"$error":"#VALUE!"},{"$f":"IF($B91<>\"\",VLOOKUP($B91,CATLookup!$A$2:$E$271,2,FALSE),\"\")","v":{"$error":"#VALUE!"}},{"$f":"IF($B91<>\"\",VLOOKUP($B91,CATLookup!$A$2:$E$271,3,FALSE),\"\")","v":{"$error":"#VALUE!"}},{"$f":"IF($B91<>\"\",VLOOKUP($B91,CATLookup!$A$2:$E$271,4,FALSE),\"\")","v":{"$error":"#VALUE!"}},null,null,null,null,null,null,{"$error":"#VALUE!"}]
[82,{"$error":"#VALUE!"},{"$f":"IF($B92<>\"\",VLOOKUP($B92,CATLookup!$A$2:$E$271,2,FALSE),\"\")","v":{"$error":"#VALUE!"}},{"$f":"IF($B92<>\"\",VLOOKUP($B92,CATLookup!$A$2:$E$271,3,FALSE),\"\")","v":{"$error":"#VALUE!"}},{"$f":"IF($B92<>\"\",VLOOKUP($B92,CATLookup!$A$2:$E$271,4,FALSE),\"\")","v":{"$error":"#VALUE!"}},null,null,null,null,null,null,{"$error":"#VALUE!"}]
[83,{"$error":"#VALUE!"},{"$f":"IF($B93<>\"\",VLOOKUP($B93,CATLookup!$A$2:$E$271,2,FALSE),\"\")","v":{"$error":"#VALUE!"}},{"$f":"IF($B93<>\"\",VLOOKUP($B93,CATLookup!$A$2:$E$271,3,FALSE),\"\")","v":{"$error":"#VALUE!"}},{"$f":"IF($B93<>\"\",VLOOKUP($B93,CATLookup!$A$2:$E$271,4,FALSE),\"\")","v":{"$error":"#VALUE!"}},null,null,null,null,null,null,{"$error":"#VALUE!"}]
[84,{"$error":"#VALUE!"},{"$f":"IF($B94<>\"\",VLOOKUP($B94,CATLookup!$A$2:$E$271,2,FALSE),\"\")","v":{"$error":"#VALUE!"}},{"$f":"IF($B94<>\"\",VLOOKUP($B94,CATLookup!$A$2:$E$271,3,FALSE),\"\")","v":{"$error":"#VALUE!"}},{"$f":"IF($B94<>\"\",VLOOKUP($B94,CATLookup!$A$2:$E$271,4,FALSE),\"\")","v":{"$error":"#VALUE!"}},null,null,null,null,null,null,{"$error":"#VALUE!"}]
[85,{"$error":"#VALUE!"},{"$f":"IF($B95<>\"\",VLOOKUP($B95,CATLookup!$A$2:$E$271,2,FALSE),\"\")","v":{"$error":"#VALUE!"}},{"$f":"IF($B95<>\"\",VLOOKUP($B95,CATLookup!$A$2:$E$271,3,FALSE),\"\")","v":{"$error":"#VALUE!"}},{"$f":"IF($B95<>\"\",VLOOKUP($B95,CATLookup!$A$2:$E$271,4,FALSE),\"\")","v":{"$error":"#VALUE!"}},null,null,null,null,null,null,{"$error":"#VALUE!"}]
[86,{"$error":"#VALUE!"},{"$f":"IF($B96<>\"\",VLOOKUP($B96,CATLookup!$A$2:$E$271,2,FALSE),\"\")","v":{"$error":"#VALUE!"}},{"$f":"IF($B96<>\"\",VLOOKUP($B96,CATLookup!$A$2:$E$271,3,FALSE),\"\")","v":{"$error":"#VALUE!"}},{"$f":"IF($B96<>\"\",VLOOKUP($B96,CATLookup!$A$2:$E$271,4,FALSE),\"\")","v":{"$error":"#VALUE!"}},null,null,null,null,null,null,{"$error":"#VALUE!"}]
[87,{"$error":"#VALUE!"},{"$f":"IF($B97<>\"\",VLOOKUP($B97,CATLookup!$A$2:$E$271,2,FALSE),\"\")","v":{"$error":"#VALUE!"}},{"$f":"IF($B97<>\"\",VLOOKUP($B97,CATLookup!$A$2:$E$271,3,FALSE),\"\")","v":{"$error":"#VALUE!"}},{"$f":"IF($B97<>\"\",VLOOKUP($B97,CATLookup!$A$2:$E$271,4,FALSE),\"\")","v":{"$error":"#VALUE!"}},null,null,null,null,null,null,{"$error":"#VALUE!"}]
[88,{"$error":"#VALUE!"},{"$f":"IF($B98<>\"\",VLOOKUP($B98,CATLookup!$A$2:$E$271,2,FALSE),\"\")","v":{"$error":"#VALUE!"}},{"$f":"IF($B98<>\"\",VLOOKUP($B98,CATLookup!$A$2:$E$271,3,FALSE),\"\")","v":{"$error":"#VALUE!"}},{"$f":"IF($B98<>\"\",VLOOKUP($B98,CATLookup!$A$2:$E$271,4,FALSE),\"\")","v":{"$error":"#VALUE!"}},null,null,null,null,null,null,{"$error":"#VALUE!"}]
[89,{"$error":"#VALUE!"},{"$f":"IF($B99<>\"\",VLOOKUP($B99,CATLookup!$A$2:$E$271,2,FALSE),\"\")","v":{"$error":"#VALUE!"}},{"$f":"IF($B99<>\"\",VLOOKUP($B99,CATLookup!$A$2:$E$271,3,FALSE),\"\")","v":{"$error":"#VALUE!"}},{"$f":"IF($B99<>\"\",VLOOKUP($B99,CATLookup!$A$2:$E$271,4,FALSE),\"\")","v":{"$error":"#VALUE!"}},null,null,null,null,null,null,{"$error":"#VALUE!"}]
[90,{"$error":"#VALUE!"},{"$f":"IF($B100<>\"\",VLOOKUP($B100,CATLookup!$A$2:$E$271,2,FALSE),\"\")","v":{"$error":"#VALUE!"}},{"$f":"IF($B100<>\"\",VLOOKUP($B100,CATLookup!$A$2:$E$271,3,FALSE),\"\")","v":{"$error":"#VALUE!"}},{"$f":"IF($B100<>\"\",VLOOKUP($B100,CATLookup!$A$2:$E$271,4,FALSE),\"\")","v":{"$error":"#VALUE!"}},null,null,null,null,null,null,{"$error":"#VALUE!"}]
[91,{"$error":"#VALUE!"},{"$f":"IF($B101<>\"\",VLOOKUP($B101,CATLookup!$A$2:$E$271,2,FALSE),\"\")","v":{"$error":"#VALUE!"}},{"$f":"IF($B101<>\"\",VLOOKUP($B101,CATLookup!$A$2:$E$271,3,FALSE),\"\")","v":{"$error":"#VALUE!"}},{"$f":"IF($B101<>\"\",VLOOKUP($B101,CATLookup!$A$2:$E$271,4,FALSE),\"\")","v":{"$error":"#VALUE!"}},null,null,null,null,null,null,{"$error":"#VALUE!"}]
[92,{"$error":"#VALUE!"},{"$f":"IF($B102<>\"\",VLOOKUP($B102,CATLookup!$A$2:$E$271,2,FALSE),\"\")","v":{"$error":"#VALUE!"}},{"$f":"IF($B102<>\"\",VLOOKUP($B102,CATLookup!$A$2:$E$271,3,FALSE),\"\")","v":{"$error":"#VALUE!"}},{"$f":"IF($B102<>\"\",VLOOKUP($B102,CATLookup!$A$2:$E$271,4,FALSE),\"\")","v":{"$error":"#VALUE!"}},null,null,null,null,null,null,{"$error":"#VALUE!"}]
[93,{"$error":"#VALUE!"},{"$f":"IF($B103<>\"\",VLOOKUP($B103,CATLookup!$A$2:$E$271,2,FALSE),\"\")","v":{"$error":"#VALUE!"}},{"$f":"IF($B103<>\"\",VLOOKUP($B103,CATLookup!$A$2:$E$271,3,FALSE),\"\")","v":{"$error":"#VALUE!"}},{"$f":"IF($B103<>\"\",VLOOKUP($B103,CATLookup!$A$2:$E$271,4,FALSE),\"\")","v":{"$error":"#VALUE!"}},null,null,null,null,null,null,{"$error":"#VALUE!"}]
[94,{"$error":"#VALUE!"},{"$f":"IF($B104<>\"\",VLOOKUP($B104,CATLookup!$A$2:$E$271,2,FALSE),\"\")","v":{"$error":"#VALUE!"}},{"$f":"IF($B104<>\"\",VLOOKUP($B104,CATLookup!$A$2:$E$271,3,FALSE),\"\")","v":{"$error":"#VALUE!"}},{"$f":"IF($B104<>\"\",VLOOKUP($B104,CATLookup!$A$2:$E$271,4,FALSE),\"\")","v":{"$error":"#VALUE!"}},null,null,null,null,null,null,{"$error":"#VALUE!"}]
[95,{"$error":"#VALUE!"},{"$f":"IF($B105<>\"\",VLOOKUP($B105,CATLookup!$A$2:$E$271,2,FALSE),\"\")","v":{"$error":"#VALUE!"}},{"$f":"IF($B105<>\"\",VLOOKUP($B105,CATLookup!$A$2:$E$271,3,FALSE),\"\")","v":{"$error":"#VALUE!"}},{"$f":"IF($B105<>\"\",VLOOKUP($B105,CATLookup!$A$2:$E$271,4,FALSE),\"\")","v":{"$error":"#VALUE!"}},null,null,null,null,null,null,{"$error":"#VALUE!"}]
[96,{"$error":"#VALUE!"},{"$f":"IF($B106<>\"\",VLOOKUP($B106,CATLookup!$A$2:$E$271,2,FALSE),\"\")","v":{"$error":"#VALUE!"}},{"$f":"IF($B106<>\"\",VLOOKUP($B106,CATLookup!$A$2:$E$271,3,FALSE),\"\")","v":{"$error":"#VALUE!"}},{"$f":"IF($B106<>\"\",VLOOKUP($B106,CATLookup!$A$2:$E$271,4,FALSE),\"\")","v":{"$error":"#VALUE!"}},null,null,null,null,null,null,{"$error":"#VALUE!"}]
[97,{"$error":"#VALUE!"},{"$f":"IF($B107<>\"\",VLOOKUP($B107,CATLookup!$A$2:$E$271,2,FALSE),\"\")","v":{"$error":"#VALUE!"}},{"$f":"IF($B107<>\"\",VLOOKUP($B107,CATLookup!$A$2:$E$271,3,FALSE),\"\")","v":{"$error":"#VALUE!"}},{"$f":"IF($B107<>\"\",VLOOKUP($B107,CATLookup!$A$2:$E$271,4,FALSE),\"\")","v":{"$error":"#VALUE!"}},null,null,null,null,null,null,{"$error":"#VALUE!"}]
[98,{"$error":"#VALUE!"},{"$f":"IF($B108<>\"\",VLOOKUP($B108,CATLookup!$A$2:$E$271,2,FALSE),\"\")","v":{"$error":"#VALUE!"}},{"$f":"IF($B108<>\"\",VLOOKUP($B108,CATLookup!$A$2:$E$271,3,FALSE),\"\")","v":{"$error":"#VALUE!"}},{"$f":"IF($B108<>\"\",VLOOKUP($B108,CATLookup!$A$2:$E$271,4,FALSE),\"\")","v":{"$error":"#VALUE!"}},null,null,null,null,null,null,{"$error":"#VALUE!"}]
[99,{"$error":"#VALUE!"},{"$f":"IF($B109<>\"\",VLOOKUP($B109,CATLookup!$A$2:$E$271,2,FALSE),\"\")","v":{"$error":"#VALUE!"}},{"$f":"IF($B109<>\"\",VLOOKUP($B109,CATLookup!$A$2:$E$271,3,FALSE),\"\")","v":{"$error":"#VALUE!"}},{"$f":"IF($B109<>\"\",VLOOKUP($B109,CATLookup!$A$2:$E$271,4,FALSE),\"\")","v":{"$error":"#VALUE!"}},null,null,null,null,null,null,{"$error":"#VALUE!"}]
[100,{"$error":"#VALUE!"},{"$f":"IF($B110<>\"\",VLOOKUP($B110,CATLookup!$A$2:$E$271,2,FALSE),\"\")","v":{"$error":"#VALUE!"}},{"$f":"IF($B110<>\"\",VLOOKUP($B110,CATLookup!$A$2:$E$271,3,FALSE),\"\")","v":{"$error":"#VALUE!"}},{"$f":"IF($B110<>\"\",VLOOKUP($B110,CATLookup!$A$2:$E$271,4,FALSE),\"\")","v":{"$error":"#VALUE!"}},null,null,null,null,null,null,{"$error":"#VALUE!"}]
[101,{"$error":"#VALUE!"},{"$f":"IF($B111<>\"\",VLOOKUP($B111,CATLookup!$A$2:$E$271,2,FALSE),\"\")","v":{"$error":"#VALUE!"}},{"$f":"IF($B111<>\"\",VLOOKUP($B111,CATLookup!$A$2:$E$271,3,FALSE),\"\")","v":{"$error":"#VALUE!"}},{"$f":"IF($B111<>\"\",VLOOKUP($B111,CATLookup!$A$2:$E$271,4,FALSE),\"\")","v":{"$error":"#VALUE!"}},null,null,null,null,null,null,{"$error":"#VALUE!"}]
[102,{"$error":"#VALUE!"},{"$f":"IF($B112<>\"\",VLOOKUP($B112,CATLookup!$A$2:$E$271,2,FALSE),\"\")","v":{"$error":"#VALUE!"}},{"$f":"IF($B112<>\"\",VLOOKUP($B112,CATLookup!$A$2:$E$271,3,FALSE),\"\")","v":{"$error":"#VALUE!"}},{"$f":"IF($B112<>\"\",VLOOKUP($B112,CATLookup!$A$2:$E$271,4,FALSE),\"\")","v":{"$error":"#VALUE!"}},null,null,null,null,null,null,{"$error":"#VALUE!"}]
[103,{"$error":"#VALUE!"},{"$f":"IF($B113<>\"\",VLOOKUP($B113,CATLookup!$A$2:$E$271,2,FALSE),\"\")","v":{"$error":"#VALUE!"}},{"$f":"IF($B113<>\"\",VLOOKUP($B113,CATLookup!$A$2:$E$271,3,FALSE),\"\")","v":{"$error":"#VALUE!"}},{"$f":"IF($B113<>\"\",VLOOKUP($B113,CATLookup!$A$2:$E$271,4,FALSE),\"\")","v":{"$error":"#VALUE!"}},null,null,null,null,null,null,{"$error":"#VALUE!"}]
[104,{"$error":"#VALUE!"},{"$f":"IF($B114<>\"\",VLOOKUP($B114,CATLookup!$A$2:$E$271,2,FALSE),\"\")","v":{"$error":"#VALUE!"}},{"$f":"IF($B114<>\"\",VLOOKUP($B114,CATLookup!$A$2:$E$271,3,FALSE),\"\")","v":{"$error":"#VALUE!"}},{"$f":"IF($B114<>\"\",VLOOKUP($B114,CATLookup!$A$2:$E$271,4,FALSE),\"\")","v":{"$error":"#VALUE!"}},null,null,null,null,null,null,{"$error":"#VALUE!"}]
[105,{"$error":"#VALUE!"},{"$f":"IF($B115<>\"\",VLOOKUP($B115,CATLookup!$A$2:$E$271,2,FALSE),\"\")","v":{"$error":"#VALUE!"}},{"$f":"IF($B115<>\"\",VLOOKUP($B115,CATLookup!$A$2:$E$271,3,FALSE),\"\")","v":{"$error":"#VALUE!"}},{"$f":"IF($B115<>\"\",VLOOKUP($B115,CATLookup!$A$2:$E$271,4,FALSE),\"\")","v":{"$error":"#VALUE!"}},null,null,null,null,null,null,{"$error":"#VALUE!"}]
[106,{"$error":"#VALUE!"},{"$f":"IF($B116<>\"\",VLOOKUP($B116,CATLookup!$A$2:$E$271,2,FALSE),\"\")","v":{"$error":"#VALUE!"}},{"$f":"IF($B116<>\"\",VLOOKUP($B116,CATLookup!$A$2:$E$271,3,FALSE),\"\")","v":{"$error":"#VALUE!"}},{"$f":"IF($B116<>\"\",VLOOKUP($B116,CATLookup!$A$2:$E$271,4,FALSE),\"\")","v":{"$error":"#VALUE!"}},null,null,null,null,null,null,{"$error":"#VALUE!"}]
[107,{"$error":"#VALUE!"},{"$f":"IF($B117<>\"\",VLOOKUP($B117,CATLookup!$A$2:$E$271,2,FALSE),\"\")","v":{"$error":"#VALUE!"}},{"$f":"IF($B117<>\"\",VLOOKUP($B117,CATLookup!$A$2:$E$271,3,FALSE),\"\")","v":{"$error":"#VALUE!"}},{"$f":"IF($B117<>\"\",VLOOKUP($B117,CATLookup!$A$2:$E$271,4,FALSE),\"\")","v":{"$error":"#VALUE!"}},null,null,null,null,null,null,{"$error":"#VALUE!"}]
[108,{"$error":"#VALUE!"},{"$f":"IF($B118<>\"\",VLOOKUP($B118,CATLookup!$A$2:$E$271,2,FALSE),\"\")","v":{"$error":"#VALUE!"}},{"$f":"IF($B118<>\"\",VLOOKUP($B118,CATLookup!$A$2:$E$271,3,FALSE),\"\")","v":{"$error":"#VALUE!"}},{"$f":"IF($B118<>\"\",VLOOKUP($B118,CATLookup!$A$2:$E$271,4,FALSE),\"\")","v":{"$error":"#VALUE!"}},null,null,null,null,null,null,{"$error":"#VALUE!"}]
[109,{"$error":"#VALUE!"},{"$f":"IF($B119<>\"\",VLOOKUP($B119,CATLookup!$A$2:$E$271,2,FALSE),\"\")","v":{"$error":"#VALUE!"}},{"$f":"IF($B119<>\"\",VLOOKUP($B119,CATLookup!$A$2:$E$271,3,FALSE),\"\")","v":{"$error":"#VALUE!"}},{"$f":"IF($B119<>\"\",VLOOKUP($B119,CATLookup!$A$2:$E$271,4,FALSE),\"\")","v":{"$error":"#VALUE!"}},null,null,null,null,null,null,{"$error":"#VALUE!"}]
[110,{"$error":"#VALUE!"},{"$f":"IF($B120<>\"\",VLOOKUP($B120,CATLookup!$A$2:$E$271,2,FALSE),\"\")","v":{"$error":"#VALUE!"}},{"$f":"IF($B120<>\"\",VLOOKUP($B120,CATLookup!$A$2:$E$271,3,FALSE),\"\")","v":{"$error":"#VALUE!"}},{"$f":"IF($B120<>\"\",VLOOKUP($B120,CATLookup!$A$2:$E$271,4,FALSE),\"\")","v":{"$error":"#VALUE!"}},null,null,null,null,null,null,{"$error":"#VALUE!"}]
[111,{"$error":"#VALUE!"},{"$f":"IF($B121<>\"\",VLOOKUP($B121,CATLookup!$A$2:$E$271,2,FALSE),\"\")","v":{"$error":"#VALUE!"}},{"$f":"IF($B121<>\"\",VLOOKUP($B121,CATLookup!$A$2:$E$271,3,FALSE),\"\")","v":{"$error":"#VALUE!"}},{"$f":"IF($B121<>\"\",VLOOKUP($B121,CATLookup!$A$2:$E$271,4,FALSE),\"\")","v":{"$error":"#VALUE!"}},null,null,null,null,null,null,{"$error":"#VALUE!"}]
[112,{"$error":"#VALUE!"},{"$f":"IF($B122<>\"\",VLOOKUP($B122,CATLookup!$A$2:$E$271,2,FALSE),\"\")","v":{"$error":"#VALUE!"}},{"$f":"IF($B122<>\"\",VLOOKUP($B122,CATLookup!$A$2:$E$271,3,FALSE),\"\")","v":{"$error":"#VALUE!"}},{"$f":"IF($B122<>\"\",VLOOKUP($B122,CATLookup!$A$2:$E$271,4,FALSE),\"\")","v":{"$error":"#VALUE!"}},null,null,null,null,null,null,{"$error":"#VALUE!"}]
[113,{"$error":"#VALUE!"},{"$f":"IF($B123<>\"\",VLOOKUP($B123,CATLookup!$A$2:$E$271,2,FALSE),\"\")","v":{"$error":"#VALUE!"}},{"$f":"IF($B123<>\"\",VLOOKUP($B123,CATLookup!$A$2:$E$271,3,FALSE),\"\")","v":{"$error":"#VALUE!"}},{"$f":"IF($B123<>\"\",VLOOKUP($B123,CATLookup!$A$2:$E$271,4,FALSE),\"\")","v":{"$error":"#VALUE!"}},null,null,null,null,null,null,{"$error":"#VALUE!"}]
[114,{"$error":"#VALUE!"},{"$f":"IF($B124<>\"\",VLOOKUP($B124,CATLookup!$A$2:$E$271,2,FALSE),\"\")","v":{"$error":"#VALUE!"}},{"$f":"IF($B124<>\"\",VLOOKUP($B124,CATLookup!$A$2:$E$271,3,FALSE),\"\")","v":{"$error":"#VALUE!"}},{"$f":"IF($B124<>\"\",VLOOKUP($B124,CATLookup!$A$2:$E$271,4,FALSE),\"\")","v":{"$error":"#VALUE!"}},null,null,null,null,null,null,{"$error":"#VALUE!"}]
[115,{"$error":"#VALUE!"},{"$f":"IF($B125<>\"\",VLOOKUP($B125,CATLookup!$A$2:$E$271,2,FALSE),\"\")","v":{"$error":"#VALUE!"}},{"$f":"IF($B125<>\"\",VLOOKUP($B125,CATLookup!$A$2:$E$271,3,FALSE),\"\")","v":{"$error":"#VALUE!"}},{"$f":"IF($B125<>\"\",VLOOKUP($B125,CATLookup!$A$2:$E$271,4,FALSE),\"\")","v":{"$error":"#VALUE!"}},null,null,null,null,null,null,{"$error":"#VALUE!"}]
[116,{"$error":"#VALUE!"},{"$f":"IF($B126<>\"\",VLOOKUP($B126,CATLookup!$A$2:$E$271,2,FALSE),\"\")","v":{"$error":"#VALUE!"}},{"$f":"IF($B126<>\"\",VLOOKUP($B126,CATLookup!$A$2:$E$271,3,FALSE),\"\")","v":{"$error":"#VALUE!"}},{"$f":"IF($B126<>\"\",VLOOKUP($B126,CATLookup!$A$2:$E$271,4,FALSE),\"\")","v":{"$error":"#VALUE!"}},null,null,null,null,null,null,{"$error":"#VALUE!"}]
[117,{"$error":"#VALUE!"},{"$f":"IF($B127<>\"\",VLOOKUP($B127,CATLookup!$A$2:$E$271,2,FALSE),\"\")","v":{"$error":"#VALUE!"}},{"$f":"IF($B127<>\"\",VLOOKUP($B127,CATLookup!$A$2:$E$271,3,FALSE),\"\")","v":{"$error":"#VALUE!"}},{"$f":"IF($B127<>\"\",VLOOKUP($B127,CATLookup!$A$2:$E$271,4,FALSE),\"\")","v":{"$error":"#VALUE!"}},null,null,null,null,null,null,{"$error":"#VALUE!"}]
[118,{"$error":"#VALUE!"},{"$f":"IF($B128<>\"\",VLOOKUP($B128,CATLookup!$A$2:$E$271,2,FALSE),\"\")","v":{"$error":"#VALUE!"}},{"$f":"IF($B128<>\"\",VLOOKUP($B128,CATLookup!$A$2:$E$271,3,FALSE),\"\")","v":{"$error":"#VALUE!"}},{"$f":"IF($B128<>\"\",VLOOKUP($B128,CATLookup!$A$2:$E$271,4,FALSE),\"\")","v":{"$error":"#VALUE!"}},null,null,null,null,null,null,{"$error":"#VALUE!"}]
[119,{"$error":"#VALUE!"},{"$f":"IF($B129<>\"\",VLOOKUP($B129,CATLookup!$A$2:$E$271,2,FALSE),\"\")","v":{"$error":"#VALUE!"}},{"$f":"IF($B129<>\"\",VLOOKUP($B129,CATLookup!$A$2:$E$271,3,FALSE),\"\")","v":{"$error":"#VALUE!"}},{"$f":"IF($B129<>\"\",VLOOKUP($B129,CATLookup!$A$2:$E$271,4,FALSE),\"\")","v":{"$error":"#VALUE!"}},null,null,null,null,null,null,{"$error":"#VALUE!"}]
[120,{"$error":"#VALUE!"},{"$f":"IF($B130<>\"\",VLOOKUP($B130,CATLookup!$A$2:$E$271,2,FALSE),\"\")","v":{"$error":"#VALUE!"}},{"$f":"IF($B130<>\"\",VLOOKUP($B130,CATLookup!$A$2:$E$271,3,FALSE),\"\")","v":{"$error":"#VALUE!"}},{"$f":"IF($B130<>\"\",VLOOKUP($B130,CATLookup!$A$2:$E$271,4,FALSE),\"\")","v":{"$error":"#VALUE!"}},null,null,null,null,null,null,{"$error":"#VALUE!"}]
[121,{"$error":"#VALUE!"},{"$f":"IF($B131<>\"\",VLOOKUP($B131,CATLookup!$A$2:$E$271,2,FALSE),\"\")","v":{"$error":"#VALUE!"}},{"$f":"IF($B131<>\"\",VLOOKUP($B131,CATLookup!$A$2:$E$271,3,FALSE),\"\")","v":{"$error":"#VALUE!"}},{"$f":"IF($B131<>\"\",VLOOKUP($B131,CATLookup!$A$2:$E$271,4,FALSE),\"\")","v":{"$error":"#VALUE!"}},null,null,null,null,null,null,{"$error":"#VALUE!"}]
[122,{"$error":"#VALUE!"},{"$f":"IF($B132<>\"\",VLOOKUP($B132,CATLookup!$A$2:$E$271,2,FALSE),\"\")","v":{"$error":"#VALUE!"}},{"$f":"IF($B132<>\"\",VLOOKUP($B132,CATLookup!$A$2:$E$271,3,FALSE),\"\")","v":{"$error":"#VALUE!"}},{"$f":"IF($B132<>\"\",VLOOKUP($B132,CATLookup!$A$2:$E$271,4,FALSE),\"\")","v":{"$error":"#VALUE!"}},null,null,null,null,null,null,{"$error":"#VALUE!"}]
[123,{"$error":"#VALUE!"},{"$f":"IF($B133<>\"\",VLOOKUP($B133,CATLookup!$A$2:$E$271,2,FALSE),\"\")","v":{"$error":"#VALUE!"}},{"$f":"IF($B133<>\"\",VLOOKUP($B133,CATLookup!$A$2:$E$271,3,FALSE),\"\")","v":{"$error":"#VALUE!"}},{"$f":"IF($B133<>\"\",VLOOKUP($B133,CATLookup!$A$2:$E$271,4,FALSE),\"\")","v":{"$error":"#VALUE!"}},null,null,null,null,null,null,{"$error":"#VALUE!"}]
[124,{"$error":"#VALUE!"},{"$f":"IF($B134<>\"\",VLOOKUP($B134,CATLookup!$A$2:$E$271,2,FALSE),\"\")","v":{"$error":"#VALUE!"}},{"$f":"IF($B134<>\"\",VLOOKUP($B134,CATLookup!$A$2:$E$271,3,FALSE),\"\")","v":{"$error":"#VALUE!"}},{"$f":"IF($B134<>\"\",VLOOKUP($B134,CATLookup!$A$2:$E$271,4,FALSE),\"\")","v":{"$error":"#VALUE!"}},null,null,null,null,null,null,{"$error":"#VALUE!"}]
[125,{"$error":"#VALUE!"},{"$f":"IF($B135<>\"\",VLOOKUP($B135,CATLookup!$A$2:$E$271,2,FALSE),\"\")","v":{"$error":"#VALUE!"}},{"$f":"IF($B135<>\"\",VLOOKUP($B135,CATLookup!$A$2:$E$271,3,FALSE),\"\")","v":{"$error":"#VALUE!"}},{"$f":"IF($B135<>\"\",VLOOKUP($B135,CATLookup!$A$2:$E$271,4,FALSE),\"\")","v":{"$error":"#VALUE!"}},null,null,null,null,null,null,{"$error":"#VALUE!"}]
[126,{"$error":"#VALUE!"},{"$f":"IF($B136<>\"\",VLOOKUP($B136,CATLookup!$A$2:$E$271,2,FALSE),\"\")","v":{"$error":"#VALUE!"}},{"$f":"IF($B136<>\"\",VLOOKUP($B136,CATLookup!$A$2:$E$271,3,FALSE),\"\")","v":{"$error":"#VALUE!"}},{"$f":"IF($B136<>\"\",VLOOKUP($B136,CATLookup!$A$2:$E$271,4,FALSE),\"\")","v":{"$error":"#VALUE!"}},null,null,null,null,null,null,{"$error":"#VALUE!"}]
[127,{"$error":"#VALUE!"},{"$f":"IF($B137<>\"\",VLOOKUP($B137,CATLookup!$A$2:$E$271,2,FALSE),\"\")","v":{"$error":"#VALUE!"}},{"$f":"IF($B137<>\"\",VLOOKUP($B137,CATLookup!$A$2:$E$271,3,FALSE),\"\")","v":{"$error":"#VALUE!"}},{"$f":"IF($B137<>\"\",VLOOKUP($B137,CATLookup!$A$2:$E$271,4,FALSE),\"\")","v":{"$error":"#VALUE!"}},null,null,null,null,null,null,{"$error":"#VALUE!"}]
[128,{"$error":"#VALUE!"},{"$f":"IF($B138<>\"\",VLOOKUP($B138,CATLookup!$A$2:$E$271,2,FALSE),\"\")","v":{"$error":"#VALUE!"}},{"$f":"IF($B138<>\"\",VLOOKUP($B138,CATLookup!$A$2:$E$271,3,FALSE),\"\")","v":{"$error":"#VALUE!"}},{"$f":"IF($B138<>\"\",VLOOKUP($B138,CATLookup!$A$2:$E$271,4,FALSE),\"\")","v":{"$error":"#VALUE!"}},null,null,null,null,null,null,{"$error":"#VALUE!"}]
[129,{"$error":"#VALUE!"},{"$f":"IF($B139<>\"\",VLOOKUP($B139,CATLookup!$A$2:$E$271,2,FALSE),\"\")","v":{"$error":"#VALUE!"}},{"$f":"IF($B139<>\"\",VLOOKUP($B139,CATLookup!$A$2:$E$271,3,FALSE),\"\")","v":{"$error":"#VALUE!"}},{"$f":"IF($B139<>\"\",VLOOKUP($B139,CATLookup!$A$2:$E$271,4,FALSE),\"\")","v":{"$error":"#VALUE!"}},null,null,null,null,null,null,{"$error":"#VALUE!"}]
[130,{"$f":"IF(A$9=0,\"No items for this report\",IF(A140<=A$9,A140,\"\"))","v":{"$error":"#VALUE!"}},{"$f":"IF($B140<>\"\",VLOOKUP($B140,CATLookup!$A$2:$E$271,2,FALSE),\"\")","v":{"$error":"#VALUE!"}},{"$f":"IF($B140<>\"\",VLOOKUP($B140,CATLookup!$A$2:$E$271,3,FALSE),\"\")","v":{"$error":"#VALUE!"}},{"$f":"IF($B140<>\"\",VLOOKUP($B140,CATLookup!$A$2:$E$271,4,FALSE),\"\")","v":{"$error":"#VALUE!"}},null,null,null,null,null,null,{"$f":"IF(B140<>\"\",L139+1,1)","v":{"$error":"#VALUE!"}}]
[131,{"$error":"#VALUE!"},{"$f":"IF($B141<>\"\",VLOOKUP($B141,CATLookup!$A$2:$E$271,2,FALSE),\"\")","v":{"$error":"#VALUE!"}},{"$f":"IF($B141<>\"\",VLOOKUP($B141,CATLookup!$A$2:$E$271,3,FALSE),\"\")","v":{"$error":"#VALUE!"}},{"$f":"IF($B141<>\"\",VLOOKUP($B141,CATLookup!$A$2:$E$271,4,FALSE),\"\")","v":{"$error":"#VALUE!"}},null,null,null,null,null,null,{"$error":"#VALUE!"}]
[132,{"$error":"#VALUE!"},{"$f":"IF($B142<>\"\",VLOOKUP($B142,CATLookup!$A$2:$E$271,2,FALSE),\"\")","v":{"$error":"#VALUE!"}},{"$f":"IF($B142<>\"\",VLOOKUP($B142,CATLookup!$A$2:$E$271,3,FALSE),\"\")","v":{"$error":"#VALUE!"}},{"$f":"IF($B142<>\"\",VLOOKUP($B142,CATLookup!$A$2:$E$271,4,FALSE),\"\")","v":{"$error":"#VALUE!"}},null,null,null,null,null,null,{"$error":"#VALUE!"}]
[133,{"$error":"#VALUE!"},{"$f":"IF($B143<>\"\",VLOOKUP($B143,CATLookup!$A$2:$E$271,2,FALSE),\"\")","v":{"$error":"#VALUE!"}},{"$f":"IF($B143<>\"\",VLOOKUP($B143,CATLookup!$A$2:$E$271,3,FALSE),\"\")","v":{"$error":"#VALUE!"}},{"$f":"IF($B143<>\"\",VLOOKUP($B143,CATLookup!$A$2:$E$271,4,FALSE),\"\")","v":{"$error":"#VALUE!"}},null,null,null,null,null,null,{"$error":"#VALUE!"}]
[134,{"$error":"#VALUE!"},{"$f":"IF($B144<>\"\",VLOOKUP($B144,CATLookup!$A$2:$E$271,2,FALSE),\"\")","v":{"$error":"#VALUE!"}},{"$f":"IF($B144<>\"\",VLOOKUP($B144,CATLookup!$A$2:$E$271,3,FALSE),\"\")","v":{"$error":"#VALUE!"}},{"$f":"IF($B144<>\"\",VLOOKUP($B144,CATLookup!$A$2:$E$271,4,FALSE),\"\")","v":{"$error":"#VALUE!"}},null,null,null,null,null,null,{"$error":"#VALUE!"}]
[135,{"$error":"#VALUE!"},{"$f":"IF($B145<>\"\",VLOOKUP($B145,CATLookup!$A$2:$E$271,2,FALSE),\"\")","v":{"$error":"#VALUE!"}},{"$f":"IF($B145<>\"\",VLOOKUP($B145,CATLookup!$A$2:$E$271,3,FALSE),\"\")","v":{"$error":"#VALUE!"}},{"$f":"IF($B145<>\"\",VLOOKUP($B145,CATLookup!$A$2:$E$271,4,FALSE),\"\")","v":{"$error":"#VALUE!"}},null,null,null,null,null,null,{"$error":"#VALUE!"}]
[136,{"$error":"#VALUE!"},{"$f":"IF($B146<>\"\",VLOOKUP($B146,CATLookup!$A$2:$E$271,2,FALSE),\"\")","v":{"$error":"#VALUE!"}},{"$f":"IF($B146<>\"\",VLOOKUP($B146,CATLookup!$A$2:$E$271,3,FALSE),\"\")","v":{"$error":"#VALUE!"}},{"$f":"IF($B146<>\"\",VLOOKUP($B146,CATLookup!$A$2:$E$271,4,FALSE),\"\")","v":{"$error":"#VALUE!"}},null,null,null,null,null,null,{"$error":"#VALUE!"}]
[137,{"$error":"#VALUE!"},{"$f":"IF($B147<>\"\",VLOOKUP($B147,CATLookup!$A$2:$E$271,2,FALSE),\"\")","v":{"$error":"#VALUE!"}},{"$f":"IF($B147<>\"\",VLOOKUP($B147,CATLookup!$A$2:$E$271,3,FALSE),\"\")","v":{"$error":"#VALUE!"}},{"$f":"IF($B147<>\"\",VLOOKUP($B147,CATLookup!$A$2:$E$271,4,FALSE),\"\")","v":{"$error":"#VALUE!"}},null,null,null,null,null,null,{"$error":"#VALUE!"}]
[138,{"$error":"#VALUE!"},{"$f":"IF($B148<>\"\",VLOOKUP($B148,CATLookup!$A$2:$E$271,2,FALSE),\"\")","v":{"$error":"#VALUE!"}},{"$f":"IF($B148<>\"\",VLOOKUP($B148,CATLookup!$A$2:$E$271,3,FALSE),\"\")","v":{"$error":"#VALUE!"}},{"$f":"IF($B148<>\"\",VLOOKUP($B148,CATLookup!$A$2:$E$271,4,FALSE),\"\")","v":{"$error":"#VALUE!"}},null,null,null,null,null,null,{"$error":"#VALUE!"}]
[139,{"$error":"#VALUE!"},{"$f":"IF($B149<>\"\",VLOOKUP($B149,CATLookup!$A$2:$E$271,2,FALSE),\"\")","v":{"$error":"#VALUE!"}},{"$f":"IF($B149<>\"\",VLOOKUP($B149,CATLookup!$A$2:$E$271,3,FALSE),\"\")","v":{"$error":"#VALUE!"}},{"$f":"IF($B149<>\"\",VLOOKUP($B149,CATLookup!$A$2:$E$271,4,FALSE),\"\")","v":{"$error":"#VALUE!"}},null,null,null,null,null,null,{"$error":"#VALUE!"}]
[140,{"$error":"#VALUE!"},{"$f":"IF($B150<>\"\",VLOOKUP($B150,CATLookup!$A$2:$E$271,2,FALSE),\"\")","v":{"$error":"#VALUE!"}},{"$f":"IF($B150<>\"\",VLOOKUP($B150,CATLookup!$A$2:$E$271,3,FALSE),\"\")","v":{"$error":"#VALUE!"}},{"$f":"IF($B150<>\"\",VLOOKUP($B150,CATLookup!$A$2:$E$271,4,FALSE),\"\")","v":{"$error":"#VALUE!"}},null,null,null,null,null,null,{"$error":"#VALUE!"}]
[141,{"$error":"#VALUE!"},{"$f":"IF($B151<>\"\",VLOOKUP($B151,CATLookup!$A$2:$E$271,2,FALSE),\"\")","v":{"$error":"#VALUE!"}},{"$f":"IF($B151<>\"\",VLOOKUP($B151,CATLookup!$A$2:$E$271,3,FALSE),\"\")","v":{"$error":"#VALUE!"}},{"$f":"IF($B151<>\"\",VLOOKUP($B151,CATLookup!$A$2:$E$271,4,FALSE),\"\")","v":{"$error":"#VALUE!"}},null,null,null,null,null,null,{"$error":"#VALUE!"}]
[142,{"$error":"#VALUE!"},{"$f":"IF($B152<>\"\",VLOOKUP($B152,CATLookup!$A$2:$E$271,2,FALSE),\"\")","v":{"$error":"#VALUE!"}},{"$f":"IF($B152<>\"\",VLOOKUP($B152,CATLookup!$A$2:$E$271,3,FALSE),\"\")","v":{"$error":"#VALUE!"}},{"$f":"IF($B152<>\"\",VLOOKUP($B152,CATLookup!$A$2:$E$271,4,FALSE),\"\")","v":{"$error":"#VALUE!"}},null,null,null,null,null,null,{"$error":"#VALUE!"}]
[143,{"$error":"#VALUE!"},{"$f":"IF($B153<>\"\",VLOOKUP($B153,CATLookup!$A$2:$E$271,2,FALSE),\"\")","v":{"$error":"#VALUE!"}},{"$f":"IF($B153<>\"\",VLOOKUP($B153,CATLookup!$A$2:$E$271,3,FALSE),\"\")","v":{"$error":"#VALUE!"}},{"$f":"IF($B153<>\"\",VLOOKUP($B153,CATLookup!$A$2:$E$271,4,FALSE),\"\")","v":{"$error":"#VALUE!"}},null,null,null,null,null,null,{"$error":"#VALUE!"}]
[144,{"$error":"#VALUE!"},{"$f":"IF($B154<>\"\",VLOOKUP($B154,CATLookup!$A$2:$E$271,2,FALSE),\"\")","v":{"$error":"#VALUE!"}},{"$f":"IF($B154<>\"\",VLOOKUP($B154,CATLookup!$A$2:$E$271,3,FALSE),\"\")","v":{"$error":"#VALUE!"}},{"$f":"IF($B154<>\"\",VLOOKUP($B154,CATLookup!$A$2:$E$271,4,FALSE),\"\")","v":{"$error":"#VALUE!"}},null,null,null,null,null,null,{"$error":"#VALUE!"}]
[145,{"$error":"#VALUE!"},{"$f":"IF($B155<>\"\",VLOOKUP($B155,CATLookup!$A$2:$E$271,2,FALSE),\"\")","v":{"$error":"#VALUE!"}},{"$f":"IF($B155<>\"\",VLOOKUP($B155,CATLookup!$A$2:$E$271,3,FALSE),\"\")","v":{"$error":"#VALUE!"}},{"$f":"IF($B155<>\"\",VLOOKUP($B155,CATLookup!$A$2:$E$271,4,FALSE),\"\")","v":{"$error":"#VALUE!"}},null,null,null,null,null,null,{"$error":"#VALUE!"}]
[146,{"$error":"#VALUE!"},{"$f":"IF($B156<>\"\",VLOOKUP($B156,CATLookup!$A$2:$E$271,2,FALSE),\"\")","v":{"$error":"#VALUE!"}},{"$f":"IF($B156<>\"\",VLOOKUP($B156,CATLookup!$A$2:$E$271,3,FALSE),\"\")","v":{"$error":"#VALUE!"}},{"$f":"IF($B156<>\"\",VLOOKUP($B156,CATLookup!$A$2:$E$271,4,FALSE),\"\")","v":{"$error":"#VALUE!"}},null,null,null,null,null,null,{"$error":"#VALUE!"}]
[147,{"$error":"#VALUE!"},{"$f":"IF($B157<>\"\",VLOOKUP($B157,CATLookup!$A$2:$E$271,2,FALSE),\"\")","v":{"$error":"#VALUE!"}},{"$f":"IF($B157<>\"\",VLOOKUP($B157,CATLookup!$A$2:$E$271,3,FALSE),\"\")","v":{"$error":"#VALUE!"}},{"$f":"IF($B157<>\"\",VLOOKUP($B157,CATLookup!$A$2:$E$271,4,FALSE),\"\")","v":{"$error":"#VALUE!"}},null,null,null,null,null,null,{"$error":"#VALUE!"}]
[148,{"$error":"#VALUE!"},{"$f":"IF($B158<>\"\",VLOOKUP($B158,CATLookup!$A$2:$E$271,2,FALSE),\"\")","v":{"$error":"#VALUE!"}},{"$f":"IF($B158<>\"\",VLOOKUP($B158,CATLookup!$A$2:$E$271,3,FALSE),\"\")","v":{"$error":"#VALUE!"}},{"$f":"IF($B158<>\"\",VLOOKUP($B158,CATLookup!$A$2:$E$271,4,FALSE),\"\")","v":{"$error":"#VALUE!"}},null,null,null,null,null,null,{"$error":"#VALUE!"}]
[149,{"$error":"#VALUE!"},{"$f":"IF($B159<>\"\",VLOOKUP($B159,CATLookup!$A$2:$E$271,2,FALSE),\"\")","v":{"$error":"#VALUE!"}},{"$f":"IF($B159<>\"\",VLOOKUP($B159,CATLookup!$A$2:$E$271,3,FALSE),\"\")","v":{"$error":"#VALUE!"}},{"$f":"IF($B159<>\"\",VLOOKUP($B159,CATLookup!$A$2:$E$271,4,FALSE),\"\")","v":{"$error":"#VALUE!"}},null,null,null,null,null,null,{"$error":"#VALUE!"}]
[150,{"$error":"#VALUE!"},{"$f":"IF($B160<>\"\",VLOOKUP($B160,CATLookup!$A$2:$E$271,2,FALSE),\"\")","v":{"$error":"#VALUE!"}},{"$f":"IF($B160<>\"\",VLOOKUP($B160,CATLookup!$A$2:$E$271,3,FALSE),\"\")","v":{"$error":"#VALUE!"}},{"$f":"IF($B160<>\"\",VLOOKUP($B160,CATLookup!$A$2:$E$271,4,FALSE),\"\")","v":{"$error":"#VALUE!"}},null,null,null,null,null,null,{"$error":"#VALUE!"}]
[151,{"$error":"#VALUE!"},{"$f":"IF($B161<>\"\",VLOOKUP($B161,CATLookup!$A$2:$E$271,2,FALSE),\"\")","v":{"$error":"#VALUE!"}},{"$f":"IF($B161<>\"\",VLOOKUP($B161,CATLookup!$A$2:$E$271,3,FALSE),\"\")","v":{"$error":"#VALUE!"}},{"$f":"IF($B161<>\"\",VLOOKUP($B161,CATLookup!$A$2:$E$271,4,FALSE),\"\")","v":{"$error":"#VALUE!"}},null,null,null,null,null,null,{"$error":"#VALUE!"}]
[152,{"$error":"#VALUE!"},{"$f":"IF($B162<>\"\",VLOOKUP($B162,CATLookup!$A$2:$E$271,2,FALSE),\"\")","v":{"$error":"#VALUE!"}},{"$f":"IF($B162<>\"\",VLOOKUP($B162,CATLookup!$A$2:$E$271,3,FALSE),\"\")","v":{"$error":"#VALUE!"}},{"$f":"IF($B162<>\"\",VLOOKUP($B162,CATLookup!$A$2:$E$271,4,FALSE),\"\")","v":{"$error":"#VALUE!"}},null,null,null,null,null,null,{"$error":"#VALUE!"}]
[153,{"$error":"#VALUE!"},{"$f":"IF($B163<>\"\",VLOOKUP($B163,CATLookup!$A$2:$E$271,2,FALSE),\"\")","v":{"$error":"#VALUE!"}},{"$f":"IF($B163<>\"\",VLOOKUP($B163,CATLookup!$A$2:$E$271,3,FALSE),\"\")","v":{"$error":"#VALUE!"}},{"$f":"IF($B163<>\"\",VLOOKUP($B163,CATLookup!$A$2:$E$271,4,FALSE),\"\")","v":{"$error":"#VALUE!"}},null,null,null,null,null,null,{"$error":"#VALUE!"}]
[154,{"$error":"#VALUE!"},{"$f":"IF($B164<>\"\",VLOOKUP($B164,CATLookup!$A$2:$E$271,2,FALSE),\"\")","v":{"$error":"#VALUE!"}},{"$f":"IF($B164<>\"\",VLOOKUP($B164,CATLookup!$A$2:$E$271,3,FALSE),\"\")","v":{"$error":"#VALUE!"}},{"$f":"IF($B164<>\"\",VLOOKUP($B164,CATLookup!$A$2:$E$271,4,FALSE),\"\")","v":{"$error":"#VALUE!"}},null,null,null,null,null,null,{"$error":"#VALUE!"}]
[155,{"$error":"#VALUE!"},{"$f":"IF($B165<>\"\",VLOOKUP($B165,CATLookup!$A$2:$E$271,2,FALSE),\"\")","v":{"$error":"#VALUE!"}},{"$f":"IF($B165<>\"\",VLOOKUP($B165,CATLookup!$A$2:$E$271,3,FALSE),\"\")","v":{"$error":"#VALUE!"}},{"$f":"IF($B165<>\"\",VLOOKUP($B165,CATLookup!$A$2:$E$271,4,FALSE),\"\")","v":{"$error":"#VALUE!"}},null,null,null,null,null,null,{"$error":"#VALUE!"}]
[156,{"$error":"#VALUE!"},{"$f":"IF($B166<>\"\",VLOOKUP($B166,CATLookup!$A$2:$E$271,2,FALSE),\"\")","v":{"$error":"#VALUE!"}},{"$f":"IF($B166<>\"\",VLOOKUP($B166,CATLookup!$A$2:$E$271,3,FALSE),\"\")","v":{"$error":"#VALUE!"}},{"$f":"IF($B166<>\"\",VLOOKUP($B166,CATLookup!$A$2:$E$271,4,FALSE),\"\")","v":{"$error":"#VALUE!"}},null,null,null,null,null,null,{"$error":"#VALUE!"}]
[157,{"$error":"#VALUE!"},{"$f":"IF($B167<>\"\",VLOOKUP($B167,CATLookup!$A$2:$E$271,2,FALSE),\"\")","v":{"$error":"#VALUE!"}},{"$f":"IF($B167<>\"\",VLOOKUP($B167,CATLookup!$A$2:$E$271,3,FALSE),\"\")","v":{"$error":"#VALUE!"}},{"$f":"IF($B167<>\"\",VLOOKUP($B167,CATLookup!$A$2:$E$271,4,FALSE),\"\")","v":{"$error":"#VALUE!"}},null,null,null,null,null,null,{"$error":"#VALUE!"}]
[158,{"$error":"#VALUE!"},{"$f":"IF($B168<>\"\",VLOOKUP($B168,CATLookup!$A$2:$E$271,2,FALSE),\"\")","v":{"$error":"#VALUE!"}},{"$f":"IF($B168<>\"\",VLOOKUP($B168,CATLookup!$A$2:$E$271,3,FALSE),\"\")","v":{"$error":"#VALUE!"}},{"$f":"IF($B168<>\"\",VLOOKUP($B168,CATLookup!$A$2:$E$271,4,FALSE),\"\")","v":{"$error":"#VALUE!"}},null,null,null,null,null,null,{"$error":"#VALUE!"}]
[159,{"$error":"#VALUE!"},{"$f":"IF($B169<>\"\",VLOOKUP($B169,CATLookup!$A$2:$E$271,2,FALSE),\"\")","v":{"$error":"#VALUE!"}},{"$f":"IF($B169<>\"\",VLOOKUP($B169,CATLookup!$A$2:$E$271,3,FALSE),\"\")","v":{"$error":"#VALUE!"}},{"$f":"IF($B169<>\"\",VLOOKUP($B169,CATLookup!$A$2:$E$271,4,FALSE),\"\")","v":{"$error":"#VALUE!"}},null,null,null,null,null,null,{"$error":"#VALUE!"}]
[160,{"$error":"#VALUE!"},{"$f":"IF($B170<>\"\",VLOOKUP($B170,CATLookup!$A$2:$E$271,2,FALSE),\"\")","v":{"$error":"#VALUE!"}},{"$f":"IF($B170<>\"\",VLOOKUP($B170,CATLookup!$A$2:$E$271,3,FALSE),\"\")","v":{"$error":"#VALUE!"}},{"$f":"IF($B170<>\"\",VLOOKUP($B170,CATLookup!$A$2:$E$271,4,FALSE),\"\")","v":{"$error":"#VALUE!"}},null,null,null,null,null,null,{"$error":"#VALUE!"}]
[161,{"$error":"#VALUE!"},{"$f":"IF($B171<>\"\",VLOOKUP($B171,CATLookup!$A$2:$E$271,2,FALSE),\"\")","v":{"$error":"#VALUE!"}},{"$f":"IF($B171<>\"\",VLOOKUP($B171,CATLookup!$A$2:$E$271,3,FALSE),\"\")","v":{"$error":"#VALUE!"}},{"$f":"IF($B171<>\"\",VLOOKUP($B171,CATLookup!$A$2:$E$271,4,FALSE),\"\")","v":{"$error":"#VALUE!"}},null,null,null,null,null,null,{"$error":"#VALUE!"}]
[162,{"$error":"#VALUE!"},{"$f":"IF($B172<>\"\",VLOOKUP($B172,CATLookup!$A$2:$E$271,2,FALSE),\"\")","v":{"$error":"#VALUE!"}},{"$f":"IF($B172<>\"\",VLOOKUP($B172,CATLookup!$A$2:$E$271,3,FALSE),\"\")","v":{"$error":"#VALUE!"}},{"$f":"IF($B172<>\"\",VLOOKUP($B172,CATLookup!$A$2:$E$271,4,FALSE),\"\")","v":{"$error":"#VALUE!"}},null,null,null,null,null,null,{"$error":"#VALUE!"}]
[163,{"$error":"#VALUE!"},{"$f":"IF($B173<>\"\",VLOOKUP($B173,CATLookup!$A$2:$E$271,2,FALSE),\"\")","v":{"$error":"#VALUE!"}},{"$f":"IF($B173<>\"\",VLOOKUP($B173,CATLookup!$A$2:$E$271,3,FALSE),\"\")","v":{"$error":"#VALUE!"}},{"$f":"IF($B173<>\"\",VLOOKUP($B173,CATLookup!$A$2:$E$271,4,FALSE),\"\")","v":{"$error":"#VALUE!"}},null,null,null,null,null,null,{"$error":"#VALUE!"}]
[164,{"$error":"#VALUE!"},{"$f":"IF($B174<>\"\",VLOOKUP($B174,CATLookup!$A$2:$E$271,2,FALSE),\"\")","v":{"$error":"#VALUE!"}},{"$f":"IF($B174<>\"\",VLOOKUP($B174,CATLookup!$A$2:$E$271,3,FALSE),\"\")","v":{"$error":"#VALUE!"}},{"$f":"IF($B174<>\"\",VLOOKUP($B174,CATLookup!$A$2:$E$271,4,FALSE),\"\")","v":{"$error":"#VALUE!"}},null,null,null,null,null,null,{"$error":"#VALUE!"}]
[165,{"$error":"#VALUE!"},{"$f":"IF($B175<>\"\",VLOOKUP($B175,CATLookup!$A$2:$E$271,2,FALSE),\"\")","v":{"$error":"#VALUE!"}},{"$f":"IF($B175<>\"\",VLOOKUP($B175,CATLookup!$A$2:$E$271,3,FALSE),\"\")","v":{"$error":"#VALUE!"}},{"$f":"IF($B175<>\"\",VLOOKUP($B175,CATLookup!$A$2:$E$271,4,FALSE),\"\")","v":{"$error":"#VALUE!"}},null,null,null,null,null,null,{"$error":"#VALUE!"}]
[166,{"$error":"#VALUE!"},{"$f":"IF($B176<>\"\",VLOOKUP($B176,CATLookup!$A$2:$E$271,2,FALSE),\"\")","v":{"$error":"#VALUE!"}},{"$f":"IF($B176<>\"\",VLOOKUP($B176,CATLookup!$A$2:$E$271,3,FALSE),\"\")","v":{"$error":"#VALUE!"}},{"$f":"IF($B176<>\"\",VLOOKUP($B176,CATLookup!$A$2:$E$271,4,FALSE),\"\")","v":{"$error":"#VALUE!"}},null,null,null,null,null,null,{"$error":"#VALUE!"}]
[167,{"$error":"#VALUE!"},{"$f":"IF($B177<>\"\",VLOOKUP($B177,CATLookup!$A$2:$E$271,2,FALSE),\"\")","v":{"$error":"#VALUE!"}},{"$f":"IF($B177<>\"\",VLOOKUP($B177,CATLookup!$A$2:$E$271,3,FALSE),\"\")","v":{"$error":"#VALUE!"}},{"$f":"IF($B177<>\"\",VLOOKUP($B177,CATLookup!$A$2:$E$271,4,FALSE),\"\")","v":{"$error":"#VALUE!"}},null,null,null,null,null,null,{"$error":"#VALUE!"}]
[168,{"$error":"#VALUE!"},{"$f":"IF($B178<>\"\",VLOOKUP($B178,CATLookup!$A$2:$E$271,2,FALSE),\"\")","v":{"$error":"#VALUE!"}},{"$f":"IF($B178<>\"\",VLOOKUP($B178,CATLookup!$A$2:$E$271,3,FALSE),\"\")","v":{"$error":"#VALUE!"}},{"$f":"IF($B178<>\"\",VLOOKUP($B178,CATLookup!$A$2:$E$271,4,FALSE),\"\")","v":{"$error":"#VALUE!"}},null,null,null,null,null,null,{"$error":"#VALUE!"}]
[169,{"$error":"#VALUE!"},{"$f":"IF($B179<>\"\",VLOOKUP($B179,CATLookup!$A$2:$E$271,2,FALSE),\"\")","v":{"$error":"#VALUE!"}},{"$f":"IF($B179<>\"\",VLOOKUP($B179,CATLookup!$A$2:$E$271,3,FALSE),\"\")","v":{"$error":"#VALUE!"}},{"$f":"IF($B179<>\"\",VLOOKUP($B179,CATLookup!$A$2:$E$271,4,FALSE),\"\")","v":{"$error":"#VALUE!"}},null,null,null,null,null,null,{"$error":"#VALUE!"}]
[170,{"$error":"#VALUE!"},{"$f":"IF($B180<>\"\",VLOOKUP($B180,CATLookup!$A$2:$E$271,2,FALSE),\"\")","v":{"$error":"#VALUE!"}},{"$f":"IF($B180<>\"\",VLOOKUP($B180,CATLookup!$A$2:$E$271,3,FALSE),\"\")","v":{"$error":"#VALUE!"}},{"$f":"IF($B180<>\"\",VLOOKUP($B180,CATLookup!$A$2:$E$271,4,FALSE),\"\")","v":{"$error":"#VALUE!"}},null,null,null,null,null,null,{"$error":"#VALUE!"}]
[171,{"$error":"#VALUE!"},{"$f":"IF($B181<>\"\",VLOOKUP($B181,CATLookup!$A$2:$E$271,2,FALSE),\"\")","v":{"$error":"#VALUE!"}},{"$f":"IF($B181<>\"\",VLOOKUP($B181,CATLookup!$A$2:$E$271,3,FALSE),\"\")","v":{"$error":"#VALUE!"}},{"$f":"IF($B181<>\"\",VLOOKUP($B181,CATLookup!$A$2:$E$271,4,FALSE),\"\")","v":{"$error":"#VALUE!"}},null,null,null,null,null,null,{"$error":"#VALUE!"}]
[172,{"$error":"#VALUE!"},{"$f":"IF($B182<>\"\",VLOOKUP($B182,CATLookup!$A$2:$E$271,2,FALSE),\"\")","v":{"$error":"#VALUE!"}},{"$f":"IF($B182<>\"\",VLOOKUP($B182,CATLookup!$A$2:$E$271,3,FALSE),\"\")","v":{"$error":"#VALUE!"}},{"$f":"IF($B182<>\"\",VLOOKUP($B182,CATLookup!$A$2:$E$271,4,FALSE),\"\")","v":{"$error":"#VALUE!"}},null,null,null,null,null,null,{"$error":"#VALUE!"}]
[173,{"$error":"#VALUE!"},{"$f":"IF($B183<>\"\",VLOOKUP($B183,CATLookup!$A$2:$E$271,2,FALSE),\"\")","v":{"$error":"#VALUE!"}},{"$f":"IF($B183<>\"\",VLOOKUP($B183,CATLookup!$A$2:$E$271,3,FALSE),\"\")","v":{"$error":"#VALUE!"}},{"$f":"IF($B183<>\"\",VLOOKUP($B183,CATLookup!$A$2:$E$271,4,FALSE),\"\")","v":{"$error":"#VALUE!"}},null,null,null,null,null,null,{"$error":"#VALUE!"}]
[174,{"$error":"#VALUE!"},{"$f":"IF($B184<>\"\",VLOOKUP($B184,CATLookup!$A$2:$E$271,2,FALSE),\"\")","v":{"$error":"#VALUE!"}},{"$f":"IF($B184<>\"\",VLOOKUP($B184,CATLookup!$A$2:$E$271,3,FALSE),\"\")","v":{"$error":"#VALUE!"}},{"$f":"IF($B184<>\"\",VLOOKUP($B184,CATLookup!$A$2:$E$271,4,FALSE),\"\")","v":{"$error":"#VALUE!"}},null,null,null,null,null,null,{"$error":"#VALUE!"}]
[175,{"$error":"#VALUE!"},{"$f":"IF($B185<>\"\",VLOOKUP($B185,CATLookup!$A$2:$E$271,2,FALSE),\"\")","v":{"$error":"#VALUE!"}},{"$f":"IF($B185<>\"\",VLOOKUP($B185,CATLookup!$A$2:$E$271,3,FALSE),\"\")","v":{"$error":"#VALUE!"}},{"$f":"IF($B185<>\"\",VLOOKUP($B185,CATLookup!$A$2:$E$271,4,FALSE),\"\")","v":{"$error":"#VALUE!"}},null,null,null,null,null,null,{"$error":"#VALUE!"}]
[176,{"$error":"#VALUE!"},{"$f":"IF($B186<>\"\",VLOOKUP($B186,CATLookup!$A$2:$E$271,2,FALSE),\"\")","v":{"$error":"#VALUE!"}},{"$f":"IF($B186<>\"\",VLOOKUP($B186,CATLookup!$A$2:$E$271,3,FALSE),\"\")","v":{"$error":"#VALUE!"}},{"$f":"IF($B186<>\"\",VLOOKUP($B186,CATLookup!$A$2:$E$271,4,FALSE),\"\")","v":{"$error":"#VALUE!"}},null,null,null,null,null,null,{"$error":"#VALUE!"}]
[177,{"$error":"#VALUE!"},{"$f":"IF($B187<>\"\",VLOOKUP($B187,CATLookup!$A$2:$E$271,2,FALSE),\"\")","v":{"$error":"#VALUE!"}},{"$f":"IF($B187<>\"\",VLOOKUP($B187,CATLookup!$A$2:$E$271,3,FALSE),\"\")","v":{"$error":"#VALUE!"}},{"$f":"IF($B187<>\"\",VLOOKUP($B187,CATLookup!$A$2:$E$271,4,FALSE),\"\")","v":{"$error":"#VALUE!"}},null,null,null,null,null,null,{"$error":"#VALUE!"}]
[178,{"$error":"#VALUE!"},{"$f":"IF($B188<>\"\",VLOOKUP($B188,CATLookup!$A$2:$E$271,2,FALSE),\"\")","v":{"$error":"#VALUE!"}},{"$f":"IF($B188<>\"\",VLOOKUP($B188,CATLookup!$A$2:$E$271,3,FALSE),\"\")","v":{"$error":"#VALUE!"}},{"$f":"IF($B188<>\"\",VLOOKUP($B188,CATLookup!$A$2:$E$271,4,FALSE),\"\")","v":{"$error":"#VALUE!"}},null,null,null,null,null,null,{"$error":"#VALUE!"}]
[179,{"$error":"#VALUE!"},{"$f":"IF($B189<>\"\",VLOOKUP($B189,CATLookup!$A$2:$E$271,2,FALSE),\"\")","v":{"$error":"#VALUE!"}},{"$f":"IF($B189<>\"\",VLOOKUP($B189,CATLookup!$A$2:$E$271,3,FALSE),\"\")","v":{"$error":"#VALUE!"}},{"$f":"IF($B189<>\"\",VLOOKUP($B189,CATLookup!$A$2:$E$271,4,FALSE),\"\")","v":{"$error":"#VALUE!"}},null,null,null,null,null,null,{"$error":"#VALUE!"}]
[180,{"$error":"#VALUE!"},{"$f":"IF($B190<>\"\",VLOOKUP($B190,CATLookup!$A$2:$E$271,2,FALSE),\"\")","v":{"$error":"#VALUE!"}},{"$f":"IF($B190<>\"\",VLOOKUP($B190,CATLookup!$A$2:$E$271,3,FALSE),\"\")","v":{"$error":"#VALUE!"}},{"$f":"IF($B190<>\"\",VLOOKUP($B190,CATLookup!$A$2:$E$271,4,FALSE),\"\")","v":{"$error":"#VALUE!"}},null,null,null,null,null,null,{"$error":"#VALUE!"}]
[181,{"$error":"#VALUE!"},{"$f":"IF($B191<>\"\",VLOOKUP($B191,CATLookup!$A$2:$E$271,2,FALSE),\"\")","v":{"$error":"#VALUE!"}},{"$f":"IF($B191<>\"\",VLOOKUP($B191,CATLookup!$A$2:$E$271,3,FALSE),\"\")","v":{"$error":"#VALUE!"}},{"$f":"IF($B191<>\"\",VLOOKUP($B191,CATLookup!$A$2:$E$271,4,FALSE),\"\")","v":{"$error":"#VALUE!"}},null,null,null,null,null,null,{"$error":"#VALUE!"}]
[182,{"$error":"#VALUE!"},{"$f":"IF($B192<>\"\",VLOOKUP($B192,CATLookup!$A$2:$E$271,2,FALSE),\"\")","v":{"$error":"#VALUE!"}},{"$f":"IF($B192<>\"\",VLOOKUP($B192,CATLookup!$A$2:$E$271,3,FALSE),\"\")","v":{"$error":"#VALUE!"}},{"$f":"IF($B192<>\"\",VLOOKUP($B192,CATLookup!$A$2:$E$271,4,FALSE),\"\")","v":{"$error":"#VALUE!"}},null,null,null,null,null,null,{"$error":"#VALUE!"}]
[183,{"$error":"#VALUE!"},{"$f":"IF($B193<>\"\",VLOOKUP($B193,CATLookup!$A$2:$E$271,2,FALSE),\"\")","v":{"$error":"#VALUE!"}},{"$f":"IF($B193<>\"\",VLOOKUP($B193,CATLookup!$A$2:$E$271,3,FALSE),\"\")","v":{"$error":"#VALUE!"}},{"$f":"IF($B193<>\"\",VLOOKUP($B193,CATLookup!$A$2:$E$271,4,FALSE),\"\")","v":{"$error":"#VALUE!"}},null,null,null,null,null,null,{"$error":"#VALUE!"}]
[184,{"$error":"#VALUE!"},{"$f":"IF($B194<>\"\",VLOOKUP($B194,CATLookup!$A$2:$E$271,2,FALSE),\"\")","v":{"$error":"#VALUE!"}},{"$f":"IF($B194<>\"\",VLOOKUP($B194,CATLookup!$A$2:$E$271,3,FALSE),\"\")","v":{"$error":"#VALUE!"}},{"$f":"IF($B194<>\"\",VLOOKUP($B194,CATLookup!$A$2:$E$271,4,FALSE),\"\")","v":{"$error":"#VALUE!"}},null,null,null,null,null,null,{"$error":"#VALUE!"}]
[185,{"$error":"#VALUE!"},{"$f":"IF($B195<>\"\",VLOOKUP($B195,CATLookup!$A$2:$E$271,2,FALSE),\"\")","v":{"$error":"#VALUE!"}},{"$f":"IF($B195<>\"\",VLOOKUP($B195,CATLookup!$A$2:$E$271,3,FALSE),\"\")","v":{"$error":"#VALUE!"}},{"$f":"IF($B195<>\"\",VLOOKUP($B195,CATLookup!$A$2:$E$271,4,FALSE),\"\")","v":{"$error":"#VALUE!"}},null,null,null,null,null,null,{"$error":"#VALUE!"}]
[186,{"$error":"#VALUE!"},{"$f":"IF($B196<>\"\",VLOOKUP($B196,CATLookup!$A$2:$E$271,2,FALSE),\"\")","v":{"$error":"#VALUE!"}},{"$f":"IF($B196<>\"\",VLOOKUP($B196,CATLookup!$A$2:$E$271,3,FALSE),\"\")","v":{"$error":"#VALUE!"}},{"$f":"IF($B196<>\"\",VLOOKUP($B196,CATLookup!$A$2:$E$271,4,FALSE),\"\")","v":{"$error":"#VALUE!"}},null,null,null,null,null,null,{"$error":"#VALUE!"}]
[187,{"$error":"#VALUE!"},{"$f":"IF($B197<>\"\",VLOOKUP($B197,CATLookup!$A$2:$E$271,2,FALSE),\"\")","v":{"$error":"#VALUE!"}},{"$f":"IF($B197<>\"\",VLOOKUP($B197,CATLookup!$A$2:$E$271,3,FALSE),\"\")","v":{"$error":"#VALUE!"}},{"$f":"IF($B197<>\"\",VLOOKUP($B197,CATLookup!$A$2:$E$271,4,FALSE),\"\")","v":{"$error":"#VALUE!"}},null,null,null,null,null,null,{"$error":"#VALUE!"}]
[188,{"$error":"#VALUE!"},{"$f":"IF($B198<>\"\",VLOOKUP($B198,CATLookup!$A$2:$E$271,2,FALSE),\"\")","v":{"$error":"#VALUE!"}},{"$f":"IF($B198<>\"\",VLOOKUP($B198,CATLookup!$A$2:$E$271,3,FALSE),\"\")","v":{"$error":"#VALUE!"}},{"$f":"IF($B198<>\"\",VLOOKUP($B198,CATLookup!$A$2:$E$271,4,FALSE),\"\")","v":{"$error":"#VALUE!"}},null,null,null,null,null,null,{"$error":"#VALUE!"}]
[189,{"$error":"#VALUE!"},{"$f":"IF($B199<>\"\",VLOOKUP($B199,CATLookup!$A$2:$E$271,2,FALSE),\"\")","v":{"$error":"#VALUE!"}},{"$f":"IF($B199<>\"\",VLOOKUP($B199,CATLookup!$A$2:$E$271,3,FALSE),\"\")","v":{"$error":"#VALUE!"}},{"$f":"IF($B199<>\"\",VLOOKUP($B199,CATLookup!$A$2:$E$271,4,FALSE),\"\")","v":{"$error":"#VALUE!"}},null,null,null,null,null,null,{"$error":"#VALUE!"}]
[190,{"$error":"#VALUE!"},{"$f":"IF($B200<>\"\",VLOOKUP($B200,CATLookup!$A$2:$E$271,2,FALSE),\"\")","v":{"$error":"#VALUE!"}},{"$f":"IF($B200<>\"\",VLOOKUP($B200,CATLookup!$A$2:$E$271,3,FALSE),\"\")","v":{"$error":"#VALUE!"}},{"$f":"IF($B200<>\"\",VLOOKUP($B200,CATLookup!$A$2:$E$271,4,FALSE),\"\")","v":{"$error":"#VALUE!"}},null,null,null,null,null,null,{"$error":"#VALUE!"}]
[191,{"$error":"#VALUE!"},{"$f":"IF($B201<>\"\",VLOOKUP($B201,CATLookup!$A$2:$E$271,2,FALSE),\"\")","v":{"$error":"#VALUE!"}},{"$f":"IF($B201<>\"\",VLOOKUP($B201,CATLookup!$A$2:$E$271,3,FALSE),\"\")","v":{"$error":"#VALUE!"}},{"$f":"IF($B201<>\"\",VLOOKUP($B201,CATLookup!$A$2:$E$271,4,FALSE),\"\")","v":{"$error":"#VALUE!"}},null,null,null,null,null,null,{"$error":"#VALUE!"}]
[192,{"$error":"#VALUE!"},{"$f":"IF($B202<>\"\",VLOOKUP($B202,CATLookup!$A$2:$E$271,2,FALSE),\"\")","v":{"$error":"#VALUE!"}},{"$f":"IF($B202<>\"\",VLOOKUP($B202,CATLookup!$A$2:$E$271,3,FALSE),\"\")","v":{"$error":"#VALUE!"}},{"$f":"IF($B202<>\"\",VLOOKUP($B202,CATLookup!$A$2:$E$271,4,FALSE),\"\")","v":{"$error":"#VALUE!"}},null,null,null,null,null,null,{"$error":"#VALUE!"}]
[193,{"$error":"#VALUE!"},{"$f":"IF($B203<>\"\",VLOOKUP($B203,CATLookup!$A$2:$E$271,2,FALSE),\"\")","v":{"$error":"#VALUE!"}},{"$f":"IF($B203<>\"\",VLOOKUP($B203,CATLookup!$A$2:$E$271,3,FALSE),\"\")","v":{"$error":"#VALUE!"}},{"$f":"IF($B203<>\"\",VLOOKUP($B203,CATLookup!$A$2:$E$271,4,FALSE),\"\")","v":{"$error":"#VALUE!"}},null,null,null,null,null,null,{"$error":"#VALUE!"}]
[194,{"$f":"IF(A$9=0,\"No items for this report\",IF(A204<=A$9,A204,\"\"))","v":{"$error":"#VALUE!"}},{"$f":"IF($B204<>\"\",VLOOKUP($B204,CATLookup!$A$2:$E$271,2,FALSE),\"\")","v":{"$error":"#VALUE!"}},{"$f":"IF($B204<>\"\",VLOOKUP($B204,CATLookup!$A$2:$E$271,3,FALSE),\"\")","v":{"$error":"#VALUE!"}},{"$f":"IF($B204<>\"\",VLOOKUP($B204,CATLookup!$A$2:$E$271,4,FALSE),\"\")","v":{"$error":"#VALUE!"}},null,null,null,null,null,null,{"$f":"IF(B204<>\"\",L203+1,1)","v":{"$error":"#VALUE!"}}]
[195,{"$error":"#VALUE!"},{"$f":"IF($B205<>\"\",VLOOKUP($B205,CATLookup!$A$2:$E$271,2,FALSE),\"\")","v":{"$error":"#VALUE!"}},{"$f":"IF($B205<>\"\",VLOOKUP($B205,CATLookup!$A$2:$E$271,3,FALSE),\"\")","v":{"$error":"#VALUE!"}},{"$f":"IF($B205<>\"\",VLOOKUP($B205,CATLookup!$A$2:$E$271,4,FALSE),\"\")","v":{"$error":"#VALUE!"}},null,null,null,null,null,null,{"$error":"#VALUE!"}]
[196,{"$error":"#VALUE!"},{"$f":"IF($B206<>\"\",VLOOKUP($B206,CATLookup!$A$2:$E$271,2,FALSE),\"\")","v":{"$error":"#VALUE!"}},{"$f":"IF($B206<>\"\",VLOOKUP($B206,CATLookup!$A$2:$E$271,3,FALSE),\"\")","v":{"$error":"#VALUE!"}},{"$f":"IF($B206<>\"\",VLOOKUP($B206,CATLookup!$A$2:$E$271,4,FALSE),\"\")","v":{"$error":"#VALUE!"}},null,null,null,null,null,null,{"$error":"#VALUE!"}]
[197,{"$error":"#VALUE!"},{"$f":"IF($B207<>\"\",VLOOKUP($B207,CATLookup!$A$2:$E$271,2,FALSE),\"\")","v":{"$error":"#VALUE!"}},{"$f":"IF($B207<>\"\",VLOOKUP($B207,CATLookup!$A$2:$E$271,3,FALSE),\"\")","v":{"$error":"#VALUE!"}},{"$f":"IF($B207<>\"\",VLOOKUP($B207,CATLookup!$A$2:$E$271,4,FALSE),\"\")","v":{"$error":"#VALUE!"}},null,null,null,null,null,null,{"$error":"#VALUE!"}]
[198,{"$error":"#VALUE!"},{"$f":"IF($B208<>\"\",VLOOKUP($B208,CATLookup!$A$2:$E$271,2,FALSE),\"\")","v":{"$error":"#VALUE!"}},{"$f":"IF($B208<>\"\",VLOOKUP($B208,CATLookup!$A$2:$E$271,3,FALSE),\"\")","v":{"$error":"#VALUE!"}},{"$f":"IF($B208<>\"\",VLOOKUP($B208,CATLookup!$A$2:$E$271,4,FALSE),\"\")","v":{"$error":"#VALUE!"}},null,null,null,null,null,null,{"$error":"#VALUE!"}]
[199,{"$error":"#VALUE!"},{"$f":"IF($B209<>\"\",VLOOKUP($B209,CATLookup!$A$2:$E$271,2,FALSE),\"\")","v":{"$error":"#VALUE!"}},{"$f":"IF($B209<>\"\",VLOOKUP($B209,CATLookup!$A$2:$E$271,3,FALSE),\"\")","v":{"$error":"#VALUE!"}},{"$f":"IF($B209<>\"\",VLOOKUP($B209,CATLookup!$A$2:$E$271,4,FALSE),\"\")","v":{"$error":"#VALUE!"}},null,null,null,null,null,null,{"$error":"#VALUE!"}]
[200,{"$error":"#VALUE!"},{"$f":"IF($B210<>\"\",VLOOKUP($B210,CATLookup!$A$2:$E$271,2,FALSE),\"\")","v":{"$error":"#VALUE!"}},{"$f":"IF($B210<>\"\",VLOOKUP($B210,CATLookup!$A$2:$E$271,3,FALSE),\"\")","v":{"$error":"#VALUE!"}},{"$f":"IF($B210<>\"\",VLOOKUP($B210,CATLookup!$A$2:$E$271,4,FALSE),\"\")","v":{"$error":"#VALUE!"}},null,null,null,null,null,null,{"$error":"#VALUE!"}]
[201,{"$error":"#VALUE!"},{"$f":"IF($B211<>\"\",VLOOKUP($B211,CATLookup!$A$2:$E$271,2,FALSE),\"\")","v":{"$error":"#VALUE!"}},{"$f":"IF($B211<>\"\",VLOOKUP($B211,CATLookup!$A$2:$E$271,3,FALSE),\"\")","v":{"$error":"#VALUE!"}},{"$f":"IF($B211<>\"\",VLOOKUP($B211,CATLookup!$A$2:$E$271,4,FALSE),\"\")","v":{"$error":"#VALUE!"}},null,null,null,null,null,null,{"$error":"#VALUE!"}]
[202,{"$error":"#VALUE!"},{"$f":"IF($B212<>\"\",VLOOKUP($B212,CATLookup!$A$2:$E$271,2,FALSE),\"\")","v":{"$error":"#VALUE!"}},{"$f":"IF($B212<>\"\",VLOOKUP($B212,CATLookup!$A$2:$E$271,3,FALSE),\"\")","v":{"$error":"#VALUE!"}},{"$f":"IF($B212<>\"\",VLOOKUP($B212,CATLookup!$A$2:$E$271,4,FALSE),\"\")","v":{"$error":"#VALUE!"}},null,null,null,null,null,null,{"$error":"#VALUE!"}]
[203,{"$error":"#VALUE!"},{"$f":"IF($B213<>\"\",VLOOKUP($B213,CATLookup!$A$2:$E$271,2,FALSE),\"\")","v":{"$error":"#VALUE!"}},{"$f":"IF($B213<>\"\",VLOOKUP($B213,CATLookup!$A$2:$E$271,3,FALSE),\"\")","v":{"$error":"#VALUE!"}},{"$f":"IF($B213<>\"\",VLOOKUP($B213,CATLookup!$A$2:$E$271,4,FALSE),\"\")","v":{"$error":"#VALUE!"}},null,null,null,null,null,null,{"$error":"#VALUE!"}]
[204,{"$error":"#VALUE!"},{"$f":"IF($B214<>\"\",VLOOKUP($B214,CATLookup!$A$2:$E$271,2,FALSE),\"\")","v":{"$error":"#VALUE!"}},{"$f":"IF($B214<>\"\",VLOOKUP($B214,CATLookup!$A$2:$E$271,3,FALSE),\"\")","v":{"$error":"#VALUE!"}},{"$f":"IF($B214<>\"\",VLOOKUP($B214,CATLookup!$A$2:$E$271,4,FALSE),\"\")","v":{"$error":"#VALUE!"}},null,null,null,null,null,null,{"$error":"#VALUE!"}]
[205,{"$error":"#VALUE!"},{"$f":"IF($B215<>\"\",VLOOKUP($B215,CATLookup!$A$2:$E$271,2,FALSE),\"\")","v":{"$error":"#VALUE!"}},{"$f":"IF($B215<>\"\",VLOOKUP($B215,CATLookup!$A$2:$E$271,3,FALSE),\"\")","v":{"$error":"#VALUE!"}},{"$f":"IF($B215<>\"\",VLOOKUP($B215,CATLookup!$A$2:$E$271,4,FALSE),\"\")","v":{"$error":"#VALUE!"}},null,null,null,null,null,null,{"$error":"#VALUE!"}]
[206,{"$error":"#VALUE!"},{"$f":"IF($B216<>\"\",VLOOKUP($B216,CATLookup!$A$2:$E$271,2,FALSE),\"\")","v":{"$error":"#VALUE!"}},{"$f":"IF($B216<>\"\",VLOOKUP($B216,CATLookup!$A$2:$E$271,3,FALSE),\"\")","v":{"$error":"#VALUE!"}},{"$f":"IF($B216<>\"\",VLOOKUP($B216,CATLookup!$A$2:$E$271,4,FALSE),\"\")","v":{"$error":"#VALUE!"}},null,null,null,null,null,null,{"$error":"#VALUE!"}]
[207,{"$error":"#VALUE!"},{"$f":"IF($B217<>\"\",VLOOKUP($B217,CATLookup!$A$2:$E$271,2,FALSE),\"\")","v":{"$error":"#VALUE!"}},{"$f":"IF($B217<>\"\",VLOOKUP($B217,CATLookup!$A$2:$E$271,3,FALSE),\"\")","v":{"$error":"#VALUE!"}},{"$f":"IF($B217<>\"\",VLOOKUP($B217,CATLookup!$A$2:$E$271,4,FALSE),\"\")","v":{"$error":"#VALUE!"}},null,null,null,null,null,null,{"$error":"#VALUE!"}]
[208,{"$error":"#VALUE!"},{"$f":"IF($B218<>\"\",VLOOKUP($B218,CATLookup!$A$2:$E$271,2,FALSE),\"\")","v":{"$error":"#VALUE!"}},{"$f":"IF($B218<>\"\",VLOOKUP($B218,CATLookup!$A$2:$E$271,3,FALSE),\"\")","v":{"$error":"#VALUE!"}},{"$f":"IF($B218<>\"\",VLOOKUP($B218,CATLookup!$A$2:$E$271,4,FALSE),\"\")","v":{"$error":"#VALUE!"}},null,null,null,null,null,null,{"$error":"#VALUE!"}]
[209,{"$error":"#VALUE!"},{"$f":"IF($B219<>\"\",VLOOKUP($B219,CATLookup!$A$2:$E$271,2,FALSE),\"\")","v":{"$error":"#VALUE!"}},{"$f":"IF($B219<>\"\",VLOOKUP($B219,CATLookup!$A$2:$E$271,3,FALSE),\"\")","v":{"$error":"#VALUE!"}},{"$f":"IF($B219<>\"\",VLOOKUP($B219,CATLookup!$A$2:$E$271,4,FALSE),\"\")","v":{"$error":"#VALUE!"}},null,null,null,null,null,null,{"$error":"#VALUE!"}]
[210,{"$error":"#VALUE!"},{"$f":"IF($B220<>\"\",VLOOKUP($B220,CATLookup!$A$2:$E$271,2,FALSE),\"\")","v":{"$error":"#VALUE!"}},{"$f":"IF($B220<>\"\",VLOOKUP($B220,CATLookup!$A$2:$E$271,3,FALSE),\"\")","v":{"$error":"#VALUE!"}},{"$f":"IF($B220<>\"\",VLOOKUP($B220,CATLookup!$A$2:$E$271,4,FALSE),\"\")","v":{"$error":"#VALUE!"}},null,null,null,null,null,null,{"$error":"#VALUE!"}]
[211,{"$error":"#VALUE!"},{"$f":"IF($B221<>\"\",VLOOKUP($B221,CATLookup!$A$2:$E$271,2,FALSE),\"\")","v":{"$error":"#VALUE!"}},{"$f":"IF($B221<>\"\",VLOOKUP($B221,CATLookup!$A$2:$E$271,3,FALSE),\"\")","v":{"$error":"#VALUE!"}},{"$f":"IF($B221<>\"\",VLOOKUP($B221,CATLookup!$A$2:$E$271,4,FALSE),\"\")","v":{"$error":"#VALUE!"}},null,null,null,null,null,null,{"$error":"#VALUE!"}]
[212,{"$error":"#VALUE!"},{"$f":"IF($B222<>\"\",VLOOKUP($B222,CATLookup!$A$2:$E$271,2,FALSE),\"\")","v":{"$error":"#VALUE!"}},{"$f":"IF($B222<>\"\",VLOOKUP($B222,CATLookup!$A$2:$E$271,3,FALSE),\"\")","v":{"$error":"#VALUE!"}},{"$f":"IF($B222<>\"\",VLOOKUP($B222,CATLookup!$A$2:$E$271,4,FALSE),\"\")","v":{"$error":"#VALUE!"}},null,null,null,null,null,null,{"$error":"#VALUE!"}]
[213,{"$error":"#VALUE!"},{"$f":"IF($B223<>\"\",VLOOKUP($B223,CATLookup!$A$2:$E$271,2,FALSE),\"\")","v":{"$error":"#VALUE!"}},{"$f":"IF($B223<>\"\",VLOOKUP($B223,CATLookup!$A$2:$E$271,3,FALSE),\"\")","v":{"$error":"#VALUE!"}},{"$f":"IF($B223<>\"\",VLOOKUP($B223,CATLookup!$A$2:$E$271,4,FALSE),\"\")","v":{"$error":"#VALUE!"}},null,null,null,null,null,null,{"$error":"#VALUE!"}]
[214,{"$error":"#VALUE!"},{"$f":"IF($B224<>\"\",VLOOKUP($B224,CATLookup!$A$2:$E$271,2,FALSE),\"\")","v":{"$error":"#VALUE!"}},{"$f":"IF($B224<>\"\",VLOOKUP($B224,CATLookup!$A$2:$E$271,3,FALSE),\"\")","v":{"$error":"#VALUE!"}},{"$f":"IF($B224<>\"\",VLOOKUP($B224,CATLookup!$A$2:$E$271,4,FALSE),\"\")","v":{"$error":"#VALUE!"}},null,null,null,null,null,null,{"$error":"#VALUE!"}]
[215,{"$error":"#VALUE!"},{"$f":"IF($B225<>\"\",VLOOKUP($B225,CATLookup!$A$2:$E$271,2,FALSE),\"\")","v":{"$error":"#VALUE!"}},{"$f":"IF($B225<>\"\",VLOOKUP($B225,CATLookup!$A$2:$E$271,3,FALSE),\"\")","v":{"$error":"#VALUE!"}},{"$f":"IF($B225<>\"\",VLOOKUP($B225,CATLookup!$A$2:$E$271,4,FALSE),\"\")","v":{"$error":"#VALUE!"}},null,null,null,null,null,null,{"$error":"#VALUE!"}]
[216,{"$error":"#VALUE!"},{"$f":"IF($B226<>\"\",VLOOKUP($B226,CATLookup!$A$2:$E$271,2,FALSE),\"\")","v":{"$error":"#VALUE!"}},{"$f":"IF($B226<>\"\",VLOOKUP($B226,CATLookup!$A$2:$E$271,3,FALSE),\"\")","v":{"$error":"#VALUE!"}},{"$f":"IF($B226<>\"\",VLOOKUP($B226,CATLookup!$A$2:$E$271,4,FALSE),\"\")","v":{"$error":"#VALUE!"}},null,null,null,null,null,null,{"$error":"#VALUE!"}]
[217,{"$error":"#VALUE!"},{"$f":"IF($B227<>\"\",VLOOKUP($B227,CATLookup!$A$2:$E$271,2,FALSE),\"\")","v":{"$error":"#VALUE!"}},{"$f":"IF($B227<>\"\",VLOOKUP($B227,CATLookup!$A$2:$E$271,3,FALSE),\"\")","v":{"$error":"#VALUE!"}},{"$f":"IF($B227<>\"\",VLOOKUP($B227,CATLookup!$A$2:$E$271,4,FALSE),\"\")","v":{"$error":"#VALUE!"}},null,null,null,null,null,null,{"$error":"#VALUE!"}]
[218,{"$error":"#VALUE!"},{"$f":"IF($B228<>\"\",VLOOKUP($B228,CATLookup!$A$2:$E$271,2,FALSE),\"\")","v":{"$error":"#VALUE!"}},{"$f":"IF($B228<>\"\",VLOOKUP($B228,CATLookup!$A$2:$E$271,3,FALSE),\"\")","v":{"$error":"#VALUE!"}},{"$f":"IF($B228<>\"\",VLOOKUP($B228,CATLookup!$A$2:$E$271,4,FALSE),\"\")","v":{"$error":"#VALUE!"}},null,null,null,null,null,null,{"$error":"#VALUE!"}]
[219,{"$error":"#VALUE!"},{"$f":"IF($B229<>\"\",VLOOKUP($B229,CATLookup!$A$2:$E$271,2,FALSE),\"\")","v":{"$error":"#VALUE!"}},{"$f":"IF($B229<>\"\",VLOOKUP($B229,CATLookup!$A$2:$E$271,3,FALSE),\"\")","v":{"$error":"#VALUE!"}},{"$f":"IF($B229<>\"\",VLOOKUP($B229,CATLookup!$A$2:$E$271,4,FALSE),\"\")","v":{"$error":"#VALUE!"}},null,null,null,null,null,null,{"$error":"#VALUE!"}]
[220,{"$error":"#VALUE!"},{"$f":"IF($B230<>\"\",VLOOKUP($B230,CATLookup!$A$2:$E$271,2,FALSE),\"\")","v":{"$error":"#VALUE!"}},{"$f":"IF($B230<>\"\",VLOOKUP($B230,CATLookup!$A$2:$E$271,3,FALSE),\"\")","v":{"$error":"#VALUE!"}},{"$f":"IF($B230<>\"\",VLOOKUP($B230,CATLookup!$A$2:$E$271,4,FALSE),\"\")","v":{"$error":"#VALUE!"}},null,null,null,null,null,null,{"$error":"#VALUE!"}]
[221,{"$error":"#VALUE!"},{"$f":"IF($B231<>\"\",VLOOKUP($B231,CATLookup!$A$2:$E$271,2,FALSE),\"\")","v":{"$error":"#VALUE!"}},{"$f":"IF($B231<>\"\",VLOOKUP($B231,CATLookup!$A$2:$E$271,3,FALSE),\"\")","v":{"$error":"#VALUE!"}},{"$f":"IF($B231<>\"\",VLOOKUP($B231,CATLookup!$A$2:$E$271,4,FALSE),\"\")","v":{"$error":"#VALUE!"}},null,null,null,null,null,null,{"$error":"#VALUE!"}]
[222,{"$error":"#VALUE!"},{"$f":"IF($B232<>\"\",VLOOKUP($B232,CATLookup!$A$2:$E$271,2,FALSE),\"\")","v":{"$error":"#VALUE!"}},{"$f":"IF($B232<>\"\",VLOOKUP($B232,CATLookup!$A$2:$E$271,3,FALSE),\"\")","v":{"$error":"#VALUE!"}},{"$f":"IF($B232<>\"\",VLOOKUP($B232,CATLookup!$A$2:$E$271,4,FALSE),\"\")","v":{"$error":"#VALUE!"}},null,null,null,null,null,null,{"$error":"#VALUE!"}]
[223,{"$error":"#VALUE!"},{"$f":"IF($B233<>\"\",VLOOKUP($B233,CATLookup!$A$2:$E$271,2,FALSE),\"\")","v":{"$error":"#VALUE!"}},{"$f":"IF($B233<>\"\",VLOOKUP($B233,CATLookup!$A$2:$E$271,3,FALSE),\"\")","v":{"$error":"#VALUE!"}},{"$f":"IF($B233<>\"\",VLOOKUP($B233,CATLookup!$A$2:$E$271,4,FALSE),\"\")","v":{"$error":"#VALUE!"}},null,null,null,null,null,null,{"$error":"#VALUE!"}]
[224,{"$error":"#VALUE!"},{"$f":"IF($B234<>\"\",VLOOKUP($B234,CATLookup!$A$2:$E$271,2,FALSE),\"\")","v":{"$error":"#VALUE!"}},{"$f":"IF($B234<>\"\",VLOOKUP($B234,CATLookup!$A$2:$E$271,3,FALSE),\"\")","v":{"$error":"#VALUE!"}},{"$f":"IF($B234<>\"\",VLOOKUP($B234,CATLookup!$A$2:$E$271,4,FALSE),\"\")","v":{"$error":"#VALUE!"}},null,null,null,null,null,null,{"$error":"#VALUE!"}]
[225,{"$error":"#VALUE!"},{"$f":"IF($B235<>\"\",VLOOKUP($B235,CATLookup!$A$2:$E$271,2,FALSE),\"\")","v":{"$error":"#VALUE!"}},{"$f":"IF($B235<>\"\",VLOOKUP($B235,CATLookup!$A$2:$E$271,3,FALSE),\"\")","v":{"$error":"#VALUE!"}},{"$f":"IF($B235<>\"\",VLOOKUP($B235,CATLookup!$A$2:$E$271,4,FALSE),\"\")","v":{"$error":"#VALUE!"}},null,null,null,null,null,null,{"$error":"#VALUE!"}]
[226,{"$error":"#VALUE!"},{"$f":"IF($B236<>\"\",VLOOKUP($B236,CATLookup!$A$2:$E$271,2,FALSE),\"\")","v":{"$error":"#VALUE!"}},{"$f":"IF($B236<>\"\",VLOOKUP($B236,CATLookup!$A$2:$E$271,3,FALSE),\"\")","v":{"$error":"#VALUE!"}},{"$f":"IF($B236<>\"\",VLOOKUP($B236,CATLookup!$A$2:$E$271,4,FALSE),\"\")","v":{"$error":"#VALUE!"}},null,null,null,null,null,null,{"$error":"#VALUE!"}]
[227,{"$error":"#VALUE!"},{"$f":"IF($B237<>\"\",VLOOKUP($B237,CATLookup!$A$2:$E$271,2,FALSE),\"\")","v":{"$error":"#VALUE!"}},{"$f":"IF($B237<>\"\",VLOOKUP($B237,CATLookup!$A$2:$E$271,3,FALSE),\"\")","v":{"$error":"#VALUE!"}},{"$f":"IF($B237<>\"\",VLOOKUP($B237,CATLookup!$A$2:$E$271,4,FALSE),\"\")","v":{"$error":"#VALUE!"}},null,null,null,null,null,null,{"$error":"#VALUE!"}]
[228,{"$error":"#VALUE!"},{"$f":"IF($B238<>\"\",VLOOKUP($B238,CATLookup!$A$2:$E$271,2,FALSE),\"\")","v":{"$error":"#VALUE!"}},{"$f":"IF($B238<>\"\",VLOOKUP($B238,CATLookup!$A$2:$E$271,3,FALSE),\"\")","v":{"$error":"#VALUE!"}},{"$f":"IF($B238<>\"\",VLOOKUP($B238,CATLookup!$A$2:$E$271,4,FALSE),\"\")","v":{"$error":"#VALUE!"}},null,null,null,null,null,null,{"$error":"#VALUE!"}]
[229,{"$error":"#VALUE!"},{"$f":"IF($B239<>\"\",VLOOKUP($B239,CATLookup!$A$2:$E$271,2,FALSE),\"\")","v":{"$error":"#VALUE!"}},{"$f":"IF($B239<>\"\",VLOOKUP($B239,CATLookup!$A$2:$E$271,3,FALSE),\"\")","v":{"$error":"#VALUE!"}},{"$f":"IF($B239<>\"\",VLOOKUP($B239,CATLookup!$A$2:$E$271,4,FALSE),\"\")","v":{"$error":"#VALUE!"}},null,null,null,null,null,null,{"$error":"#VALUE!"}]
[230,{"$error":"#VALUE!"},{"$f":"IF($B240<>\"\",VLOOKUP($B240,CATLookup!$A$2:$E$271,2,FALSE),\"\")","v":{"$error":"#VALUE!"}},{"$f":"IF($B240<>\"\",VLOOKUP($B240,CATLookup!$A$2:$E$271,3,FALSE),\"\")","v":{"$error":"#VALUE!"}},{"$f":"IF($B240<>\"\",VLOOKUP($B240,CATLookup!$A$2:$E$271,4,FALSE),\"\")","v":{"$error":"#VALUE!"}},null,null,null,null,null,null,{"$error":"#VALUE!"}]
[231,{"$error":"#VALUE!"},{"$f":"IF($B241<>\"\",VLOOKUP($B241,CATLookup!$A$2:$E$271,2,FALSE),\"\")","v":{"$error":"#VALUE!"}},{"$f":"IF($B241<>\"\",VLOOKUP($B241,CATLookup!$A$2:$E$271,3,FALSE),\"\")","v":{"$error":"#VALUE!"}},{"$f":"IF($B241<>\"\",VLOOKUP($B241,CATLookup!$A$2:$E$271,4,FALSE),\"\")","v":{"$error":"#VALUE!"}},null,null,null,null,null,null,{"$error":"#VALUE!"}]
[232,{"$error":"#VALUE!"},{"$f":"IF($B242<>\"\",VLOOKUP($B242,CATLookup!$A$2:$E$271,2,FALSE),\"\")","v":{"$error":"#VALUE!"}},{"$f":"IF($B242<>\"\",VLOOKUP($B242,CATLookup!$A$2:$E$271,3,FALSE),\"\")","v":{"$error":"#VALUE!"}},{"$f":"IF($B242<>\"\",VLOOKUP($B242,CATLookup!$A$2:$E$271,4,FALSE),\"\")","v":{"$error":"#VALUE!"}},null,null,null,null,null,null,{"$error":"#VALUE!"}]
[233,{"$error":"#VALUE!"},{"$f":"IF($B243<>\"\",VLOOKUP($B243,CATLookup!$A$2:$E$271,2,FALSE),\"\")","v":{"$error":"#VALUE!"}},{"$f":"IF($B243<>\"\",VLOOKUP($B243,CATLookup!$A$2:$E$271,3,FALSE),\"\")","v":{"$error":"#VALUE!"}},{"$f":"IF($B243<>\"\",VLOOKUP($B243,CATLookup!$A$2:$E$271,4,FALSE),\"\")","v":{"$error":"#VALUE!"}},null,null,null,null,null,null,{"$error":"#VALUE!"}]
[234,{"$error":"#VALUE!"},{"$f":"IF($B244<>\"\",VLOOKUP($B244,CATLookup!$A$2:$E$271,2,FALSE),\"\")","v":{"$error":"#VALUE!"}},{"$f":"IF($B244<>\"\",VLOOKUP($B244,CATLookup!$A$2:$E$271,3,FALSE),\"\")","v":{"$error":"#VALUE!"}},{"$f":"IF($B244<>\"\",VLOOKUP($B244,CATLookup!$A$2:$E$271,4,FALSE),\"\")","v":{"$error":"#VALUE!"}},null,null,null,null,null,null,{"$error":"#VALUE!"}]
[235,{"$error":"#VALUE!"},{"$f":"IF($B245<>\"\",VLOOKUP($B245,CATLookup!$A$2:$E$271,2,FALSE),\"\")","v":{"$error":"#VALUE!"}},{"$f":"IF($B245<>\"\",VLOOKUP($B245,CATLookup!$A$2:$E$271,3,FALSE),\"\")","v":{"$error":"#VALUE!"}},{"$f":"IF($B245<>\"\",VLOOKUP($B245,CATLookup!$A$2:$E$271,4,FALSE),\"\")","v":{"$error":"#VALUE!"}},null,null,null,null,null,null,{"$error":"#VALUE!"}]
[236,{"$error":"#VALUE!"},{"$f":"IF($B246<>\"\",VLOOKUP($B246,CATLookup!$A$2:$E$271,2,FALSE),\"\")","v":{"$error":"#VALUE!"}},{"$f":"IF($B246<>\"\",VLOOKUP($B246,CATLookup!$A$2:$E$271,3,FALSE),\"\")","v":{"$error":"#VALUE!"}},{"$f":"IF($B246<>\"\",VLOOKUP($B246,CATLookup!$A$2:$E$271,4,FALSE),\"\")","v":{"$error":"#VALUE!"}},null,null,null,null,null,null,{"$error":"#VALUE!"}]
[237,{"$error":"#VALUE!"},{"$f":"IF($B247<>\"\",VLOOKUP($B247,CATLookup!$A$2:$E$271,2,FALSE),\"\")","v":{"$error":"#VALUE!"}},{"$f":"IF($B247<>\"\",VLOOKUP($B247,CATLookup!$A$2:$E$271,3,FALSE),\"\")","v":{"$error":"#VALUE!"}},{"$f":"IF($B247<>\"\",VLOOKUP($B247,CATLookup!$A$2:$E$271,4,FALSE),\"\")","v":{"$error":"#VALUE!"}},null,null,null,null,null,null,{"$error":"#VALUE!"}]
[238,{"$error":"#VALUE!"},{"$f":"IF($B248<>\"\",VLOOKUP($B248,CATLookup!$A$2:$E$271,2,FALSE),\"\")","v":{"$error":"#VALUE!"}},{"$f":"IF($B248<>\"\",VLOOKUP($B248,CATLookup!$A$2:$E$271,3,FALSE),\"\")","v":{"$error":"#VALUE!"}},{"$f":"IF($B248<>\"\",VLOOKUP($B248,CATLookup!$A$2:$E$271,4,FALSE),\"\")","v":{"$error":"#VALUE!"}},null,null,null,null,null,null,{"$error":"#VALUE!"}]
[239,{"$error":"#VALUE!"},{"$f":"IF($B249<>\"\",VLOOKUP($B249,CATLookup!$A$2:$E$271,2,FALSE),\"\")","v":{"$error":"#VALUE!"}},{"$f":"IF($B249<>\"\",VLOOKUP($B249,CATLookup!$A$2:$E$271,3,FALSE),\"\")","v":{"$error":"#VALUE!"}},{"$f":"IF($B249<>\"\",VLOOKUP($B249,CATLookup!$A$2:$E$271,4,FALSE),\"\")","v":{"$error":"#VALUE!"}},null,null,null,null,null,null,{"$error":"#VALUE!"}]
[240,{"$error":"#VALUE!"},{"$f":"IF($B250<>\"\",VLOOKUP($B250,CATLookup!$A$2:$E$271,2,FALSE),\"\")","v":{"$error":"#VALUE!"}},{"$f":"IF($B250<>\"\",VLOOKUP($B250,CATLookup!$A$2:$E$271,3,FALSE),\"\")","v":{"$error":"#VALUE!"}},{"$f":"IF($B250<>\"\",VLOOKUP($B250,CATLookup!$A$2:$E$271,4,FALSE),\"\")","v":{"$error":"#VALUE!"}},null,null,null,null,null,null,{"$error":"#VALUE!"}]
[241,{"$error":"#VALUE!"},{"$f":"IF($B251<>\"\",VLOOKUP($B251,CATLookup!$A$2:$E$271,2,FALSE),\"\")","v":{"$error":"#VALUE!"}},{"$f":"IF($B251<>\"\",VLOOKUP($B251,CATLookup!$A$2:$E$271,3,FALSE),\"\")","v":{"$error":"#VALUE!"}},{"$f":"IF($B251<>\"\",VLOOKUP($B251,CATLookup!$A$2:$E$271,4,FALSE),\"\")","v":{"$error":"#VALUE!"}},null,null,null,null,null,null,{"$error":"#VALUE!"}]
[242,{"$error":"#VALUE!"},{"$f":"IF($B252<>\"\",VLOOKUP($B252,CATLookup!$A$2:$E$271,2,FALSE),\"\")","v":{"$error":"#VALUE!"}},{"$f":"IF($B252<>\"\",VLOOKUP($B252,CATLookup!$A$2:$E$271,3,FALSE),\"\")","v":{"$error":"#VALUE!"}},{"$f":"IF($B252<>\"\",VLOOKUP($B252,CATLookup!$A$2:$E$271,4,FALSE),\"\")","v":{"$error":"#VALUE!"}},null,null,null,null,null,null,{"$error":"#VALUE!"}]
[243,{"$error":"#VALUE!"},{"$f":"IF($B253<>\"\",VLOOKUP($B253,CATLookup!$A$2:$E$271,2,FALSE),\"\")","v":{"$error":"#VALUE!"}},{"$f":"IF($B253<>\"\",VLOOKUP($B253,CATLookup!$A$2:$E$271,3,FALSE),\"\")","v":{"$error":"#VALUE!"}},{"$f":"IF($B253<>\"\",VLOOKUP($B253,CATLookup!$A$2:$E$271,4,FALSE),\"\")","v":{"$error":"#VALUE!"}},null,null,null,null,null,null,{"$error":"#VALUE!"}]
[244,{"$error":"#VALUE!"},{"$f":"IF($B254<>\"\",VLOOKUP($B254,CATLookup!$A$2:$E$271,2,FALSE),\"\")","v":{"$error":"#VALUE!"}},{"$f":"IF($B254<>\"\",VLOOKUP($B254,CATLookup!$A$2:$E$271,3,FALSE),\"\")","v":{"$error":"#VALUE!"}},{"$f":"IF($B254<>\"\",VLOOKUP($B254,CATLookup!$A$2:$E$271,4,FALSE),\"\")","v":{"$error":"#VALUE!"}},null,null,null,null,null,null,{"$error":"#VALUE!"}]
[245,{"$error":"#VALUE!"},{"$f":"IF($B255<>\"\",VLOOKUP($B255,CATLookup!$A$2:$E$271,2,FALSE),\"\")","v":{"$error":"#VALUE!"}},{"$f":"IF($B255<>\"\",VLOOKUP($B255,CATLookup!$A$2:$E$271,3,FALSE),\"\")","v":{"$error":"#VALUE!"}},{"$f":"IF($B255<>\"\",VLOOKUP($B255,CATLookup!$A$2:$E$271,4,FALSE),\"\")","v":{"$error":"#VALUE!"}},null,null,null,null,null,null,{"$error":"#VALUE!"}]
[246,{"$error":"#VALUE!"},{"$f":"IF($B256<>\"\",VLOOKUP($B256,CATLookup!$A$2:$E$271,2,FALSE),\"\")","v":{"$error":"#VALUE!"}},{"$f":"IF($B256<>\"\",VLOOKUP($B256,CATLookup!$A$2:$E$271,3,FALSE),\"\")","v":{"$error":"#VALUE!"}},{"$f":"IF($B256<>\"\",VLOOKUP($B256,CATLookup!$A$2:$E$271,4,FALSE),\"\")","v":{"$error":"#VALUE!"}},null,null,null,null,null,null,{"$error":"#VALUE!"}]
[247,{"$error":"#VALUE!"},{"$f":"IF($B257<>\"\",VLOOKUP($B257,CATLookup!$A$2:$E$271,2,FALSE),\"\")","v":{"$error":"#VALUE!"}},{"$f":"IF($B257<>\"\",VLOOKUP($B257,CATLookup!$A$2:$E$271,3,FALSE),\"\")","v":{"$error":"#VALUE!"}},{"$f":"IF($B257<>\"\",VLOOKUP($B257,CATLookup!$A$2:$E$271,4,FALSE),\"\")","v":{"$error":"#VALUE!"}},null,null,null,null,null,null,{"$error":"#VALUE!"}]
[248,{"$error":"#VALUE!"},{"$f":"IF($B258<>\"\",VLOOKUP($B258,CATLookup!$A$2:$E$271,2,FALSE),\"\")","v":{"$error":"#VALUE!"}},{"$f":"IF($B258<>\"\",VLOOKUP($B258,CATLookup!$A$2:$E$271,3,FALSE),\"\")","v":{"$error":"#VALUE!"}},{"$f":"IF($B258<>\"\",VLOOKUP($B258,CATLookup!$A$2:$E$271,4,FALSE),\"\")","v":{"$error":"#VALUE!"}},null,null,null,null,null,null,{"$error":"#VALUE!"}]
[249,{"$error":"#VALUE!"},{"$f":"IF($B259<>\"\",VLOOKUP($B259,CATLookup!$A$2:$E$271,2,FALSE),\"\")","v":{"$error":"#VALUE!"}},{"$f":"IF($B259<>\"\",VLOOKUP($B259,CATLookup!$A$2:$E$271,3,FALSE),\"\")","v":{"$error":"#VALUE!"}},{"$f":"IF($B259<>\"\",VLOOKUP($B259,CATLookup!$A$2:$E$271,4,FALSE),\"\")","v":{"$error":"#VALUE!"}},null,null,null,null,null,null,{"$error":"#VALUE!"}]
[250,{"$error":"#VALUE!"},{"$f":"IF($B260<>\"\",VLOOKUP($B260,CATLookup!$A$2:$E$271,2,FALSE),\"\")","v":{"$error":"#VALUE!"}},{"$f":"IF($B260<>\"\",VLOOKUP($B260,CATLookup!$A$2:$E$271,3,FALSE),\"\")","v":{"$error":"#VALUE!"}},{"$f":"IF($B260<>\"\",VLOOKUP($B260,CATLookup!$A$2:$E$271,4,FALSE),\"\")","v":{"$error":"#VALUE!"}},null,null,null,null,null,null,{"$error":"#VALUE!"}]
[251,{"$error":"#VALUE!"},{"$f":"IF($B261<>\"\",VLOOKUP($B261,CATLookup!$A$2:$E$271,2,FALSE),\"\")","v":{"$error":"#VALUE!"}},{"$f":"IF($B261<>\"\",VLOOKUP($B261,CATLookup!$A$2:$E$271,3,FALSE),\"\")","v":{"$error":"#VALUE!"}},{"$f":"IF($B261<>\"\",VLOOKUP($B261,CATLookup!$A$2:$E$271,4,FALSE),\"\")","v":{"$error":"#VALUE!"}},null,null,null,null,null,null,{"$error":"#VALUE!"}]
[252,{"$error":"#VALUE!"},{"$f":"IF($B262<>\"\",VLOOKUP($B262,CATLookup!$A$2:$E$271,2,FALSE),\"\")","v":{"$error":"#VALUE!"}},{"$f":"IF($B262<>\"\",VLOOKUP($B262,CATLookup!$A$2:$E$271,3,FALSE),\"\")","v":{"$error":"#VALUE!"}},{"$f":"IF($B262<>\"\",VLOOKUP($B262,CATLookup!$A$2:$E$271,4,FALSE),\"\")","v":{"$error":"#VALUE!"}},null,null,null,null,null,null,{"$error":"#VALUE!"}]
[253,{"$error":"#VALUE!"},{"$f":"IF($B263<>\"\",VLOOKUP($B263,CATLookup!$A$2:$E$271,2,FALSE),\"\")","v":{"$error":"#VALUE!"}},{"$f":"IF($B263<>\"\",VLOOKUP($B263,CATLookup!$A$2:$E$271,3,FALSE),\"\")","v":{"$error":"#VALUE!"}},{"$f":"IF($B263<>\"\",VLOOKUP($B263,CATLookup!$A$2:$E$271,4,FALSE),\"\")","v":{"$error":"#VALUE!"}},null,null,null,null,null,null,{"$error":"#VALUE!"}]
[254,{"$error":"#VALUE!"},{"$f":"IF($B264<>\"\",VLOOKUP($B264,CATLookup!$A$2:$E$271,2,FALSE),\"\")","v":{"$error":"#VALUE!"}},{"$f":"IF($B264<>\"\",VLOOKUP($B264,CATLookup!$A$2:$E$271,3,FALSE),\"\")","v":{"$error":"#VALUE!"}},{"$f":"IF($B264<>\"\",VLOOKUP($B264,CATLookup!$A$2:$E$271,4,FALSE),\"\")","v":{"$error":"#VALUE!"}},null,null,null,null,null,null,{"$error":"#VALUE!"}]
[255,{"$error":"#VALUE!"},{"$f":"IF($B265<>\"\",VLOOKUP($B265,CATLookup!$A$2:$E$271,2,FALSE),\"\")","v":{"$error":"#VALUE!"}},{"$f":"IF($B265<>\"\",VLOOKUP($B265,CATLookup!$A$2:$E$271,3,FALSE),\"\")","v":{"$error":"#VALUE!"}},{"$f":"IF($B265<>\"\",VLOOKUP($B265,CATLookup!$A$2:$E$271,4,FALSE),\"\")","v":{"$error":"#VALUE!"}},null,null,null,null,null,null,{"$error":"#VALUE!"}]
[256,{"$error":"#VALUE!"},{"$f":"IF($B266<>\"\",VLOOKUP($B266,CATLookup!$A$2:$E$271,2,FALSE),\"\")","v":{"$error":"#VALUE!"}},{"$f":"IF($B266<>\"\",VLOOKUP($B266,CATLookup!$A$2:$E$271,3,FALSE),\"\")","v":{"$error":"#VALUE!"}},{"$f":"IF($B266<>\"\",VLOOKUP($B266,CATLookup!$A$2:$E$271,4,FALSE),\"\")","v":{"$error":"#VALUE!"}},null,null,null,null,null,null,{"$error":"#VALUE!"}]
[257,{"$error":"#VALUE!"},{"$f":"IF($B267<>\"\",VLOOKUP($B267,CATLookup!$A$2:$E$271,2,FALSE),\"\")","v":{"$error":"#VALUE!"}},{"$f":"IF($B267<>\"\",VLOOKUP($B267,CATLookup!$A$2:$E$271,3,FALSE),\"\")","v":{"$error":"#VALUE!"}},{"$f":"IF($B267<>\"\",VLOOKUP($B267,CATLookup!$A$2:$E$271,4,FALSE),\"\")","v":{"$error":"#VALUE!"}},null,null,null,null,null,null,{"$error":"#VALUE!"}]
[258,{"$f":"IF(A$9=0,\"No items for this report\",IF(A268<=A$9,A268,\"\"))","v":{"$error":"#VALUE!"}},{"$f":"IF($B268<>\"\",VLOOKUP($B268,CATLookup!$A$2:$E$271,2,FALSE),\"\")","v":{"$error":"#VALUE!"}},{"$f":"IF($B268<>\"\",VLOOKUP($B268,CATLookup!$A$2:$E$271,3,FALSE),\"\")","v":{"$error":"#VALUE!"}},{"$f":"IF($B268<>\"\",VLOOKUP($B268,CATLookup!$A$2:$E$271,4,FALSE),\"\")","v":{"$error":"#VALUE!"}},null,null,null,null,null,null,{"$f":"IF(B268<>\"\",L267+1,1)","v":{"$error":"#VALUE!"}}]
[259,{"$error":"#VALUE!"},{"$f":"IF($B269<>\"\",VLOOKUP($B269,CATLookup!$A$2:$E$271,2,FALSE),\"\")","v":{"$error":"#VALUE!"}},{"$f":"IF($B269<>\"\",VLOOKUP($B269,CATLookup!$A$2:$E$271,3,FALSE),\"\")","v":{"$error":"#VALUE!"}},{"$f":"IF($B269<>\"\",VLOOKUP($B269,CATLookup!$A$2:$E$271,4,FALSE),\"\")","v":{"$error":"#VALUE!"}},null,null,null,null,null,null,{"$error":"#VALUE!"}]
[260,{"$error":"#VALUE!"},{"$f":"IF($B270<>\"\",VLOOKUP($B270,CATLookup!$A$2:$E$271,2,FALSE),\"\")","v":{"$error":"#VALUE!"}},{"$f":"IF($B270<>\"\",VLOOKUP($B270,CATLookup!$A$2:$E$271,3,FALSE),\"\")","v":{"$error":"#VALUE!"}},{"$f":"IF($B270<>\"\",VLOOKUP($B270,CATLookup!$A$2:$E$271,4,FALSE),\"\")","v":{"$error":"#VALUE!"}},null,null,null,null,null,null,{"$error":"#VALUE!"}]
[261,{"$error":"#VALUE!"},{"$f":"IF($B271<>\"\",VLOOKUP($B271,CATLookup!$A$2:$E$271,2,FALSE),\"\")","v":{"$error":"#VALUE!"}},{"$f":"IF($B271<>\"\",VLOOKUP($B271,CATLookup!$A$2:$E$271,3,FALSE),\"\")","v":{"$error":"#VALUE!"}},{"$f":"IF($B271<>\"\",VLOOKUP($B271,CATLookup!$A$2:$E$271,4,FALSE),\"\")","v":{"$error":"#VALUE!"}},null,null,null,null,null,null,{"$error":"#VALUE!"}]
[262,{"$error":"#VALUE!"},{"$f":"IF($B272<>\"\",VLOOKUP($B272,CATLookup!$A$2:$E$271,2,FALSE),\"\")","v":{"$error":"#VALUE!"}},{"$f":"IF($B272<>\"\",VLOOKUP($B272,CATLookup!$A$2:$E$271,3,FALSE),\"\")","v":{"$error":"#VALUE!"}},{"$f":"IF($B272<>\"\",VLOOKUP($B272,CATLookup!$A$2:$E$271,4,FALSE),\"\")","v":{"$error":"#VALUE!"}},null,null,null,null,null,null,{"$error":"#VALUE!"}]
[263,{"$error":"#VALUE!"},{"$f":"IF($B273<>\"\",VLOOKUP($B273,CATLookup!$A$2:$E$271,2,FALSE),\"\")","v":{"$error":"#VALUE!"}},{"$f":"IF($B273<>\"\",VLOOKUP($B273,CATLookup!$A$2:$E$271,3,FALSE),\"\")","v":{"$error":"#VALUE!"}},{"$f":"IF($B273<>\"\",VLOOKUP($B273,CATLookup!$A$2:$E$271,4,FALSE),\"\")","v":{"$error":"#VALUE!"}},null,null,null,null,null,null,{"$error":"#VALUE!"}]
[264,{"$error":"#VALUE!"},{"$f":"IF($B274<>\"\",VLOOKUP($B274,CATLookup!$A$2:$E$271,2,FALSE),\"\")","v":{"$error":"#VALUE!"}},{"$f":"IF($B274<>\"\",VLOOKUP($B274,CATLookup!$A$2:$E$271,3,FALSE),\"\")","v":{"$error":"#VALUE!"}},{"$f":"IF($B274<>\"\",VLOOKUP($B274,CATLookup!$A$2:$E$271,4,FALSE),\"\")","v":{"$error":"#VALUE!"}},null,null,null,null,null,null,{"$error":"#VALUE!"}]
[265,{"$error":"#VALUE!"},{"$f":"IF($B275<>\"\",VLOOKUP($B275,CATLookup!$A$2:$E$271,2,FALSE),\"\")","v":{"$error":"#VALUE!"}},{"$f":"IF($B275<>\"\",VLOOKUP($B275,CATLookup!$A$2:$E$271,3,FALSE),\"\")","v":{"$error":"#VALUE!"}},{"$f":"IF($B275<>\"\",VLOOKUP($B275,CATLookup!$A$2:$E$271,4,FALSE),\"\")","v":{"$error":"#VALUE!"}},null,null,null,null,null,null,{"$error":"#VALUE!"}]
[266,{"$error":"#VALUE!"},{"$f":"IF($B276<>\"\",VLOOKUP($B276,CATLookup!$A$2:$E$271,2,FALSE),\"\")","v":{"$error":"#VALUE!"}},{"$f":"IF($B276<>\"\",VLOOKUP($B276,CATLookup!$A$2:$E$271,3,FALSE),\"\")","v":{"$error":"#VALUE!"}},{"$f":"IF($B276<>\"\",VLOOKUP($B276,CATLookup!$A$2:$E$271,4,FALSE),\"\")","v":{"$error":"#VALUE!"}},null,null,null,null,null,null,{"$error":"#VALUE!"}]
[267,{"$error":"#VALUE!"},{"$f":"IF($B277<>\"\",VLOOKUP($B277,CATLookup!$A$2:$E$271,2,FALSE),\"\")","v":{"$error":"#VALUE!"}},{"$f":"IF($B277<>\"\",VLOOKUP($B277,CATLookup!$A$2:$E$271,3,FALSE),\"\")","v":{"$error":"#VALUE!"}},{"$f":"IF($B277<>\"\",VLOOKUP($B277,CATLookup!$A$2:$E$271,4,FALSE),\"\")","v":{"$error":"#VALUE!"}},null,null,null,null,null,null,{"$error":"#VALUE!"}]
[268,{"$error":"#VALUE!"},{"$f":"IF($B278<>\"\",VLOOKUP($B278,CATLookup!$A$2:$E$271,2,FALSE),\"\")","v":{"$error":"#VALUE!"}},{"$f":"IF($B278<>\"\",VLOOKUP($B278,CATLookup!$A$2:$E$271,3,FALSE),\"\")","v":{"$error":"#VALUE!"}},{"$f":"IF($B278<>\"\",VLOOKUP($B278,CATLookup!$A$2:$E$271,4,FALSE),\"\")","v":{"$error":"#VALUE!"}},null,null,null,null,null,null,{"$error":"#VALUE!"}]
[269,{"$error":"#VALUE!"},{"$f":"IF($B279<>\"\",VLOOKUP($B279,CATLookup!$A$2:$E$271,2,FALSE),\"\")","v":{"$error":"#VALUE!"}},{"$f":"IF($B279<>\"\",VLOOKUP($B279,CATLookup!$A$2:$E$271,3,FALSE),\"\")","v":{"$error":"#VALUE!"}},{"$f":"IF($B279<>\"\",VLOOKUP($B279,CATLookup!$A$2:$E$271,4,FALSE),\"\")","v":{"$error":"#VALUE!"}},null,null,null,null,null,null,{"$error":"#VALUE!"}]
[270,{"$error":"#VALUE!"},{"$f":"IF($B280<>\"\",VLOOKUP($B280,CATLookup!$A$2:$E$271,2,FALSE),\"\")","v":{"$error":"#VALUE!"}},{"$f":"IF($B280<>\"\",VLOOKUP($B280,CATLookup!$A$2:$E$271,3,FALSE),\"\")","v":{"$error":"#VALUE!"}},{"$f":"IF($B280<>\"\",VLOOKUP($B280,CATLookup!$A$2:$E$271,4,FALSE),\"\")","v":{"$error":"#VALUE!"}},null,null,null,null,null,null,{"$error":"#VALUE!"}]
[271,{"$error":"#VALUE!"},{"$f":"IF($B281<>\"\",VLOOKUP($B281,CATLookup!$A$2:$E$271,2,FALSE),\"\")","v":{"$error":"#VALUE!"}},{"$f":"IF($B281<>\"\",VLOOKUP($B281,CATLookup!$A$2:$E$271,3,FALSE),\"\")","v":{"$error":"#VALUE!"}},{"$f":"IF($B281<>\"\",VLOOKUP($B281,CATLookup!$A$2:$E$271,4,FALSE),\"\")","v":{"$error":"#VALUE!"}},null,null,null,null,null,null,{"$error":"#VALUE!"}]
[272,{"$error":"#VALUE!"},{"$f":"IF($B282<>\"\",VLOOKUP($B282,CATLookup!$A$2:$E$271,2,FALSE),\"\")","v":{"$error":"#VALUE!"}},{"$f":"IF($B282<>\"\",VLOOKUP($B282,CATLookup!$A$2:$E$271,3,FALSE),\"\")","v":{"$error":"#VALUE!"}},{"$f":"IF($B282<>\"\",VLOOKUP($B282,CATLookup!$A$2:$E$271,4,FALSE),\"\")","v":{"$error":"#VALUE!"}},null,null,null,null,null,null,{"$error":"#VALUE!"}]
[273,{"$error":"#VALUE!"},{"$f":"IF($B283<>\"\",VLOOKUP($B283,CATLookup!$A$2:$E$271,2,FALSE),\"\")","v":{"$error":"#VALUE!"}},{"$f":"IF($B283<>\"\",VLOOKUP($B283,CATLookup!$A$2:$E$271,3,FALSE),\"\")","v":{"$error":"#VALUE!"}},{"$f":"IF($B283<>\"\",VLOOKUP($B283,CATLookup!$A$2:$E$271,4,FALSE),\"\")","v":{"$error":"#VALUE!"}},null,null,null,null,null,null,{"$error":"#VALUE!"}]
[274,{"$error":"#VALUE!"},{"$f":"IF($B284<>\"\",VLOOKUP($B284,CATLookup!$A$2:$E$271,2,FALSE),\"\")","v":{"$error":"#VALUE!"}},{"$f":"IF($B284<>\"\",VLOOKUP($B284,CATLookup!$A$2:$E$271,3,FALSE),\"\")","v":{"$error":"#VALUE!"}},{"$f":"IF($B284<>\"\",VLOOKUP($B284,CATLookup!$A$2:$E$271,4,FALSE),\"\")","v":{"$error":"#VALUE!"}},null,null,null,null,null,null,{"$error":"#VALUE!"}]
[275,{"$error":"#VALUE!"},{"$f":"IF($B285<>\"\",VLOOKUP($B285,CATLookup!$A$2:$E$271,2,FALSE),\"\")","v":{"$error":"#VALUE!"}},{"$f":"IF($B285<>\"\",VLOOKUP($B285,CATLookup!$A$2:$E$271,3,FALSE),\"\")","v":{"$error":"#VALUE!"}},{"$f":"IF($B285<>\"\",VLOOKUP($B285,CATLookup!$A$2:$E$271,4,FALSE),\"\")","v":{"$error":"#VALUE!"}},null,null,null,null,null,null,{"$error":"#VALUE!"}]
[276,{"$error":"#VALUE!"},{"$f":"IF($B286<>\"\",VLOOKUP($B286,CATLookup!$A$2:$E$271,2,FALSE),\"\")","v":{"$error":"#VALUE!"}},{"$f":"IF($B286<>\"\",VLOOKUP($B286,CATLookup!$A$2:$E$271,3,FALSE),\"\")","v":{"$error":"#VALUE!"}},{"$f":"IF($B286<>\"\",VLOOKUP($B286,CATLookup!$A$2:$E$271,4,FALSE),\"\")","v":{"$error":"#VALUE!"}},null,null,null,null,null,null,{"$error":"#VALUE!"}]
[277,{"$error":"#VALUE!"},{"$f":"IF($B287<>\"\",VLOOKUP($B287,CATLookup!$A$2:$E$271,2,FALSE),\"\")","v":{"$error":"#VALUE!"}},{"$f":"IF($B287<>\"\",VLOOKUP($B287,CATLookup!$A$2:$E$271,3,FALSE),\"\")","v":{"$error":"#VALUE!"}},{"$f":"IF($B287<>\"\",VLOOKUP($B287,CATLookup!$A$2:$E$271,4,FALSE),\"\")","v":{"$error":"#VALUE!"}},null,null,null,null,null,null,{"$error":"#VALUE!"}]
[278,{"$error":"#VALUE!"},{"$f":"IF($B288<>\"\",VLOOKUP($B288,CATLookup!$A$2:$E$271,2,FALSE),\"\")","v":{"$error":"#VALUE!"}},{"$f":"IF($B288<>\"\",VLOOKUP($B288,CATLookup!$A$2:$E$271,3,FALSE),\"\")","v":{"$error":"#VALUE!"}},{"$f":"IF($B288<>\"\",VLOOKUP($B288,CATLookup!$A$2:$E$271,4,FALSE),\"\")","v":{"$error":"#VALUE!"}},null,null,null,null,null,null,{"$error":"#VALUE!"}]
[279,{"$error":"#VALUE!"},{"$f":"IF($B289<>\"\",VLOOKUP($B289,CATLookup!$A$2:$E$271,2,FALSE),\"\")","v":{"$error":"#VALUE!"}},{"$f":"IF($B289<>\"\",VLOOKUP($B289,CATLookup!$A$2:$E$271,3,FALSE),\"\")","v":{"$error":"#VALUE!"}},{"$f":"IF($B289<>\"\",VLOOKUP($B289,CATLookup!$A$2:$E$271,4,FALSE),\"\")","v":{"$error":"#VALUE!"}},null,null,null,null,null,null,{"$error":"#VALUE!"}]
[280,{"$error":"#VALUE!"},{"$f":"IF($B290<>\"\",VLOOKUP($B290,CATLookup!$A$2:$E$271,2,FALSE),\"\")","v":{"$error":"#VALUE!"}},{"$f":"IF($B290<>\"\",VLOOKUP($B290,CATLookup!$A$2:$E$271,3,FALSE),\"\")","v":{"$error":"#VALUE!"}},{"$f":"IF($B290<>\"\",VLOOKUP($B290,CATLookup!$A$2:$E$271,4,FALSE),\"\")","v":{"$error":"#VALUE!"}},null,null,null,null,null,null,{"$error":"#VALUE!"}]
[281,{"$error":"#VALUE!"},{"$f":"IF($B291<>\"\",VLOOKUP($B291,CATLookup!$A$2:$E$271,2,FALSE),\"\")","v":{"$error":"#VALUE!"}},{"$f":"IF($B291<>\"\",VLOOKUP($B291,CATLookup!$A$2:$E$271,3,FALSE),\"\")","v":{"$error":"#VALUE!"}},{"$f":"IF($B291<>\"\",VLOOKUP($B291,CATLookup!$A$2:$E$271,4,FALSE),\"\")","v":{"$error":"#VALUE!"}},null,null,null,null,null,null,{"$error":"#VALUE!"}]
[282,{"$error":"#VALUE!"},{"$f":"IF($B292<>\"\",VLOOKUP($B292,CATLookup!$A$2:$E$271,2,FALSE),\"\")","v":{"$error":"#VALUE!"}},{"$f":"IF($B292<>\"\",VLOOKUP($B292,CATLookup!$A$2:$E$271,3,FALSE),\"\")","v":{"$error":"#VALUE!"}},{"$f":"IF($B292<>\"\",VLOOKUP($B292,CATLookup!$A$2:$E$271,4,FALSE),\"\")","v":{"$error":"#VALUE!"}},null,null,null,null,null,null,{"$error":"#VALUE!"}]
[283,{"$error":"#VALUE!"},{"$f":"IF($B293<>\"\",VLOOKUP($B293,CATLookup!$A$2:$E$271,2,FALSE),\"\")","v":{"$error":"#VALUE!"}},{"$f":"IF($B293<>\"\",VLOOKUP($B293,CATLookup!$A$2:$E$271,3,FALSE),\"\")","v":{"$error":"#VALUE!"}},{"$f":"IF($B293<>\"\",VLOOKUP($B293,CATLookup!$A$2:$E$271,4,FALSE),\"\")","v":{"$error":"#VALUE!"}},null,null,null,null,null,null,{"$error":"#VALUE!"}]
[284,{"$error":"#VALUE!"},{"$f":"IF($B294<>\"\",VLOOKUP($B294,CATLookup!$A$2:$E$271,2,FALSE),\"\")","v":{"$error":"#VALUE!"}},{"$f":"IF($B294<>\"\",VLOOKUP($B294,CATLookup!$A$2:$E$271,3,FALSE),\"\")","v":{"$error":"#VALUE!"}},{"$f":"IF($B294<>\"\",VLOOKUP($B294,CATLookup!$A$2:$E$271,4,FALSE),\"\")","v":{"$error":"#VALUE!"}},null,null,null,null,null,null,{"$error":"#VALUE!"}]
[285,{"$error":"#VALUE!"},{"$f":"IF($B295<>\"\",VLOOKUP($B295,CATLookup!$A$2:$E$271,2,FALSE),\"\")","v":{"$error":"#VALUE!"}},{"$f":"IF($B295<>\"\",VLOOKUP($B295,CATLookup!$A$2:$E$271,3,FALSE),\"\")","v":{"$error":"#VALUE!"}},{"$f":"IF($B295<>\"\",VLOOKUP($B295,CATLookup!$A$2:$E$271,4,FALSE),\"\")","v":{"$error":"#VALUE!"}},null,null,null,null,null,null,{"$error":"#VALUE!"}]
[286,{"$error":"#VALUE!"},{"$f":"IF($B296<>\"\",VLOOKUP($B296,CATLookup!$A$2:$E$271,2,FALSE),\"\")","v":{"$error":"#VALUE!"}},{"$f":"IF($B296<>\"\",VLOOKUP($B296,CATLookup!$A$2:$E$271,3,FALSE),\"\")","v":{"$error":"#VALUE!"}},{"$f":"IF($B296<>\"\",VLOOKUP($B296,CATLookup!$A$2:$E$271,4,FALSE),\"\")","v":{"$error":"#VALUE!"}},null,null,null,null,null,null,{"$error":"#VALUE!"}]
[287,{"$error":"#VALUE!"},{"$f":"IF($B297<>\"\",VLOOKUP($B297,CATLookup!$A$2:$E$271,2,FALSE),\"\")","v":{"$error":"#VALUE!"}},{"$f":"IF($B297<>\"\",VLOOKUP($B297,CATLookup!$A$2:$E$271,3,FALSE),\"\")","v":{"$error":"#VALUE!"}},{"$f":"IF($B297<>\"\",VLOOKUP($B297,CATLookup!$A$2:$E$271,4,FALSE),\"\")","v":{"$error":"#VALUE!"}},null,null,null,null,null,null,{"$error":"#VALUE!"}]
[288,{"$error":"#VALUE!"},{"$f":"IF($B298<>\"\",VLOOKUP($B298,CATLookup!$A$2:$E$271,2,FALSE),\"\")","v":{"$error":"#VALUE!"}},{"$f":"IF($B298<>\"\",VLOOKUP($B298,CATLookup!$A$2:$E$271,3,FALSE),\"\")","v":{"$error":"#VALUE!"}},{"$f":"IF($B298<>\"\",VLOOKUP($B298,CATLookup!$A$2:$E$271,4,FALSE),\"\")","v":{"$error":"#VALUE!"}},null,null,null,null,null,null,{"$error":"#VALUE!"}]
[289,{"$error":"#VALUE!"},{"$f":"IF($B299<>\"\",VLOOKUP($B299,CATLookup!$A$2:$E$271,2,FALSE),\"\")","v":{"$error":"#VALUE!"}},{"$f":"IF($B299<>\"\",VLOOKUP($B299,CATLookup!$A$2:$E$271,3,FALSE),\"\")","v":{"$error":"#VALUE!"}},{"$f":"IF($B299<>\"\",VLOOKUP($B299,CATLookup!$A$2:$E$271,4,FALSE),\"\")","v":{"$error":"#VALUE!"}},null,null,null,null,null,null,{"$error":"#VALUE!"}]
[290,{"$error":"#VALUE!"},{"$f":"IF($B300<>\"\",VLOOKUP($B300,CATLookup!$A$2:$E$271,2,FALSE),\"\")","v":{"$error":"#VALUE!"}},{"$f":"IF($B300<>\"\",VLOOKUP($B300,CATLookup!$A$2:$E$271,3,FALSE),\"\")","v":{"$error":"#VALUE!"}},{"$f":"IF($B300<>\"\",VLOOKUP($B300,CATLookup!$A$2:$E$271,4,FALSE),\"\")","v":{"$error":"#VALUE!"}},null,null,null,null,null,null,{"$error":"#VALUE!"}]
[291,{"$error":"#VALUE!"},{"$f":"IF($B301<>\"\",VLOOKUP($B301,CATLookup!$A$2:$E$271,2,FALSE),\"\")","v":{"$error":"#VALUE!"}},{"$f":"IF($B301<>\"\",VLOOKUP($B301,CATLookup!$A$2:$E$271,3,FALSE),\"\")","v":{"$error":"#VALUE!"}},{"$f":"IF($B301<>\"\",VLOOKUP($B301,CATLookup!$A$2:$E$271,4,FALSE),\"\")","v":{"$error":"#VALUE!"}},null,null,null,null,null,null,{"$error":"#VALUE!"}]
[292,{"$error":"#VALUE!"},{"$f":"IF($B302<>\"\",VLOOKUP($B302,CATLookup!$A$2:$E$271,2,FALSE),\"\")","v":{"$error":"#VALUE!"}},{"$f":"IF($B302<>\"\",VLOOKUP($B302,CATLookup!$A$2:$E$271,3,FALSE),\"\")","v":{"$error":"#VALUE!"}},{"$f":"IF($B302<>\"\",VLOOKUP($B302,CATLookup!$A$2:$E$271,4,FALSE),\"\")","v":{"$error":"#VALUE!"}},null,null,null,null,null,null,{"$error":"#VALUE!"}]
[293,{"$error":"#VALUE!"},{"$f":"IF($B303<>\"\",VLOOKUP($B303,CATLookup!$A$2:$E$271,2,FALSE),\"\")","v":{"$error":"#VALUE!"}},{"$f":"IF($B303<>\"\",VLOOKUP($B303,CATLookup!$A$2:$E$271,3,FALSE),\"\")","v":{"$error":"#VALUE!"}},{"$f":"IF($B303<>\"\",VLOOKUP($B303,CATLookup!$A$2:$E$271,4,FALSE),\"\")","v":{"$error":"#VALUE!"}},null,null,null,null,null,null,{"$error":"#VALUE!"}]
[294,{"$error":"#VALUE!"},{"$f":"IF($B304<>\"\",VLOOKUP($B304,CATLookup!$A$2:$E$271,2,FALSE),\"\")","v":{"$error":"#VALUE!"}},{"$f":"IF($B304<>\"\",VLOOKUP($B304,CATLookup!$A$2:$E$271,3,FALSE),\"\")","v":{"$error":"#VALUE!"}},{"$f":"IF($B304<>\"\",VLOOKUP($B304,CATLookup!$A$2:$E$271,4,FALSE),\"\")","v":{"$error":"#VALUE!"}},null,null,null,null,null,null,{"$error":"#VALUE!"}]
[295,{"$error":"#VALUE!"},{"$f":"IF($B305<>\"\",VLOOKUP($B305,CATLookup!$A$2:$E$271,2,FALSE),\"\")","v":{"$error":"#VALUE!"}},{"$f":"IF($B305<>\"\",VLOOKUP($B305,CATLookup!$A$2:$E$271,3,FALSE),\"\")","v":{"$error":"#VALUE!"}},{"$f":"IF($B305<>\"\",VLOOKUP($B305,CATLookup!$A$2:$E$271,4,FALSE),\"\")","v":{"$error":"#VALUE!"}},null,null,null,null,null,null,{"$error":"#VALUE!"}]
[296,{"$error":"#VALUE!"},{"$f":"IF($B306<>\"\",VLOOKUP($B306,CATLookup!$A$2:$E$271,2,FALSE),\"\")","v":{"$error":"#VALUE!"}},{"$f":"IF($B306<>\"\",VLOOKUP($B306,CATLookup!$A$2:$E$271,3,FALSE),\"\")","v":{"$error":"#VALUE!"}},{"$f":"IF($B306<>\"\",VLOOKUP($B306,CATLookup!$A$2:$E$271,4,FALSE),\"\")","v":{"$error":"#VALUE!"}},null,null,null,null,null,null,{"$error":"#VALUE!"}]
[297,{"$error":"#VALUE!"},{"$f":"IF($B307<>\"\",VLOOKUP($B307,CATLookup!$A$2:$E$271,2,FALSE),\"\")","v":{"$error":"#VALUE!"}},{"$f":"IF($B307<>\"\",VLOOKUP($B307,CATLookup!$A$2:$E$271,3,FALSE),\"\")","v":{"$error":"#VALUE!"}},{"$f":"IF($B307<>\"\",VLOOKUP($B307,CATLookup!$A$2:$E$271,4,FALSE),\"\")","v":{"$error":"#VALUE!"}},null,null,null,null,null,null,{"$error":"#VALUE!"}]
[298,{"$error":"#VALUE!"},{"$f":"IF($B308<>\"\",VLOOKUP($B308,CATLookup!$A$2:$E$271,2,FALSE),\"\")","v":{"$error":"#VALUE!"}},{"$f":"IF($B308<>\"\",VLOOKUP($B308,CATLookup!$A$2:$E$271,3,FALSE),\"\")","v":{"$error":"#VALUE!"}},{"$f":"IF($B308<>\"\",VLOOKUP($B308,CATLookup!$A$2:$E$271,4,FALSE),\"\")","v":{"$error":"#VALUE!"}},null,null,null,null,null,null,{"$error":"#VALUE!"}]
[299,{"$error":"#VALUE!"},{"$f":"IF($B309<>\"\",VLOOKUP($B309,CATLookup!$A$2:$E$271,2,FALSE),\"\")","v":{"$error":"#VALUE!"}},{"$f":"IF($B309<>\"\",VLOOKUP($B309,CATLookup!$A$2:$E$271,3,FALSE),\"\")","v":{"$error":"#VALUE!"}},{"$f":"IF($B309<>\"\",VLOOKUP($B309,CATLookup!$A$2:$E$271,4,FALSE),\"\")","v":{"$error":"#VALUE!"}},null,null,null,null,null,null,{"$error":"#VALUE!"}]
[300,{"$error":"#VALUE!"},{"$f":"IF($B310<>\"\",VLOOKUP($B310,CATLookup!$A$2:$E$271,2,FALSE),\"\")","v":{"$error":"#VALUE!"}},{"$f":"IF($B310<>\"\",VLOOKUP($B310,CATLookup!$A$2:$E$271,3,FALSE),\"\")","v":{"$error":"#VALUE!"}},{"$f":"IF($B310<>\"\",VLOOKUP($B310,CATLookup!$A$2:$E$271,4,FALSE),\"\")","v":{"$error":"#VALUE!"}},null,null,null,null,null,null,{"$error":"#VALUE!"}]

{"sheet":"CATLookup","index":12,"n_rows":271,"n_cols":5,"rows_kept":271,"cut":false,"hidden":true,"merged":[]}
["Item Num","Tab","Control Group",{"$f":"'Circuit Criminal'!D51","v":"Issue"},"Need CAP"]
[{"$f":"IF(E2=\"YES\",1,0)","v":0},{"$f":"'Circuit Criminal'!A52","v":"Circuit Criminal"},{"$f":"'Circuit Criminal'!C52","v":"CGE CQ1-17"},{"$f":"'Circuit Criminal'!D52","v":"After 3rd Q, Collections went up by more than set percentage of: 500%"},{"$f":"'Circuit Criminal'!E52","v":"NO"}]
[{"$f":"IF(E3=\"YES\",MAX(A$2:A2)+1,0)","v":0},{"$f":"'Circuit Criminal'!A53","v":"Circuit Criminal"},{"$f":"'Circuit Criminal'!C53","v":"CGE CQ1-17"},{"$f":"'Circuit Criminal'!D53","v":"Assessments dropped by more than set percentage of: 15%"},{"$f":"'Circuit Criminal'!E53","v":"NO"}]
[{"$f":"IF(E4=\"YES\",MAX(A$2:A3)+1,0)","v":0},{"$f":"'Circuit Criminal'!A54","v":"Circuit Criminal"},{"$f":"'Circuit Criminal'!C54","v":"CGE CQ1-17"},{"$f":"'Circuit Criminal'!D54","v":"The 5th Quarter Collection Rate did not meet the established performance measure standard of: 9%"},{"$f":"'Circuit Criminal'!E54","v":"NO"}]
[{"$f":"IF(E5=\"YES\",MAX(A$2:A4)+1,0)","v":0},{"$f":"'Circuit Criminal'!A55","v":"Circuit Criminal"},{"$f":"'Circuit Criminal'!C55","v":"CGE CQ1-17"},{"$f":"'Circuit Criminal'!D55","v":"Collections amount decreased from prior quarter"},{"$f":"'Circuit Criminal'!E55","v":"NO"}]
[{"$f":"IF(E6=\"YES\",MAX(A$2:A5)+1,0)","v":0},{"$f":"'Circuit Criminal'!A56","v":"Circuit Criminal"},{"$f":"'Circuit Criminal'!C56","v":"CGE CQ1-17"},{"$f":"'Circuit Criminal'!D56","v":"Assessment amount increased from prior quarter"},{"$f":"'Circuit Criminal'!E56","v":"NO"}]
[{"$f":"IF(E7=\"YES\",MAX(A$2:A6)+1,0)","v":0},{"$f":"'County Criminal'!A57","v":"County Criminal"},{"$f":"'County Criminal'!C57","v":"CGE CQ1-17"},{"$f":"'County Criminal'!D57","v":"After 3rd Q, Collections went up by more than set percentage of: 500%"},{"$f":"'County Criminal'!E57","v":"NO"}]
[{"$f":"IF(E8=\"YES\",MAX(A$2:A7)+1,0)","v":0},{"$f":"'County Criminal'!A58","v":"County Criminal"},{"$f":"'County Criminal'!C58","v":"CGE CQ1-17"},{"$f":"'County Criminal'!D58","v":"Assessments dropped by more than set percentage of: 15%"},{"$f":"'County Criminal'!E58","v":"NO"}]
[{"$f":"IF(E9=\"YES\",MAX(A$2:A8)+1,0)","v":1},{"$f":"'County Criminal'!A59","v":"County Criminal"},{"$f":"'County Criminal'!C59","v":"CGE CQ1-17"},{"$f":"'County Criminal'!D59","v":"The 5th Quarter Collection Rate did not meet the established performance measure standard of: 40%"},{"$f":"'County Criminal'!E59","v":"YES"}]
[{"$f":"IF(E10=\"YES\",MAX(A$2:A9)+1,0)","v":0},{"$f":"'County Criminal'!A60","v":"County Criminal"},{"$f":"'County Criminal'!C60","v":"CGE CQ1-17"},{"$f":"'County Criminal'!D60","v":"Collections amount decreased from prior quarter"},{"$f":"'County Criminal'!E60","v":"NO"}]
[{"$f":"IF(E11=\"YES\",MAX(A$2:A10)+1,0)","v":0},{"$f":"'County Criminal'!A61","v":"County Criminal"},{"$f":"'County Criminal'!C61","v":"CGE CQ1-17"},{"$f":"'County Criminal'!D61","v":"Assessment amount increased from prior quarter"},{"$f":"'County Criminal'!E61","v":"NO"}]
[{"$f":"IF(E12=\"YES\",MAX(A$2:A11)+1,0)","v":0},{"$f":"'Juvenile Delinquency'!A57","v":"Juvenile Delinquency"},{"$f":"'Juvenile Delinquency'!C57","v":"CGE CQ1-17"},{"$f":"'Juvenile Delinquency'!D57","v":"After 3rd Q, Collections went up by more than set percentage of: 500%"},{"$f":"'Juvenile Delinquency'!E57","v":"NO"}]
[{"$f":"IF(E13=\"YES\",MAX(A$2:A12)+1,0)","v":0},{"$f":"'Juvenile Delinquency'!A58","v":"Juvenile Delinquency"},{"$f":"'Juvenile Delinquency'!C58","v":"CGE CQ1-17"},{"$f":"'Juvenile Delinquency'!D58","v":"Assessments dropped by more than set percentage of: 15%"},{"$f":"'Juvenile Delinquency'!E58","v":"NO"}]
[{"$f":"IF(E14=\"YES\",MAX(A$2:A13)+1,0)","v":0},{"$f":"'Juvenile Delinquency'!A59","v":"Juvenile Delinquency"},{"$f":"'Juvenile Delinquency'!C59","v":"CGE CQ1-17"},{"$f":"'Juvenile Delinquency'!D59","v":"The 5th Quarter Collection Rate did not meet the established performance measure standard of: 9%"},{"$f":"'Juvenile Delinquency'!E59","v":"NO"}]
[{"$f":"IF(E15=\"YES\",MAX(A$2:A14)+1,0)","v":0},{"$f":"'Juvenile Delinquency'!A60","v":"Juvenile Delinquency"},{"$f":"'Juvenile Delinquency'!C60","v":"CGE CQ1-17"},{"$f":"'Juvenile Delinquency'!D60","v":"Collections amount decreased from prior quarter"},{"$f":"'Juvenile Delinquency'!E60","v":"NO"}]
[{"$f":"IF(E16=\"YES\",MAX(A$2:A15)+1,0)","v":0},{"$f":"'Juvenile Delinquency'!A61","v":"Juvenile Delinquency"},{"$f":"'Juvenile Delinquency'!C61","v":"CGE CQ1-17"},{"$f":"'Juvenile Delinquency'!D61","v":"Assessment amount increased from prior quarter"},{"$f":"'Juvenile Delinquency'!E61","v":"NO"}]
[{"$f":"IF(E17=\"YES\",MAX(A$2:A16)+1,0)","v":0},{"$f":"'Criminal Traffic'!A57","v":"Criminal Traffic"},{"$f":"'Criminal Traffic'!C57","v":"CGE CQ1-17"},{"$f":"'Criminal Traffic'!D57","v":"After 3rd Q, Collections went up by more than set percentage of: 500%"},{"$f":"'Criminal Traffic'!E57","v":"NO"}]
[{"$f":"IF(E18=\"YES\",MAX(A$2:A17)+1,0)","v":0},{"$f":"'Criminal Traffic'!A58","v":"Criminal Traffic"},{"$f":"'Criminal Traffic'!C58","v":"CGE CQ1-17"},{"$f":"'Criminal Traffic'!D58","v":"Assessments dropped by more than set percentage of: 15%"},{"$f":"'Criminal Traffic'!E58","v":"NO"}]
[{"$f":"IF(E19=\"YES\",MAX(A$2:A18)+1,0)","v":0},{"$f":"'Criminal Traffic'!A59","v":"Criminal Traffic"},{"$f":"'Criminal Traffic'!C59","v":"CGE CQ1-17"},{"$f":"'Criminal Traffic'!D59","v":"The 5th Quarter Collection Rate did not meet the established performance measure standard of: 40%"},{"$f":"'Criminal Traffic'!E59","v":"NO"}]
[{"$f":"IF(E20=\"YES\",MAX(A$2:A19)+1,0)","v":0},{"$f":"'Criminal Traffic'!A60","v":"Criminal Traffic"},{"$f":"'Criminal Traffic'!C60","v":"CGE CQ1-17"},{"$f":"'Criminal Traffic'!D60","v":"Collections amount decreased from prior quarter"},{"$f":"'Criminal Traffic'!E60","v":"NO"}]
[{"$f":"IF(E21=\"YES\",MAX(A$2:A20)+1,0)","v":0},{"$f":"'Criminal Traffic'!A61","v":"Criminal Traffic"},{"$f":"'Criminal Traffic'!C61","v":"CGE CQ1-17"},{"$f":"'Criminal Traffic'!D61","v":"Assessment amount increased from prior quarter"},{"$f":"'Criminal Traffic'!E61","v":"NO"}]
[{"$f":"IF(E22=\"YES\",MAX(A$2:A21)+1,0)","v":0},{"$f":"'Circuit Civil'!A57","v":"Circuit Civil"},{"$f":"'Circuit Civil'!C57","v":"CGE CQ1-17"},{"$f":"'Circuit Civil'!D57","v":"After 3rd Q, Collections went up by more than set percentage of: 500%"},{"$f":"'Circuit Civil'!E57","v":"NO"}]
[{"$f":"IF(E23=\"YES\",MAX(A$2:A22)+1,0)","v":0},{"$f":"'Circuit Civil'!A58","v":"Circuit Civil"},{"$f":"'Circuit Civil'!C58","v":"CGE CQ1-17"},{"$f":"'Circuit Civil'!D58","v":"Assessments dropped by more than set percentage of: 15%"},{"$f":"'Circuit Civil'!E58","v":"NO"}]
[{"$f":"IF(E24=\"YES\",MAX(A$2:A23)+1,0)","v":0},{"$f":"'Circuit Civil'!A59","v":"Circuit Civil"},{"$f":"'Circuit Civil'!C59","v":"CGE CQ1-17"},{"$f":"'Circuit Civil'!D59","v":"The 5th Quarter Collection Rate did not meet the established performance measure standard of: 90%"},{"$f":"'Circuit Civil'!E59","v":"NO"}]
[{"$f":"IF(E25=\"YES\",MAX(A$2:A24)+1,0)","v":2},{"$f":"'Circuit Civil'!A60","v":"Circuit Civil"},{"$f":"'Circuit Civil'!C60","v":"CGE CQ1-17"},{"$f":"'Circuit Civil'!D60","v":"Collections amount decreased from prior quarter"},{"$f":"'Circuit Civil'!E60","v":"YES"}]
[{"$f":"IF(E26=\"YES\",MAX(A$2:A25)+1,0)","v":0},{"$f":"'Circuit Civil'!A61","v":"Circuit Civil"},{"$f":"'Circuit Civil'!C61","v":"CGE CQ1-17"},{"$f":"'Circuit Civil'!D61","v":"Assessment amount increased from prior quarter"},{"$f":"'Circuit Civil'!E61","v":"NO"}]
[{"$f":"IF(E27=\"YES\",MAX(A$2:A26)+1,0)","v":0},{"$f":"'County Civil'!A57","v":"County Civil"},{"$f":"'County Civil'!C57","v":"CGE CQ1-17"},{"$f":"'County Civil'!D57","v":"After 3rd Q, Collections went up by more than set percentage of: 500%"},{"$f":"'County Civil'!E57","v":"NO"}]
[{"$f":"IF(E28=\"YES\",MAX(A$2:A27)+1,0)","v":0},{"$f":"'County Civil'!A58","v":"County Civil"},{"$f":"'County Civil'!C58","v":"CGE CQ1-17"},{"$f":"'County Civil'!D58","v":"Assessments dropped by more than set percentage of: 15%"},{"$f":"'County Civil'!E58","v":"NO"}]
[{"$f":"IF(E29=\"YES\",MAX(A$2:A28)+1,0)","v":0},{"$f":"'County Civil'!A59","v":"County Civil"},{"$f":"'County Civil'!C59","v":"CGE CQ1-17"},{"$f":"'County Civil'!D59","v":"The 5th Quarter Collection Rate did not meet the established performance measure standard of: 90%"},{"$f":"'County Civil'!E59","v":"NO"}]
[{"$f":"IF(E30=\"YES\",MAX(A$2:A29)+1,0)","v":0},{"$f":"'County Civil'!A60","v":"County Civil"},{"$f":"'County Civil'!C60","v":"CGE CQ1-17"},{"$f":"'County Civil'!D60","v":"Collections amount decreased from prior quarter"},{"$f":"'County Civil'!E60","v":"NO"}]
[{"$f":"IF(E31=\"YES\",MAX(A$2:A30)+1,0)","v":0},{"$f":"'County Civil'!A61","v":"County Civil"},{"$f":"'County Civil'!C61","v":"CGE CQ1-17"},{"$f":"'County Civil'!D61","v":"Assessment amount increased from prior quarter"},{"$f":"'County Civil'!E61","v":"NO"}]
[{"$f":"IF(E32=\"YES\",MAX(A$2:A31)+1,0)","v":0},{"$f":"'Civil Traffic'!A57","v":"Civil Traffic"},{"$f":"'Civil Traffic'!C57","v":"CGE CQ1-17"},{"$f":"'Civil Traffic'!D57","v":"After 3rd Q, Collections went up by more than set percentage of: 500%"},{"$f":"'Civil Traffic'!E57","v":"NO"}]
[{"$f":"IF(E33=\"YES\",MAX(A$2:A32)+1,0)","v":0},{"$f":"'Civil Traffic'!A58","v":"Civil Traffic"},{"$f":"'Civil Traffic'!C58","v":"CGE CQ1-17"},{"$f":"'Civil Traffic'!D58","v":"Assessments dropped by more than set percentage of: 15%"},{"$f":"'Civil Traffic'!E58","v":"NO"}]
[{"$f":"IF(E34=\"YES\",MAX(A$2:A33)+1,0)","v":0},{"$f":"'Civil Traffic'!A59","v":"Civil Traffic"},{"$f":"'Civil Traffic'!C59","v":"CGE CQ1-17"},{"$f":"'Civil Traffic'!D59","v":"The 5th Quarter Collection Rate did not meet the established performance measure standard of: 90%"},{"$f":"'Civil Traffic'!E59","v":"NO"}]
[{"$f":"IF(E35=\"YES\",MAX(A$2:A34)+1,0)","v":0},{"$f":"'Civil Traffic'!A60","v":"Civil Traffic"},{"$f":"'Civil Traffic'!C60","v":"CGE CQ1-17"},{"$f":"'Civil Traffic'!D60","v":"Collections amount decreased from prior quarter"},{"$f":"'Civil Traffic'!E60","v":"NO"}]
[{"$f":"IF(E36=\"YES\",MAX(A$2:A35)+1,0)","v":0},{"$f":"'Civil Traffic'!A61","v":"Civil Traffic"},{"$f":"'Civil Traffic'!C61","v":"CGE CQ1-17"},{"$f":"'Civil Traffic'!D61","v":"Assessment amount increased from prior quarter"},{"$f":"'Civil Traffic'!E61","v":"NO"}]
[{"$f":"IF(E37=\"YES\",MAX(A$2:A36)+1,0)","v":0},{"$f":"Probate!A62","v":"Probate"},{"$f":"Probate!C62","v":"CGE CQ1-17"},{"$f":"Probate!D62","v":"After 3rd Q, Collections went up by more than set percentage of: 500%"},{"$f":"Probate!E62","v":"NO"}]
[{"$f":"IF(E38=\"YES\",MAX(A$2:A37)+1,0)","v":0},{"$f":"Probate!A63","v":"Probate"},{"$f":"Probate!C63","v":"CGE CQ1-17"},{"$f":"Probate!D63","v":"Assessments dropped by more than set percentage of: 15%"},{"$f":"Probate!E63","v":"NO"}]
[{"$f":"IF(E39=\"YES\",MAX(A$2:A38)+1,0)","v":0},{"$f":"Probate!A64","v":"Probate"},{"$f":"Probate!C64","v":"CGE CQ1-17"},{"$f":"Probate!D64","v":"The 5th Quarter Collection Rate did not meet the established performance measure standard of: 90%"},{"$f":"Probate!E64","v":"NO"}]
[{"$f":"IF(E40=\"YES\",MAX(A$2:A39)+1,0)","v":0},{"$f":"Probate!A65","v":"Probate"},{"$f":"Probate!C65","v":"CGE CQ1-17"},{"$f":"Probate!D65","v":"Collections amount decreased from prior quarter"},{"$f":"Probate!E65","v":"NO"}]
[{"$f":"IF(E41=\"YES\",MAX(A$2:A40)+1,0)","v":0},{"$f":"Probate!A66","v":"Probate"},{"$f":"Probate!C66","v":"CGE CQ1-17"},{"$f":"Probate!D66","v":"Assessment amount increased from prior quarter"},{"$f":"Probate!E66","v":"NO"}]
[{"$f":"IF(E42=\"YES\",MAX(A$2:A41)+1,0)","v":0},{"$f":"Family!A57","v":"Family"},{"$f":"Family!C57","v":"CGE CQ1-17"},{"$f":"Family!D57","v":"After 3rd Q, Collections went up by more than set percentage of: 500%"},{"$f":"Family!E57","v":"NO"}]
[{"$f":"IF(E43=\"YES\",MAX(A$2:A42)+1,0)","v":0},{"$f":"Family!A58","v":"Family"},{"$f":"Family!C58","v":"CGE CQ1-17"},{"$f":"Family!D58","v":"Assessments dropped by more than set percentage of: 15%"},{"$f":"Family!E58","v":"NO"}]
[{"$f":"IF(E44=\"YES\",MAX(A$2:A43)+1,0)","v":0},{"$f":"Family!A59","v":"Family"},{"$f":"Family!C59","v":"CGE CQ1-17"},{"$f":"Family!D59","v":"The 5th Quarter Collection Rate did not meet the established performance measure standard of: 75%"},{"$f":"Family!E59","v":"NO"}]
[{"$f":"IF(E45=\"YES\",MAX(A$2:A44)+1,0)","v":0},{"$f":"Family!A60","v":"Family"},{"$f":"Family!C60","v":"CGE CQ1-17"},{"$f":"Family!D60","v":"Collections amount decreased from prior quarter"},{"$f":"Family!E60","v":"NO"}]
[{"$f":"IF(E46=\"YES\",MAX(A$2:A45)+1,0)","v":0},{"$f":"Family!A61","v":"Family"},{"$f":"Family!C61","v":"CGE CQ1-17"},{"$f":"Family!D61","v":"Assessment amount increased from prior quarter"},{"$f":"Family!E61","v":"NO"}]
[{"$f":"IF(E47=\"YES\",MAX(A$2:A46)+1,0)","v":0},{"$f":"'Circuit Criminal'!A57","v":"Circuit Criminal"},{"$f":"'Circuit Criminal'!C57","v":"CGE CQ2-17"},{"$f":"'Circuit Criminal'!D57","v":"After 3rd Q, Collections went up by more than set percentage of: 500%"},{"$f":"'Circuit Criminal'!E57","v":"NO"}]
[{"$f":"IF(E48=\"YES\",MAX(A$2:A47)+1,0)","v":0},{"$f":"'Circuit Criminal'!A58","v":"Circuit Criminal"},{"$f":"'Circuit Criminal'!C58","v":"CGE CQ2-17"},{"$f":"'Circuit Criminal'!D58","v":"Assessments dropped by more than set percentage of: 15%"},{"$f":"'Circuit Criminal'!E58","v":"NO"}]
[{"$f":"IF(E49=\"YES\",MAX(A$2:A48)+1,0)","v":0},{"$f":"'Circuit Criminal'!A59","v":"Circuit Criminal"},{"$f":"'Circuit Criminal'!C59","v":"CGE CQ2-17"},{"$f":"'Circuit Criminal'!D59","v":"Collections amount decreased from prior quarter"},{"$f":"'Circuit Criminal'!E59","v":"NO"}]
[{"$f":"IF(E50=\"YES\",MAX(A$2:A49)+1,0)","v":0},{"$f":"'Circuit Criminal'!A60","v":"Circuit Criminal"},{"$f":"'Circuit Criminal'!C60","v":"CGE CQ2-17"},{"$f":"'Circuit Criminal'!D60","v":"Assessment amount increased from prior quarter"},{"$f":"'Circuit Criminal'!E60","v":"NO"}]
[{"$f":"IF(E51=\"YES\",MAX(A$2:A50)+1,0)","v":0},{"$f":"'Circuit Criminal'!A61","v":"Circuit Criminal"},{"$f":"'Circuit Criminal'!C61","v":"CGE CQ2-17"},{"$f":"'Circuit Criminal'!D61","v":"The 5th Quarter Collection Rate did not meet the established performance measure standard of: 9%"},{"$f":"'Circuit Criminal'!E61","v":"NO"}]
[{"$f":"IF(E52=\"YES\",MAX(A$2:A51)+1,0)","v":0},{"$f":"'County Criminal'!A62","v":"County Criminal"},{"$f":"'County Criminal'!C62","v":"CGE CQ2-17"},{"$f":"'County Criminal'!D62","v":"After 3rd Q, Collections went up by more than set percentage of: 500%"},{"$f":"'County Criminal'!E62","v":"NO"}]
[{"$f":"IF(E53=\"YES\",MAX(A$2:A52)+1,0)","v":0},{"$f":"'County Criminal'!A63","v":"County Criminal"},{"$f":"'County Criminal'!C63","v":"CGE CQ2-17"},{"$f":"'County Criminal'!D63","v":"Assessments dropped by more than set percentage of: 15%"},{"$f":"'County Criminal'!E63","v":"NO"}]
[{"$f":"IF(E54=\"YES\",MAX(A$2:A53)+1,0)","v":0},{"$f":"'County Criminal'!A64","v":"County Criminal"},{"$f":"'County Criminal'!C64","v":"CGE CQ2-17"},{"$f":"'County Criminal'!D64","v":"Collections amount decreased from prior quarter"},{"$f":"'County Criminal'!E64","v":"NO"}]
[{"$f":"IF(E55=\"YES\",MAX(A$2:A54)+1,0)","v":0},{"$f":"'County Criminal'!A65","v":"County Criminal"},{"$f":"'County Criminal'!C65","v":"CGE CQ2-17"},{"$f":"'County Criminal'!D65","v":"Assessment amount increased from prior quarter"},{"$f":"'County Criminal'!E65","v":"NO"}]
[{"$f":"IF(E56=\"YES\",MAX(A$2:A55)+1,0)","v":0},{"$f":"'County Criminal'!A66","v":"County Criminal"},{"$f":"'County Criminal'!C66","v":"CGE CQ2-17"},{"$f":"'County Criminal'!D66","v":"The 5th Quarter Collection Rate did not meet the established performance measure standard of: 40%"},{"$f":"'County Criminal'!E66","v":"NO"}]
[{"$f":"IF(E57=\"YES\",MAX(A$2:A56)+1,0)","v":0},{"$f":"'Juvenile Delinquency'!A62","v":"Juvenile Delinquency"},{"$f":"'Juvenile Delinquency'!C62","v":"CGE CQ2-17"},{"$f":"'Juvenile Delinquency'!D62","v":"After 3rd Q, Collections went up by more than set percentage of: 500%"},{"$f":"'Juvenile Delinquency'!E62","v":"NO"}]
[{"$f":"IF(E58=\"YES\",MAX(A$2:A57)+1,0)","v":0},{"$f":"'Juvenile Delinquency'!A63","v":"Juvenile Delinquency"},{"$f":"'Juvenile Delinquency'!C63","v":"CGE CQ2-17"},{"$f":"'Juvenile Delinquency'!D63","v":"Assessments dropped by more than set percentage of: 15%"},{"$f":"'Juvenile Delinquency'!E63","v":"NO"}]
[{"$f":"IF(E59=\"YES\",MAX(A$2:A58)+1,0)","v":0},{"$f":"'Juvenile Delinquency'!A64","v":"Juvenile Delinquency"},{"$f":"'Juvenile Delinquency'!C64","v":"CGE CQ2-17"},{"$f":"'Juvenile Delinquency'!D64","v":"Collections amount decreased from prior quarter"},{"$f":"'Juvenile Delinquency'!E64","v":"NO"}]
[{"$f":"IF(E60=\"YES\",MAX(A$2:A59)+1,0)","v":0},{"$f":"'Juvenile Delinquency'!A65","v":"Juvenile Delinquency"},{"$f":"'Juvenile Delinquency'!C65","v":"CGE CQ2-17"},{"$f":"'Juvenile Delinquency'!D65","v":"Assessment amount increased from prior quarter"},{"$f":"'Juvenile Delinquency'!E65","v":"NO"}]
[{"$f":"IF(E61=\"YES\",MAX(A$2:A60)+1,0)","v":3},{"$f":"'Juvenile Delinquency'!A66","v":"Juvenile Delinquency"},{"$f":"'Juvenile Delinquency'!C66","v":"CGE CQ2-17"},{"$f":"'Juvenile Delinquency'!D66","v":"The 5th Quarter Collection Rate did not meet the established performance measure standard of: 9%"},{"$f":"'Juvenile Delinquency'!E66","v":"YES"}]
[{"$f":"IF(E62=\"YES\",MAX(A$2:A61)+1,0)","v":0},{"$f":"'Criminal Traffic'!A62","v":"Criminal Traffic"},{"$f":"'Criminal Traffic'!C62","v":"CGE CQ2-17"},{"$f":"'Criminal Traffic'!D62","v":"After 3rd Q, Collections went up by more than set percentage of: 500%"},{"$f":"'Criminal Traffic'!E62","v":"NO"}]
[{"$f":"IF(E63=\"YES\",MAX(A$2:A62)+1,0)","v":0},{"$f":"'Criminal Traffic'!A63","v":"Criminal Traffic"},{"$f":"'Criminal Traffic'!C63","v":"CGE CQ2-17"},{"$f":"'Criminal Traffic'!D63","v":"Assessments dropped by more than set percentage of: 15%"},{"$f":"'Criminal Traffic'!E63","v":"NO"}]
[{"$f":"IF(E64=\"YES\",MAX(A$2:A63)+1,0)","v":0},{"$f":"'Criminal Traffic'!A64","v":"Criminal Traffic"},{"$f":"'Criminal Traffic'!C64","v":"CGE CQ2-17"},{"$f":"'Criminal Traffic'!D64","v":"Collections amount decreased from prior quarter"},{"$f":"'Criminal Traffic'!E64","v":"NO"}]
[{"$f":"IF(E65=\"YES\",MAX(A$2:A64)+1,0)","v":0},{"$f":"'Criminal Traffic'!A65","v":"Criminal Traffic"},{"$f":"'Criminal Traffic'!C65","v":"CGE CQ2-17"},{"$f":"'Criminal Traffic'!D65","v":"Assessment amount increased from prior quarter"},{"$f":"'Criminal Traffic'!E65","v":"NO"}]
[{"$f":"IF(E66=\"YES\",MAX(A$2:A65)+1,0)","v":0},{"$f":"'Criminal Traffic'!A66","v":"Criminal Traffic"},{"$f":"'Criminal Traffic'!C66","v":"CGE CQ2-17"},{"$f":"'Criminal Traffic'!D66","v":"The 5th Quarter Collection Rate did not meet the established performance measure standard of: 40%"},{"$f":"'Criminal Traffic'!E66","v":"NO"}]
[{"$f":"IF(E67=\"YES\",MAX(A$2:A66)+1,0)","v":0},{"$f":"'Circuit Civil'!A62","v":"Circuit Civil"},{"$f":"'Circuit Civil'!C62","v":"CGE CQ2-17"},{"$f":"'Circuit Civil'!D62","v":"After 3rd Q, Collections went up by more than set percentage of: 500%"},{"$f":"'Circuit Civil'!E62","v":"NO"}]
[{"$f":"IF(E68=\"YES\",MAX(A$2:A67)+1,0)","v":0},{"$f":"'Circuit Civil'!A63","v":"Circuit Civil"},{"$f":"'Circuit Civil'!C63","v":"CGE CQ2-17"},{"$f":"'Circuit Civil'!D63","v":"Assessments dropped by more than set percentage of: 15%"},{"$f":"'Circuit Civil'!E63","v":"NO"}]
[{"$f":"IF(E69=\"YES\",MAX(A$2:A68)+1,0)","v":4},{"$f":"'Circuit Civil'!A64","v":"Circuit Civil"},{"$f":"'Circuit Civil'!C64","v":"CGE CQ2-17"},{"$f":"'Circuit Civil'!D64","v":"Collections amount decreased from prior quarter"},{"$f":"'Circuit Civil'!E64","v":"YES"}]
[{"$f":"IF(E70=\"YES\",MAX(A$2:A69)+1,0)","v":0},{"$f":"'Circuit Civil'!A65","v":"Circuit Civil"},{"$f":"'Circuit Civil'!C65","v":"CGE CQ2-17"},{"$f":"'Circuit Civil'!D65","v":"Assessment amount increased from prior quarter"},{"$f":"'Circuit Civil'!E65","v":"NO"}]
[{"$f":"IF(E71=\"YES\",MAX(A$2:A70)+1,0)","v":0},{"$f":"'Circuit Civil'!A66","v":"Circuit Civil"},{"$f":"'Circuit Civil'!C66","v":"CGE CQ2-17"},{"$f":"'Circuit Civil'!D66","v":"The 5th Quarter Collection Rate did not meet the established performance measure standard of: 90%"},{"$f":"'Circuit Civil'!E66","v":"NO"}]
[{"$f":"IF(E72=\"YES\",MAX(A$2:A71)+1,0)","v":0},{"$f":"'County Civil'!A62","v":"County Civil"},{"$f":"'County Civil'!C62","v":"CGE CQ2-17"},{"$f":"'County Civil'!D62","v":"After 3rd Q, Collections went up by more than set percentage of: 500%"},{"$f":"'County Civil'!E62","v":"NO"}]
[{"$f":"IF(E73=\"YES\",MAX(A$2:A72)+1,0)","v":0},{"$f":"'County Civil'!A63","v":"County Civil"},{"$f":"'County Civil'!C63","v":"CGE CQ2-17"},{"$f":"'County Civil'!D63","v":"Assessments dropped by more than set percentage of: 15%"},{"$f":"'County Civil'!E63","v":"NO"}]
[{"$f":"IF(E74=\"YES\",MAX(A$2:A73)+1,0)","v":0},{"$f":"'County Civil'!A64","v":"County Civil"},{"$f":"'County Civil'!C64","v":"CGE CQ2-17"},{"$f":"'County Civil'!D64","v":"Collections amount decreased from prior quarter"},{"$f":"'County Civil'!E64","v":"NO"}]
[{"$f":"IF(E75=\"YES\",MAX(A$2:A74)+1,0)","v":0},{"$f":"'County Civil'!A65","v":"County Civil"},{"$f":"'County Civil'!C65","v":"CGE CQ2-17"},{"$f":"'County Civil'!D65","v":"Assessment amount increased from prior quarter"},{"$f":"'County Civil'!E65","v":"NO"}]
[{"$f":"IF(E76=\"YES\",MAX(A$2:A75)+1,0)","v":0},{"$f":"'County Civil'!A66","v":"County Civil"},{"$f":"'County Civil'!C66","v":"CGE CQ2-17"},{"$f":"'County Civil'!D66","v":"The 5th Quarter Collection Rate did not meet the established performance measure standard of: 90%"},{"$f":"'County Civil'!E66","v":"NO"}]
[{"$f":"IF(E77=\"YES\",MAX(A$2:A76)+1,0)","v":0},{"$f":"'Civil Traffic'!A62","v":"Civil Traffic"},{"$f":"'Civil Traffic'!C62","v":"CGE CQ2-17"},{"$f":"'Civil Traffic'!D62","v":"After 3rd Q, Collections went up by more than set percentage of: 500%"},{"$f":"'Civil Traffic'!E62","v":"NO"}]
[{"$f":"IF(E78=\"YES\",MAX(A$2:A77)+1,0)","v":0},{"$f":"'Civil Traffic'!A63","v":"Civil Traffic"},{"$f":"'Civil Traffic'!C63","v":"CGE CQ2-17"},{"$f":"'Civil Traffic'!D63","v":"Assessments dropped by more than set percentage of: 15%"},{"$f":"'Civil Traffic'!E63","v":"NO"}]
[{"$f":"IF(E79=\"YES\",MAX(A$2:A78)+1,0)","v":0},{"$f":"'Civil Traffic'!A64","v":"Civil Traffic"},{"$f":"'Civil Traffic'!C64","v":"CGE CQ2-17"},{"$f":"'Civil Traffic'!D64","v":"Collections amount decreased from prior quarter"},{"$f":"'Civil Traffic'!E64","v":"NO"}]
[{"$f":"IF(E80=\"YES\",MAX(A$2:A79)+1,0)","v":0},{"$f":"'Civil Traffic'!A65","v":"Civil Traffic"},{"$f":"'Civil Traffic'!C65","v":"CGE CQ2-17"},{"$f":"'Civil Traffic'!D65","v":"Assessment amount increased from prior quarter"},{"$f":"'Civil Traffic'!E65","v":"NO"}]
[{"$f":"IF(E81=\"YES\",MAX(A$2:A80)+1,0)","v":0},{"$f":"'Civil Traffic'!A66","v":"Civil Traffic"},{"$f":"'Civil Traffic'!C66","v":"CGE CQ2-17"},{"$f":"'Civil Traffic'!D66","v":"The 5th Quarter Collection Rate did not meet the established performance measure standard of: 90%"},{"$f":"'Civil Traffic'!E66","v":"NO"}]
[{"$f":"IF(E82=\"YES\",MAX(A$2:A81)+1,0)","v":0},{"$f":"Probate!A67","v":"Probate"},{"$f":"Probate!C67","v":"CGE CQ2-17"},{"$f":"Probate!D67","v":"After 3rd Q, Collections went up by more than set percentage of: 500%"},{"$f":"Probate!E67","v":"NO"}]
[{"$f":"IF(E83=\"YES\",MAX(A$2:A82)+1,0)","v":0},{"$f":"Probate!A68","v":"Probate"},{"$f":"Probate!C68","v":"CGE CQ2-17"},{"$f":"Probate!D68","v":"Assessments dropped by more than set percentage of: 15%"},{"$f":"Probate!E68","v":"NO"}]
[{"$f":"IF(E84=\"YES\",MAX(A$2:A83)+1,0)","v":5},{"$f":"Probate!A69","v":"Probate"},{"$f":"Probate!C69","v":"CGE CQ2-17"},{"$f":"Probate!D69","v":"Collections amount decreased from prior quarter"},{"$f":"Probate!E69","v":"YES"}]
[{"$f":"IF(E85=\"YES\",MAX(A$2:A84)+1,0)","v":0},{"$f":"Probate!A70","v":"Probate"},{"$f":"Probate!C70","v":"CGE CQ2-17"},{"$f":"Probate!D70","v":"Assessment amount increased from prior quarter"},{"$f":"Probate!E70","v":"NO"}]
[{"$f":"IF(E86=\"YES\",MAX(A$2:A85)+1,0)","v":0},{"$f":"Probate!A71","v":"Probate"},{"$f":"Probate!C71","v":"CGE CQ2-17"},{"$f":"Probate!D71","v":"The 5th Quarter Collection Rate did not meet the established performance measure standard of: 90%"},{"$f":"Probate!E71","v":"NO"}]
[{"$f":"IF(E87=\"YES\",MAX(A$2:A86)+1,0)","v":0},{"$f":"Family!A62","v":"Family"},{"$f":"Family!C62","v":"CGE CQ2-17"},{"$f":"Family!D62","v":"After 3rd Q, Collections went up by more than set percentage of: 500%"},{"$f":"Family!E62","v":"NO"}]
[{"$f":"IF(E88=\"YES\",MAX(A$2:A87)+1,0)","v":0},{"$f":"Family!A63","v":"Family"},{"$f":"Family!C63","v":"CGE CQ2-17"},{"$f":"Family!D63","v":"Assessments dropped by more than set percentage of: 15%"},{"$f":"Family!E63","v":"NO"}]
[{"$f":"IF(E89=\"YES\",MAX(A$2:A88)+1,0)","v":0},{"$f":"Family!A64","v":"Family"},{"$f":"Family!C64","v":"CGE CQ2-17"},{"$f":"Family!D64","v":"Collections amount decreased from prior quarter"},{"$f":"Family!E64","v":"NO"}]
[{"$f":"IF(E90=\"YES\",MAX(A$2:A89)+1,0)","v":0},{"$f":"Family!A65","v":"Family"},{"$f":"Family!C65","v":"CGE CQ2-17"},{"$f":"Family!D65","v":"Assessment amount increased from prior quarter"},{"$f":"Family!E65","v":"NO"}]
[{"$f":"IF(E91=\"YES\",MAX(A$2:A90)+1,0)","v":0},{"$f":"Family!A66","v":"Family"},{"$f":"Family!C66","v":"CGE CQ2-17"},{"$f":"Family!D66","v":"The 5th Quarter Collection Rate did not meet the established performance measure standard of: 75%"},{"$f":"Family!E66","v":"NO"}]
[{"$f":"IF(E92=\"YES\",MAX(A$2:A91)+1,0)","v":0},{"$f":"'Circuit Criminal'!A62","v":"Circuit Criminal"},{"$f":"'Circuit Criminal'!C62","v":"CGE CQ3-17"},{"$f":"'Circuit Criminal'!D62","v":"After 3rd Q, Collections went up by more than set percentage of: 500%"},{"$f":"'Circuit Criminal'!E62","v":"NO"}]
[{"$f":"IF(E93=\"YES\",MAX(A$2:A92)+1,0)","v":0},{"$f":"'Circuit Criminal'!A63","v":"Circuit Criminal"},{"$f":"'Circuit Criminal'!C63","v":"CGE CQ3-17"},{"$f":"'Circuit Criminal'!D63","v":"Assessments dropped by more than set percentage of: 15%"},{"$f":"'Circuit Criminal'!E63","v":"NO"}]
[{"$f":"IF(E94=\"YES\",MAX(A$2:A93)+1,0)","v":0},{"$f":"'Circuit Criminal'!A64","v":"Circuit Criminal"},{"$f":"'Circuit Criminal'!C64","v":"CGE CQ3-17"},{"$f":"'Circuit Criminal'!D64","v":"Collections amount decreased from prior quarter"},{"$f":"'Circuit Criminal'!E64","v":"NO"}]
[{"$f":"IF(E95=\"YES\",MAX(A$2:A94)+1,0)","v":0},{"$f":"'Circuit Criminal'!A65","v":"Circuit Criminal"},{"$f":"'Circuit Criminal'!C65","v":"CGE CQ3-17"},{"$f":"'Circuit Criminal'!D65","v":"Assessment amount increased from prior quarter"},{"$f":"'Circuit Criminal'!E65","v":"NO"}]
[{"$f":"IF(E96=\"YES\",MAX(A$2:A95)+1,0)","v":0},{"$f":"'Circuit Criminal'!A66","v":"Circuit Criminal"},{"$f":"'Circuit Criminal'!C66","v":"CGE CQ3-17"},{"$f":"'Circuit Criminal'!D66","v":"The 5th Quarter Collection Rate did not meet the established performance measure standard of: 9%"},{"$f":"'Circuit Criminal'!E66","v":"NO"}]
[{"$f":"IF(E97=\"YES\",MAX(A$2:A96)+1,0)","v":0},{"$f":"'County Criminal'!A67","v":"County Criminal"},{"$f":"'County Criminal'!C67","v":"CGE CQ3-17"},{"$f":"'County Criminal'!D67","v":"After 3rd Q, Collections went up by more than set percentage of: 500%"},{"$f":"'County Criminal'!E67","v":"NO"}]
[{"$f":"IF(E98=\"YES\",MAX(A$2:A97)+1,0)","v":0},{"$f":"'County Criminal'!A68","v":"County Criminal"},{"$f":"'County Criminal'!C68","v":"CGE CQ3-17"},{"$f":"'County Criminal'!D68","v":"Assessments dropped by more than set percentage of: 15%"},{"$f":"'County Criminal'!E68","v":"NO"}]
[{"$f":"IF(E99=\"YES\",MAX(A$2:A98)+1,0)","v":0},{"$f":"'County Criminal'!A69","v":"County Criminal"},{"$f":"'County Criminal'!C69","v":"CGE CQ3-17"},{"$f":"'County Criminal'!D69","v":"Collections amount decreased from prior quarter"},{"$f":"'County Criminal'!E69","v":"NO"}]
[{"$f":"IF(E100=\"YES\",MAX(A$2:A99)+1,0)","v":0},{"$f":"'County Criminal'!A70","v":"County Criminal"},{"$f":"'County Criminal'!C70","v":"CGE CQ3-17"},{"$f":"'County Criminal'!D70","v":"Assessment amount increased from prior quarter"},{"$f":"'County Criminal'!E70","v":"NO"}]
[{"$f":"IF(E101=\"YES\",MAX(A$2:A100)+1,0)","v":0},{"$f":"'County Criminal'!A71","v":"County Criminal"},{"$f":"'County Criminal'!C71","v":"CGE CQ3-17"},{"$f":"'County Criminal'!D71","v":"The 5th Quarter Collection Rate did not meet the established performance measure standard of: 40%"},{"$f":"'County Criminal'!E71","v":"NO"}]
[{"$f":"IF(E102=\"YES\",MAX(A$2:A101)+1,0)","v":0},{"$f":"'Juvenile Delinquency'!A67","v":"Juvenile Delinquency"},{"$f":"'Juvenile Delinquency'!C67","v":"CGE CQ3-17"},{"$f":"'Juvenile Delinquency'!D67","v":"After 3rd Q, Collections went up by more than set percentage of: 500%"},{"$f":"'Juvenile Delinquency'!E67","v":"NO"}]
[{"$f":"IF(E103=\"YES\",MAX(A$2:A102)+1,0)","v":0},{"$f":"'Juvenile Delinquency'!A68","v":"Juvenile Delinquency"},{"$f":"'Juvenile Delinquency'!C68","v":"CGE CQ3-17"},{"$f":"'Juvenile Delinquency'!D68","v":"Assessments dropped by more than set percentage of: 15%"},{"$f":"'Juvenile Delinquency'!E68","v":"NO"}]
[{"$f":"IF(E104=\"YES\",MAX(A$2:A103)+1,0)","v":0},{"$f":"'Juvenile Delinquency'!A69","v":"Juvenile Delinquency"},{"$f":"'Juvenile Delinquency'!C69","v":"CGE CQ3-17"},{"$f":"'Juvenile Delinquency'!D69","v":"Collections amount decreased from prior quarter"},{"$f":"'Juvenile Delinquency'!E69","v":"NO"}]
[{"$f":"IF(E105=\"YES\",MAX(A$2:A104)+1,0)","v":0},{"$f":"'Juvenile Delinquency'!A70","v":"Juvenile Delinquency"},{"$f":"'Juvenile Delinquency'!C70","v":"CGE CQ3-17"},{"$f":"'Juvenile Delinquency'!D70","v":"Assessment amount increased from prior quarter"},{"$f":"'Juvenile Delinquency'!E70","v":"NO"}]
[{"$f":"IF(E106=\"YES\",MAX(A$2:A105)+1,0)","v":0},{"$f":"'Juvenile Delinquency'!A71","v":"Juvenile Delinquency"},{"$f":"'Juvenile Delinquency'!C71","v":"CGE CQ3-17"},{"$f":"'Juvenile Delinquency'!D71","v":"The 5th Quarter Collection Rate did not meet the established performance measure standard of: 9%"},{"$f":"'Juvenile Delinquency'!E71","v":"NO"}]
[{"$f":"IF(E107=\"YES\",MAX(A$2:A106)+1,0)","v":0},{"$f":"'Criminal Traffic'!A67","v":"Criminal Traffic"},{"$f":"'Criminal Traffic'!C67","v":"CGE CQ3-17"},{"$f":"'Criminal Traffic'!D67","v":"After 3rd Q, Collections went up by more than set percentage of: 500%"},{"$f":"'Criminal Traffic'!E67","v":"NO"}]
[{"$f":"IF(E108=\"YES\",MAX(A$2:A107)+1,0)","v":0},{"$f":"'Criminal Traffic'!A68","v":"Criminal Traffic"},{"$f":"'Criminal Traffic'!C68","v":"CGE CQ3-17"},{"$f":"'Criminal Traffic'!D68","v":"Assessments dropped by more than set percentage of: 15%"},{"$f":"'Criminal Traffic'!E68","v":"NO"}]
[{"$f":"IF(E109=\"YES\",MAX(A$2:A108)+1,0)","v":0},{"$f":"'Criminal Traffic'!A69","v":"Criminal Traffic"},{"$f":"'Criminal Traffic'!C69","v":"CGE CQ3-17"},{"$f":"'Criminal Traffic'!D69","v":"Collections amount decreased from prior quarter"},{"$f":"'Criminal Traffic'!E69","v":"NO"}]
[{"$f":"IF(E110=\"YES\",MAX(A$2:A109)+1,0)","v":0},{"$f":"'Criminal Traffic'!A70","v":"Criminal Traffic"},{"$f":"'Criminal Traffic'!C70","v":"CGE CQ3-17"},{"$f":"'Criminal Traffic'!D70","v":"Assessment amount increased from prior quarter"},{"$f":"'Criminal Traffic'!E70","v":"NO"}]
[{"$f":"IF(E111=\"YES\",MAX(A$2:A110)+1,0)","v":0},{"$f":"'Criminal Traffic'!A71","v":"Criminal Traffic"},{"$f":"'Criminal Traffic'!C71","v":"CGE CQ3-17"},{"$f":"'Criminal Traffic'!D71","v":"The 5th Quarter Collection Rate did not meet the established performance measure standard of: 40%"},{"$f":"'Criminal Traffic'!E71","v":"NO"}]
[{"$f":"IF(E112=\"YES\",MAX(A$2:A111)+1,0)","v":0},{"$f":"'Circuit Civil'!A67","v":"Circuit Civil"},{"$f":"'Circuit Civil'!C67","v":"CGE CQ3-17"},{"$f":"'Circuit Civil'!D67","v":"After 3rd Q, Collections went up by more than set percentage of: 500%"},{"$f":"'Circuit Civil'!E67","v":"NO"}]
[{"$f":"IF(E113=\"YES\",MAX(A$2:A112)+1,0)","v":0},{"$f":"'Circuit Civil'!A68","v":"Circuit Civil"},{"$f":"'Circuit Civil'!C68","v":"CGE CQ3-17"},{"$f":"'Circuit Civil'!D68","v":"Assessments dropped by more than set percentage of: 15%"},{"$f":"'Circuit Civil'!E68","v":"NO"}]
[{"$f":"IF(E114=\"YES\",MAX(A$2:A113)+1,0)","v":6},{"$f":"'Circuit Civil'!A69","v":"Circuit Civil"},{"$f":"'Circuit Civil'!C69","v":"CGE CQ3-17"},{"$f":"'Circuit Civil'!D69","v":"Collections amount decreased from prior quarter"},{"$f":"'Circuit Civil'!E69","v":"YES"}]
[{"$f":"IF(E115=\"YES\",MAX(A$2:A114)+1,0)","v":0},{"$f":"'Circuit Civil'!A70","v":"Circuit Civil"},{"$f":"'Circuit Civil'!C70","v":"CGE CQ3-17"},{"$f":"'Circuit Civil'!D70","v":"Assessment amount increased from prior quarter"},{"$f":"'Circuit Civil'!E70","v":"NO"}]
[{"$f":"IF(E116=\"YES\",MAX(A$2:A115)+1,0)","v":0},{"$f":"'Circuit Civil'!A71","v":"Circuit Civil"},{"$f":"'Circuit Civil'!C71","v":"CGE CQ3-17"},{"$f":"'Circuit Civil'!D71","v":"The 5th Quarter Collection Rate did not meet the established performance measure standard of: 90%"},{"$f":"'Circuit Civil'!E71","v":"NO"}]
[{"$f":"IF(E117=\"YES\",MAX(A$2:A116)+1,0)","v":0},{"$f":"'County Civil'!A67","v":"County Civil"},{"$f":"'County Civil'!C67","v":"CGE CQ3-17"},{"$f":"'County Civil'!D67","v":"After 3rd Q, Collections went up by more than set percentage of: 500%"},{"$f":"'County Civil'!E67","v":"NO"}]
[{"$f":"IF(E118=\"YES\",MAX(A$2:A117)+1,0)","v":0},{"$f":"'County Civil'!A68","v":"County Civil"},{"$f":"'County Civil'!C68","v":"CGE CQ3-17"},{"$f":"'County Civil'!D68","v":"Assessments dropped by more than set percentage of: 15%"},{"$f":"'County Civil'!E68","v":"NO"}]
[{"$f":"IF(E119=\"YES\",MAX(A$2:A118)+1,0)","v":0},{"$f":"'County Civil'!A69","v":"County Civil"},{"$f":"'County Civil'!C69","v":"CGE CQ3-17"},{"$f":"'County Civil'!D69","v":"Collections amount decreased from prior quarter"},{"$f":"'County Civil'!E69","v":"NO"}]
[{"$f":"IF(E120=\"YES\",MAX(A$2:A119)+1,0)","v":0},{"$f":"'County Civil'!A70","v":"County Civil"},{"$f":"'County Civil'!C70","v":"CGE CQ3-17"},{"$f":"'County Civil'!D70","v":"Assessment amount increased from prior quarter"},{"$f":"'County Civil'!E70","v":"NO"}]
[{"$f":"IF(E121=\"YES\",MAX(A$2:A120)+1,0)","v":{"$error":"#VALUE!"}},{"$f":"'County Civil'!A71","v":"County Civil"},{"$f":"'County Civil'!C71","v":"CGE CQ3-17"},{"$f":"'County Civil'!D71","v":"The 5th Quarter Collection Rate did not meet the established performance measure standard of: 90%"},{"$f":"'County Civil'!E71","v":{"$error":"#VALUE!"}}]
[{"$f":"IF(E122=\"YES\",MAX(A$2:A121)+1,0)","v":0},{"$f":"'Civil Traffic'!A67","v":"Civil Traffic"},{"$f":"'Civil Traffic'!C67","v":"CGE CQ3-17"},{"$f":"'Civil Traffic'!D67","v":"After 3rd Q, Collections went up by more than set percentage of: 500%"},{"$f":"'Civil Traffic'!E67","v":"NO"}]
[{"$f":"IF(E123=\"YES\",MAX(A$2:A122)+1,0)","v":0},{"$f":"'Civil Traffic'!A68","v":"Civil Traffic"},{"$f":"'Civil Traffic'!C68","v":"CGE CQ3-17"},{"$f":"'Civil Traffic'!D68","v":"Assessments dropped by more than set percentage of: 15%"},{"$f":"'Civil Traffic'!E68","v":"NO"}]
[{"$f":"IF(E124=\"YES\",MAX(A$2:A123)+1,0)","v":0},{"$f":"'Civil Traffic'!A69","v":"Civil Traffic"},{"$f":"'Civil Traffic'!C69","v":"CGE CQ3-17"},{"$f":"'Civil Traffic'!D69","v":"Collections amount decreased from prior quarter"},{"$f":"'Civil Traffic'!E69","v":"NO"}]
[{"$f":"IF(E125=\"YES\",MAX(A$2:A124)+1,0)","v":0},{"$f":"'Civil Traffic'!A70","v":"Civil Traffic"},{"$f":"'Civil Traffic'!C70","v":"CGE CQ3-17"},{"$f":"'Civil Traffic'!D70","v":"Assessment amount increased from prior quarter"},{"$f":"'Civil Traffic'!E70","v":"NO"}]
[{"$f":"IF(E126=\"YES\",MAX(A$2:A125)+1,0)","v":0},{"$f":"'Civil Traffic'!A71","v":"Civil Traffic"},{"$f":"'Civil Traffic'!C71","v":"CGE CQ3-17"},{"$f":"'Civil Traffic'!D71","v":"The 5th Quarter Collection Rate did not meet the established performance measure standard of: 90%"},{"$f":"'Civil Traffic'!E71","v":"NO"}]
[{"$f":"IF(E127=\"YES\",MAX(A$2:A126)+1,0)","v":0},{"$f":"Probate!A72","v":"Probate"},{"$f":"Probate!C72","v":"CGE CQ3-17"},{"$f":"Probate!D72","v":"After 3rd Q, Collections went up by more than set percentage of: 500%"},{"$f":"Probate!E72","v":"NO"}]
[{"$f":"IF(E128=\"YES\",MAX(A$2:A127)+1,0)","v":0},{"$f":"Probate!A73","v":"Probate"},{"$f":"Probate!C73","v":"CGE CQ3-17"},{"$f":"Probate!D73","v":"Assessments dropped by more than set percentage of: 15%"},{"$f":"Probate!E73","v":"NO"}]
[{"$f":"IF(E129=\"YES\",MAX(A$2:A128)+1,0)","v":0},{"$f":"Probate!A74","v":"Probate"},{"$f":"Probate!C74","v":"CGE CQ3-17"},{"$f":"Probate!D74","v":"Collections amount decreased from prior quarter"},{"$f":"Probate!E74","v":"NO"}]
[{"$f":"IF(E130=\"YES\",MAX(A$2:A129)+1,0)","v":0},{"$f":"Probate!A75","v":"Probate"},{"$f":"Probate!C75","v":"CGE CQ3-17"},{"$f":"Probate!D75","v":"Assessment amount increased from prior quarter"},{"$f":"Probate!E75","v":"NO"}]
[{"$f":"IF(E131=\"YES\",MAX(A$2:A130)+1,0)","v":0},{"$f":"Probate!A76","v":"Probate"},{"$f":"Probate!C76","v":"CGE CQ3-17"},{"$f":"Probate!D76","v":"The 5th Quarter Collection Rate did not meet the established performance measure standard of: 90%"},{"$f":"Probate!E76","v":"NO"}]
[{"$f":"IF(E132=\"YES\",MAX(A$2:A131)+1,0)","v":0},{"$f":"Family!A67","v":"Family"},{"$f":"Family!C67","v":"CGE CQ3-17"},{"$f":"Family!D67","v":"After 3rd Q, Collections went up by more than set percentage of: 500%"},{"$f":"Family!E67","v":"NO"}]
[{"$f":"IF(E133=\"YES\",MAX(A$2:A132)+1,0)","v":0},{"$f":"Family!A68","v":"Family"},{"$f":"Family!C68","v":"CGE CQ3-17"},{"$f":"Family!D68","v":"Assessments dropped by more than set percentage of: 15%"},{"$f":"Family!E68","v":"NO"}]
[{"$f":"IF(E134=\"YES\",MAX(A$2:A133)+1,0)","v":0},{"$f":"Family!A69","v":"Family"},{"$f":"Family!C69","v":"CGE CQ3-17"},{"$f":"Family!D69","v":"Collections amount decreased from prior quarter"},{"$f":"Family!E69","v":"NO"}]
[{"$f":"IF(E135=\"YES\",MAX(A$2:A134)+1,0)","v":0},{"$f":"Family!A70","v":"Family"},{"$f":"Family!C70","v":"CGE CQ3-17"},{"$f":"Family!D70","v":"Assessment amount increased from prior quarter"},{"$f":"Family!E70","v":"NO"}]
[{"$f":"IF(E136=\"YES\",MAX(A$2:A135)+1,0)","v":0},{"$f":"Family!A71","v":"Family"},{"$f":"Family!C71","v":"CGE CQ3-17"},{"$f":"Family!D71","v":"The 5th Quarter Collection Rate did not meet the established performance measure standard of: 75%"},{"$f":"Family!E71","v":"NO"}]
[{"$f":"IF(E137=\"YES\",MAX(A$2:A136)+1,0)","v":0},{"$f":"'Circuit Criminal'!A67","v":"Circuit Criminal"},{"$f":"'Circuit Criminal'!C67","v":"CGE CQ4-17"},{"$f":"'Circuit Criminal'!D67","v":"After 3rd Q, Collections went up by more than set percentage of: 500%"},{"$f":"'Circuit Criminal'!E67","v":"NO"}]
[{"$f":"IF(E138=\"YES\",MAX(A$2:A137)+1,0)","v":0},{"$f":"'Circuit Criminal'!A68","v":"Circuit Criminal"},{"$f":"'Circuit Criminal'!C68","v":"CGE CQ4-17"},{"$f":"'Circuit Criminal'!D68","v":"Assessments dropped by more than set percentage of: 15%"},{"$f":"'Circuit Criminal'!E68","v":"NO"}]
[{"$f":"IF(E139=\"YES\",MAX(A$2:A138)+1,0)","v":0},{"$f":"'Circuit Criminal'!A69","v":"Circuit Criminal"},{"$f":"'Circuit Criminal'!C69","v":"CGE CQ4-17"},{"$f":"'Circuit Criminal'!D69","v":"Collections amount decreased from prior quarter"},{"$f":"'Circuit Criminal'!E69","v":"NO"}]
[{"$f":"IF(E140=\"YES\",MAX(A$2:A139)+1,0)","v":0},{"$f":"'Circuit Criminal'!A70","v":"Circuit Criminal"},{"$f":"'Circuit Criminal'!C70","v":"CGE CQ4-17"},{"$f":"'Circuit Criminal'!D70","v":"Assessment amount increased from prior quarter"},{"$f":"'Circuit Criminal'!E70","v":"NO"}]
[{"$f":"IF(E141=\"YES\",MAX(A$2:A140)+1,0)","v":0},{"$f":"'Circuit Criminal'!A71","v":"Circuit Criminal"},{"$f":"'Circuit Criminal'!C71","v":"CGE CQ4-17"},{"$f":"'Circuit Criminal'!D71","v":"The 5th Quarter Collection Rate did not meet the established performance measure standard of: 9%"},{"$f":"'Circuit Criminal'!E71","v":"NO"}]
[{"$f":"IF(E142=\"YES\",MAX(A$2:A141)+1,0)","v":0},{"$f":"'County Criminal'!A72","v":"County Criminal"},{"$f":"'County Criminal'!C72","v":"CGE CQ4-17"},{"$f":"'County Criminal'!D72","v":"After 3rd Q, Collections went up by more than set percentage of: 500%"},{"$f":"'County Criminal'!E72","v":"NO"}]
[{"$f":"IF(E143=\"YES\",MAX(A$2:A142)+1,0)","v":0},{"$f":"'County Criminal'!A73","v":"County Criminal"},{"$f":"'County Criminal'!C73","v":"CGE CQ4-17"},{"$f":"'County Criminal'!D73","v":"Assessments dropped by more than set percentage of: 15%"},{"$f":"'County Criminal'!E73","v":"NO"}]
[{"$f":"IF(E144=\"YES\",MAX(A$2:A143)+1,0)","v":0},{"$f":"'County Criminal'!A74","v":"County Criminal"},{"$f":"'County Criminal'!C74","v":"CGE CQ4-17"},{"$f":"'County Criminal'!D74","v":"Collections amount decreased from prior quarter"},{"$f":"'County Criminal'!E74","v":"NO"}]
[{"$f":"IF(E145=\"YES\",MAX(A$2:A144)+1,0)","v":0},{"$f":"'County Criminal'!A75","v":"County Criminal"},{"$f":"'County Criminal'!C75","v":"CGE CQ4-17"},{"$f":"'County Criminal'!D75","v":"Assessment amount increased from prior quarter"},{"$f":"'County Criminal'!E75","v":"NO"}]
[{"$f":"IF(E146=\"YES\",MAX(A$2:A145)+1,0)","v":0},{"$f":"'County Criminal'!A76","v":"County Criminal"},{"$f":"'County Criminal'!C76","v":"CGE CQ4-17"},{"$f":"'County Criminal'!D76","v":"The 5th Quarter Collection Rate did not meet the established performance measure standard of: 40%"},{"$f":"'County Criminal'!E76","v":"NO"}]
[{"$f":"IF(E147=\"YES\",MAX(A$2:A146)+1,0)","v":0},{"$f":"'Juvenile Delinquency'!A72","v":"Juvenile Delinquency"},{"$f":"'Juvenile Delinquency'!C72","v":"CGE CQ4-17"},{"$f":"'Juvenile Delinquency'!D72","v":"After 3rd Q, Collections went up by more than set percentage of: 500%"},{"$f":"'Juvenile Delinquency'!E72","v":"NO"}]
[{"$f":"IF(E148=\"YES\",MAX(A$2:A147)+1,0)","v":0},{"$f":"'Juvenile Delinquency'!A73","v":"Juvenile Delinquency"},{"$f":"'Juvenile Delinquency'!C73","v":"CGE CQ4-17"},{"$f":"'Juvenile Delinquency'!D73","v":"Assessments dropped by more than set percentage of: 15%"},{"$f":"'Juvenile Delinquency'!E73","v":"NO"}]
[{"$f":"IF(E149=\"YES\",MAX(A$2:A148)+1,0)","v":0},{"$f":"'Juvenile Delinquency'!A74","v":"Juvenile Delinquency"},{"$f":"'Juvenile Delinquency'!C74","v":"CGE CQ4-17"},{"$f":"'Juvenile Delinquency'!D74","v":"Collections amount decreased from prior quarter"},{"$f":"'Juvenile Delinquency'!E74","v":"NO"}]
[{"$f":"IF(E150=\"YES\",MAX(A$2:A149)+1,0)","v":0},{"$f":"'Juvenile Delinquency'!A75","v":"Juvenile Delinquency"},{"$f":"'Juvenile Delinquency'!C75","v":"CGE CQ4-17"},{"$f":"'Juvenile Delinquency'!D75","v":"Assessment amount increased from prior quarter"},{"$f":"'Juvenile Delinquency'!E75","v":"NO"}]
[{"$f":"IF(E151=\"YES\",MAX(A$2:A150)+1,0)","v":0},{"$f":"'Juvenile Delinquency'!A76","v":"Juvenile Delinquency"},{"$f":"'Juvenile Delinquency'!C76","v":"CGE CQ4-17"},{"$f":"'Juvenile Delinquency'!D76","v":"The 5th Quarter Collection Rate did not meet the established performance measure standard of: 9%"},{"$f":"'Juvenile Delinquency'!E76","v":"NO"}]
[{"$f":"IF(E152=\"YES\",MAX(A$2:A151)+1,0)","v":0},{"$f":"'Criminal Traffic'!A72","v":"Criminal Traffic"},{"$f":"'Criminal Traffic'!C72","v":"CGE CQ4-17"},{"$f":"'Criminal Traffic'!D72","v":"After 3rd Q, Collections went up by more than set percentage of: 500%"},{"$f":"'Criminal Traffic'!E72","v":"NO"}]
[{"$f":"IF(E153=\"YES\",MAX(A$2:A152)+1,0)","v":0},{"$f":"'Criminal Traffic'!A73","v":"Criminal Traffic"},{"$f":"'Criminal Traffic'!C73","v":"CGE CQ4-17"},{"$f":"'Criminal Traffic'!D73","v":"Assessments dropped by more than set percentage of: 15%"},{"$f":"'Criminal Traffic'!E73","v":"NO"}]
[{"$f":"IF(E154=\"YES\",MAX(A$2:A153)+1,0)","v":0},{"$f":"'Criminal Traffic'!A74","v":"Criminal Traffic"},{"$f":"'Criminal Traffic'!C74","v":"CGE CQ4-17"},{"$f":"'Criminal Traffic'!D74","v":"Collections amount decreased from prior quarter"},{"$f":"'Criminal Traffic'!E74","v":"NO"}]
[{"$f":"IF(E155=\"YES\",MAX(A$2:A154)+1,0)","v":0},{"$f":"'Criminal Traffic'!A75","v":"Criminal Traffic"},{"$f":"'Criminal Traffic'!C75","v":"CGE CQ4-17"},{"$f":"'Criminal Traffic'!D75","v":"Assessment amount increased from prior quarter"},{"$f":"'Criminal Traffic'!E75","v":"NO"}]
[{"$f":"IF(E156=\"YES\",MAX(A$2:A155)+1,0)","v":0},{"$f":"'Criminal Traffic'!A76","v":"Criminal Traffic"},{"$f":"'Criminal Traffic'!C76","v":"CGE CQ4-17"},{"$f":"'Criminal Traffic'!D76","v":"The 5th Quarter Collection Rate did not meet the established performance measure standard of: 40%"},{"$f":"'Criminal Traffic'!E76","v":"NO"}]
[{"$f":"IF(E157=\"YES\",MAX(A$2:A156)+1,0)","v":0},{"$f":"'Circuit Civil'!A72","v":"Circuit Civil"},{"$f":"'Circuit Civil'!C72","v":"CGE CQ4-17"},{"$f":"'Circuit Civil'!D72","v":"After 3rd Q, Collections went up by more than set percentage of: 500%"},{"$f":"'Circuit Civil'!E72","v":"NO"}]
[{"$f":"IF(E158=\"YES\",MAX(A$2:A157)+1,0)","v":0},{"$f":"'Circuit Civil'!A73","v":"Circuit Civil"},{"$f":"'Circuit Civil'!C73","v":"CGE CQ4-17"},{"$f":"'Circuit Civil'!D73","v":"Assessments dropped by more than set percentage of: 15%"},{"$f":"'Circuit Civil'!E73","v":"NO"}]
[{"$f":"IF(E159=\"YES\",MAX(A$2:A158)+1,0)","v":{"$error":"#VALUE!"}},{"$f":"'Circuit Civil'!A74","v":"Circuit Civil"},{"$f":"'Circuit Civil'!C74","v":"CGE CQ4-17"},{"$f":"'Circuit Civil'!D74","v":"Collections amount decreased from prior quarter"},{"$f":"'Circuit Civil'!E74","v":"YES"}]
[{"$f":"IF(E160=\"YES\",MAX(A$2:A159)+1,0)","v":0},{"$f":"'Circuit Civil'!A75","v":"Circuit Civil"},{"$f":"'Circuit Civil'!C75","v":"CGE CQ4-17"},{"$f":"'Circuit Civil'!D75","v":"Assessment amount increased from prior quarter"},{"$f":"'Circuit Civil'!E75","v":"NO"}]
[{"$f":"IF(E161=\"YES\",MAX(A$2:A160)+1,0)","v":0},{"$f":"'Circuit Civil'!A76","v":"Circuit Civil"},{"$f":"'Circuit Civil'!C76","v":"CGE CQ4-17"},{"$f":"'Circuit Civil'!D76","v":"The 5th Quarter Collection Rate did not meet the established performance measure standard of: 90%"},{"$f":"'Circuit Civil'!E76","v":"NO"}]
[{"$f":"IF(E162=\"YES\",MAX(A$2:A161)+1,0)","v":0},{"$f":"'County Civil'!A72","v":"County Civil"},{"$f":"'County Civil'!C72","v":"CGE CQ4-17"},{"$f":"'County Civil'!D72","v":"After 3rd Q, Collections went up by more than set percentage of: 500%"},{"$f":"'County Civil'!E72","v":"NO"}]
[{"$f":"IF(E163=\"YES\",MAX(A$2:A162)+1,0)","v":0},{"$f":"'County Civil'!A73","v":"County Civil"},{"$f":"'County Civil'!C73","v":"CGE CQ4-17"},{"$f":"'County Civil'!D73","v":"Assessments dropped by more than set percentage of: 15%"},{"$f":"'County Civil'!E73","v":"NO"}]
[{"$f":"IF(E164=\"YES\",MAX(A$2:A163)+1,0)","v":0},{"$f":"'County Civil'!A74","v":"County Civil"},{"$f":"'County Civil'!C74","v":"CGE CQ4-17"},{"$f":"'County Civil'!D74","v":"Collections amount decreased from prior quarter"},{"$f":"'County Civil'!E74","v":"NO"}]
[{"$f":"IF(E165=\"YES\",MAX(A$2:A164)+1,0)","v":0},{"$f":"'County Civil'!A75","v":"County Civil"},{"$f":"'County Civil'!C75","v":"CGE CQ4-17"},{"$f":"'County Civil'!D75","v":"Assessment amount increased from prior quarter"},{"$f":"'County Civil'!E75","v":"NO"}]
[{"$f":"IF(E166=\"YES\",MAX(A$2:A165)+1,0)","v":0},{"$f":"'County Civil'!A76","v":"County Civil"},{"$f":"'County Civil'!C76","v":"CGE CQ4-17"},{"$f":"'County Civil'!D76","v":"The 5th Quarter Collection Rate did not meet the established performance measure standard of: 90%"},{"$f":"'County Civil'!E76","v":"NO"}]
[{"$f":"IF(E167=\"YES\",MAX(A$2:A166)+1,0)","v":0},{"$f":"'Civil Traffic'!A72","v":"Civil Traffic"},{"$f":"'Civil Traffic'!C72","v":"CGE CQ4-17"},{"$f":"'Civil Traffic'!D72","v":"After 3rd Q, Collections went up by more than set percentage of: 500%"},{"$f":"'Civil Traffic'!E72","v":"NO"}]
[{"$f":"IF(E168=\"YES\",MAX(A$2:A167)+1,0)","v":0},{"$f":"'Civil Traffic'!A73","v":"Civil Traffic"},{"$f":"'Civil Traffic'!C73","v":"CGE CQ4-17"},{"$f":"'Civil Traffic'!D73","v":"Assessments dropped by more than set percentage of: 15%"},{"$f":"'Civil Traffic'!E73","v":"NO"}]
[{"$f":"IF(E169=\"YES\",MAX(A$2:A168)+1,0)","v":0},{"$f":"'Civil Traffic'!A74","v":"Civil Traffic"},{"$f":"'Civil Traffic'!C74","v":"CGE CQ4-17"},{"$f":"'Civil Traffic'!D74","v":"Collections amount decreased from prior quarter"},{"$f":"'Civil Traffic'!E74","v":"NO"}]
[{"$f":"IF(E170=\"YES\",MAX(A$2:A169)+1,0)","v":0},{"$f":"'Civil Traffic'!A75","v":"Civil Traffic"},{"$f":"'Civil Traffic'!C75","v":"CGE CQ4-17"},{"$f":"'Civil Traffic'!D75","v":"Assessment amount increased from prior quarter"},{"$f":"'Civil Traffic'!E75","v":"NO"}]
[{"$f":"IF(E171=\"YES\",MAX(A$2:A170)+1,0)","v":0},{"$f":"'Civil Traffic'!A76","v":"Civil Traffic"},{"$f":"'Civil Traffic'!C76","v":"CGE CQ4-17"},{"$f":"'Civil Traffic'!D76","v":"The 5th Quarter Collection Rate did not meet the established performance measure standard of: 90%"},{"$f":"'Civil Traffic'!E76","v":"NO"}]
[{"$f":"IF(E172=\"YES\",MAX(A$2:A171)+1,0)","v":0},{"$f":"Probate!A77","v":"Probate"},{"$f":"Probate!C77","v":"CGE CQ4-17"},{"$f":"Probate!D77","v":"After 3rd Q, Collections went up by more than set percentage of: 500%"},{"$f":"Probate!E77","v":"NO"}]
[{"$f":"IF(E173=\"YES\",MAX(A$2:A172)+1,0)","v":0},{"$f":"Probate!A78","v":"Probate"},{"$f":"Probate!C78","v":"CGE CQ4-17"},{"$f":"Probate!D78","v":"Assessments dropped by more than set percentage of: 15%"},{"$f":"Probate!E78","v":"NO"}]
[{"$f":"IF(E174=\"YES\",MAX(A$2:A173)+1,0)","v":0},{"$f":"Probate!A79","v":"Probate"},{"$f":"Probate!C79","v":"CGE CQ4-17"},{"$f":"Probate!D79","v":"Collections amount decreased from prior quarter"},{"$f":"Probate!E79","v":"NO"}]
[{"$f":"IF(E175=\"YES\",MAX(A$2:A174)+1,0)","v":0},{"$f":"Probate!A80","v":"Probate"},{"$f":"Probate!C80","v":"CGE CQ4-17"},{"$f":"Probate!D80","v":"Assessment amount increased from prior quarter"},{"$f":"Probate!E80","v":"NO"}]
[{"$f":"IF(E176=\"YES\",MAX(A$2:A175)+1,0)","v":0},{"$f":"Probate!A81","v":"Probate"},{"$f":"Probate!C81","v":"CGE CQ4-17"},{"$f":"Probate!D81","v":"The 5th Quarter Collection Rate did not meet the established performance measure standard of: 90%"},{"$f":"Probate!E81","v":"NO"}]
[{"$f":"IF(E177=\"YES\",MAX(A$2:A176)+1,0)","v":0},{"$f":"Family!A72","v":"Family"},{"$f":"Family!C72","v":"CGE CQ4-17"},{"$f":"Family!D72","v":"After 3rd Q, Collections went up by more than set percentage of: 500%"},{"$f":"Family!E72","v":"NO"}]
[{"$f":"IF(E178=\"YES\",MAX(A$2:A177)+1,0)","v":0},{"$f":"Family!A73","v":"Family"},{"$f":"Family!C73","v":"CGE CQ4-17"},{"$f":"Family!D73","v":"Assessments dropped by more than set percentage of: 15%"},{"$f":"Family!E73","v":"NO"}]
[{"$f":"IF(E179=\"YES\",MAX(A$2:A178)+1,0)","v":0},{"$f":"Family!A74","v":"Family"},{"$f":"Family!C74","v":"CGE CQ4-17"},{"$f":"Family!D74","v":"Collections amount decreased from prior quarter"},{"$f":"Family!E74","v":"NO"}]
[{"$f":"IF(E180=\"YES\",MAX(A$2:A179)+1,0)","v":0},{"$f":"Family!A75","v":"Family"},{"$f":"Family!C75","v":"CGE CQ4-17"},{"$f":"Family!D75","v":"Assessment amount increased from prior quarter"},{"$f":"Family!E75","v":"NO"}]
[{"$f":"IF(E181=\"YES\",MAX(A$2:A180)+1,0)","v":0},{"$f":"Family!A76","v":"Family"},{"$f":"Family!C76","v":"CGE CQ4-17"},{"$f":"Family!D76","v":"The 5th Quarter Collection Rate did not meet the established performance measure standard of: 75%"},{"$f":"Family!E76","v":"NO"}]
[{"$f":"IF(E182=\"YES\",MAX(A$2:A181)+1,0)","v":0},{"$f":"'Circuit Criminal'!A72","v":"Circuit Criminal"},{"$f":"'Circuit Criminal'!C72","v":"CGE CQ1-18"},{"$f":"'Circuit Criminal'!D72","v":"After 3rd Q, Collections went up by more than set percentage of: 500%"},{"$f":"'Circuit Criminal'!E72","v":"NO"}]
[{"$f":"IF(E183=\"YES\",MAX(A$2:A182)+1,0)","v":0},{"$f":"'Circuit Criminal'!A73","v":"Circuit Criminal"},{"$f":"'Circuit Criminal'!C73","v":"CGE CQ1-18"},{"$f":"'Circuit Criminal'!D73","v":"Assessments dropped by more than set percentage of: 15%"},{"$f":"'Circuit Criminal'!E73","v":"NO"}]
[{"$f":"IF(E184=\"YES\",MAX(A$2:A183)+1,0)","v":0},{"$f":"'Circuit Criminal'!A74","v":"Circuit Criminal"},{"$f":"'Circuit Criminal'!C74","v":"CGE CQ1-18"},{"$f":"'Circuit Criminal'!D74","v":"Collections amount decreased from prior quarter"},{"$f":"'Circuit Criminal'!E74","v":"NO"}]
[{"$f":"IF(E185=\"YES\",MAX(A$2:A184)+1,0)","v":0},{"$f":"'Circuit Criminal'!A75","v":"Circuit Criminal"},{"$f":"'Circuit Criminal'!C75","v":"CGE CQ1-18"},{"$f":"'Circuit Criminal'!D75","v":"Assessment amount increased from prior quarter"},{"$f":"'Circuit Criminal'!E75","v":"NO"}]
[{"$f":"IF(E186=\"YES\",MAX(A$2:A185)+1,0)","v":0},{"$f":"'County Criminal'!A77","v":"County Criminal"},{"$f":"'County Criminal'!C77","v":"CGE CQ1-18"},{"$f":"'County Criminal'!D77","v":"After 3rd Q, Collections went up by more than set percentage of: 500%"},{"$f":"'County Criminal'!E77","v":"NO"}]
[{"$f":"IF(E187=\"YES\",MAX(A$2:A186)+1,0)","v":0},{"$f":"'County Criminal'!A78","v":"County Criminal"},{"$f":"'County Criminal'!C78","v":"CGE CQ1-18"},{"$f":"'County Criminal'!D78","v":"Assessments dropped by more than set percentage of: 15%"},{"$f":"'County Criminal'!E78","v":"NO"}]
[{"$f":"IF(E188=\"YES\",MAX(A$2:A187)+1,0)","v":0},{"$f":"'County Criminal'!A79","v":"County Criminal"},{"$f":"'County Criminal'!C79","v":"CGE CQ1-18"},{"$f":"'County Criminal'!D79","v":"Collections amount decreased from prior quarter"},{"$f":"'County Criminal'!E79","v":"NO"}]
[{"$f":"IF(E189=\"YES\",MAX(A$2:A188)+1,0)","v":0},{"$f":"'County Criminal'!A80","v":"County Criminal"},{"$f":"'County Criminal'!C80","v":"CGE CQ1-18"},{"$f":"'County Criminal'!D80","v":"Assessment amount increased from prior quarter"},{"$f":"'County Criminal'!E80","v":"NO"}]
[{"$f":"IF(E190=\"YES\",MAX(A$2:A189)+1,0)","v":0},{"$f":"'Juvenile Delinquency'!A77","v":"Juvenile Delinquency"},{"$f":"'Juvenile Delinquency'!C77","v":"CGE CQ1-18"},{"$f":"'Juvenile Delinquency'!D77","v":"After 3rd Q, Collections went up by more than set percentage of: 500%"},{"$f":"'Juvenile Delinquency'!E77","v":"NO"}]
[{"$f":"IF(E191=\"YES\",MAX(A$2:A190)+1,0)","v":0},{"$f":"'Juvenile Delinquency'!A78","v":"Juvenile Delinquency"},{"$f":"'Juvenile Delinquency'!C78","v":"CGE CQ1-18"},{"$f":"'Juvenile Delinquency'!D78","v":"Assessments dropped by more than set percentage of: 15%"},{"$f":"'Juvenile Delinquency'!E78","v":"NO"}]
[{"$f":"IF(E192=\"YES\",MAX(A$2:A191)+1,0)","v":0},{"$f":"'Juvenile Delinquency'!A79","v":"Juvenile Delinquency"},{"$f":"'Juvenile Delinquency'!C79","v":"CGE CQ1-18"},{"$f":"'Juvenile Delinquency'!D79","v":"Collections amount decreased from prior quarter"},{"$f":"'Juvenile Delinquency'!E79","v":"NO"}]
[{"$f":"IF(E193=\"YES\",MAX(A$2:A192)+1,0)","v":0},{"$f":"'Juvenile Delinquency'!A80","v":"Juvenile Delinquency"},{"$f":"'Juvenile Delinquency'!C80","v":"CGE CQ1-18"},{"$f":"'Juvenile Delinquency'!D80","v":"Assessment amount increased from prior quarter"},{"$f":"'Juvenile Delinquency'!E80","v":"NO"}]
[{"$f":"IF(E194=\"YES\",MAX(A$2:A193)+1,0)","v":0},{"$f":"'Criminal Traffic'!A77","v":"Criminal Traffic"},{"$f":"'Criminal Traffic'!C77","v":"CGE CQ1-18"},{"$f":"'Criminal Traffic'!D77","v":"After 3rd Q, Collections went up by more than set percentage of: 500%"},{"$f":"'Criminal Traffic'!E77","v":"NO"}]
[{"$f":"IF(E195=\"YES\",MAX(A$2:A194)+1,0)","v":0},{"$f":"'Criminal Traffic'!A78","v":"Criminal Traffic"},{"$f":"'Criminal Traffic'!C78","v":"CGE CQ1-18"},{"$f":"'Criminal Traffic'!D78","v":"Assessments dropped by more than set percentage of: 15%"},{"$f":"'Criminal Traffic'!E78","v":"NO"}]
[{"$f":"IF(E196=\"YES\",MAX(A$2:A195)+1,0)","v":0},{"$f":"'Criminal Traffic'!A79","v":"Criminal Traffic"},{"$f":"'Criminal Traffic'!C79","v":"CGE CQ1-18"},{"$f":"'Criminal Traffic'!D79","v":"Collections amount decreased from prior quarter"},{"$f":"'Criminal Traffic'!E79","v":"NO"}]
[{"$f":"IF(E197=\"YES\",MAX(A$2:A196)+1,0)","v":0},{"$f":"'Criminal Traffic'!A80","v":"Criminal Traffic"},{"$f":"'Criminal Traffic'!C80","v":"CGE CQ1-18"},{"$f":"'Criminal Traffic'!D80","v":"Assessment amount increased from prior quarter"},{"$f":"'Criminal Traffic'!E80","v":"NO"}]
[{"$f":"IF(E198=\"YES\",MAX(A$2:A197)+1,0)","v":0},{"$f":"'Circuit Civil'!A77","v":"Circuit Civil"},{"$f":"'Circuit Civil'!C77","v":"CGE CQ1-18"},{"$f":"'Circuit Civil'!D77","v":"After 3rd Q, Collections went up by more than set percentage of: 500%"},{"$f":"'Circuit Civil'!E77","v":"NO"}]
[{"$f":"IF(E199=\"YES\",MAX(A$2:A198)+1,0)","v":0},{"$f":"'Circuit Civil'!A78","v":"Circuit Civil"},{"$f":"'Circuit Civil'!C78","v":"CGE CQ1-18"},{"$f":"'Circuit Civil'!D78","v":"Assessments dropped by more than set percentage of: 15%"},{"$f":"'Circuit Civil'!E78","v":"NO"}]
[{"$f":"IF(E200=\"YES\",MAX(A$2:A199)+1,0)","v":0},{"$f":"'Circuit Civil'!A79","v":"Circuit Civil"},{"$f":"'Circuit Civil'!C79","v":"CGE CQ1-18"},{"$f":"'Circuit Civil'!D79","v":"Collections amount decreased from prior quarter"},{"$f":"'Circuit Civil'!E79","v":"NO"}]
[{"$f":"IF(E201=\"YES\",MAX(A$2:A200)+1,0)","v":0},{"$f":"'Circuit Civil'!A80","v":"Circuit Civil"},{"$f":"'Circuit Civil'!C80","v":"CGE CQ1-18"},{"$f":"'Circuit Civil'!D80","v":"Assessment amount increased from prior quarter"},{"$f":"'Circuit Civil'!E80","v":"NO"}]
[{"$f":"IF(E202=\"YES\",MAX(A$2:A201)+1,0)","v":0},{"$f":"'County Civil'!A77","v":"County Civil"},{"$f":"'County Civil'!C77","v":"CGE CQ1-18"},{"$f":"'County Civil'!D77","v":"After 3rd Q, Collections went up by more than set percentage of: 500%"},{"$f":"'County Civil'!E77","v":"NO"}]
[{"$f":"IF(E203=\"YES\",MAX(A$2:A202)+1,0)","v":0},{"$f":"'County Civil'!A78","v":"County Civil"},{"$f":"'County Civil'!C78","v":"CGE CQ1-18"},{"$f":"'County Civil'!D78","v":"Assessments dropped by more than set percentage of: 15%"},{"$f":"'County Civil'!E78","v":"NO"}]
[{"$f":"IF(E204=\"YES\",MAX(A$2:A203)+1,0)","v":0},{"$f":"'County Civil'!A79","v":"County Civil"},{"$f":"'County Civil'!C79","v":"CGE CQ1-18"},{"$f":"'County Civil'!D79","v":"Collections amount decreased from prior quarter"},{"$f":"'County Civil'!E79","v":"NO"}]
[{"$f":"IF(E205=\"YES\",MAX(A$2:A204)+1,0)","v":0},{"$f":"'County Civil'!A80","v":"County Civil"},{"$f":"'County Civil'!C80","v":"CGE CQ1-18"},{"$f":"'County Civil'!D80","v":"Assessment amount increased from prior quarter"},{"$f":"'County Civil'!E80","v":"NO"}]
[{"$f":"IF(E206=\"YES\",MAX(A$2:A205)+1,0)","v":0},{"$f":"'Civil Traffic'!A77","v":"Civil Traffic"},{"$f":"'Civil Traffic'!C77","v":"CGE CQ1-18"},{"$f":"'Civil Traffic'!D77","v":"After 3rd Q, Collections went up by more than set percentage of: 500%"},{"$f":"'Civil Traffic'!E77","v":"NO"}]
[{"$f":"IF(E207=\"YES\",MAX(A$2:A206)+1,0)","v":0},{"$f":"'Civil Traffic'!A78","v":"Civil Traffic"},{"$f":"'Civil Traffic'!C78","v":"CGE CQ1-18"},{"$f":"'Civil Traffic'!D78","v":"Assessments dropped by more than set percentage of: 15%"},{"$f":"'Civil Traffic'!E78","v":"NO"}]
[{"$f":"IF(E208=\"YES\",MAX(A$2:A207)+1,0)","v":0},{"$f":"'Civil Traffic'!A79","v":"Civil Traffic"},{"$f":"'Civil Traffic'!C79","v":"CGE CQ1-18"},{"$f":"'Civil Traffic'!D79","v":"Collections amount decreased from prior quarter"},{"$f":"'Civil Traffic'!E79","v":"NO"}]
[{"$f":"IF(E209=\"YES\",MAX(A$2:A208)+1,0)","v":0},{"$f":"'Civil Traffic'!A80","v":"Civil Traffic"},{"$f":"'Civil Traffic'!C80","v":"CGE CQ1-18"},{"$f":"'Civil Traffic'!D80","v":"Assessment amount increased from prior quarter"},{"$f":"'Civil Traffic'!E80","v":"NO"}]
[{"$f":"IF(E210=\"YES\",MAX(A$2:A209)+1,0)","v":0},{"$f":"Probate!A82","v":"Probate"},{"$f":"Probate!C82","v":"CGE CQ1-18"},{"$f":"Probate!D82","v":"After 3rd Q, Collections went up by more than set percentage of: 500%"},{"$f":"Probate!E82","v":"NO"}]
[{"$f":"IF(E211=\"YES\",MAX(A$2:A210)+1,0)","v":0},{"$f":"Probate!A83","v":"Probate"},{"$f":"Probate!C83","v":"CGE CQ1-18"},{"$f":"Probate!D83","v":"Assessments dropped by more than set percentage of: 15%"},{"$f":"Probate!E83","v":"NO"}]
[{"$f":"IF(E212=\"YES\",MAX(A$2:A211)+1,0)","v":0},{"$f":"Probate!A84","v":"Probate"},{"$f":"Probate!C84","v":"CGE CQ1-18"},{"$f":"Probate!D84","v":"Collections amount decreased from prior quarter"},{"$f":"Probate!E84","v":"NO"}]
[{"$f":"IF(E213=\"YES\",MAX(A$2:A212)+1,0)","v":0},{"$f":"Probate!A85","v":"Probate"},{"$f":"Probate!C85","v":"CGE CQ1-18"},{"$f":"Probate!D85","v":"Assessment amount increased from prior quarter"},{"$f":"Probate!E85","v":"NO"}]
[{"$f":"IF(E214=\"YES\",MAX(A$2:A213)+1,0)","v":0},{"$f":"Family!A77","v":"Family"},{"$f":"Family!C77","v":"CGE CQ1-18"},{"$f":"Family!D77","v":"After 3rd Q, Collections went up by more than set percentage of: 500%"},{"$f":"Family!E77","v":"NO"}]
[{"$f":"IF(E215=\"YES\",MAX(A$2:A214)+1,0)","v":0},{"$f":"Family!A78","v":"Family"},{"$f":"Family!C78","v":"CGE CQ1-18"},{"$f":"Family!D78","v":"Assessments dropped by more than set percentage of: 15%"},{"$f":"Family!E78","v":"NO"}]
[{"$f":"IF(E216=\"YES\",MAX(A$2:A215)+1,0)","v":0},{"$f":"Family!A79","v":"Family"},{"$f":"Family!C79","v":"CGE CQ1-18"},{"$f":"Family!D79","v":"Collections amount decreased from prior quarter"},{"$f":"Family!E79","v":"NO"}]
[{"$f":"IF(E217=\"YES\",MAX(A$2:A216)+1,0)","v":0},{"$f":"Family!A80","v":"Family"},{"$f":"Family!C80","v":"CGE CQ1-18"},{"$f":"Family!D80","v":"Assessment amount increased from prior quarter"},{"$f":"Family!E80","v":"NO"}]
[{"$f":"IF(E218=\"YES\",MAX(A$2:A217)+1,0)","v":0},{"$f":"'Circuit Criminal'!A76","v":"Circuit Criminal"},{"$f":"'Circuit Criminal'!C76","v":"CGE CQ2-18"},{"$f":"'Circuit Criminal'!D76","v":"Assessments dropped by more than set percentage of: 15%"},{"$f":"'Circuit Criminal'!E76","v":"NO"}]
[{"$f":"IF(E219=\"YES\",MAX(A$2:A218)+1,0)","v":0},{"$f":"'Circuit Criminal'!A77","v":"Circuit Criminal"},{"$f":"'Circuit Criminal'!C77","v":"CGE CQ2-18"},{"$f":"'Circuit Criminal'!D77","v":"Collections amount decreased from prior quarter"},{"$f":"'Circuit Criminal'!E77","v":"NO"}]
[{"$f":"IF(E220=\"YES\",MAX(A$2:A219)+1,0)","v":0},{"$f":"'Circuit Criminal'!A78","v":"Circuit Criminal"},{"$f":"'Circuit Criminal'!C78","v":"CGE CQ2-18"},{"$f":"'Circuit Criminal'!D78","v":"Assessment amount increased from prior quarter"},{"$f":"'Circuit Criminal'!E78","v":"NO"}]
[{"$f":"IF(E221=\"YES\",MAX(A$2:A220)+1,0)","v":0},{"$f":"'County Criminal'!A81","v":"County Criminal"},{"$f":"'County Criminal'!C81","v":"CGE CQ2-18"},{"$f":"'County Criminal'!D81","v":"Assessments dropped by more than set percentage of: 15%"},{"$f":"'County Criminal'!E81","v":"NO"}]
[{"$f":"IF(E222=\"YES\",MAX(A$2:A221)+1,0)","v":0},{"$f":"'County Criminal'!A82","v":"County Criminal"},{"$f":"'County Criminal'!C82","v":"CGE CQ2-18"},{"$f":"'County Criminal'!D82","v":"Collections amount decreased from prior quarter"},{"$f":"'County Criminal'!E82","v":"NO"}]
[{"$f":"IF(E223=\"YES\",MAX(A$2:A222)+1,0)","v":0},{"$f":"'County Criminal'!A83","v":"County Criminal"},{"$f":"'County Criminal'!C83","v":"CGE CQ2-18"},{"$f":"'County Criminal'!D83","v":"Assessment amount increased from prior quarter"},{"$f":"'County Criminal'!E83","v":"NO"}]
[{"$f":"IF(E224=\"YES\",MAX(A$2:A223)+1,0)","v":0},{"$f":"'Juvenile Delinquency'!A81","v":"Juvenile Delinquency"},{"$f":"'Juvenile Delinquency'!C81","v":"CGE CQ2-18"},{"$f":"'Juvenile Delinquency'!D81","v":"Assessments dropped by more than set percentage of: 15%"},{"$f":"'Juvenile Delinquency'!E81","v":"NO"}]
[{"$f":"IF(E225=\"YES\",MAX(A$2:A224)+1,0)","v":0},{"$f":"'Juvenile Delinquency'!A82","v":"Juvenile Delinquency"},{"$f":"'Juvenile Delinquency'!C82","v":"CGE CQ2-18"},{"$f":"'Juvenile Delinquency'!D82","v":"Collections amount decreased from prior quarter"},{"$f":"'Juvenile Delinquency'!E82","v":"NO"}]
[{"$f":"IF(E226=\"YES\",MAX(A$2:A225)+1,0)","v":0},{"$f":"'Juvenile Delinquency'!A83","v":"Juvenile Delinquency"},{"$f":"'Juvenile Delinquency'!C83","v":"CGE CQ2-18"},{"$f":"'Juvenile Delinquency'!D83","v":"Assessment amount increased from prior quarter"},{"$f":"'Juvenile Delinquency'!E83","v":"NO"}]
[{"$f":"IF(E227=\"YES\",MAX(A$2:A226)+1,0)","v":0},{"$f":"'Criminal Traffic'!A81","v":"Criminal Traffic"},{"$f":"'Criminal Traffic'!C81","v":"CGE CQ2-18"},{"$f":"'Criminal Traffic'!D81","v":"Assessments dropped by more than set percentage of: 15%"},{"$f":"'Criminal Traffic'!E81","v":"NO"}]
[{"$f":"IF(E228=\"YES\",MAX(A$2:A227)+1,0)","v":0},{"$f":"'Criminal Traffic'!A82","v":"Criminal Traffic"},{"$f":"'Criminal Traffic'!C82","v":"CGE CQ2-18"},{"$f":"'Criminal Traffic'!D82","v":"Collections amount decreased from prior quarter"},{"$f":"'Criminal Traffic'!E82","v":"NO"}]
[{"$f":"IF(E229=\"YES\",MAX(A$2:A228)+1,0)","v":0},{"$f":"'Criminal Traffic'!A83","v":"Criminal Traffic"},{"$f":"'Criminal Traffic'!C83","v":"CGE CQ2-18"},{"$f":"'Criminal Traffic'!D83","v":"Assessment amount increased from prior quarter"},{"$f":"'Criminal Traffic'!E83","v":"NO"}]
[{"$f":"IF(E230=\"YES\",MAX(A$2:A229)+1,0)","v":0},{"$f":"'Circuit Civil'!A81","v":"Circuit Civil"},{"$f":"'Circuit Civil'!C81","v":"CGE CQ2-18"},{"$f":"'Circuit Civil'!D81","v":"Assessments dropped by more than set percentage of: 15%"},{"$f":"'Circuit Civil'!E81","v":"NO"}]
[{"$f":"IF(E231=\"YES\",MAX(A$2:A230)+1,0)","v":0},{"$f":"'Circuit Civil'!A82","v":"Circuit Civil"},{"$f":"'Circuit Civil'!C82","v":"CGE CQ2-18"},{"$f":"'Circuit Civil'!D82","v":"Collections amount decreased from prior quarter"},{"$f":"'Circuit Civil'!E82","v":"NO"}]
[{"$f":"IF(E232=\"YES\",MAX(A$2:A231)+1,0)","v":0},{"$f":"'Circuit Civil'!A83","v":"Circuit Civil"},{"$f":"'Circuit Civil'!C83","v":"CGE CQ2-18"},{"$f":"'Circuit Civil'!D83","v":"Assessment amount increased from prior quarter"},{"$f":"'Circuit Civil'!E83","v":"NO"}]
[{"$f":"IF(E233=\"YES\",MAX(A$2:A232)+1,0)","v":0},{"$f":"'County Civil'!A81","v":"County Civil"},{"$f":"'County Civil'!C81","v":"CGE CQ2-18"},{"$f":"'County Civil'!D81","v":"Assessments dropped by more than set percentage of: 15%"},{"$f":"'County Civil'!E81","v":"NO"}]
[{"$f":"IF(E234=\"YES\",MAX(A$2:A233)+1,0)","v":0},{"$f":"'County Civil'!A82","v":"County Civil"},{"$f":"'County Civil'!C82","v":"CGE CQ2-18"},{"$f":"'County Civil'!D82","v":"Collections amount decreased from prior quarter"},{"$f":"'County Civil'!E82","v":"NO"}]
[{"$f":"IF(E235=\"YES\",MAX(A$2:A234)+1,0)","v":0},{"$f":"'County Civil'!A83","v":"County Civil"},{"$f":"'County Civil'!C83","v":"CGE CQ2-18"},{"$f":"'County Civil'!D83","v":"Assessment amount increased from prior quarter"},{"$f":"'County Civil'!E83","v":"NO"}]
[{"$f":"IF(E236=\"YES\",MAX(A$2:A235)+1,0)","v":0},{"$f":"'Civil Traffic'!A81","v":"Civil Traffic"},{"$f":"'Civil Traffic'!C81","v":"CGE CQ2-18"},{"$f":"'Civil Traffic'!D81","v":"Assessments dropped by more than set percentage of: 15%"},{"$f":"'Civil Traffic'!E81","v":"NO"}]
[{"$f":"IF(E237=\"YES\",MAX(A$2:A236)+1,0)","v":0},{"$f":"'Civil Traffic'!A82","v":"Civil Traffic"},{"$f":"'Civil Traffic'!C82","v":"CGE CQ2-18"},{"$f":"'Civil Traffic'!D82","v":"Collections amount decreased from prior quarter"},{"$f":"'Civil Traffic'!E82","v":"NO"}]
[{"$f":"IF(E238=\"YES\",MAX(A$2:A237)+1,0)","v":0},{"$f":"'Civil Traffic'!A83","v":"Civil Traffic"},{"$f":"'Civil Traffic'!C83","v":"CGE CQ2-18"},{"$f":"'Civil Traffic'!D83","v":"Assessment amount increased from prior quarter"},{"$f":"'Civil Traffic'!E83","v":"NO"}]
[{"$f":"IF(E239=\"YES\",MAX(A$2:A238)+1,0)","v":0},{"$f":"Probate!A86","v":"Probate"},{"$f":"Probate!C86","v":"CGE CQ2-18"},{"$f":"Probate!D86","v":"Assessments dropped by more than set percentage of: 15%"},{"$f":"Probate!E86","v":"NO"}]
[{"$f":"IF(E240=\"YES\",MAX(A$2:A239)+1,0)","v":0},{"$f":"Probate!A87","v":"Probate"},{"$f":"Probate!C87","v":"CGE CQ2-18"},{"$f":"Probate!D87","v":"Collections amount decreased from prior quarter"},{"$f":"Probate!E87","v":"NO"}]
[{"$f":"IF(E241=\"YES\",MAX(A$2:A240)+1,0)","v":0},{"$f":"Probate!A88","v":"Probate"},{"$f":"Probate!C88","v":"CGE CQ2-18"},{"$f":"Probate!D88","v":"Assessment amount increased from prior quarter"},{"$f":"Probate!E88","v":"NO"}]
[{"$f":"IF(E242=\"YES\",MAX(A$2:A241)+1,0)","v":0},{"$f":"Family!A81","v":"Family"},{"$f":"Family!C81","v":"CGE CQ2-18"},{"$f":"Family!D81","v":"Assessments dropped by more than set percentage of: 15%"},{"$f":"Family!E81","v":"NO"}]
[{"$f":"IF(E243=\"YES\",MAX(A$2:A242)+1,0)","v":0},{"$f":"Family!A82","v":"Family"},{"$f":"Family!C82","v":"CGE CQ2-18"},{"$f":"Family!D82","v":"Collections amount decreased from prior quarter"},{"$f":"Family!E82","v":"NO"}]
[{"$f":"IF(E244=\"YES\",MAX(A$2:A243)+1,0)","v":0},{"$f":"Family!A83","v":"Family"},{"$f":"Family!C83","v":"CGE CQ2-18"},{"$f":"Family!D83","v":"Assessment amount increased from prior quarter"},{"$f":"Family!E83","v":"NO"}]
[{"$f":"IF(E245=\"YES\",MAX(A$2:A244)+1,0)","v":0},{"$f":"'Circuit Criminal'!A79","v":"Circuit Criminal"},{"$f":"'Circuit Criminal'!C79","v":"CGE CQ3-18"},{"$f":"'Circuit Criminal'!D79","v":"Assessments dropped by more than set percentage of: 15%"},{"$f":"'Circuit Criminal'!E79","v":"NO"}]
[{"$f":"IF(E246=\"YES\",MAX(A$2:A245)+1,0)","v":0},{"$f":"'Circuit Criminal'!A80","v":"Circuit Criminal"},{"$f":"'Circuit Criminal'!C80","v":"CGE CQ3-18"},{"$f":"'Circuit Criminal'!D80","v":"Collections amount decreased from prior quarter"},{"$f":"'Circuit Criminal'!E80","v":"NO"}]
[{"$f":"IF(E247=\"YES\",MAX(A$2:A246)+1,0)","v":0},{"$f":"'Circuit Criminal'!A81","v":"Circuit Criminal"},{"$f":"'Circuit Criminal'!C81","v":"CGE CQ3-18"},{"$f":"'Circuit Criminal'!D81","v":"Assessment amount increased from prior quarter"},{"$f":"'Circuit Criminal'!E81","v":"NO"}]
[{"$f":"IF(E248=\"YES\",MAX(A$2:A247)+1,0)","v":0},{"$f":"'County Criminal'!A84","v":"County Criminal"},{"$f":"'County Criminal'!C84","v":"CGE CQ3-18"},{"$f":"'County Criminal'!D84","v":"Assessments dropped by more than set percentage of: 15%"},{"$f":"'County Criminal'!E84","v":"NO"}]
[{"$f":"IF(E249=\"YES\",MAX(A$2:A248)+1,0)","v":0},{"$f":"'County Criminal'!A85","v":"County Criminal"},{"$f":"'County Criminal'!C85","v":"CGE CQ3-18"},{"$f":"'County Criminal'!D85","v":"Collections amount decreased from prior quarter"},{"$f":"'County Criminal'!E85","v":"NO"}]
[{"$f":"IF(E250=\"YES\",MAX(A$2:A249)+1,0)","v":0},{"$f":"'County Criminal'!A86","v":"County Criminal"},{"$f":"'County Criminal'!C86","v":"CGE CQ3-18"},{"$f":"'County Criminal'!D86","v":"Assessment amount increased from prior quarter"},{"$f":"'County Criminal'!E86","v":"NO"}]
[{"$f":"IF(E251=\"YES\",MAX(A$2:A250)+1,0)","v":0},{"$f":"'Juvenile Delinquency'!A84","v":"Juvenile Delinquency"},{"$f":"'Juvenile Delinquency'!C84","v":"CGE CQ3-18"},{"$f":"'Juvenile Delinquency'!D84","v":"Assessments dropped by more than set percentage of: 15%"},{"$f":"'Juvenile Delinquency'!E84","v":"NO"}]
[{"$f":"IF(E252=\"YES\",MAX(A$2:A251)+1,0)","v":0},{"$f":"'Juvenile Delinquency'!A85","v":"Juvenile Delinquency"},{"$f":"'Juvenile Delinquency'!C85","v":"CGE CQ3-18"},{"$f":"'Juvenile Delinquency'!D85","v":"Collections amount decreased from prior quarter"},{"$f":"'Juvenile Delinquency'!E85","v":"NO"}]
[{"$f":"IF(E253=\"YES\",MAX(A$2:A252)+1,0)","v":0},{"$f":"'Juvenile Delinquency'!A86","v":"Juvenile Delinquency"},{"$f":"'Juvenile Delinquency'!C86","v":"CGE CQ3-18"},{"$f":"'Juvenile Delinquency'!D86","v":"Assessment amount increased from prior quarter"},{"$f":"'Juvenile Delinquency'!E86","v":"NO"}]
[{"$f":"IF(E254=\"YES\",MAX(A$2:A253)+1,0)","v":0},{"$f":"'Criminal Traffic'!A84","v":"Criminal Traffic"},{"$f":"'Criminal Traffic'!C84","v":"CGE CQ3-18"},{"$f":"'Criminal Traffic'!D84","v":"Assessments dropped by more than set percentage of: 15%"},{"$f":"'Criminal Traffic'!E84","v":"NO"}]
[{"$f":"IF(E255=\"YES\",MAX(A$2:A254)+1,0)","v":0},{"$f":"'Criminal Traffic'!A85","v":"Criminal Traffic"},{"$f":"'Criminal Traffic'!C85","v":"CGE CQ3-18"},{"$f":"'Criminal Traffic'!D85","v":"Collections amount decreased from prior quarter"},{"$f":"'Criminal Traffic'!E85","v":"NO"}]
[{"$f":"IF(E256=\"YES\",MAX(A$2:A255)+1,0)","v":0},{"$f":"'Criminal Traffic'!A86","v":"Criminal Traffic"},{"$f":"'Criminal Traffic'!C86","v":"CGE CQ3-18"},{"$f":"'Criminal Traffic'!D86","v":"Assessment amount increased from prior quarter"},{"$f":"'Criminal Traffic'!E86","v":"NO"}]
[{"$f":"IF(E257=\"YES\",MAX(A$2:A256)+1,0)","v":0},{"$f":"'Circuit Civil'!A84","v":"Circuit Civil"},{"$f":"'Circuit Civil'!C84","v":"CGE CQ3-18"},{"$f":"'Circuit Civil'!D84","v":"Assessments dropped by more than set percentage of: 15%"},{"$f":"'Circuit Civil'!E84","v":"NO"}]
[{"$f":"IF(E258=\"YES\",MAX(A$2:A257)+1,0)","v":0},{"$f":"'Circuit Civil'!A85","v":"Circuit Civil"},{"$f":"'Circuit Civil'!C85","v":"CGE CQ3-18"},{"$f":"'Circuit Civil'!D85","v":"Collections amount decreased from prior quarter"},{"$f":"'Circuit Civil'!E85","v":"NO"}]
[{"$f":"IF(E259=\"YES\",MAX(A$2:A258)+1,0)","v":0},{"$f":"'Circuit Civil'!A86","v":"Circuit Civil"},{"$f":"'Circuit Civil'!C86","v":"CGE CQ3-18"},{"$f":"'Circuit Civil'!D86","v":"Assessment amount increased from prior quarter"},{"$f":"'Circuit Civil'!E86","v":"NO"}]
[{"$f":"IF(E260=\"YES\",MAX(A$2:A259)+1,0)","v":0},{"$f":"'County Civil'!A84","v":"County Civil"},{"$f":"'County Civil'!C84","v":"CGE CQ3-18"},{"$f":"'County Civil'!D84","v":"Assessments dropped by more than set percentage of: 15%"},{"$f":"'County Civil'!E84","v":"NO"}]
[{"$f":"IF(E261=\"YES\",MAX(A$2:A260)+1,0)","v":0},{"$f":"'County Civil'!A85","v":"County Civil"},{"$f":"'County Civil'!C85","v":"CGE CQ3-18"},{"$f":"'County Civil'!D85","v":"Collections amount decreased from prior quarter"},{"$f":"'County Civil'!E85","v":"NO"}]
[{"$f":"IF(E262=\"YES\",MAX(A$2:A261)+1,0)","v":0},{"$f":"'County Civil'!A86","v":"County Civil"},{"$f":"'County Civil'!C86","v":"CGE CQ3-18"},{"$f":"'County Civil'!D86","v":"Assessment amount increased from prior quarter"},{"$f":"'County Civil'!E86","v":"NO"}]
[{"$f":"IF(E263=\"YES\",MAX(A$2:A262)+1,0)","v":0},{"$f":"'Civil Traffic'!A84","v":"Civil Traffic"},{"$f":"'Civil Traffic'!C84","v":"CGE CQ3-18"},{"$f":"'Civil Traffic'!D84","v":"Assessments dropped by more than set percentage of: 15%"},{"$f":"'Civil Traffic'!E84","v":"NO"}]
[{"$f":"IF(E264=\"YES\",MAX(A$2:A263)+1,0)","v":0},{"$f":"'Civil Traffic'!A85","v":"Civil Traffic"},{"$f":"'Civil Traffic'!C85","v":"CGE CQ3-18"},{"$f":"'Civil Traffic'!D85","v":"Collections amount decreased from prior quarter"},{"$f":"'Civil Traffic'!E85","v":"NO"}]
[{"$f":"IF(E265=\"YES\",MAX(A$2:A264)+1,0)","v":0},{"$f":"'Civil Traffic'!A86","v":"Civil Traffic"},{"$f":"'Civil Traffic'!C86","v":"CGE CQ3-18"},{"$f":"'Civil Traffic'!D86","v":"Assessment amount increased from prior quarter"},{"$f":"'Civil Traffic'!E86","v":"NO"}]
[{"$f":"IF(E266=\"YES\",MAX(A$2:A265)+1,0)","v":0},{"$f":"Probate!A89","v":"Probate"},{"$f":"Probate!C89","v":"CGE CQ3-18"},{"$f":"Probate!D89","v":"Assessments dropped by more than set percentage of: 15%"},{"$f":"Probate!E89","v":"NO"}]
[{"$f":"IF(E267=\"YES\",MAX(A$2:A266)+1,0)","v":0},{"$f":"Probate!A90","v":"Probate"},{"$f":"Probate!C90","v":"CGE CQ3-18"},{"$f":"Probate!D90","v":"Collections amount decreased from prior quarter"},{"$f":"Probate!E90","v":"NO"}]
[{"$f":"IF(E268=\"YES\",MAX(A$2:A267)+1,0)","v":0},{"$f":"Probate!A91","v":"Probate"},{"$f":"Probate!C91","v":"CGE CQ3-18"},{"$f":"Probate!D91","v":"Assessment amount increased from prior quarter"},{"$f":"Probate!E91","v":"NO"}]
[{"$f":"IF(E269=\"YES\",MAX(A$2:A268)+1,0)","v":0},{"$f":"Family!A84","v":"Family"},{"$f":"Family!C84","v":"CGE CQ3-18"},{"$f":"Family!D84","v":"Assessments dropped by more than set percentage of: 15%"},{"$f":"Family!E84","v":"NO"}]
[{"$f":"IF(E270=\"YES\",MAX(A$2:A269)+1,0)","v":0},{"$f":"Family!A85","v":"Family"},{"$f":"Family!C85","v":"CGE CQ3-18"},{"$f":"Family!D85","v":"Collections amount decreased from prior quarter"},{"$f":"Family!E85","v":"NO"}]
[{"$f":"IF(E271=\"YES\",MAX(A$2:A270)+1,0)","v":0},{"$f":"Family!A86","v":"Family"},{"$f":"Family!C86","v":"CGE CQ3-18"},{"$f":"Family!D86","v":"Assessment amount increased from prior quarter"},{"$f":"Family!E86","v":"NO"}]

{"sheet":"Action Plan Summary","index":13,"n_rows":44,"n_cols":6,"rows_kept":44,"cut":false,"hidden":false,"merged":[[5,2,5,3],[32,0,35,0],[36,0,39,0],[40,0,43,0],[8,0,11,0],[12,0,15,0],[16,0,19,0],[20,0,23,0],[24,0,27,0],[28,0,31,0]]}
["County Fiscal Year 2016 - 2017"]
["Collections Quarterly Action Plan Form for CCOC"]
[]
[null,"Report for Quarter Ending    ",{"$f":"'Circuit Criminal'!D4","v":"March 2017"},null,"Contact"]
[null,"Version #    ",{"$f":"'Circuit Criminal'!D5","v":1},null,"Telephone"]
[null,"County    ",{"$f":"'Circuit Criminal'!D6","v":"Brevard"},null,"E-Mail"]
[]
["Performance Measure","Quarter","CCOC Standard","Clerk Performance","Reason Code","Current Actions to Improve"]
["Circuit Criminal",{"$f":"'Circuit Criminal'!H10","v":"10/01/16 - 12/31/16"},{"$f":"'Circuit Criminal'!$H$8","v":0.09},{"$f":"IF('Circuit Criminal'!$H$14<C9, 'Circuit Criminal'!$H$14, \"\")","v":""},{"$f":"IF(IFERROR('Circuit Criminal'!L11:L11,\"ERROR\")=\"ERROR\",\"\",IF('Circuit Criminal'!L11:L11 =0,\"\",'Circuit Criminal'!L11:L11))","v":""},{"$f":"IF(IFERROR('Circuit Criminal'!M11:M11,\"ERROR\")=\"ERROR\",\"\",IF('Circuit Criminal'!M11:M11 =0,\"\",'Circuit Criminal'!M11:M11))","v":""}]
[null,{"$f":"'Circuit Criminal'!I10","v":"01/01/17 - 03/31/17"},{"$f":"'Circuit Criminal'!$H$8","v":0.09},{"$f":"IF('Circuit Criminal'!$I$18<C10, 'Circuit Criminal'!$I$18, \"\")","v":""},{"$f":"IF(IFERROR('Circuit Criminal'!L15:L15,\"ERROR\")=\"ERROR\",\"\",IF('Circuit Criminal'!L15:L15 =0,\"\",'Circuit Criminal'!L15:L15))","v":""},{"$f":"IF(IFERROR('Circuit Criminal'!M15:M15,\"ERROR\")=\"ERROR\",\"\",IF('Circuit Criminal'!M15:M15 =0,\"\",'Circuit Criminal'!M15:M15))","v":""}]
[null,{"$f":"'Circuit Criminal'!J10","v":"04/01/17 - 06/30/17"},{"$f":"'Circuit Criminal'!$H$8","v":0.09},{"$f":"IF('Circuit Criminal'!$J$22<C11, 'Circuit Criminal'!$J$22, \"\")","v":""},{"$f":"IF(IFERROR('Circuit Criminal'!L19:L19,\"ERROR\")=\"ERROR\",\"\",IF('Circuit Criminal'!L19:L19 =0,\"\",'Circuit Criminal'!L19:L19))","v":""},{"$f":"IF(IFERROR('Circuit Criminal'!M19:M19,\"ERROR\")=\"ERROR\",\"\",IF('Circuit Criminal'!M19:M19 =0,\"\",'Circuit Criminal'!M19:M19))","v":""}]
[null,{"$f":"'Circuit Criminal'!K10","v":"07/01/17- 09/30/17"},{"$f":"'Circuit Criminal'!$H$8","v":0.09},{"$f":"IF('Circuit Criminal'!$K$26<C12, 'Circuit Criminal'!$K$26, \"\")","v":""},{"$f":"IF(IFERROR('Circuit Criminal'!L23:L23,\"ERROR\")=\"ERROR\",\"\",IF('Circuit Criminal'!L23:L23 =0,\"\",'Circuit Criminal'!L23:L23))","v":""},{"$f":"IF(IFERROR('Circuit Criminal'!M23:M23,\"ERROR\")=\"ERROR\",\"\",IF('Circuit Criminal'!M23:M23 =0,\"\",'Circuit Criminal'!M23:M23))","v":""}]
["County Criminal",{"$f":"'County Criminal'!H10","v":"10/01/16 - 12/31/16"},{"$f":"'County Criminal'!$H$8","v":0.4},{"$f":"IF('County Criminal'!$H$14<C13, 'County Criminal'!$H$14, \"\")","v":0.39080958088469975},{"$f":"IF(IFERROR('County Criminal'!L11:L11,\"ERROR\")=\"ERROR\",\"\",IF('County Criminal'!L11:L11 =0,\"\",'County Criminal'!L11:L11))","v":"Internal"},{"$f":"IF(IFERROR('County Criminal'!M11:M11,\"ERROR\")=\"ERROR\",\"\",IF('County Criminal'!M11:M11 =0,\"\",'County Criminal'!M11:M11))","v":"The standard was not met despite pursuit of all collections efforts within the control of the Clerk."}]
[null,{"$f":"'County Criminal'!I10","v":"01/01/17 - 03/31/17"},{"$f":"'County Criminal'!$H$8","v":0.4},{"$f":"IF('County Criminal'!$I$18<C14, 'County Criminal'!$I$18, \"\")","v":""},{"$f":"IF(IFERROR('County Criminal'!L15:L15,\"ERROR\")=\"ERROR\",\"\",IF('County Criminal'!L15:L15 =0,\"\",'County Criminal'!L15:L15))","v":""},{"$f":"IF(IFERROR('County Criminal'!M15:M15,\"ERROR\")=\"ERROR\",\"\",IF('County Criminal'!M15:M15 =0,\"\",'County Criminal'!M15:M15))","v":""}]
[null,{"$f":"'County Criminal'!J10","v":"04/01/17 - 06/30/17"},{"$f":"'County Criminal'!$H$8","v":0.4},{"$f":"IF('County Criminal'!$J$22<C15, 'County Criminal'!$J$22, \"\")","v":""},{"$f":"IF(IFERROR('County Criminal'!L19:L19,\"ERROR\")=\"ERROR\",\"\",IF('County Criminal'!L19:L19 =0,\"\",'County Criminal'!L19:L19))","v":""},{"$f":"IF(IFERROR('County Criminal'!M19:M19,\"ERROR\")=\"ERROR\",\"\",IF('County Criminal'!M19:M19 =0,\"\",'County Criminal'!M19:M19))","v":""}]
[null,{"$f":"'County Criminal'!K10","v":"07/01/17- 09/30/17"},{"$f":"'County Criminal'!$H$8","v":0.4},{"$f":"IF('County Criminal'!$K$26<C16, 'County Criminal'!$K$26, \"\")","v":""},{"$f":"IF(IFERROR('County Criminal'!L23:L23,\"ERROR\")=\"ERROR\",\"\",IF('County Criminal'!L23:L23 =0,\"\",'County Criminal'!L23:L23))","v":""},{"$f":"IF(IFERROR('County Criminal'!M23:M23,\"ERROR\")=\"ERROR\",\"\",IF('County Criminal'!M23:M23 =0,\"\",'County Criminal'!M23:M23))","v":""}]
["Juvenile Delinquency",{"$f":"'Juvenile Delinquency'!H10","v":"10/01/16 - 12/31/16"},{"$f":"'Juvenile Delinquency'!$H$8","v":0.09},{"$f":"IF('Juvenile Delinquency'!$H$14<C17, 'Juvenile Delinquency'!H14, \"\")","v":""},{"$f":"IF(IFERROR('Juvenile Delinquency'!L11:L11,\"ERROR\")=\"ERROR\",\"\",IF('Juvenile Delinquency'!L11:L11 =0,\"\",'Juvenile Delinquency'!L11:L11))","v":""},{"$f":"IF(IFERROR('Juvenile Delinquency'!M11:M11,\"ERROR\")=\"ERROR\",\"\",IF('Juvenile Delinquency'!M11:M11 =0,\"\",'Juvenile Delinquency'!M11:M11))","v":""}]
[null,{"$f":"'Juvenile Delinquency'!I10","v":"01/01/17 - 03/31/17"},{"$f":"'Juvenile Delinquency'!$H$8","v":0.09},{"$f":"IF('Juvenile Delinquency'!$I$18<C18, 'Juvenile Delinquency'!$I$18, \"\")","v":6.3753690221443601E-2},{"$f":"IF(IFERROR('Juvenile Delinquency'!L15:L15,\"ERROR\")=\"ERROR\",\"\",IF('Juvenile Delinquency'!L15:L15 =0,\"\",'Juvenile Delinquency'!L15:L15))","v":"Internal"},{"$f":"IF(IFERROR('Juvenile Delinquency'!M15:M15,\"ERROR\")=\"ERROR\",\"\",IF('Juvenile Delinquency'!M15:M15 =0,\"\",'Juvenile Delinquency'!M15:M15))","v":"The standard was not met despit pursuit of all collections efforts within the control of the Clerk. "}]
[null,{"$f":"'Juvenile Delinquency'!J10","v":"04/01/17 - 06/30/17"},{"$f":"'Juvenile Delinquency'!$H$8","v":0.09},{"$f":"IF('Juvenile Delinquency'!$J$22<C19, 'Juvenile Delinquency'!$J$22, \"\")","v":""},{"$f":"IF(IFERROR('Juvenile Delinquency'!L19:L19,\"ERROR\")=\"ERROR\",\"\",IF('Juvenile Delinquency'!L19:L19 =0,\"\",'Juvenile Delinquency'!L19:L19))","v":""},{"$f":"IF(IFERROR('Juvenile Delinquency'!M19:M19,\"ERROR\")=\"ERROR\",\"\",IF('Juvenile Delinquency'!M19:M19 =0,\"\",'Juvenile Delinquency'!M19:M19))","v":""}]
[null,{"$f":"'Juvenile Delinquency'!K10","v":"07/01/17- 09/30/17"},{"$f":"'Juvenile Delinquency'!$H$8","v":0.09},{"$f":"IF('Juvenile Delinquency'!$K$26<C20, 'Juvenile Delinquency'!$K$26, \"\")","v":""},{"$f":"IF(IFERROR('Juvenile Delinquency'!L23:L23,\"ERROR\")=\"ERROR\",\"\",IF('Juvenile Delinquency'!L23:L23 =0,\"\",'Juvenile Delinquency'!L23:L23))","v":""},{"$f":"IF(IFERROR('Juvenile Delinquency'!M23:M23,\"ERROR\")=\"ERROR\",\"\",IF('Juvenile Delinquency'!M23:M23 =0,\"\",'Juvenile Delinquency'!M23:M23))","v":""}]
["Criminal Traffic",{"$f":"'Criminal Traffic'!H10","v":"10/01/16 - 12/31/16"},{"$f":"'Criminal Traffic'!$H$8","v":0.4},{"$f":"IF('Criminal Traffic'!$H$14<C21, 'Criminal Traffic'!$H$14, \"\")","v":""},{"$f":"IF(IFERROR('Criminal Traffic'!L11:L11,\"ERROR\")=\"ERROR\",\"\",IF('Criminal Traffic'!L11:L11 =0,\"\",'Criminal Traffic'!L11:L11))","v":""},{"$f":"IF(IFERROR('Criminal Traffic'!M11:M11,\"ERROR\")=\"ERROR\",\"\",IF('Criminal Traffic'!M11:M11 =0,\"\",'Criminal Traffic'!M11:M11))","v":""}]
[null,{"$f":"'Criminal Traffic'!I10","v":"01/01/17 - 03/31/17"},{"$f":"'Criminal Traffic'!$H$8","v":0.4},{"$f":"IF('Criminal Traffic'!$I$18<C22, 'Criminal Traffic'!$I$18, \"\")","v":""},{"$f":"IF(IFERROR('Criminal Traffic'!L15:L15,\"ERROR\")=\"ERROR\",\"\",IF('Criminal Traffic'!L15:L15 =0,\"\",'Criminal Traffic'!L15:L15))","v":""}]
[null,{"$f":"'Criminal Traffic'!J10","v":"04/01/17 - 06/30/17"},{"$f":"'Criminal Traffic'!$H$8","v":0.4},{"$f":"IF('Criminal Traffic'!$J$22<C23, 'Criminal Traffic'!$J$22, \"\")","v":""},{"$f":"IF(IFERROR('Criminal Traffic'!L19:L19,\"ERROR\")=\"ERROR\",\"\",IF('Criminal Traffic'!L19:L19 =0,\"\",'Criminal Traffic'!L19:L19))","v":""},{"$f":"IF(IFERROR('Criminal Traffic'!M19:M19,\"ERROR\")=\"ERROR\",\"\",IF('Criminal Traffic'!M19:M19 =0,\"\",'Criminal Traffic'!M19:M19))","v":""}]
[null,{"$f":"'Criminal Traffic'!K10","v":"07/01/17- 09/30/17"},{"$f":"'Criminal Traffic'!$H$8","v":0.4},{"$f":"IF('Criminal Traffic'!$K$26<C24, 'Criminal Traffic'!$K$26, \"\")","v":""},{"$f":"IF(IFERROR('Criminal Traffic'!L23:L23,\"ERROR\")=\"ERROR\",\"\",IF('Criminal Traffic'!L23:L23 =0,\"\",'Criminal Traffic'!L23:L23))","v":""},{"$f":"IF(IFERROR('Criminal Traffic'!M23:M23,\"ERROR\")=\"ERROR\",\"\",IF('Criminal Traffic'!M23:M23 =0,\"\",'Criminal Traffic'!M23:M23))","v":""}]
["Circuit Civil",{"$f":"'Circuit Civil'!H10","v":"10/01/16 - 12/31/16"},{"$f":"'Circuit Civil'!$H$8","v":0.9},{"$f":"IF('Circuit Civil'!$H$14<C25, 'Circuit Civil'!$H$14, \"\")","v":""},{"$f":"IF(IFERROR('Circuit Civil'!L11:L11,\"ERROR\")=\"ERROR\",\"\",IF('Circuit Civil'!L11:L11 =0,\"\",'Circuit Civil'!L11:L11))","v":""},{"$f":"IF(IFERROR('Circuit Civil'!M11:M11,\"ERROR\")=\"ERROR\",\"\",IF('Circuit Civil'!M11:M11 =0,\"\",'Circuit Civil'!M11:M11))","v":""}]
[null,{"$f":"'Circuit Civil'!I10","v":"01/01/17 - 03/31/17"},{"$f":"'Circuit Civil'!$H$8","v":0.9},{"$f":"IF('Circuit Civil'!$I$18<C26, 'Circuit Civil'!$I$18, \"\")","v":""},{"$f":"IF(IFERROR('Circuit Civil'!L15:L15,\"ERROR\")=\"ERROR\",\"\",IF('Circuit Civil'!L15:L15 =0,\"\",'Circuit Civil'!L15:L15))","v":"Internal"},{"$f":"IF(IFERROR('Circuit Civil'!M15:M15,\"ERROR\")=\"ERROR\",\"\",IF('Circuit Civil'!M15:M15 =0,\"\",'Circuit Civil'!M15:M15))","v":"Balance Adjustments"}]
[null,{"$f":"'Circuit Civil'!J10","v":"04/01/17 - 06/30/17"},{"$f":"'Circuit Civil'!$H$8","v":0.9},{"$f":"IF('Circuit Civil'!$J$22<C27, 'Circuit Civil'!$J$22, \"\")","v":""},{"$f":"IF(IFERROR('Circuit Civil'!L19:L19,\"ERROR\")=\"ERROR\",\"\",IF('Circuit Civil'!L19:L19 =0,\"\",'Circuit Civil'!L19:L19))","v":"Internal"},{"$f":"IF(IFERROR('Circuit Civil'!M19:M19,\"ERROR\")=\"ERROR\",\"\",IF('Circuit Civil'!M19:M19 =0,\"\",'Circuit Civil'!M19:M19))","v":"Balance Adjustments"}]
[null,{"$f":"'Circuit Civil'!K10","v":"07/01/17- 09/30/17"},{"$f":"'Circuit Civil'!$H$8","v":0.9},{"$f":"IF('Circuit Civil'!$K$26<C28, 'Circuit Civil'!$K$26, \"\")","v":""},{"$f":"IF(IFERROR('Circuit Civil'!L23:L23,\"ERROR\")=\"ERROR\",\"\",IF('Circuit Civil'!L23:L23 =0,\"\",'Circuit Civil'!L23:L23))","v":"Internal"},{"$f":"IF(IFERROR('Circuit Civil'!M23:M23,\"ERROR\")=\"ERROR\",\"\",IF('Circuit Civil'!M23:M23 =0,\"\",'Circuit Civil'!M23:M23))","v":"Balance Adjustments"}]
["County Civil",{"$f":"'County Civil'!H10","v":"10/01/16 - 12/31/16"},{"$f":"'County Civil'!$H$8","v":0.9},{"$f":"IF('County Civil'!$H$14<C29, 'County Civil'!$H$14, \"\")","v":""},{"$f":"IF(IFERROR('County Civil'!L11:L11,\"ERROR\")=\"ERROR\",\"\",IF('County Civil'!L11:L11 =0,\"\",'County Civil'!L11:L11))","v":""},{"$f":"IF(IFERROR('County Civil'!M11:M11,\"ERROR\")=\"ERROR\",\"\",IF('County Civil'!M11:M11 =0,\"\",'County Civil'!M11:M11))","v":""}]
[null,{"$f":"'County Civil'!I10","v":"01/01/17 - 03/31/17"},{"$f":"'County Civil'!$H$8","v":0.9},{"$f":"IF('County Civil'!$I$18<C30, 'County Civil'!$I$18, \"\")","v":""},{"$f":"IF(IFERROR('County Civil'!L15:L15,\"ERROR\")=\"ERROR\",\"\",IF('County Civil'!L15:L15 =0,\"\",'County Civil'!L15:L15))","v":""},{"$f":"IF(IFERROR('County Civil'!M15:M15,\"ERROR\")=\"ERROR\",\"\",IF('County Civil'!M15:M15 =0,\"\",'County Civil'!M15:M15))","v":""}]
[null,{"$f":"'County Civil'!J10","v":"04/01/17 - 06/30/17"},{"$f":"'County Civil'!$H$8","v":0.9},{"$f":"IF('County Civil'!$J$22<C31, 'County Civil'!$J$22, \"\")","v":{"$error":"#VALUE!"}},{"$f":"IF(IFERROR('County Civil'!L19:L19,\"ERROR\")=\"ERROR\",\"\",IF('County Civil'!L19:L19 =0,\"\",'County Civil'!L19:L19))","v":""},{"$f":"IF(IFERROR('County Civil'!M19:M19,\"ERROR\")=\"ERROR\",\"\",IF('County Civil'!M19:M19 =0,\"\",'County Civil'!M19:M19))","v":""}]
[null,{"$f":"'County Civil'!K10","v":"07/01/17- 09/30/17"},{"$f":"'County Civil'!$H$8","v":0.9},{"$f":"IF('County Civil'!$K$26<C32, 'County Civil'!$K$26, \"\")","v":""},{"$f":"IF(IFERROR('County Civil'!L23:L23,\"ERROR\")=\"ERROR\",\"\",IF('County Civil'!L23:L23 =0,\"\",'County Civil'!L23:L23))","v":""},{"$f":"IF(IFERROR('County Civil'!M23:M23,\"ERROR\")=\"ERROR\",\"\",IF('County Civil'!M23:M23 =0,\"\",'County Civil'!M23:M23))","v":""}]
["Civil Traffic",{"$f":"'Civil Traffic'!H10","v":"10/01/16 - 12/31/16"},{"$f":"'Civil Traffic'!$H$8","v":0.9},{"$f":"IF('Civil Traffic'!$H$14<C33, 'Civil Traffic'!$H$14, \"\")","v":""},{"$f":"IF(IFERROR('Civil Traffic'!L11:L11,\"ERROR\")=\"ERROR\",\"\",IF('Civil Traffic'!L11:L11 =0,\"\",'Civil Traffic'!L11:L11))","v":""},{"$f":"IF(IFERROR('Civil Traffic'!M11:M11,\"ERROR\")=\"ERROR\",\"\",IF('Civil Traffic'!M11:M11 =0,\"\",'Civil Traffic'!M11:M11))","v":""}]
[null,{"$f":"'Civil Traffic'!I10","v":"01/01/17 - 03/31/17"},{"$f":"'Civil Traffic'!$H$8","v":0.9},{"$f":"IF('Civil Traffic'!$I$18<C34, 'Civil Traffic'!$I$18, \"\")","v":""},{"$f":"IF(IFERROR('Civil Traffic'!L15:L15,\"ERROR\")=\"ERROR\",\"\",IF('Civil Traffic'!L15:L15 =0,\"\",'Civil Traffic'!L15:L15))","v":""},{"$f":"IF(IFERROR('Civil Traffic'!M15:M15,\"ERROR\")=\"ERROR\",\"\",IF('Civil Traffic'!M15:M15 =0,\"\",'Civil Traffic'!M15:M15))","v":""}]
[null,{"$f":"'Civil Traffic'!J10","v":"04/01/17 - 06/30/17"},{"$f":"'Civil Traffic'!$H$8","v":0.9},{"$f":"IF('Civil Traffic'!$J$22<C35, 'Civil Traffic'!$J$22, \"\")","v":""},{"$f":"IF(IFERROR('Civil Traffic'!L19:L19,\"ERROR\")=\"ERROR\",\"\",IF('Civil Traffic'!L19:L19 =0,\"\",'Civil Traffic'!L19:L19))","v":""},{"$f":"IF(IFERROR('Civil Traffic'!M19:M19,\"ERROR\")=\"ERROR\",\"\",IF('Civil Traffic'!M19:M19 =0,\"\",'Civil Traffic'!M19:M19))","v":""}]
[null,{"$f":"'Civil Traffic'!K10","v":"07/01/17- 09/30/17"},{"$f":"'Civil Traffic'!$H$8","v":0.9},{"$f":"IF('Civil Traffic'!$K$26<C36, 'Civil Traffic'!$K$26, \"\")","v":""},{"$f":"IF(IFERROR('Civil Traffic'!L23:L23,\"ERROR\")=\"ERROR\",\"\",IF('Civil Traffic'!L23:L23 =0,\"\",'Civil Traffic'!L23:L23))","v":""},{"$f":"IF(IFERROR('Civil Traffic'!M23:M23,\"ERROR\")=\"ERROR\",\"\",IF('Civil Traffic'!M23:M23 =0,\"\",'Civil Traffic'!M23:M23))","v":""}]
["Probate",{"$f":"Probate!H10","v":"10/01/16 - 12/31/16"},{"$f":"Probate!$H$8","v":0.9},{"$f":"IF(Probate!$H$14<C37, Probate!$H$14, \"\")","v":""},{"$f":"IF(IFERROR(Probate!L11:L11,\"ERROR\")=\"ERROR\",\"\",IF(Probate!L11:L11 =0,\"\",Probate!L11:L11))","v":""},{"$f":"IF(IFERROR(Probate!M11:M11,\"ERROR\")=\"ERROR\",\"\",IF(Probate!M11:M11 =0,\"\",Probate!M11:M11))","v":""}]
[null,{"$f":"Probate!I10","v":"01/01/17 - 03/31/17"},{"$f":"Probate!$H$8","v":0.9},{"$f":"IF(Probate!$I$18<C38, Probate!$I$18, \"\")","v":""},{"$f":"IF(IFERROR(Probate!L15:L15,\"ERROR\")=\"ERROR\",\"\",IF(Probate!L15:L15 =0,\"\",Probate!L15:L15))","v":"Internal"},{"$f":"IF(IFERROR(Probate!M15:M15,\"ERROR\")=\"ERROR\",\"\",IF(Probate!M15:M15 =0,\"\",Probate!M15:M15))","v":"Balance Adjustment"}]
[null,{"$f":"Probate!J10","v":"04/01/17 - 06/30/17"},{"$f":"Probate!$H$8","v":0.9},{"$f":"IF(Probate!$J$22<C39, Probate!$J$22, \"\")","v":""},{"$f":"IF(IFERROR(Probate!L19:L19,\"ERROR\")=\"ERROR\",\"\",IF(Probate!L19:L19 =0,\"\",Probate!L19:L19))","v":""},{"$f":"IF(IFERROR(Probate!M19:M19,\"ERROR\")=\"ERROR\",\"\",IF(Probate!M19:M19 =0,\"\",Probate!M19:M19))","v":""}]
[null,{"$f":"Probate!K10","v":"07/01/17- 09/30/17"},{"$f":"Probate!$H$8","v":0.9},{"$f":"IF(Probate!$K$26<C40, Probate!$K$26, \"\")","v":""},{"$f":"IF(IFERROR(Probate!L23:L23,\"ERROR\")=\"ERROR\",\"\",IF(Probate!L23:L23 =0,\"\",Probate!L23:L23))","v":""},{"$f":"IF(IFERROR(Probate!M23:M23,\"ERROR\")=\"ERROR\",\"\",IF(Probate!M23:M23 =0,\"\",Probate!M23:M23))","v":""}]
["Family",{"$f":"Family!H10","v":"10/01/16 - 12/31/16"},{"$f":"Family!$H$8","v":0.75},{"$f":"IF(Family!$H$14<C41, Family!$H$14, \"\")","v":""},{"$f":"IF(IFERROR(Family!L11:L11,\"ERROR\")=\"ERROR\",\"\",IF(Family!L11:L11 =0,\"\",Family!L11:L11))","v":""},{"$f":"IF(IFERROR(Family!M11:M11,\"ERROR\")=\"ERROR\",\"\",IF(Family!M11:M11 =0,\"\",Family!M11:M11))","v":""}]
[null,{"$f":"Probate!I10","v":"01/01/17 - 03/31/17"},{"$f":"Family!$H$8","v":0.75},{"$f":"IF(Family!$I$18<C42, Family!$I$18, \"\")","v":""},{"$f":"IF(IFERROR(Family!L15:L15,\"ERROR\")=\"ERROR\",\"\",IF(Family!L15:L15 =0,\"\",Family!L15:L15))","v":""},{"$f":"IF(IFERROR(Family!M15:M15,\"ERROR\")=\"ERROR\",\"\",IF(Family!M15:M15 =0,\"\",Family!M15:M15))","v":""}]
[null,{"$f":"Family!J10","v":"04/01/17 - 06/30/17"},{"$f":"Family!$H$8","v":0.75},{"$f":"IF(Family!$J$22<C43, Family!$J$22, \"\")","v":""},{"$f":"IF(IFERROR(Family!L19:L19,\"ERROR\")=\"ERROR\",\"\",IF(Family!L19:L19 =0,\"\",Family!L19:L19))","v":""},{"$f":"IF(IFERROR(Family!M19:M19,\"ERROR\")=\"ERROR\",\"\",IF(Family!M19:M19 =0,\"\",Family!M19:M19))","v":""}]
[null,{"$f":"Family!K10","v":"07/01/17- 09/30/17"},{"$f":"Family!$H$8","v":0.75},{"$f":"IF(Family!$K$26<C44, Family!$K$26, \"\")","v":""},{"$f":"IF(IFERROR(Family!L23:L23,\"ERROR\")=\"ERROR\",\"\",IF(Family!L23:L23 =0,\"\",Family!L23:L23))","v":""},{"$f":"IF(IFERROR(Family!M23:M23,\"ERROR\")=\"ERROR\",\"\",IF(Family!M23:M23 =0,\"\",Family!M23:M23))","v":""}]

{"sheet":"CQ1-17 Family","index":14,"n_rows":67,"n_cols":12,"rows_kept":67,"cut":false,"hidden":true,"merged":[]}
["CountyName","CourtType","ControlGrpInfo","Assessment1stQ","Assessment2ndQ","Assessment3rdQ","Assessment4thQ","5 Quarter Assessment","Collection1stQ","Collection2ndQ","Collection3rdQ","Collection4thQ"]
["Alachua","Family","CGE CQ1-17",129656.99,126484.69,125884.69,125824.69,null,110253.99,115567.69,117402.69,117785.69]
["Baker","Family","CGE CQ1-17",19014,19014,19014,19014,null,17953,18846,18846,18846]
["Bay","Family","CGE CQ1-17",114328.5,114328.5,113533.5,113533.5,null,111135.5,111135.5,111135.5,111135.5]
["Bradford","Family","CGE CQ1-17",14371.5,14421.5,14421.5,14421.5,null,11995.5,12045.5,12045.5,12045.5]
["Brevard","Family","CGE CQ1-17",321813.55,321813.55,321813.55,321813.55,null,274043.21000000002,285383.98,289122.57,289227.81]
["Broward","Family","CGE CQ1-17",1022866.35,1022424.35,1022424.35,1039770.35,null,1007676.34,1010127.43,1011282.43,1029677.43]
["Calhoun","Family","CGE CQ1-17",4106,4106,4106,4106,null,3806,3806,3806,3806]
["Charlotte","Family","CGE CQ1-17",66153,66153,66153,66153,null,66153,66153,66153,66153]
["Citrus","Family","CGE CQ1-17",71131.850000000006,69966.850000000006,69966.850000000006,69966.850000000006,null,54434.77,60390.27,61600.27,61600.27]
["Clay","Family","CGE CQ1-17",130383,128097,128097,127930,null,127870,127875,127875,127875]
["Collier","Family","CGE CQ1-17",184729.21,183634.21,182462.45,181907.45,null,162131.67000000001,162823.17000000001,162873.91,162973.91]
["Columbia","Family","CGE CQ1-17",38268,38268,38268,38268,null,37832,37860,37860,37860]
["Dade","Family","CGE CQ1-17",1315343,1315343,1315343,1315343,null,1315343,1315343,1315343,1315343]
["Desoto","Family","CGE CQ1-17",19475.5,19475.5,19475.5,19475.5,null,18731,19056,19118.5,19118.5]
["Duval","Family","CGE CQ1-17",491756,491756,493964,484531,null,474899.5,476954.5,479149.5,479959.5]
["Escambia","Family","CGE CQ1-17",164281.85999999999,155240.51,153215.51,151780.51,null,143656.60999999999,143828.94,143917.66,143931.66]
["Flagler","Family","CGE CQ1-17",45122,45122,45125.5,45125.5,null,44315.99,44874.5,44878,44878]
["Franklin","Family","CGE CQ1-17",5981.5,5981.5,5981.5,5981.5,null,5981.5,5981.5,5981.5,5981.5]
["Gadsden","Family","CGE CQ1-17",15279.05,15279.05,15279.05,14807.05,null,13568.55,13632.55,13632.55,13160.55]
["Gilchrist","Family","CGE CQ1-17",10262,10262,10262,10262,null,10250,10250,10250,10250]
["Glades","Family","CGE CQ1-17",2494,2494,2494,2494,null,1709,1709,1709,1709]
["Gulf","Family","CGE CQ1-17",8495.7999999999993,8495.7999999999993,8495.7999999999993,8495.7999999999993,null,7885.8,7885.8,7885.8,7885.8]
["Hamilton","Family","CGE CQ1-17",6184,6184,6184,6184,null,5776,5776,5776,5776]
["Hardee","Family","CGE CQ1-17",7031.65,6721.65,6721.65,6721.65,null,6326.65,6326.65,6326.65,6326.65]
["Hendry","Family","CGE CQ1-17",19548.25,19140.25,19140.25,19140.25,null,17916.25,17916.25,17916.25,17916.25]
["Hernando","Family","CGE CQ1-17",79986.399999999994,80286.399999999994,79878.399999999994,80178.399999999994,null,74757.399999999994,75817.399999999994,75817.399999999994,75817.399999999994]
["Highlands","Family","CGE CQ1-17",39368,39308,39308,39308,null,37588,38008,38008,38008]
["Hillsborough","Family","CGE CQ1-17",677850,673144,669907,668722,null,632342,636142,636790,637236]
["Holmes","Family","CGE CQ1-17",11751.5,11751.5,11751.5,11751.5,null,10385.5,10710.5,10893.5,10918.5]
["Indian River","Family","CGE CQ1-17",64129.62,63718.12,63718.12,63718.12,null,61091.62,62304.62,62304.62,62309.62]
["Jackson","Family","CGE CQ1-17",8089,8089,8089,8089,null,7789,7789,7789,7789]
["Jefferson","Family","CGE CQ1-17",3780.5,3780,3770.5,3770.5,null,2985.5,2985.5,2985.5,2985.5]
["Lafayette","Family","CGE CQ1-17",3528,3528,3528,3528,null,3528,3528,3528,3528]
["Lake","Family","CGE CQ1-17",169652.9,167230.39999999999,166065.4,164425.4,null,145424.49,152153.37,152353.69,152364.19]
["Lee","Family","CGE CQ1-17",416183,408794,407773,389132,null,388469,391032,392032,382729]
["Leon","Family","CGE CQ1-17",111745.18,109217.68,109242.68,109242.68,null,98898.03,100452,100702.82,100702.82]
["Levy","Family","CGE CQ1-17",28525.5,28525.5,28525.5,28525.5,null,20164.45,21994.69,22662.13,22900.13]
["Liberty","Family","CGE CQ1-17",2294.5,2294.5,2294.5,1886.5,null,1886.5,1886.5,1886.5,1886.5]
["Madison","Family","CGE CQ1-17",8632,8632,8632,8632,null,8632,8632,8632,8632]
["Manatee","Family","CGE CQ1-17",147026.84,147159.34,146451.84,143624.34,null,126069.34,128226.84,128924.34,130399.34]
["Marion","Family","CGE CQ1-17",177065.95,175312.95,175552.95,175552.95,null,158595.20000000001,163242.70000000001,163980.70000000001,164388.70000000001]
["Martin","Family","CGE CQ1-17",93242.25,92878.75,92878.75,92986.75,null,87337.7,91461.25,91461.25,91569.25]
["Monroe","Family","CGE CQ1-17",73748,72435,72435,null,null,65357,67223,67223]
["Nassau","Family","CGE CQ1-17",49632.08,49632.08,49582.080000000002,49582.080000000002,null,47525.08,47643.08,48047.08,48047.08]
["Okaloosa","Family","CGE CQ1-17",158119.9,159406.9,159346.9,159346.9,null,133643.9,135772,136522,137283]
["Okeechobee","Family","CGE CQ1-17",15163.5,15163.5,15163.5,15163.5,null,14745.5,15163.5,15163.5,15163.5]
["Orange","Family","CGE CQ1-17",588160,582627,581930,581930,null,536865,545432,546860,547268]
["Osceola","Family","CGE CQ1-17",159845.59,159845.59,159845.59,159438.09,null,152741.25,153707.25,153717.75,154053.75]
["Palm Beach","Family","CGE CQ1-17",752404.14,749071.14,747370.79,747370.79,null,723414.78,730337.27,731100.3,731395.3]
["Pasco","Family","CGE CQ1-17",242747.57,240022.66,240022.66,240022.66,null,213012.18,218046.93,219090.05,219694.05]
["Pinellas","Family","CGE CQ1-17",505950,504893,503356,503356,null,497549,498863,498978,499313]
["Polk","Family","CGE CQ1-17",223402.14,223402.14,223402.14,223402.14,null,218623.14,219183.87,219656.87,220199.67]
["PUTNAM","Family","CGE CQ1-17",45642.9,45617.9,45617.9,45610.400000000001,null,35098.21,35764.89,36791.230000000003,36905.620000000003]
["Santa Rosa","Family","CGE CQ1-17",102412.15,102268.15,102148.15,102148.15,null,98687.65,99417.65,99794.65,99794.65]
["Sarasota","Family","CGE CQ1-17",211268.65,209388.65,209438.65,209438.65,null,200627.15,203773.15,203904.65,204210.15]
["Seminole","Family","CGE CQ1-17",197839,197839,197839,197839,null,197839,197839,197839,197839]
["St. Johns","Family","CGE CQ1-17",131635.25,131585.25,131635.25,131585.25,null,125055.25,126991.75,127029.25,127029.25]
["St. Lucie","Family","CGE CQ1-17",128811.72,128144.22,124881.1,124881.1,null,122386.95,123501.61,123382.26,123382.26]
["Sumter","Family","CGE CQ1-17",29250.45,29250.45,29250.45,29250.45,null,26052.45,27627.45,27777.45,27777.45]
["Suwannee","Family","CGE CQ1-17",9632,9632,9632,9632,null,9632,9632,9632,9632]
["Taylor","Family","CGE CQ1-17",8621,8621,8621,8621,null,7121,7121,7121,7121]
["Union","Family","CGE CQ1-17",10649,10349,10349,9641,null,9616,9616,9641,9641]
["Volusia","Family","CGE CQ1-17",232656.6,223229.6,222929.6,222829.6,null,199046.1,214778.75,215630.93,216195.43]
["Wakulla","Family","CGE CQ1-17",10973,10973,10565,10565,null,8525,8525,8525,8525]
["WALTON","Family","CGE CQ1-17",33262,33262,33262,33262,null,33262,33262,33262,33262]
["Washington","Family","CGE CQ1-17",13498,14138,14138,14138,null,10807,11952,12072,12072]

{"sheet":"CQ1-17 Probate","index":15,"n_rows":67,"n_cols":12,"rows_kept":67,"cut":false,"hidden":true,"merged":[]}
["CountyName","CourtType","ControlGrpInfo","Assessment1stQ","Assessment2ndQ","Assessment3rdQ","Assessment4thQ","5 Quarter Assessment","Collection1stQ","Collection2ndQ","Collection3rdQ","Collection4thQ"]
["Alachua","Probate","CGE CQ1-17",53487.97,53152.97,53152.97,53152.5,null,52999.47,52999.47,53149.47,53149.47]
["Baker","Probate","CGE CQ1-17",6309.5,6309.5,6309.5,6309.5,null,6309.5,6309.5,6309.5,6309.5]
["Bay","Probate","CGE CQ1-17",63988.5,63643.5,63643.5,63643.5,null,63526.5,63412.5,63412.5,63412.5]
["Bradford","Probate","CGE CQ1-17",5103,5103,5103,5103,null,5103,5103,5103,5103]
["Brevard","Probate","CGE CQ1-17",198583.85,198583.85,198583.85,198583.85,null,196189.85,197488.85,197659.85,197659.85]
["Broward","Probate","CGE CQ1-17",536460.03,535140.5,533640.5,531743.5,null,534987.03,533452.5,531972.5,530166.5]
["Calhoun","Probate","CGE CQ1-17",3644,3644,3644,3644,null,3644,3644,3644,3644]
["Charlotte","Probate","CGE CQ1-17",95690.93,95690.93,95690.93,95690.93,null,95059.93,95228.93,95690.93,95690.93]
["Citrus","Probate","CGE CQ1-17",70716.41,70726.81,70725.81,70555.81,null,69401.740000000005,70102.81,70102.81,70102.81]
["Clay","Probate","CGE CQ1-17",43740,43740,43740,43740,null,43740,43740,43740,43740]
["Collier","Probate","CGE CQ1-17",152203.5,152244.5,152589.5,152589.5,null,149751.5,150003.5,150023.5,150023.5]
["Columbia","Probate","CGE CQ1-17",19308,19308,19308,19308,null,19308,19308,19308,19308]
["Dade","Probate","CGE CQ1-17",441912,441912,441912,441912,null,441912,441912,441912,441912]
["Desoto","Probate","CGE CQ1-17",6660,6660,6660,6660,null,6660,6660,6660,6660]
["Duval","Probate","CGE CQ1-17",229080.1,229080.1,238645.1,236402.1,null,220180.1,222540.1,232278.1,233161.1]
["Escambia","Probate","CGE CQ1-17",87305.600000000006,87305.600000000006,87305.600000000006,87305.600000000006,null,86774.85,86959.85,86959.85,86959.85]
["Flagler","Probate","CGE CQ1-17",39245.300000000003,38900.300000000003,38900.300000000003,38900.300000000003,null,39245.300000000003,38900.300000000003,38900.300000000003,38900.300000000003]
["Franklin","Probate","CGE CQ1-17",8715,8715,8715,8715,null,8715,8715,8715,8715]
["Gadsden","Probate","CGE CQ1-17",22716.84,22485.84,22485.84,22145.84,null,21739.84,22079.84,22079.84,21739.84]
["Gilchrist","Probate","CGE CQ1-17",4861,4861,4861,4861,null,4861,4861,4861,4861]
["Glades","Probate","CGE CQ1-17",2980,2980,2980,2980,null,2635,2980,2980,2980]
["Gulf","Probate","CGE CQ1-17",8425,8425,8425,8425,null,8425,8425,8425,8425]
["Hamilton","Probate","CGE CQ1-17",2928,2928,2928,2928,null,2928,2928,2928,2928]
["Hardee","Probate","CGE CQ1-17",8405,8405,8405,8405,null,8005,8005,8005,8005]
["Hendry","Probate","CGE CQ1-17",6929,6929,6929,6929,null,6929,6929,6929,6929]
["Hernando","Probate","CGE CQ1-17",80844.289999999994,80844.289999999994,80844.289999999994,80844.289999999994,null,80171.31,80821.31,80821.31,80821.31]
["Highlands","Probate","CGE CQ1-17",36156.5,36156.5,36156.5,36156.5,null,35925.5,35925.5,35925.5,35925.5]
["Hillsborough","Probate","CGE CQ1-17",294753,292409,292409,292409,null,281724,285328,285603,285878]
["Holmes","Probate","CGE CQ1-17",10710.7,10710.7,10710.7,10710.7,null,10710.7,10710.7,10710.7,10710.7]
["Indian River","Probate","CGE CQ1-17",78754,77554,77554,77319,null,76011.5,77319,77319,77319]
["Jackson","Probate","CGE CQ1-17",16638.490000000002,16638.490000000002,16638.490000000002,16638.490000000002,null,16638.490000000002,16638.490000000002,16638.490000000002,16638.490000000002]
["Jefferson","Probate","CGE CQ1-17",4699,4699,4699,4599,null,4699,4699,4699,4699]
["Lafayette","Probate","CGE CQ1-17",1545,1545,1545,1545,null,1545,1545,1545,1545]
["Lake","Probate","CGE CQ1-17",94395.9,94140.9,94140.9,94140.9,null,93334.9,93334.9,93734.9,93734.9]
["Lee","Probate","CGE CQ1-17",261695,260759,260759,260759,null,257845,259149,259599,259649]
["Leon","Probate","CGE CQ1-17",70814.7,69552.7,68752.7,68752.7,null,67729.7,67729.7,67731.7,67731.7]
["Levy","Probate","CGE CQ1-17",13000.5,13000.5,13000.5,13000.5,null,11444.5,13000.5,13000.5,13000.5]
["Liberty","Probate","CGE CQ1-17",2056,2056,2056,2056,null,2056,2056,2056,2056]
["Madison","Probate","CGE CQ1-17",7061,7061,7061,7061,null,7061,7061,7061,7061]
["Manatee","Probate","CGE CQ1-17",128396.38,128247.38,128288.38,128688.38,null,122265.38,122747.38,123588.38,123988.38]
["Marion","Probate","CGE CQ1-17",130262.59,129631.59,129631.59,129631.59,null,128997.59,129201.59,129201.59,129201.59]
["Martin","Probate","CGE CQ1-17",67630,67630,67545,67545,null,67545,67545,67545,67545]
["Monroe","Probate","CGE CQ1-17",44431,44431,44431,null,null,42997,43057,43057]
["Nassau","Probate","CGE CQ1-17",24803,24803,24803,24803,null,24437,24668,24753,24753]
["Okaloosa","Probate","CGE CQ1-17",51572,52339.5,52339.5,52339.5,null,50827,51594.5,51594.5,51594.5]
["Okeechobee","Probate","CGE CQ1-17",10482,10482,10482,10713,null,10082,10482,10482,10713]
["Orange","Probate","CGE CQ1-17",253321,251210,251210,251210,null,246783,247774,247774,247794]
["Osceola","Probate","CGE CQ1-17",69017.5,68327.5,67747.5,67512.5,null,67971.5,67288.5,66708.5,66711.5]
["Palm Beach","Probate","CGE CQ1-17",572158.55000000005,569250.55000000005,567399.55000000005,566589.55000000005,null,560551.05000000005,561778.41,560488.41,560529.41]
["Pasco","Probate","CGE CQ1-17",141197.60999999999,141457.60999999999,140767.60999999999,140422.60999999999,null,138422.17000000001,138515.87,139170.87,139170.87]
["Pinellas","Probate","CGE CQ1-17",392426,391216,391216,391216,null,386116,390617,390802,390802]
["Polk","Probate","CGE CQ1-17",174172.72,173541.72,173541.72,173541.72,null,173306.72,173306.72,173306.72,173306.72]
["PUTNAM","Probate","CGE CQ1-17",25985,25985,25985,25942,null,25588,25597,25597,25597]
["Santa Rosa","Probate","CGE CQ1-17",37033,37033,37033,37040,null,36884,36928,36978,36985]
["Sarasota","Probate","CGE CQ1-17",212674.53,210443.53,210443.53,209812.53,null,194119.53,195104.53,195104.53,195104.53]
["Seminole","Probate","CGE CQ1-17",94740,94740,94740,94740,null,94740,94740,94740,94740]
["St. Johns","Probate","CGE CQ1-17",70575.5,70575.5,70575.5,70575.5,null,69631.5,70113.5,70113.5,70113.5]
["St. Lucie","Probate","CGE CQ1-17",94146.14,94146.14,94148.14,93270.64,null,92292.64,93268.64,93270.64,93270.64]
["Sumter","Probate","CGE CQ1-17",41892,41889,41889,41889,null,41611,41711,41881,41881]
["Suwannee","Probate","CGE CQ1-17",13397,13166,13166,13166,null,12817,12817,12817,12817]
["Taylor","Probate","CGE CQ1-17",8909.1,8909.1,8909.1,8909.1,null,8109.1,8909.1,8909.1,8909.1]
["Union","Probate","CGE CQ1-17",2111,2111,2111,2111,null,1766,1766,1766,1766]
["Volusia","Probate","CGE CQ1-17",204478.36,203478.36,203133.36,202768.36,null,193370.4,202522.4,202177.4,202232.4]
["Wakulla","Probate","CGE CQ1-17",6282,6282,6282,6282,null,5779,5779,5779,5779]
["WALTON","Probate","CGE CQ1-17",24684,24684,24684,24684,null,24684,24684,24684,24684]
["Washington","Probate","CGE CQ1-17",6965,6965,6965,6965,null,6937,6950,6950,6950]

{"sheet":"CQ1-17 Civil Traffic","index":16,"n_rows":67,"n_cols":12,"rows_kept":67,"cut":false,"hidden":true,"merged":[]}
["CountyName","CourtType","ControlGrpInfo","Assessment1stQ","Assessment2ndQ","Assessment3rdQ","Assessment4thQ","5 Quarter Assessment","Collection1stQ","Collection2ndQ","Collection3rdQ","Collection4thQ"]
["Alachua","Civil Traffic","CGE CQ1-17",1437940.26,1363280.84,1361501.99,1360512.88,null,764385.33,1270079.44,1313733.8500000001,1330618.56]
["Baker","Civil Traffic","CGE CQ1-17",136484,126480,124261,124044,null,35313,92694,101537,104530]
["Bay","Civil Traffic","CGE CQ1-17",888893.43,845782.21,842492.21,842377.21,null,439232.27,716130.56,750068.96,758869.96]
["Bradford","Civil Traffic","CGE CQ1-17",396998.1,390012.6,387302.2,386683.2,null,120504.1,305675.59999999998,339273.2,350234.2]
["Brevard","Civil Traffic","CGE CQ1-17",1367103.7,1306025.75,1302154,1301506,null,753746.82,1096736.53,1161086.08,1182441.47]
["Broward","Civil Traffic","CGE CQ1-17",10837339.359999999,8950028.4499999993,8667222.1999999993,8606049,null,2961663.26,5221318.51,7025032.1900000004,7433110.1399999997]
["Calhoun","Civil Traffic","CGE CQ1-17",36739,35242,31818,31393,null,18665,27806,28939,29227]
["Charlotte","Civil Traffic","CGE CQ1-17",639416.99,593552.11,588185.73,587562.64,null,339181.88,497050.11,516523.31,523230.65]
["Citrus","Civil Traffic","CGE CQ1-17",219733.3,214190.5,212538.5,212231.5,null,128363.5,188098,191950,193426]
["Clay","Civil Traffic","CGE CQ1-17",965070,859410,807493,797816,null,273434,627597,693980,707619]
["Collier","Civil Traffic","CGE CQ1-17",1894440.24,1973700.44,1988773.28,1998597.06,null,925236.81,1730980.95,1820432.51,1858684.37]
["Columbia","Civil Traffic","CGE CQ1-17",392745.25,379976.15,378711.15,377017.15,null,172702.25,304652.15000000002,328510.15000000002,337964.05]
["Dade","Civil Traffic","CGE CQ1-17",17045175.510000002,17045175.510000002,17045175.510000002,17045175.510000002,null,5936726.0599999996,10303705.119999999,11276901.02,11777538.109999999]
["Desoto","Civil Traffic","CGE CQ1-17",145561.75,142839,142688,142688,null,69982.5,122354,130364,132742]
["Duval","Civil Traffic","CGE CQ1-17",4856064.9400000004,4856064.91,4866885.66,4867656.66,null,1928139.49,3522891.41,3897391.42,4034315.51]
["Escambia","Civil Traffic","CGE CQ1-17",1293293.71,1270722.6200000001,1270824.3700000001,1271587.3700000001,null,643778.09,1044376.55,1081561.83,1100765.19]
["Flagler","Civil Traffic","CGE CQ1-17",256682.55,221073.1,219828.1,216609.5,null,117287.35,194790.35,200717.6,201458.95]
["Franklin","Civil Traffic","CGE CQ1-17",47864.4,45409.9,44551.4,44127.4,null,21820.46,36996.9,38675.4,39183.4]
["Gadsden","Civil Traffic","CGE CQ1-17",362654.5,345681.5,343911.5,335740.5,null,146801.5,261216.5,269614.5,369361.5]
["Gilchrist","Civil Traffic","CGE CQ1-17",40053,38100,38100,38100,null,19039,31069,33210,33485]
["Glades","Civil Traffic","CGE CQ1-17",194523.4,187088.55,186253.55,186142.55,null,66061.3,148917.04999999999,168628.55,173934.13]
["Gulf","Civil Traffic","CGE CQ1-17",19415,19347,19347,19347,null,11212,16869,17226,17635]
["Hamilton","Civil Traffic","CGE CQ1-17",117287,114269.5,114269.5,114800,null,61467.75,90128.5,94949.1,96756.1]
["Hardee","Civil Traffic","CGE CQ1-17",199314.15,196915.8,196915.8,194997.8,null,108161.7,171524.35,178931.35,182221.35]
["Hendry","Civil Traffic","CGE CQ1-17",204300.5,201358.15,197696.15,196881.15,null,77163.59,143078.82,165533.59,171696.95]
["Hernando","Civil Traffic","CGE CQ1-17",912092.74,1036749.24,966260.14,886965.14,null,425975.5,977428.26,741017.64,769457.14]
["Highlands","Civil Traffic","CGE CQ1-17",280373.05,277542.05,277353.05,277330.05,null,144074.04999999999,231391.05,248738.05,253246.75]
["Hillsborough","Civil Traffic","CGE CQ1-17",7727109,6429005,5736439,5575662,null,2639230,4054699,4455893,4581707]
["Holmes","Civil Traffic","CGE CQ1-17",103351.9,102128.4,102114.4,102114.4,null,49850.75,81835.41,85490.74,87856.74]
["Indian River","Civil Traffic","CGE CQ1-17",636346.38,620272.88,618632.88,618459.88,null,322450.40999999997,535749.57999999996,561936.21,570290.21]
["Jackson","Civil Traffic","CGE CQ1-17",414488.25,410642.15,410316.15,410669.15,null,227068.25,358157.65,372720.65,381051.65]
["Jefferson","Civil Traffic","CGE CQ1-17",166198,161386.82999999999,161386.82999999999,161201,null,72955,142058,142327,150543]
["Lafayette","Civil Traffic","CGE CQ1-17",12009.25,11352.25,11352.25,11352.25,null,6388.25,10171.25,10171.25,10171.25]
["Lake","Civil Traffic","CGE CQ1-17",1307459.6200000001,1300575.6200000001,1298478.98,1297256.72,null,591504.80000000005,1055360.57,1123600.69,1150683.8700000001]
["Lee","Civil Traffic","CGE CQ1-17",4990790,3959835,3742676,3691859,null,1969274,2834721,3015369,3095457]
["Leon","Civil Traffic","CGE CQ1-17",1300176.6000000001,1250974.3500000001,1222180.3500000001,1217711.3500000001,null,612503.9,974078.35,1060642.8500000001,1085196.8500000001]
["Levy","Civil Traffic","CGE CQ1-17",162270.04,160306.14000000001,160143.14000000001,160143.14000000001,null,60152.89,97209.82,101377.14,104753.14]
["Liberty","Civil Traffic","CGE CQ1-17",27594,24229.5,24206.5,24206.5,null,11060,19572.5,20283.5,20729.5]
["Madison","Civil Traffic","CGE CQ1-17",471675,467176.38,464786.38,461753.38,null,182072.5,334147,358089.69,380356]
["Manatee","Civil Traffic","CGE CQ1-17",1229533.05,1425383.45,1433235.45,1432861.45,null,730905.85,1133409.6499999999,1245104.83,1269840.22]
["Marion","Civil Traffic","CGE CQ1-17",1157943.5,1136963,1132088,1131350,null,622340.31999999995,975674.5,1029759,1045858]
["Martin","Civil Traffic","CGE CQ1-17",792140.80000000005,758421,755339,755502,null,396238.3,671928.39,703743.09,709730.99]
["Monroe","Civil Traffic","CGE CQ1-17",972596,798475,783609,null,null,425452,656135,681000]
["Nassau","Civil Traffic","CGE CQ1-17",357779.85,338154.1,333907.09999999998,333158.09999999998,null,164894.45000000001,273717.59999999998,286621.7,291782.59999999998]
["Okaloosa","Civil Traffic","CGE CQ1-17",678812.59,740439.05,743017.95,740357.95,null,373463.95,499501.77,526100.09,534982.99]
["Okeechobee","Civil Traffic","CGE CQ1-17",109332.5,106750.25,106594.25,106594.25,null,56238,87467.75,90459.75,91817.07]
["Orange","Civil Traffic","CGE CQ1-17",13104853,11702958,11644547,11626656,null,4754545,8101408,8673246,8916795]
["Osceola","Civil Traffic","CGE CQ1-17",2968083.68,3152731.1,3140017.5,3133207.98,null,1202737.08,2163753.94,2575274.94,2698793.18]
["Palm Beach","Civil Traffic","CGE CQ1-17",7211234.4699999997,6539745.6200000001,6484712.6200000001,6470035.1200000001,null,3301836.74,5469732.3200000003,5736191.4400000004,5827336.75]
["Pasco","Civil Traffic","CGE CQ1-17",1812987,1812987,1812987,1812987,null,951542.9,1273733.3999999999,1421905.74,1499371.38]
["Pinellas","Civil Traffic","CGE CQ1-17",4380233,3687749,3593241,3554740,null,2045224,2723489,2957865,3041553]
["Polk","Civil Traffic","CGE CQ1-17",3219491.61,3161340.59,3155953.3,3154922.21,null,1319211.47,2577908.1800000002,2715241.95,2754919.14]
["PUTNAM","Civil Traffic","CGE CQ1-17",175480.75,201344.95,195167.15,195263.15,null,52598.5,111004.1,125818.1,131910.70000000001]
["Santa Rosa","Civil Traffic","CGE CQ1-17",793682.44,859114.84,855519.49,854164.24,null,377017.19,647613.51,700386.88,721206.41]
["Sarasota","Civil Traffic","CGE CQ1-17",2109757.77,1991028.14,1982199.14,1980487.14,null,1089440.75,1598428.17,1678579.59,1712448.32]
["Seminole","Civil Traffic","CGE CQ1-17",2838884.21,2737597.88,2742165.88,2749156.86,null,1150520.71,1757567.89,1937591.96,2062195.79]
["St. Johns","Civil Traffic","CGE CQ1-17",703941.35,686118.85,681104.85,678776.85,null,324885.84999999998,559941.06999999995,611381.06999999995,624092.91]
["St. Lucie","Civil Traffic","CGE CQ1-17",1197922.3500000001,1151710.6000000001,1147613.6000000001,1144884.6000000001,null,661374.71999999997,1005861.56,1036505.64,1050284.33]
["Sumter","Civil Traffic","CGE CQ1-17",412811.01,400445.51,399206.51,398890.51,null,215184.51,353529.01,367694.51,372585.51]
["Suwannee","Civil Traffic","CGE CQ1-17",88557.75,86188.1,86188.1,86188.1,null,38606.07,66075.94,71941.350000000006,73306.600000000006]
["Taylor","Civil Traffic","CGE CQ1-17",50582,47241,46311,46210,null,19735,33960,36435,37302]
["Union","Civil Traffic","CGE CQ1-17",49418.15,49313.65,49313.65,49313.65,null,32387.4,41285.9,43916.65,44796.65]
["Volusia","Civil Traffic","CGE CQ1-17",2215557.5,1805091.1,1787382.1,1785445.1,null,936036.15,1487824.56,1613049.91,1640692.36]
["Wakulla","Civil Traffic","CGE CQ1-17",117118.05,112046.3,111210.34,111160.34,null,64058.05,102415.3,104434.34,105444.34]
["WALTON","Civil Traffic","CGE CQ1-17",124607,124607,124607,124607,null,66030,107288,111622,113800]
["Washington","Civil Traffic","CGE CQ1-17",118765.75,116787.25,116498.75,116682.75,null,70476.75,102737.25,106132.75,107393.75]

{"sheet":"CQ1-17 Circuit Crim","index":17,"n_rows":67,"n_cols":12,"rows_kept":67,"cut":false,"hidden":true,"merged":[]}
["CountyName","CourtType","ControlGrpInfo","Assessment1stQ","Assessment2ndQ","Assessment3rdQ","Assessment4thQ","5 Quarter Assessment","Collection1stQ","Collection2ndQ","Collection3rdQ","Collection4thQ"]
["Alachua","Circuit Criminal","CGE CQ1-17",501989.08,492881.27,491082.41,487992.7,null,86341.42,95737.27,102307.75,110549.82]
["Baker","Circuit Criminal","CGE CQ1-17",54089.7,54089.7,54089.7,53864.3,null,291.27999999999997,2854.12,5613.92,6034.16]
["Bay","Circuit Criminal","CGE CQ1-17",762315.71,763820.71,764038.71,764038.71,null,16780.759999999998,32355.55,46410.64,52910.77]
["Bradford","Circuit Criminal","CGE CQ1-17",60291,60241,60491,60491,null,5126.7299999999996,6167.38,11447.54,15330.33]
["Brevard","Circuit Criminal","CGE CQ1-17",772338.08,751439.58,749783.08,748893.58,null,36680.57,55980.75,71177.7,88245.27]
["Broward","Circuit Criminal","CGE CQ1-17",4035595.39,3599707.72,3622026.03,3649394.43,null,104087.89,192853.93,256271.1,318829.07]
["Calhoun","Circuit Criminal","CGE CQ1-17",56927,56777,56527,56477,null,453,1637,4147,6180]
["Charlotte","Circuit Criminal","CGE CQ1-17",3833022.27,3871233.2,3865708.24,3865708.24,null,19380.009999999998,40560.269999999997,53943.35,61130.18]
["Citrus","Circuit Criminal","CGE CQ1-17",578385.56999999995,665198.86,665297.86,663787.86,null,23354.080000000002,43542.37,55408.37,63134.98]
["Clay","Circuit Criminal","CGE CQ1-17",1281527,1277107,1277107,1276484,null,12237,20987,26458,30579]
["Collier","Circuit Criminal","CGE CQ1-17",573044.79,570018.77,544528.41,545121.86,null,107059.47,115723.05,124084.62,135144.67000000001]
["Columbia","Circuit Criminal","CGE CQ1-17",230055.07,228019.07,228019.07,228019.07,null,2279.6,9067.23,15675.56,21512.22]
["Dade","Circuit Criminal","CGE CQ1-17",3141298,3141298,3141298,3141298,null,84265,155940,205510,263452]
["Desoto","Circuit Criminal","CGE CQ1-17",145684.96,145584.95999999999,145584.95999999999,145584.95999999999,null,6339.25,13276.82,19644.04,23089.93]
["Duval","Circuit Criminal","CGE CQ1-17",3345316.49,3345316.49,3348306.12,3345970.12,null,27586.07,52955.11,87429.61,111384.06]
["Escambia","Circuit Criminal","CGE CQ1-17",1876591.33,1873177.83,1871445.83,1869772.83,null,42789.84,66714.759999999995,84327.8,100554.72]
["Flagler","Circuit Criminal","CGE CQ1-17",152946,151592,151963,150895,null,3235.02,6954.94,10208.31,11941.4]
["Franklin","Circuit Criminal","CGE CQ1-17",42922,42922,42922,42922,null,1538.27,2942.66,3999.57,6182.97]
["Gadsden","Circuit Criminal","CGE CQ1-17",87122,89022,88597,89197,null,2543,4324,5964,7592]
["Gilchrist","Circuit Criminal","CGE CQ1-17",26501,26501,26501,26501,null,615,1973,5653,5864]
["Glades","Circuit Criminal","CGE CQ1-17",68448.350000000006,68490.350000000006,68490.350000000006,68490.350000000006,null,259.16000000000003,2114.9,3606.01,3979.47]
["Gulf","Circuit Criminal","CGE CQ1-17",53490.23,53490.23,53490.23,48030.23,null,898.83,1837.88,2603.9,3395.13]
["Hamilton","Circuit Criminal","CGE CQ1-17",64077.5,65257.5,68862.5,70407.5,null,685.53,1864.6,3044.96,3703.67]
["Hardee","Circuit Criminal","CGE CQ1-17",66877.16,66827.16,66827.16,66777.16,null,1635.94,3013.48,4747.38,6421.31]
["Hendry","Circuit Criminal","CGE CQ1-17",91390.68,91390.68,91390.68,91390.68,null,32581.05,41073.47,47609.11,52721.8]
["Hernando","Circuit Criminal","CGE CQ1-17",656360.64,654530.09,646793.29,647123.29,null,19641.71,34323.1,42246.79,48826.28]
["Highlands","Circuit Criminal","CGE CQ1-17",228466.71,228316.71,230852.71,230802.71,null,5015.82,7605.4,13353.89,18283.12]
["Hillsborough","Circuit Criminal","CGE CQ1-17",5625441,5604722,5596126,5589325,null,376142,443789,516801,566300]
["Holmes","Circuit Criminal","CGE CQ1-17",165239.84,165139.84,165089.84,164539.84,null,1427.43,8216.2999999999993,13008.45,14932.96]
["Indian River","Circuit Criminal","CGE CQ1-17",784412.82,782612.33,781966.83,781859.83,null,13389.05,22612.98,30426.67,37114.49]
["Jackson","Circuit Criminal","CGE CQ1-17",109440.63,109440.63,108340.63,108340.63,null,2115.17,4540.59,6439.86,10835.08]
["Jefferson","Circuit Criminal","CGE CQ1-17",10145.75,10145.75,8835.75,8835.75,null,636.95000000000005,1110.72,1236.8,1575.39]
["Lafayette","Circuit Criminal","CGE CQ1-17",2105,2105,2105,2105,null,130.76,326.89999999999998,457.66,653.79999999999995]
["Lake","Circuit Criminal","CGE CQ1-17",826280.8,823430.8,822380.8,822373,null,13486.11,38967.019999999997,53772.13,68848.88]
["Lee","Circuit Criminal","CGE CQ1-17",1551294,1551299,1550312,1548397,null,17428,51548,84118,104383]
["Leon","Circuit Criminal","CGE CQ1-17",1126420.23,1146216.31,1142489.7,1141399.1299999999,null,64530.81,96764.08,117745.81,135113.12]
["Levy","Circuit Criminal","CGE CQ1-17",116891.05,116678.05,116676.05,115730.67,null,1925.49,3854.91,6668.36,8632.73]
["Liberty","Circuit Criminal","CGE CQ1-17",19251,18686,18686,18686,null,780.83,1082.55,1636.59,2703.9]
["Madison","Circuit Criminal","CGE CQ1-17",97881,97931,97251,96381,null,1191.33,4483.88,7517.5,10106.379999999999]
["Manatee","Circuit Criminal","CGE CQ1-17",601641.43000000005,597820.93000000005,595797.43000000005,592999.93000000005,null,23552.48,40586.65,54050.21,66853.240000000005]
["Marion","Circuit Criminal","CGE CQ1-17",1746431.84,1748674.69,1745490.39,1743335.99,null,51665.83,95033.27,121518.15,151399.15]
["Martin","Circuit Criminal","CGE CQ1-17",290019.19,288119.19,285919.19,285119.19,null,6850.69,15520.01,24412.799999999999,28793.7]
["Monroe","Circuit Criminal","CGE CQ1-17",205545,205045,204795,204695,null,25993,37495,49623,57533]
["Nassau","Circuit Criminal","CGE CQ1-17",56526.5,58944.5,58944.5,58944.5,null,1435.32,2387.16,4355.6099999999997,6875.24]
["Okaloosa","Circuit Criminal","CGE CQ1-17",1130464.94,1130764.94,1130764.94,1130764.94,null,23889.47,44976.65,56961.01,71369.91]
["Okeechobee","Circuit Criminal","CGE CQ1-17",278339.3,279211.3,279211.3,279311.3,null,2558.4299999999998,9798.7800000000007,17569.16,22546.42]
["Orange","Circuit Criminal","CGE CQ1-17",2397078,2371225,2365139,2362188,null,112501,197236,264769,306402]
["Osceola","Circuit Criminal","CGE CQ1-17",3257948.37,3252056.59,3248666.8,3248133.3,null,96027.8,126764.96,152631.94,182190.55]
["Palm Beach","Circuit Criminal","CGE CQ1-17",2046047.32,2026806.81,2016361.99,2008480.47,null,78210.69,118605.57,149853.48000000001,171527.33]
["Pasco","Circuit Criminal","CGE CQ1-17",2345765.36,2341334.29,2337664.9900000002,1957288.99,null,58231.98,92704.94,123573.54,145240.07999999999]
["Pinellas","Circuit Criminal","CGE CQ1-17",2550175,2526312,2459953,2451770,null,92720,159169,198278,235178]
["Polk","Circuit Criminal","CGE CQ1-17",3324021.52,3324326.52,3324230.74,3322541.17,null,46811.03,114486.26,150419.13,173030.13]
["PUTNAM","Circuit Criminal","CGE CQ1-17",324771.62,324871.62,325004.62,324389.62,null,3394.99,5378.9,6677.67,11227.9]
["Santa Rosa","Circuit Criminal","CGE CQ1-17",447975.9,448395.33,448006.33,448339.33,null,14624.9,29134.34,41429.19,50609.82]
["Sarasota","Circuit Criminal","CGE CQ1-17",1737068.69,1735461.11,1734267.61,1727144.98,null,26109.09,42297.18,55729.17,66320.05]
["Seminole","Circuit Criminal","CGE CQ1-17",1286978.99,1309072.01,1322392.98,1337475.98,null,47246.28,96177.59,130808.7,157700.73000000001]
["St. Johns","Circuit Criminal","CGE CQ1-17",192911.34,191974.34,191342.34,191092.34,null,16615.73,25120.13,30945.52,36465.32]
["St. Lucie","Circuit Criminal","CGE CQ1-17",800771.14,799318.14,797893.14,797617.44,null,22778.68,45532.7,67250.2,84489.04]
["Sumter","Circuit Criminal","CGE CQ1-17",234200.12,233065.12,232965.12,232100.59,null,8201.83,14432.14,18738.669999999998,25182.44]
["Suwannee","Circuit Criminal","CGE CQ1-17",528950.86,528950.86,528950.86,528330.86,null,1764,11038.21,16460.54,19812.669999999998]
["Taylor","Circuit Criminal","CGE CQ1-17",122394.5,122144.5,122144.5,122144.5,null,4338.46,5601.03,6275.58,7440.71]
["Union","Circuit Criminal","CGE CQ1-17",70633.5,70783.5,70733.5,70733.5,null,192,242,292,392]
["Volusia","Circuit Criminal","CGE CQ1-17",1517437.48,1516153.48,1511227.48,1506772.65,null,19787.16,36969.85,58596.75,76125.59]
["Wakulla","Circuit Criminal","CGE CQ1-17",79961.5,79876.97,79796.47,77416.47,null,1856.5,3826.5,5781.5,7913.5]
["WALTON","Circuit Criminal","CGE CQ1-17",220411,220411,220411,220411,null,10647,16973,23945,29830]
["Washington","Circuit Criminal","CGE CQ1-17",180272.5,183207.5,182377.5,181877.5,null,4031.65,6308.22,8121.05,9677.0499999999993]

{"sheet":"CQ1-17 County Civil","index":18,"n_rows":67,"n_cols":12,"rows_kept":67,"cut":false,"hidden":true,"merged":[]}
["CountyName","CourtType","ControlGrpInfo","Assessment1stQ","Assessment2ndQ","Assessment3rdQ","Assessment4thQ","5 Quarter Assessment","Collection1stQ","Collection2ndQ","Collection3rdQ","Collection4thQ"]
["Alachua","County Civil","CGE CQ1-17",247644.47,247644.47,247584.47,247584.47,null,246167.61,246574.47,247129.47,247129.47]
["Baker","County Civil","CGE CQ1-17",15369,15369,15369,15369,null,15369,15369,15369,15369]
["Bay","County Civil","CGE CQ1-17",177368.25,177203.25,177203.25,177203.25,null,177068.25,177203.25,177203.25,177203.25]
["Bradford","County Civil","CGE CQ1-17",19127.5,18932.5,18932.5,18932.5,null,17901.5,18551.5,18551.5,18551.5]
["Brevard","County Civil","CGE CQ1-17",486738.08,486738.08,486543.08,486543.08,null,474778.08,483042.08,483042.08,483042.08]
["Broward","County Civil","CGE CQ1-17",3520031.06,3520002.06,3520002.06,3520002.06,null,3518510.56,3518366.06,3518366.06,3518366.06]
["Calhoun","County Civil","CGE CQ1-17",8680,8680,8680,8680,null,8680,8680,8680,8680]
["Charlotte","County Civil","CGE CQ1-17",170486.84,170486.84,170486.84,170486.84,null,169605.84,169605.84,169605.84,169605.84]
["Citrus","County Civil","CGE CQ1-17",124413.86,124330.61,124330.61,124330.61,null,122993.86,123979.61,123979.61,123979.61]
["Clay","County Civil","CGE CQ1-17",159534,159534,159534,159534,null,159002,159534,159534,159534]
["Collier","County Civil","CGE CQ1-17",315483.93,315208.93,314828.93,314778.93,null,310483.84000000003,310335.84000000003,310255.84000000003,310255.84000000003]
["Columbia","County Civil","CGE CQ1-17",77394.3,77404.3,77404.3,77404.3,null,76479.3,77404.3,77404.3,77404.3]
["Dade","County Civil","CGE CQ1-17",3747218,3747218,3747218,3747218,null,3747218,3747218,3747218,3747218]
["Desoto","County Civil","CGE CQ1-17",26152,26152,26152,26152,null,25882,26152,26152,26152]
["Duval","County Civil","CGE CQ1-17",1241205.73,1241205.73,1523176,1519370.04,null,1226743.27,1231909.24,1513706.79,1512376.79]
["Escambia","County Civil","CGE CQ1-17",272933.87,272933.87,273214.87,273214.87,null,271056.46999999997,271276.46999999997,271276.46999999997,271276.46999999997]
["Flagler","County Civil","CGE CQ1-17",67940.59,67940.59,67940.59,67940.59,null,67616.59,67716.59,67716.59,67716.59]
["Franklin","County Civil","CGE CQ1-17",4180,4180,4180,4180,null,4180,4180,4180,4180]
["Gadsden","County Civil","CGE CQ1-17",33866.44,33866.44,33866.44,33678.44,null,32535.439999999999,33835.440000000002,33835.440000000002,33647.440000000002]
["Gilchrist","County Civil","CGE CQ1-17",8851,8851,8851,8851,null,8851,8851,8851,8851]
["Glades","County Civil","CGE CQ1-17",3604.88,3604.88,3604.88,3604.88,null,3586.2,3586.2,3586.2,3586.2]
["Gulf","County Civil","CGE CQ1-17",6190,6015,6015,6015,null,6015,6015,6015,6015]
["Hamilton","County Civil","CGE CQ1-17",8589.75,8589.75,8589.75,8589.75,null,8579.75,8579.75,8579.75,8579.75]
["Hardee","County Civil","CGE CQ1-17",16257.37,16907.37,16907.37,16907.37,null,16257.37,16257.37,16257.37,16257.37]
["Hendry","County Civil","CGE CQ1-17",35441,35441,35441,35441,null,34761,35071,35071,35071]
["Hernando","County Civil","CGE CQ1-17",217335.72,216995.72,216995.72,216995.72,null,214476.22,215678.72,215678.72,215678.72]
["Highlands","County Civil","CGE CQ1-17",106566.51,106566.51,106566.51,106550.01,null,106235.01,106420.01,106420.01,106420.01]
["Hillsborough","County Civil","CGE CQ1-17",1803381,1802427,1802427,1802427,null,1783748,1784906,1784986,1785046]
["Holmes","County Civil","CGE CQ1-17",15081.5,15081.5,15081.5,15081.5,null,15081.5,15081.5,15081.5,15081.5]
["Indian River","County Civil","CGE CQ1-17",138401.18,137799.18,137799.18,137799.18,null,134638.18,137789.18,137799.18,137799.18]
["Jackson","County Civil","CGE CQ1-17",30579.53,30639.53,30639.53,30639.53,null,30569.53,30629.53,30629.53,30629.53]
["Jefferson","County Civil","CGE CQ1-17",7931,7931,7931,7931,null,7931,7931,7931,7931]
["Lafayette","County Civil","CGE CQ1-17",3095,3095,3095,3095,null,3095,3095,3095,3095]
["Lake","County Civil","CGE CQ1-17",263471.09999999998,263471.09999999998,263471.09999999998,263422.09999999998,null,262336.03000000003,262339.25,262339.25,262339.25]
["Lee","County Civil","CGE CQ1-17",558381,556984,556964,556964,null,551985,552766,552795,552806]
["Leon","County Civil","CGE CQ1-17",381164.19,380769.19,380769.19,380769.19,null,373831.78,374733.78,375673.78,375863.78]
["Levy","County Civil","CGE CQ1-17",30540.71,30540.71,30540.71,30540.71,null,28225.71,30175.71,30175.71,30175.71]
["Liberty","County Civil","CGE CQ1-17",4133,4133,4133,3873,null,3873,3873,3873,3873]
["Madison","County Civil","CGE CQ1-17",10865.06,10865.06,10865.06,10865.06,null,10865.06,10865.06,10865.06,10865.06]
["Manatee","County Civil","CGE CQ1-17",269430.40000000002,269050.40000000002,268160.40000000002,268335.40000000002,null,262655.15999999997,264640.15999999997,264515.15999999997,264515.15999999997]
["Marion","County Civil","CGE CQ1-17",361432.85,361432.85,361432.85,361432.85,null,360007.99,360106.99,360106.99,360106.99]
["Martin","County Civil","CGE CQ1-17",94304.38,94276.88,94276.88,94276.88,null,93424.38,93926.88,93926.88,93926.88]
["Monroe","County Civil","CGE CQ1-17",100981,100981,100981,null,null,100250,100845,100845]
["Nassau","County Civil","CGE CQ1-17",44279.63,44279.63,44279.63,44279.63,null,44089.63,44264.63,44264.63,44264.63]
["Okaloosa","County Civil","CGE CQ1-17",214152.67,214961.02,214651.02,214651.02,null,212107.67,213201.02,213201.02,213201.02]
["Okeechobee","County Civil","CGE CQ1-17",20078,20078,20078,20078,null,19903,19903,19903,19903]
["Orange","County Civil","CGE CQ1-17",1612227,1610567,1610482,1610198,null,1605489,1604139,1604096,1603812]
["Osceola","County Civil","CGE CQ1-17",318121.64,318036.64,318036.64,318036.64,null,302981.5,313358.12,313358.12,313360.62]
["Palm Beach","County Civil","CGE CQ1-17",1493117.47,1488865.32,1485945.32,1484970.32,null,1486423.87,1484360.02,1481737.55,1481062.55]
["Pasco","County Civil","CGE CQ1-17",456392.27,456032.7,455712.57,455856.73,null,449855.9,453396.71,453051.17,453051.17]
["Pinellas","County Civil","CGE CQ1-17",1277514,1277041,1276555,1275895,null,1274851,1274684,1274684,1274684]
["Polk","County Civil","CGE CQ1-17",1094883.97,1094883.97,1094883.97,1094883.97,null,1090139.1200000001,1092057.1100000001,1092757.1100000001,1092807.1100000001]
["PUTNAM","County Civil","CGE CQ1-17",64705.31,64705.31,64702.31,64382.31,null,63597.31,63577.31,63577.31,63577.31]
["Santa Rosa","County Civil","CGE CQ1-17",125643.57,125643.57,125643.57,125643.57,null,125458.57,125643.57,125643.57,125643.57]
["Sarasota","County Civil","CGE CQ1-17",340399.61,339628.11,339747.85,339747.85,null,337662.28,338120.28,338535.02,338535.02]
["Seminole","County Civil","CGE CQ1-17",373717.5,373717.5,373717.5,373717.5,null,373717.5,373717.5,373717.5,373717.5]
["St. Johns","County Civil","CGE CQ1-17",138251.13,138251.13,137951.13,137951.13,null,135236.13,137951.13,137651.13,137651.13]
["St. Lucie","County Civil","CGE CQ1-17",276262.69,275882.69,274217.69,274217.69,null,268576.99,273974.49,273922.69,274217.69]
["Sumter","County Civil","CGE CQ1-17",34098.42,34098.42,34098.42,34098.42,null,33634.42,34013.42,34013.42,34113.42]
["Suwannee","County Civil","CGE CQ1-17",39545,39160,39160,39160,null,38510,38860,38860,38860]
["Taylor","County Civil","CGE CQ1-17",12331.95,12331.95,12331.95,12331.95,null,11676.95,12236.95,12236.95,12236.95]
["Union","County Civil","CGE CQ1-17",8740,8740,8740,8740,null,8555,8740,8740,8740]
["Volusia","County Civil","CGE CQ1-17",466251.93,465733.28,465538.28,465538.28,null,433132.68,462214.78,462449.78,462459.78]
["Wakulla","County Civil","CGE CQ1-17",17514,17514,17514,17514,null,17329,17514,17514,17514]
["WALTON","County Civil","CGE CQ1-17",59230,59230,59230,59230,null,59230,59230,59230,59230]
["Washington","County Civil","CGE CQ1-17",15110,15110,15110,15110,null,15010,15010,15010,15010]

{"sheet":"CQ1-17 Circuit Civ","index":19,"n_rows":67,"n_cols":12,"rows_kept":67,"cut":false,"hidden":true,"merged":[]}
["CountyName","CourtType","ControlGrpInfo","Assessment1stQ","Assessment2ndQ","Assessment3rdQ","Assessment4thQ","5 Quarter Assessment","Collection1stQ","Collection2ndQ","Collection3rdQ","Collection4thQ"]
["Alachua","Circuit Civil","CGE CQ1-17",390493.23,389901.53,389901.53,390359.03,null,386581.23,387004.03,387229.53,387252.03]
["Baker","Circuit Civil","CGE CQ1-17",26069,26069,26069,26069,null,26069,26069,26069,26069]
["Bay","Circuit Civil","CGE CQ1-17",271192.34000000003,271192.34000000003,271192.34000000003,270911.34000000003,null,270592.84000000003,270592.84000000003,270922.07,270922.07]
["Bradford","Circuit Civil","CGE CQ1-17",24382.5,24382.5,24382.5,24382.5,null,20712.5,20732.5,20782.349999999999,20782.349999999999]
["Brevard","Circuit Civil","CGE CQ1-17",834675.06,834224.06,833318.06,832516.06,null,763884.34,824144.15,823374.76,820913.99]
["Broward","Circuit Civil","CGE CQ1-17",5540370.3300000001,5541177.8300000001,5544471.8300000001,5546710.3300000001,null,5525184.9299999997,5523763.4299999997,5529202.9299999997,5531471.4299999997]
["Calhoun","Circuit Civil","CGE CQ1-17",15405,15405,15405,15405,null,14985,15405,15405,15405]
["Charlotte","Circuit Civil","CGE CQ1-17",311848.89,311178.90999999997,311178.90999999997,311178.90999999997,null,311178.90999999997,311178.90999999997,311178.90999999997,311178.90999999997]
["Citrus","Circuit Civil","CGE CQ1-17",237159.75,236969.9,236519.9,236519.9,null,231765.75,235328.9,234949.9,234949.9]
["Clay","Circuit Civil","CGE CQ1-17",300264,298604,298604,298554,null,298984,298554,298554,298554]
["Collier","Circuit Civil","CGE CQ1-17",2389026.56,2388579.25,2386105.5299999998,2385109.33,null,2347250.34,2364032.63,2367275.11,2367773.91]
["Columbia","Circuit Civil","CGE CQ1-17",75148.5,75148.5,75148.5,75148.5,null,71927.5,72327.5,72327.5,72327.5]
["Dade","Circuit Civil","CGE CQ1-17",4340160,4340160,4340160,4340160,null,4340160,4340160,4340160,4340160]
["Desoto","Circuit Civil","CGE CQ1-17",35470.5,35470.5,35470.5,35470.5,null,35070.5,35070.5,35070.5,35070.5]
["Duval","Circuit Civil","CGE CQ1-17",1836692.31,1836692.31,1775190.31,1754369.31,null,1812718.89,1804967.33,1743780.33,1731560.83]
["Escambia","Circuit Civil","CGE CQ1-17",408129.19,408189.19,406884.19,404674.19,null,398883.49,401675.95,401574.19,399364.69]
["Flagler","Circuit Civil","CGE CQ1-17",177062.75,177707.75,177707.75,177707.75,null,177047.75,177707.75,177707.75,177707.75]
["Franklin","Circuit Civil","CGE CQ1-17",21114.5,21114.5,21114.5,21114.5,null,21114.5,21114.5,21114.5,21114.5]
["Gadsden","Circuit Civil","CGE CQ1-17",171269.15,171269.15,171269.15,171238.65,null,169493.35,169523.85,169523.85,169493.35]
["Gilchrist","Circuit Civil","CGE CQ1-17",23707,23707,23707,23707,null,23707,23707,23707,23707]
["Glades","Circuit Civil","CGE CQ1-17",10188.25,9718.25,9718.25,9718.25,null,9668.25,9718.25,9718.25,9718.25]
["Gulf","Circuit Civil","CGE CQ1-17",22394.1,22394.1,22394.1,22394.1,null,21594.1,21594.1,21594.1,21594.1]
["Hamilton","Circuit Civil","CGE CQ1-17",39880,39880,39880,39880,null,35460,38660,38660,38660]
["Hardee","Circuit Civil","CGE CQ1-17",30431,30431,30431,30431,null,28731,28741,28741,28751]
["Hendry","Circuit Civil","CGE CQ1-17",33686,33686,33686,33686,null,33186,33186,33186,33186]
["Hernando","Circuit Civil","CGE CQ1-17",306273.59000000003,306215.09000000003,306215.09000000003,306215.09000000003,null,303390.09000000003,304996.09000000003,304996.09000000003,304996.09000000003]
["Highlands","Circuit Civil","CGE CQ1-17",121334.73,120934.73,120934.73,120934.73,null,120914.73,120934.73,120934.73,120934.73]
["Hillsborough","Circuit Civil","CGE CQ1-17",2516050,2507951,2507851,2507681,null,2415698,2466328,2473252,2475425]
["Holmes","Circuit Civil","CGE CQ1-17",40572.94,40572.94,40572.94,40572.94,null,39772.94,39772.94,39772.94,39772.94]
["Indian River","Circuit Civil","CGE CQ1-17",213666.53,213166.53,213166.53,213166.53,null,207505.03,212771.53,212771.53,212771.53]
["Jackson","Circuit Civil","CGE CQ1-17",59759.5,59759.5,59759.5,59759.5,null,58959.5,58959.5,58959.5,58959.5]
["Jefferson","Circuit Civil","CGE CQ1-17",11528,11528,11528,11528,null,10668,11078,11078,11078]
["Lafayette","Circuit Civil","CGE CQ1-17",6260,6260,6260,6260,null,4295,6260,6260,6260]
["Lake","Circuit Civil","CGE CQ1-17",569844.30000000005,569844.30000000005,569793.9,569793.9,null,565729.29,569963.30000000005,569868.02,561201.31999999995]
["Lee","Circuit Civil","CGE CQ1-17",1072932,1066934,1064977,1064567,null,1056426,1057704,1056214,1055910]
["Leon","Circuit Civil","CGE CQ1-17",511063.9,504124.35,503194.35,503194.35,null,452877.1,455610.11,455339.25,455779.25]
["Levy","Circuit Civil","CGE CQ1-17",62352.86,62212.86,62212.86,62212.86,null,61723.360000000001,61823.360000000001,61948.36,62048.36]
["Liberty","Circuit Civil","CGE CQ1-17",4375,4375,4375,4375,null,2775,2775,2874.4,2874.4]
["Madison","Circuit Civil","CGE CQ1-17",47885.5,47885.5,47885.5,47885.5,null,46285.5,46285.5,46285.5,46285.5]
["Manatee","Circuit Civil","CGE CQ1-17",484769.3,487340.79999999999,485480.8,484575.8,null,473930.8,480395.8,478493.3,477288.3]
["Marion","Circuit Civil","CGE CQ1-17",558584.03,557684.03,557684.03,557684.03,null,545518.53,552276.53,552276.53,552672.03]
["Martin","Circuit Civil","CGE CQ1-17",277031.27,277031.27,277031.27,277031.27,null,273243.27,274325.77,274445.52,274597.46999999997]
["Monroe","Circuit Civil","CGE CQ1-17",269437,266579,266579,null,null,259669,262526,262551]
["Nassau","Circuit Civil","CGE CQ1-17",123264.41,123264.41,123014.41,123014.41,null,122344.41,122664.41,122714.41,122764.41]
["Okaloosa","Circuit Civil","CGE CQ1-17",321997,327108.5,327108.5,327108.5,null,318409,323950,323950,323950]
["Okeechobee","Circuit Civil","CGE CQ1-17",87820.5,87820.5,87820.5,87820.5,null,83480.5,87230.5,87230.5,87230.5]
["Orange","Circuit Civil","CGE CQ1-17",2431419,2416399,2411921,2411921,null,2416030,2406714,2402239,2402239]
["Osceola","Circuit Civil","CGE CQ1-17",729420.57,724491.57,721394.57,719584.57,null,705102.05,711691.6,709841.1,708141.1]
["Palm Beach","Circuit Civil","CGE CQ1-17",3744867.3,3724467.55,3709808.95,3695724.85,null,3678933.67,3669569.26,3659839.99,3649151.61]
["Pasco","Circuit Civil","CGE CQ1-17",991146.02,994185.1,993835.1,993831.1,null,943577.42,973280.41,980257.91,980418.41]
["Pinellas","Circuit Civil","CGE CQ1-17",2160190,2152435,2150244,2149702,null,2129788,2146024,2146491,2146040]
["Polk","Circuit Civil","CGE CQ1-17",919559.67,919139.67,919139.67,919139.67,null,912754.67,913899.67,913899.67,913954.67]
["PUTNAM","Circuit Civil","CGE CQ1-17",89954.68,89954.68,89954.68,89884.68,null,84627.18,89814.68,89814.68,89814.68]
["Santa Rosa","Circuit Civil","CGE CQ1-17",256082.24,254723.24,254323.24,254323.24,null,252281.24,252286.24,252286.24,252286.24]
["Sarasota","Circuit Civil","CGE CQ1-17",734452.28,733948.99,733848.78,733848.78,null,724598.78,729553.28,729590.78,729603.28]
["Seminole","Circuit Civil","CGE CQ1-17",481502.5,481502.5,481502.5,481502.5,null,481502.5,481502.5,481502.5,481502.5]
["St. Johns","Circuit Civil","CGE CQ1-17",365901.41,365901.41,365901.41,365831.41,null,353301.41,365826.41,365826.41,365826.41]
["St. Lucie","Circuit Civil","CGE CQ1-17",643832.41,642682.41,640164.41,639200.91,null,621203.18000000005,634185.53,635699.41,635065.91]
["Sumter","Circuit Civil","CGE CQ1-17",67499.14,67449.14,67449.14,67449.14,null,65096.639999999999,67044.14,67299.14,67299.14]
["Suwannee","Circuit Civil","CGE CQ1-17",39232,39232,39232,39232,null,36032,36032,36032,36032]
["Taylor","Circuit Civil","CGE CQ1-17",24601,24601,24601,24201,null,23806,24601,24601,24201]
["Union","Circuit Civil","CGE CQ1-17",14221.76,14221.76,14221.76,14221.76,null,12766.76,12766.76,12766.76,12766.76]
["Volusia","Circuit Civil","CGE CQ1-17",979847.82,972125.82,968898.32,960513.32,null,897854.64,958326.54,959084.64,951068.84]
["Wakulla","Circuit Civil","CGE CQ1-17",39681.5,39681.5,39681.5,39681.5,null,39661.5,39681.5,39681.5,39681.5]
["WALTON","Circuit Civil","CGE CQ1-17",141360,140560,140560,140560,null,139235,140160,140160,140160]
["Washington","Circuit Civil","CGE CQ1-17",30838,30838,30838,30838,null,30312,30362,30362,30788]

{"sheet":"CQ1-17 Crim Traffic","index":20,"n_rows":67,"n_cols":12,"rows_kept":67,"cut":false,"hidden":true,"merged":[]}
["CountyName","CourtType","ControlGrpInfo","Assessment1stQ","Assessment2ndQ","Assessment3rdQ","Assessment4thQ","5 Quarter Assessment","Collection1stQ","Collection2ndQ","Collection3rdQ","Collection4thQ"]
["Alachua","Criminal Traffic","CGE CQ1-17",283464.03999999998,281280.03999999998,274059.03999999998,266843.53999999998,null,81968.91,124276.85,146897.01,164218.97]
["Baker","Criminal Traffic","CGE CQ1-17",34021.5,34021.5,34021.5,33740.5,null,3824,6306.13,8333.7900000000009,10029.620000000001]
["Bay","Criminal Traffic","CGE CQ1-17",457971.99,448981.49,437089.49,433864.49,null,67985.19,145486.10999999999,207099.3,235985.35]
["Bradford","Criminal Traffic","CGE CQ1-17",30317.5,29994.5,29621.5,29571.5,null,2794.5,7103.5,9804.5,12240.5]
["Brevard","Criminal Traffic","CGE CQ1-17",522208.05,518822.05,515890.05,515092.05,null,107888.21,181939.71,236375.04000000001,266856.51]
["Broward","Criminal Traffic","CGE CQ1-17",2101635.2999999998,1734560.21,1683419.71,1648998.21,null,259996.28,618716.44999999995,801287.38,868254.86]
["Calhoun","Criminal Traffic","CGE CQ1-17",6360,6260,6260,6260,null,945,2237,2592,2752]
["Charlotte","Criminal Traffic","CGE CQ1-17",297878.78000000003,288190.21999999997,281566.21999999997,276326.78999999998,null,61755.75,111737.60000000001,148052.5,165562.63]
["Citrus","Criminal Traffic","CGE CQ1-17",121396.94,137254.20000000001,136048.20000000001,136569.20000000001,null,31148.21,52815.92,62216.38,67545.09]
["Clay","Criminal Traffic","CGE CQ1-17",243447,242443,242411,240999,null,60440,117040,136783,151704]
["Collier","Criminal Traffic","CGE CQ1-17",547837.51,541512.25,544483.35,549628.56999999995,null,171059.61,284505,336943.55,374981.27]
["Columbia","Criminal Traffic","CGE CQ1-17",84976.5,84440.5,84390.5,84340.5,null,15126.25,29265.25,39585.75,45932.1]
["Dade","Criminal Traffic","CGE CQ1-17",1661303.42,1661303.42,1661303.42,1661303.42,null,204831.62,394702.88,518888.82,586896.48]
["Desoto","Criminal Traffic","CGE CQ1-17",38502,38502,38927,38927,null,14605,20039,22642,23468]
["Duval","Criminal Traffic","CGE CQ1-17",1933799.9,1933799.9,1927586.44,1915444.68,null,330175.71999999997,705539.28,882026.06,993942.13]
["Escambia","Criminal Traffic","CGE CQ1-17",282985.65000000002,277076.65000000002,275648.71999999997,275329.71999999997,null,66006.649999999994,104161.57,122198.14,130440.89]
["Flagler","Criminal Traffic","CGE CQ1-17",112108,112920,112804,112804,null,32052.83,58607.87,67721.11,75287.19]
["Franklin","Criminal Traffic","CGE CQ1-17",20145,20795,20795,20795,null,9102,11215,12096,12441]
["Gadsden","Criminal Traffic","CGE CQ1-17",97239,94772,93332,93137,null,26818.05,46289.760000000002,54415.74,57127.54]
["Gilchrist","Criminal Traffic","CGE CQ1-17",19817,19817,19817,19817,null,4948,8125,8858,11981]
["Glades","Criminal Traffic","CGE CQ1-17",16960,16567,16567,16567,null,4925,7101.5,8087.5,9225.5]
["Gulf","Criminal Traffic","CGE CQ1-17",10724,10724,10724,10724,null,4447,7269.65,8409.5400000000009,8556.01]
["Hamilton","Criminal Traffic","CGE CQ1-17",36716.5,36733.5,36633.5,36633.5,null,14268,17063,19449,19449]
["Hardee","Criminal Traffic","CGE CQ1-17",42745.96,42370.96,42070.96,41870.959999999999,null,19090.96,30537.96,33932.959999999999,35083.96]
["Hendry","Criminal Traffic","CGE CQ1-17",148627.15,140711.15,137051.98000000001,134825.82999999999,null,48927.88,76196.75,91337.63,97254.6]
["Hernando","Criminal Traffic","CGE CQ1-17",203379.48,203221.23,202572.23,202134.23,null,80048.34,113917.24,129824.12,138047.98000000001]
["Highlands","Criminal Traffic","CGE CQ1-17",149200.5,149229,149229,149229,null,19009.5,35767.75,41705.25,45015.15]
["Hillsborough","Criminal Traffic","CGE CQ1-17",10257827,8937460,8227778,8051885,null,3341032,5279036,5899060,6185749]
["Holmes","Criminal Traffic","CGE CQ1-17",28525.88,28525.88,28525.88,28525.88,null,7303.79,13605.98,18014.98,19783.13]
["Indian River","Criminal Traffic","CGE CQ1-17",224370.96,224342.3,224353.49,224217.12,null,73789.19,120154.96,144157.43,155953.25]
["Jackson","Criminal Traffic","CGE CQ1-17",36636.5,33878.5,31336.5,31036.5,null,15023.5,21864.5,23940.5,24713.5]
["Jefferson","Criminal Traffic","CGE CQ1-17",13734.75,12214.75,7578.75,7578.75,null,4661.75,5750.25,5992.25,6400.25]
["Lafayette","Criminal Traffic","CGE CQ1-17",9947,9947,9551.5,9551.5,null,505,1293.5,2144,2144]
["Lake","Criminal Traffic","CGE CQ1-17",385016.42,382701.32,382041.73,381758.73,null,109877.1,160798.92000000001,186140.89,198413.8]
["Lee","Criminal Traffic","CGE CQ1-17",1009739,996408,985414,978558,null,343706,520371,634629,694617]
["Leon","Criminal Traffic","CGE CQ1-17",328478.65999999997,327765.71999999997,326228.03999999998,325764.78999999998,null,91359.61,121669.12,140442.32,150698.17000000001]
["Levy","Criminal Traffic","CGE CQ1-17",51036.65,51238.7,44426.45,41515.949999999997,null,4038.74,11881.84,16652.2,19415.2]
["Liberty","Criminal Traffic","CGE CQ1-17",11478,10495,10235,9990,null,3804,4154,5099,5139]
["Madison","Criminal Traffic","CGE CQ1-17",30819.9,30910.799999999999,29912.799999999999,29887.8,null,8010.7,12699.9,15657.2,18981.8]
["Manatee","Criminal Traffic","CGE CQ1-17",435438.99,428909.74,422352.49,411908.24,null,137772.24,205909.71,235200.66,261564.66]
["Marion","Criminal Traffic","CGE CQ1-17",412846.07,413824.37,413487.87,412954.41,null,67870.69,185926.41,235631.35,255328.46]
["Martin","Criminal Traffic","CGE CQ1-17",341984.75,335855.75,325129.75,318113.25,null,126304.75,182942.39,208889.01,221832.75]
["Monroe","Criminal Traffic","CGE CQ1-17",65860,63483,63433,null,null,28802,40574,45132]
["Nassau","Criminal Traffic","CGE CQ1-17",106808.75,107699.75,107937.75,107937.75,null,13741.3,42298.23,50984.52,57456.7]
["Okaloosa","Criminal Traffic","CGE CQ1-17",461448.57,466096.76,465924.76,465924.76,null,134106.25,224014.55,270285.96000000002,298082.87]
["Okeechobee","Criminal Traffic","CGE CQ1-17",60324.75,60497.75,60647.75,60747.75,null,23748,35165.85,41611.75,43568.75]
["Orange","Criminal Traffic","CGE CQ1-17",1807755,1796227,1790163,1789195,null,347239,593928,734189,817386]
["Osceola","Criminal Traffic","CGE CQ1-17",442111.24,442216.86,442811.86,442804.35,null,146124.10999999999,212415.35,244346.03,270575.32]
["Palm Beach","Criminal Traffic","CGE CQ1-17",1949389.35,1907084.77,1880343.54,1856923.59,null,485198.49,736004.83,883086.9,1002933.45]
["Pasco","Criminal Traffic","CGE CQ1-17",519089.18,515747.18,513873.18,513809.18,null,150750.99,233950.99,267829.49,283883.99]
["Pinellas","Criminal Traffic","CGE CQ1-17",1986584,1947283,1927882,1914401,null,685854,940823,1090221,1207580]
["Polk","Criminal Traffic","CGE CQ1-17",580919.4,581367.65,578401.11,573615.88,null,132904.4,223211.54,263588.78000000003,296089.28999999998]
["PUTNAM","Criminal Traffic","CGE CQ1-17",60299.5,62249,61816,61816,null,11224.5,23141.94,29875.34,31731.84]
["Santa Rosa","Criminal Traffic","CGE CQ1-17",232424.29,230481.29,229711.29,229761.29,null,91221.93,128926.32,145240.12,157948.35999999999]
["Sarasota","Criminal Traffic","CGE CQ1-17",501765.5,500193.5,498215.5,494884.6,null,159001.51,233400.09,282384.03999999998,307921.32]
["Seminole","Criminal Traffic","CGE CQ1-17",526422.65,541820.65,555563.56999999995,559199.52,null,187639.07,325771.58,394253.37,422345.85]
["St. Johns","Criminal Traffic","CGE CQ1-17",155141.25,153468.75,150773.25,142588.75,null,45456.73,75766.11,86545.5,95001.73]
["St. Lucie","Criminal Traffic","CGE CQ1-17",509991.2,506044.19,490965.16,474552.69,null,113667.23,193094.99,240692.48000000001,267467.12]
["Sumter","Criminal Traffic","CGE CQ1-17",121569.52,121569.52,121569.52,121569.52,null,46525.39,71854.36,80930.62,86035.88]
["Suwannee","Criminal Traffic","CGE CQ1-17",83994.5,83706.5,83706.5,83318.5,null,25401.66,35403,44568,48448]
["Taylor","Criminal Traffic","CGE CQ1-17",31411.5,31411.5,31363.5,31363.5,null,8013.65,12549.4,15252.4,18116.150000000001]
["Union","Criminal Traffic","CGE CQ1-17",10820,10820,10820,10820,null,1432.25,4406,6808.5,7992]
["Volusia","Criminal Traffic","CGE CQ1-17",864007.07,718208.89,674274.14,659980.14,null,187045.45,307417.7,371712.51,401834.58]
["Wakulla","Criminal Traffic","CGE CQ1-17",26681.5,26379.62,25947.24,25474.31,null,4314.5,9220,11748,12813.5]
["WALTON","Criminal Traffic","CGE CQ1-17",65794,65794,65794,65794,null,25104,34684,39965,41696]
["Washington","Criminal Traffic","CGE CQ1-17",18448.5,18103.5,18103.5,18103.5,null,1910.72,8030,8926.5,9681.39]

{"sheet":"CQ1-17 Juv. Delinquent","index":21,"n_rows":67,"n_cols":12,"rows_kept":67,"cut":false,"hidden":true,"merged":[]}
["CountyName","CourtType","ControlGrpInfo","Assessment1stQ","Assessment2ndQ","Assessment3rdQ","Assessment4thQ","5 Quarter Assessment","Collection1stQ","Collection2ndQ","Collection3rdQ","Collection4thQ"]
["Alachua","Juvenile Delinquency","CGE CQ1-17",9072,9072,9072,9072,null,292,542,892,942]
["Baker","Juvenile Delinquency","CGE CQ1-17",1282,1282,1282,1282,null,14,732,732,732]
["Bay","Juvenile Delinquency","CGE CQ1-17",11182,11182,11252,11252,null,1542,2152,2722,3832]
["Bradford","Juvenile Delinquency","CGE CQ1-17",3102,3102,3102,2762,null,0,0,0,0]
["Brevard","Juvenile Delinquency","CGE CQ1-17",28388.400000000001,28122.9,27788.6,27538.6,null,1346.1,2452.4,2778.4,2828.4]
["Broward","Juvenile Delinquency","CGE CQ1-17",107337,107237,107137,106889,null,5317,6331,6505,6785]
["Calhoun","Juvenile Delinquency","CGE CQ1-17",329,329,329,329,null,0,0,0,0]
["Charlotte","Juvenile Delinquency","CGE CQ1-17",4094,4094,4094,3994,null,269,504,689,1089]
["Citrus","Juvenile Delinquency","CGE CQ1-17",3617,5917,5867,5767,null,463,963,1537,1637]
["Clay","Juvenile Delinquency","CGE CQ1-17",27522,27522,27522,27522,null,708,3438,5588,6943]
["Collier","Juvenile Delinquency","CGE CQ1-17",20699.12,20068.95,19954.03,19589.03,null,1029.52,1504.35,2074.4299999999998,2459.4299999999998]
["Columbia","Juvenile Delinquency","CGE CQ1-17",1200,1250,1150,1150,null,150,150,150,150]
["Dade","Juvenile Delinquency","CGE CQ1-17",66044,66044,66044,66044,null,5553,9916,10106,10206]
["Desoto","Juvenile Delinquency","CGE CQ1-17",6832,6832,7067,7067,null,447,837,1032,1092]
["Duval","Juvenile Delinquency","CGE CQ1-17",66509,66509,66583,66533,null,3553,6452.75,7533.46,7783.46]
["Escambia","Juvenile Delinquency","CGE CQ1-17",112702.39999999999,112451.15,110103.37,108007.42,null,4367.3999999999996,8563.4,10660.15,11542.15]
["Flagler","Juvenile Delinquency","CGE CQ1-17",3352,3520,3658,3688,null,0,0,50,494]
["Franklin","Juvenile Delinquency","CGE CQ1-17",753.5,753.5,753.5,753.5,null,250,473.5,553.5,553.5]
["Gadsden","Juvenile Delinquency","CGE CQ1-17",2190,2190,2190,2190,null,0,0,0,30]
["Gilchrist","Juvenile Delinquency","CGE CQ1-17",943,943,943,943,null,306,306,306,306]
["Glades","Juvenile Delinquency","CGE CQ1-17",410,410,410,410,null,70,70,120,120]
["Gulf","Juvenile Delinquency","CGE CQ1-17",3.5,3.5,3.5,3.5,null,3.5,3.5,3.5,3.5]
["Hamilton","Juvenile Delinquency","CGE CQ1-17",0,0,0,0,null,0,0,0,0]
["Hardee","Juvenile Delinquency","CGE CQ1-17",2217,2217,2217,2217,null,157,257,257,257]
["Hendry","Juvenile Delinquency","CGE CQ1-17",600,600,600,600,null,50,50,50,50]
["Hernando","Juvenile Delinquency","CGE CQ1-17",16947,17019.5,17019.5,15675.5,null,253,253,253,253]
["Highlands","Juvenile Delinquency","CGE CQ1-17",17349.21,17334.72,17334.72,17384.72,null,884.21,1511.21,2002.21,2178.77]
["Hillsborough","Juvenile Delinquency","CGE CQ1-17",103548,102098,101598,100998,null,3820,9705,12677,13613]
["Holmes","Juvenile Delinquency","CGE CQ1-17",506,506,506,506,null,30,268,318,318]
["Indian River","Juvenile Delinquency","CGE CQ1-17",27406,24705,24705,24605,null,2238.2800000000002,3643.75,4294.0600000000004,4349.5600000000004]
["Jackson","Juvenile Delinquency","CGE CQ1-17",1495,1495,1495,1495,null,0,0,0,0]
["Jefferson","Juvenile Delinquency","CGE CQ1-17",0,0,0,0,null,0,0,0,0]
["Lafayette","Juvenile Delinquency","CGE CQ1-17",70,70,70,70,null,0,0,70,70]
["Lake","Juvenile Delinquency","CGE CQ1-17",21095.5,21095.5,21095.5,21095.5,null,1728,2564,3530,3530]
["Lee","Juvenile Delinquency","CGE CQ1-17",38854,38589,38539,19415,null,10305,10964,11064,1579]
["Leon","Juvenile Delinquency","CGE CQ1-17",22020.95,6331,6331,6331,null,480.95,5981,5981,5981]
["Levy","Juvenile Delinquency","CGE CQ1-17",1730,1730,1730,1730,null,265,400,400,480]
["Liberty","Juvenile Delinquency","CGE CQ1-17",425.5,425.5,425.5,425.5,null,10.5,10.5,10.5,10.5]
["Madison","Juvenile Delinquency","CGE CQ1-17",450,450,450,390,null,140,140,140,140]
["Manatee","Juvenile Delinquency","CGE CQ1-17",6431,6431,6431,6431,null,2475.5,2543.5,2793.5,2793.5]
["Marion","Juvenile Delinquency","CGE CQ1-17",31141.5,31141.5,31041.5,31041.5,null,1629,2786,3506,4417]
["Martin","Juvenile Delinquency","CGE CQ1-17",9541,9441,9441,9441,null,60,460,960,1010]
["Monroe","Juvenile Delinquency","CGE CQ1-17",293,293,293,null,null,143,143,143]
["Nassau","Juvenile Delinquency","CGE CQ1-17",1155,1343,1393,1393,null,17,473,749,749]
["Okaloosa","Juvenile Delinquency","CGE CQ1-17",29435.5,29435.5,29435.5,29435.5,null,1760.5,2495.5,3156.1,3516.1]
["Okeechobee","Juvenile Delinquency","CGE CQ1-17",4160,4210,4210,4210,null,0,240,340,340]
["Orange","Juvenile Delinquency","CGE CQ1-17",196549,188898,178033,167329,null,4484,7056,7519,8449]
["Osceola","Juvenile Delinquency","CGE CQ1-17",24968,23773,22639,19523,null,257,1243,1558,1619]
["Palm Beach","Juvenile Delinquency","CGE CQ1-17",46972,51382,51682,51632,null,1542,2205.4,2485.8000000000002,2635.8]
["Pasco","Juvenile Delinquency","CGE CQ1-17",45712.42,45212.42,44760.42,43472.42,null,3746,6967,7891,8170.5]
["Pinellas","Juvenile Delinquency","CGE CQ1-17",107968,106990,105195,104805,null,2433,3220,3329,3563]
["Polk","Juvenile Delinquency","CGE CQ1-17",160378.81,160115.81,159947.81,159548.81,null,6030.2,12640.09,18825.11,22553]
["PUTNAM","Juvenile Delinquency","CGE CQ1-17",2040,3430,3280,3280,null,0,0,0,0]
["Santa Rosa","Juvenile Delinquency","CGE CQ1-17",8303,7771.5,7536.5,7486.5,null,785,1810.5,2613.5,2819.5]
["Sarasota","Juvenile Delinquency","CGE CQ1-17",10535.5,10470.5,10420.5,10420.5,null,1783.5,3488.5,4960.26,5256.59]
["Seminole","Juvenile Delinquency","CGE CQ1-17",16577,17077,17927,19777,null,2583.25,3529.5,3977,4277]
["St. Johns","Juvenile Delinquency","CGE CQ1-17",5263,2963,2663,2663,null,357,557,607,607]
["St. Lucie","Juvenile Delinquency","CGE CQ1-17",55737,55687,55007.58,54957.58,null,2572.9,9154.01,12546.73,13585.11]
["Sumter","Juvenile Delinquency","CGE CQ1-17",1552,1552,1552,1552,null,89,427,572,890]
["Suwannee","Juvenile Delinquency","CGE CQ1-17",894,894,894,894,null,0,268,268,268]
["Taylor","Juvenile Delinquency","CGE CQ1-17",2261.5,2261.5,1611.5,1608,null,50,50,245,440]
["Union","Juvenile Delinquency","CGE CQ1-17",218.75,218.75,218.75,218.75,null,0,0,0,0]
["Volusia","Juvenile Delinquency","CGE CQ1-17",33456.06,33206.06,33105.06,33106.06,null,1133.06,1752.06,1985.06,2666.06]
["Wakulla","Juvenile Delinquency","CGE CQ1-17",4353.3999999999996,4353.3999999999996,4353.3999999999996,2553.4,null,0,150,150,318.02999999999997]
["WALTON","Juvenile Delinquency","CGE CQ1-17",2732,2732,2732,2732,null,2482,2482,2482,2732]
["Washington","Juvenile Delinquency","CGE CQ1-17",632,800,800,585.5,null,0,6.5,6.5,249.5]

{"sheet":"CQ1-17 County Crim","index":22,"n_rows":67,"n_cols":12,"rows_kept":67,"cut":false,"hidden":true,"merged":[]}
["CountyName","CourtType","ControlGrpInfo","Assessment1stQ","Assessment2ndQ","Assessment3rdQ","Assessment4thQ","5 Quarter Assessment","Collection1stQ","Collection2ndQ","Collection3rdQ","Collection4thQ"]
["Alachua","County Criminal","CGE CQ1-17",207868.14,203862.14,199464.64,195827.64,null,35773.93,57674.05,65886.649999999994,70191.17]
["Baker","County Criminal","CGE CQ1-17",57177.5,57177.5,56779.5,56779.5,null,8743.61,13430.65,15750.72,18170.689999999999]
["Bay","County Criminal","CGE CQ1-17",630023.9,615030.9,607077.9,603247.9,null,47739.42,103271.1,152310.1,182397.76]
["Bradford","County Criminal","CGE CQ1-17",26739.5,26839.5,26689.5,26689.5,null,2400.5,6736.5,8571.25,9580.75]
["Brevard","County Criminal","CGE CQ1-17",412342.25,405775.25,402343.75,400481.75,null,68907.64,100770.07,125321.91,140102.37]
["Broward","County Criminal","CGE CQ1-17",1924867.22,1891866.41,1877127.75,1852597.86,null,353995.73,575423.64,719264.72,777202.34]
["Calhoun","County Criminal","CGE CQ1-17",8605,8480,8480,8455,null,432,1122,1498,1878]
["Charlotte","County Criminal","CGE CQ1-17",248913.4,244714.56,243666.32,241999.14,null,20039.03,49304.19,68000.44,77135.289999999994]
["Citrus","County Criminal","CGE CQ1-17",155542.66,182082.66,181374.66,181373.14,null,31382.3,62370.91,77356.59,86402.41]
["Clay","County Criminal","CGE CQ1-17",227930,227902,226967,226261,null,39850,85227,107808,121425]
["Collier","County Criminal","CGE CQ1-17",274784.19,272176.3,270733.81,270527.83,null,100251.29,131890,147750.04999999999,154405.32999999999]
["Columbia","County Criminal","CGE CQ1-17",108748.75,108643.75,108370.25,108370.25,null,8271.25,13634.5,22371.77,31617.17]
["Dade","County Criminal","CGE CQ1-17",1164287,1164287,1164287,1164287,null,92449,128485,169968,184032]
["Desoto","County Criminal","CGE CQ1-17",45902.94,46209.94,46209.94,46209.94,null,7592.64,12972.94,15984.94,18329.939999999999]
["Duval","County Criminal","CGE CQ1-17",1105509.56,1105509.56,1103563.56,1097052.06,null,99424.95,212249.1,257498.87,286414.03000000003]
["Escambia","County Criminal","CGE CQ1-17",654313.30000000005,645291.65,642358.80000000005,637668.41,null,127840.59,187816.95999999999,227143.16,272644.90999999997]
["Flagler","County Criminal","CGE CQ1-17",64186.5,62986.400000000001,62481.5,61575.5,null,10912.2,18232.95,23748.7,25386.7]
["Franklin","County Criminal","CGE CQ1-17",41480,41930,41710,41710,null,10972,16802,19351,20670]
["Gadsden","County Criminal","CGE CQ1-17",50563.5,48918.5,46388.5,45263.5,null,5402.5,11317.5,15509.5,17514.5]
["Gilchrist","County Criminal","CGE CQ1-17",11398,11398,11398,11398,null,1187,4210,5040,5564]
["Glades","County Criminal","CGE CQ1-17",9519,9084,8934,8559,null,4786,5986,6366,6496]
["Gulf","County Criminal","CGE CQ1-17",11930.01,11930.01,11930.01,11930.01,null,2604.0100000000002,4592.51,4992.51,5955.51]
["Hamilton","County Criminal","CGE CQ1-17",11895,11895,11895,11895,null,3942,4752,5210,5210]
["Hardee","County Criminal","CGE CQ1-17",25065.77,24735.77,24605.77,24605.77,null,5195.7700000000004,8938.77,11485.77,12348.77]
["Hendry","County Criminal","CGE CQ1-17",91370.05,89115.55,86902.55,84877.55,null,27054.99,36512.58,42688.58,46041.91]
["Hernando","County Criminal","CGE CQ1-17",324453.03999999998,316884.03999999998,319745.03999999998,319441.03999999998,null,70752.92,113480.19,142705.54,157557.70000000001]
["Highlands","County Criminal","CGE CQ1-17",111596.33,111227.25,111177.25,111177.25,null,9164.25,18348.25,24944.5,26433.75]
["Hillsborough","County Criminal","CGE CQ1-17",1589740,1458722,1444642,1440110,null,320711,385845,428384,445105]
["Holmes","County Criminal","CGE CQ1-17",32382.6,32382.6,31752.6,31752.6,null,5046.16,11675.14,16019.23,16282.53]
["Indian River","County Criminal","CGE CQ1-17",195485.7,194852.46,194815.58,194376.08,null,59949.24,93064.58,106164.87,112344.79]
["Jackson","County Criminal","CGE CQ1-17",26742,22588,22318,21952.29,null,8105.16,11764.16,12807.38,13612.98]
["Jefferson","County Criminal","CGE CQ1-17",5409.25,5409.25,5409.25,5409.25,null,1256,2015.5,2426.13,2699.86]
["Lafayette","County Criminal","CGE CQ1-17",3377.5,2107.5,2107.5,2107.5,null,625,725,725,725]
["Lake","County Criminal","CGE CQ1-17",450079.8,437101.5,433426.5,431017.33,null,69082.570000000007,109208.48,133574.54999999999,149818.64000000001]
["Lee","County Criminal","CGE CQ1-17",477334,446089,438615,435893,null,63131,134961,170406,180559]
["Leon","County Criminal","CGE CQ1-17",393163.14,398702.65,398334.8,398554.51,null,103948.47,125288.09,137160.48000000001,146588.12]
["Levy","County Criminal","CGE CQ1-17",36391.300000000003,35060.879999999997,34712.58,34018.480000000003,null,6200.8,10349.629999999999,12058.38,13420.53]
["Liberty","County Criminal","CGE CQ1-17",7545,7545,7545,7545,null,1958,3488,4183,4878]
["Madison","County Criminal","CGE CQ1-17",16916,16906,16906,16906.099999999999,null,1252,1872,3072,3542]
["Manatee","County Criminal","CGE CQ1-17",365552.92,359528.17,355554.17,351061.92,null,69072.78,105273.03,124509.78,137535.9]
["Marion","County Criminal","CGE CQ1-17",408481.21,407643.21,410097.21,411175.83,null,37396.97,88480.04,119133.19,129424.64]
["Martin","County Criminal","CGE CQ1-17",189944.5,187395,181999.5,175074,null,70850.8,93980.3,104234,113927.5]
["Monroe","County Criminal","CGE CQ1-17",321546,318977,318217,null,null,79533,125344,145459]
["Nassau","County Criminal","CGE CQ1-17",41496.949999999997,41194.949999999997,41194.949999999997,41194.949999999997,null,9906.75,19780.29,23240.47,24326.75]
["Okaloosa","County Criminal","CGE CQ1-17",389493.6,390513.6,390513.6,390243.6,null,78703.210000000006,135741.74,162182.39000000001,170115.36]
["Okeechobee","County Criminal","CGE CQ1-17",47566.75,46770.75,46920.75,46720.75,null,6291.42,15505.18,20039.25,21931.25]
["Orange","County Criminal","CGE CQ1-17",1195883,1178506,1177123,1175786,null,168169,254550,314721,351020]
["Osceola","County Criminal","CGE CQ1-17",330330.08,324888.45,323955.95,323160.45,null,84197.37,112479.38,135982.87,145746.48000000001]
["Palm Beach","County Criminal","CGE CQ1-17",1037896.28,1019792.07,1001561.48,992877.83,null,173775.92,231798.25,270011.15999999997,293693.28000000003]
["Pasco","County Criminal","CGE CQ1-17",572439.28,569268.56000000006,566322.06000000006,565551.06000000006,null,128617.18,188441.06,209680.71,232035.21]
["Pinellas","County Criminal","CGE CQ1-17",1638323,1563847,1551359,1543931,null,224601,371983,444425,498704]
["Polk","County Criminal","CGE CQ1-17",866855.82,861266.37,854838.66,849940.41,null,132381.63,228268.37,269332.47999999998,296543.17]
["PUTNAM","County Criminal","CGE CQ1-17",87491.04,88086.04,88237.04,87898.04,null,5178.03,18893.060000000001,29361.119999999999,33145.15]
["Santa Rosa","County Criminal","CGE CQ1-17",139870.93,139776.43,139512.43,138576.43,null,36199.35,50882.94,57863.41,62411.23]
["Sarasota","County Criminal","CGE CQ1-17",402014.69,398576.26,396399.26,394248.55,null,63295.9,96548.96,111925.13,119904.5]
["Seminole","County Criminal","CGE CQ1-17",1286978.99,388057,398705,404298.49,null,80532.77,171165.08,209269.92,231995.34]
["St. Johns","County Criminal","CGE CQ1-17",171483.6,167961.60000000001,163615.6,161753.60000000001,null,30754.04,48943.3,59500.97,64635.34]
["St. Lucie","County Criminal","CGE CQ1-17",439604.5,422191.19,411183.68,407102.02,null,58366.73,115864.52,154827.54,171993.06]
["Sumter","County Criminal","CGE CQ1-17",80288.95,79888.95,79563.95,79563.95,null,18614.38,34355.49,38274.239999999998,39720.74]
["Suwannee","County Criminal","CGE CQ1-17",36727.919999999998,36727.919999999998,35947.919999999998,35168.81,null,9190,12036.33,14152.33,16694.64]
["Taylor","County Criminal","CGE CQ1-17",33421.85,33421.85,33471.85,33471.85,null,7116.85,11925.35,16223.85,17956.849999999999]
["Union","County Criminal","CGE CQ1-17",6592.75,6192.75,6192.75,6192.75,null,929.75,2891.75,3485.75,3775.75]
["Volusia","County Criminal","CGE CQ1-17",845097.04,828619.04,822463.54,819028.04,null,141020.21,214736.83,265289.40999999997,286920.84999999998]
["Wakulla","County Criminal","CGE CQ1-17",13375.68,13235.68,13125.68,13125.68,null,3329.68,5915.68,7203.68,7843.68]
["WALTON","County Criminal","CGE CQ1-17",161335,161335,161335,161335,null,50592,70051,86765,93874]
["Washington","County Criminal","CGE CQ1-17",21606,22323.5,22144.83,22144.83,null,2875.93,6893.43,8114.83,8574.83]