{"text_format":"1","workbook":"xlsx","n_sheets":13,"sheets":["JAN16","FEB16","MAR16","APR16","MAY16","JUN16","JUL16","AUG16","SEP16","OCT16","NOV16","DEC16","SUMMARY16"],"not_rendered":{"charts":0,"images":0,"macros":0,"external_links":0,"defined_names":5,"comments":0,"pivot_tables":0},"unopened":[],"bounds":{"document_bytes":16777216,"sheet_cells":100000,"rows_first":2000,"rows_last":500,"rows_between":2000,"halvings":0,"cell_chars":16384,"cell_head_chars":4096},"cells_cut":0,"cells_raw":0,"read":"whole","date_system":"1900"}

{"sheet":"JAN16","index":0,"n_rows":29,"n_cols":12,"rows_kept":29,"cut":false,"hidden":false,"merged":[[28,0,28,2],[25,0,25,11],[16,0,16,11],[6,1,6,2],[27,0,27,11],[0,0,0,11],[1,0,1,11],[2,0,2,11],[3,0,3,11],[5,1,5,2]]}
["CLERK OF THE COURTS"]
["BREVARD COUNTY, FLORIDA"]
["Document Source Statistics January 2016"]
["Number of Documents Filed by Case Category"]
[]
["Case","Category",null,"Total # of Documents Filed","Documents Filed InCourt","Documents Filed Informix","Documents e-Filed","Total Docs Auto-Docketed","% of TOTAL InCourt","% of TOTAL Informix","% of TOTAL e-Filed","Total % of Documents Auto Docketed"]
["AP","APPEALS",null,56,0,0,38,{"$f":"SUM(G7)","v":38},{"$f":"E7/D7","v":0},{"$f":"F7/D7","v":0},{"$f":"G7/D7","v":0.6785714285714286},{"$f":"SUM(I7:K7)","v":0.6785714285714286}]
["CA","CIRCUIT CIVIL",null,17523,0,0,14254,14254,{"$f":"E8/D8","v":0},{"$f":"F8/D8","v":0},{"$f":"G8/D8","v":0.81344518632654228},{"$f":"SUM(I8:K8)","v":0.81344518632654228}]
["SC","COUNTY CIVIL SMALL CLAIMS",null,4028,0,0,3102,3102,0,0,0.77010923535253228,0.77010923535253228]
["DR","CIRCUIT CIVIL FAMILY",null,12665,0,0,6488,6488,0,0,0.51227793130675092,0.51227793130675092]
["CP","CIRCUIT CIVIL PROBATE",null,3806,0,0,3138,3138,0,0,0.82448765107724642,0.82448765107724642]
["GA","CIRCUIT CIVIL GUARDIANSHIP",null,1510,0,0,1458,1458,0,0,0.96556291390728477,0.96556291390728477]
["MH","CIRCUIT CIVIL MENTAL HEALTH",null,453,0,0,196,196,0,0,0.43267108167770418,0.43267108167770418]
["CC","COUNTY CIVIL",null,4511,0,0,2970,2970,0,0,0.65839060075371314,0.65839060075371314]
["DP","CIRCUIT JUVENILE DEPENDENCY",null,2432,0,0,1247,1247,0,0,0.51274671052631582,0.51274671052631582]
["TOTAL OF CIVIL DOCUMENTS",null,null,{"$f":"SUM(D7:D15)","v":46984},{"$f":"SUM(E7:E15)","v":0},{"$f":"SUM(F7:F15)","v":0},{"$f":"SUM(G7:G15)","v":32891},32891,{"$f":"E16/D16","v":0},0,0.70004682445087685,0.70004682445087685]
[]
["CJ","CIRCUIT JUVENILE DELINQUENCY",null,5257,3865,1,890,{"$f":"SUM(E18:G18)","v":4756},{"$f":"E18/D18","v":0.7352101959292372},{"$f":"F18/D18","v":1.9022256039566293E-4},{"$f":"G18/D18","v":0.16929807875214001},{"$f":"H18/D18","v":0.90469849724177287}]
["CF","CIRCUIT CRIMINAL FELONY",null,29222,10414,293,8195,18902,0.35637533365272739,{"$f":"F19/D19","v":1.0026692218191774E-2},{"$f":"G19/D19","v":0.28043939497638765},{"$f":"H19/D19","v":0.64684142084730678}]
["MM","COUNTY CRIMINAL MISDEMEANOR",null,13410,8062,147,2065,10274,0.60119313944817299,1.0961968680089485E-2,0.1539895600298285,0.76614466815809101]
["CO","COUNTY ORDINANCE",null,59,38,0,14,52,0.64406779661016944,0,0.23728813559322035,0.88135593220338981]
["MO","COUNTY COURT MUNICIPAL ORDINANCE",null,234,144,28,33,205,0.61538461538461542,0.11965811965811966,0.14102564102564102,0.87606837606837606]
["IN","COUNTY COURT INFRACTIONS",null,242,11,0,2,13,4.5454545454545456E-2,0,8.2644628099173556E-3,5.3719008264462811E-2]
["CT","COUNTY CRIMINAL TRAFFIC",null,10235,5626,329,1264,7219,0.54968246213971661,3.2144601856375181E-2,0.12349780166096727,0.7053248656570591]
["TOTAL OF CRIMINAL DOCUMENTS",null,null,{"$f":"SUM(D18:D24)","v":58659},{"$f":"SUM(E18:E24)","v":28160},{"$f":"SUM(F18:F24)","v":798},{"$f":"SUM(G18:G24)","v":12463},41421,0.48006273547111272,1.3604050529330537E-2,0.21246526534717605,0.70613205134761925]
[]
["TR","COUNTY CIVIL TRAFFIC",null,6827,823,0,210,{"$f":"SUM(E27:G27)","v":1033},{"$f":"E27/D27","v":0.12055075435769738},{"$f":"F27/D27","v":0},{"$f":"G27/D27","v":3.0760216786289731E-2},{"$f":"H27/D27","v":0.15131097114398712}]
[]
["TOTAL ALL COURT DOCUMENTS",null,null,{"$f":"D16+D25+D27","v":112470},{"$f":"E16+E25+E27","v":28983},{"$f":"F16+F25+F27","v":798},{"$f":"G16+G25+G27","v":45564},{"$f":"SUM(E29:G29)","v":75345},{"$f":"E29/D29","v":0.25769538543611631},{"$f":"F29/D29","v":7.09522539343825E-3},{"$f":"G29/D29","v":0.40512136569751933},{"$f":"H29/D29","v":0.6699119765270739}]

{"sheet":"FEB16","index":1,"n_rows":29,"n_cols":12,"rows_kept":29,"cut":false,"hidden":false,"merged":[[28,0,28,2],[0,0,0,11],[1,0,1,11],[2,0,2,11],[3,0,3,11],[5,1,5,2],[6,1,6,2],[27,0,27,11],[16,0,16,11],[25,0,25,11]]}
["CLERK OF THE COURTS"]
["BREVARD COUNTY, FLORIDA"]
["Document Source Statistics February 2016"]
["Number of Documents Filed by Case Category"]
[]
["Case","Category",null,"Total # of Documents Filed","Documents Filed InCourt","Documents Filed Informix","Documents e-Filed","Total Docs Auto-Docketed","% of TOTAL InCourt","% of TOTAL Informix","% of TOTAL e-Filed","Total % of Documents Auto Docketed"]
["AP","APPEALS",null,75,0,0,57,{"$f":"E7+F7+G7","v":57},{"$f":"E7/D7","v":0},{"$f":"F7/D7","v":0},{"$f":"G7/D7","v":0.76},{"$f":"SUM(I7:K7)","v":0.76}]
["CA","CIRCUIT CIVIL",null,19260,0,0,14863,{"$f":"E8+F8+G8","v":14863},{"$f":"E8/D8","v":0},{"$f":"F8/D8","v":0},{"$f":"G8/D8","v":0.77170301142263764},{"$f":"SUM(I8:K8)","v":0.77170301142263764}]
["SC","COUNTY CIVIL SMALL CLAIMS",null,3993,0,0,3091,3091,0,0,0.77410468319559234,0.77410468319559234]
["DR","CIRCUIT CIVIL FAMILY",null,13902,0,0,7283,7283,0,0,0.52388145590562507,0.52388145590562507]
["CP","CIRCUIT CIVIL PROBATE",null,4225,0,0,3297,3297,0,0,0.78035502958579883,0.78035502958579883]
["GA","CIRCUIT CIVIL GUARDIANSHIP",null,1725,0,0,1620,1620,0,0,0.93913043478260871,0.93913043478260871]
["MH","CIRCUIT CIVIL MENTAL HEALTH",null,682,0,0,307,307,0,0,0.45014662756598239,0.45014662756598239]
["CC","COUNTY CIVIL",null,4890,0,1,3253,3254,0,2.0449897750511248E-4,0.66523517382413089,0.66543967280163596]
["DP","CIRCUIT JUVENILE DEPENDENCY",null,2887,0,0,1563,1563,0,0,0.54139244890890192,0.54139244890890192]
["TOTAL OF CIVIL DOCUMENTS",null,null,{"$f":"SUM(D7:D15)","v":51639},{"$f":"SUM(E7:E15)","v":0},{"$f":"SUM(F7:F15)","v":1},{"$f":"SUM(G7:G15)","v":35334},{"$f":"SUM(G16)","v":35334},{"$f":"E16/D16","v":0},1.9365208466469142E-5,0.68425027595422061,0.68426964116268707]
[]
["CJ","CIRCUIT JUVENILE DELINQUENCY",null,6238,4549,0,1137,{"$f":"SUM(E18:G18)","v":5686},{"$f":"E18/D18","v":0.729240141070856},{"$f":"F18/D18","v":0},{"$f":"G18/D18","v":0.18226995831997436},{"$f":"H18/D18","v":0.91151009939083039}]
["CF","CIRCUIT CRIMINAL FELONY",null,26011,9357,309,6215,{"$f":"SUM(E19:G19)","v":15881},0.35973242089885049,{"$f":"F19/D19","v":1.1879589404482719E-2},{"$f":"G19/D19","v":0.23893737265003268},{"$f":"H19/D19","v":0.61054938295336592}]
["MM","COUNTY CRIMINAL MISDEMEANOR",null,12986,7416,152,2386,9954,0.57107654397042973,1.1704912983212691E-2,0.18373633143385185,0.76651778838749418]
["CO","COUNTY ORDINANCE",null,82,60,2,6,68,0.73170731707317072,2.4390243902439025E-2,7.3170731707317069E-2,0.82926829268292679]
["MO","COUNTY COURT MUNICIPAL ORDINANCE",null,291,194,5,44,243,0.66666666666666663,1.7182130584192441E-2,0.15120274914089346,0.83505154639175261]
["IN","COUNTY COURT INFRACTIONS",null,228,14,0,9,23,6.1403508771929821E-2,0,3.9473684210526314E-2,0.10087719298245613]
["CT","COUNTY CRIMINAL TRAFFIC",null,10467,5932,202,1525,7659,0.56673354351772232,1.9298748447501672E-2,0.14569599694277252,0.73172828890799657]
["TOTAL OF CRIMINAL DOCUMENTS",null,null,{"$f":"SUM(D18:D24)","v":56303},{"$f":"SUM(E18:E24)","v":27522},{"$f":"SUM(F18:F24)","v":670},{"$f":"SUM(G18:G24)","v":11322},{"$f":"SUM(E25:G25)","v":39514},0.48881942347654656,1.1899898762055309E-2,0.20109052803580627,0.70180985027440812]
[]
["TR","COUNTY CIVIL TRAFFIC",null,7593,770,1,258,0,{"$f":"E27/D27","v":0.10140919267746609},{"$f":"F27/D27","v":1.3170025023047545E-4},{"$f":"G27/D27","v":3.3978664559462662E-2},{"$f":"H27/D27","v":0}]
[]
["TOTAL ALL COURT DOCUMENTS",null,null,{"$f":"+D16+D25+D27","v":115535},{"$f":"E16+E25+E27","v":28292},{"$f":"F16+F25+F27","v":672},{"$f":"G16+G25+G27","v":46914},{"$f":"SUM(E29:G29)","v":75878},{"$f":"E29/D29","v":0.24487817544467044},{"$f":"F29/D29","v":5.8164192668888216E-3},{"$f":"G29/D29","v":0.40605877006967583},{"$f":"H29/D29","v":0.65675336478123514}]

{"sheet":"MAR16","index":2,"n_rows":29,"n_cols":12,"rows_kept":29,"cut":false,"hidden":false,"merged":[[0,0,0,11],[1,0,1,11],[2,0,2,11],[3,0,3,11],[5,1,5,2],[6,1,6,2],[27,0,27,11],[28,0,28,2],[16,0,16,11],[25,0,25,11]]}
["CLERK OF THE COURTS"]
["BREVARD COUNTY, FLORIDA"]
["Document Source Statistics March 2016"]
["Number of Documents Filed by Case Category"]
[]
["Case","Category",null,"Total # of Documents Filed","Documents Filed InCourt","Documents Filed Informix","Documents e-Filed","Total Docs Auto-Docketed","% of TOTAL InCourt","% of TOTAL Informix","% of TOTAL e-Filed","Total % of Documents Auto Docketed"]
["AP","APPEALS",null,56,0,0,41,{"$f":"E7+F7+G7","v":41},{"$f":"E7/D7","v":0},{"$f":"F7/D7","v":0},{"$f":"G7/D7","v":0.7321428571428571},{"$f":"SUM(I7:K7)","v":0.7321428571428571}]
["CA","CIRCUIT CIVIL",null,19647,0,0,15950,{"$f":"E8+F8+G8","v":15950},{"$f":"E8/D8","v":0},{"$f":"F8/D8","v":0},{"$f":"G8/D8","v":0.81182877793047281},{"$f":"SUM(I8:K8)","v":0.81182877793047281}]
["SC","COUNTY CIVIL SMALL CLAIMS",null,4646,0,0,3441,3441,0,0,0.74063710718897979,0.74063710718897979]
["DR","CIRCUIT CIVIL FAMILY",null,14663,0,0,7618,7618,0,0,0.51953897565300411,0.51953897565300411]
["CP","CIRCUIT CIVIL PROBATE",null,4545,0,0,3709,3709,0,0,0.81606160616061607,0.81606160616061607]
["GA","CIRCUIT CIVIL GUARDIANSHIP",null,2123,0,0,2025,2025,0,0,0.95383890720678288,0.95383890720678288]
["MH","CIRCUIT CIVIL MENTAL HEALTH",null,706,0,0,327,327,0,0,0.46317280453257792,0.46317280453257792]
["CC","COUNTY CIVIL",null,4878,0,0,3248,3248,0,0,0.66584665846658464,0.66584665846658464]
["DP","CIRCUIT JUVENILE DEPENDENCY",null,2615,0,0,1647,1647,0,0,0.62982791586998088,0.62982791586998088]
["TOTAL OF CIVIL DOCUMENTS",null,null,{"$f":"SUM(D7:D15)","v":53879},{"$f":"SUM(E7:E15)","v":0},{"$f":"SUM(F7:F15)","v":0},{"$f":"SUM(G7:G15)","v":38006},{"$f":"SUM(G16)","v":38006},{"$f":"E16/D16","v":0},0,0.70539542307763692,0.70539542307763692]
[]
["CJ","CIRCUIT JUVENILE DELINQUENCY",null,6399,4145,46,1216,{"$f":"SUM(E18:G18)","v":5407},{"$f":"E18/D18","v":0.64775746210345364},{"$f":"F18/D18","v":7.1886232223784966E-3},{"$f":"G18/D18","v":0.19002969213939677},{"$f":"H18/D18","v":0.84497577746522889}]
["CF","CIRCUIT CRIMINAL FELONY",null,26965,9183,329,6495,{"$f":"SUM(E19:G19)","v":16007},0.34055256814389023,{"$f":"F19/D19","v":1.2201001297978862E-2},{"$f":"G19/D19","v":0.24086779158167995},{"$f":"H19/D19","v":0.59362136102354901}]
["MM","COUNTY CRIMINAL MISDEMEANOR",null,14711,8753,188,2471,11412,0.59499694106450951,1.2779552715654952E-2,0.16796954659778396,0.77574604037794848]
["CO","COUNTY ORDINANCE",null,65,44,0,8,52,0.67692307692307696,0,0.12307692307692308,0.8]
["MO","COUNTY COURT MUNICIPAL ORDINANCE",null,199,102,11,28,141,0.51256281407035176,5.5276381909547742E-2,0.1407035175879397,0.70854271356783916]
["IN","COUNTY COURT INFRACTIONS",null,378,9,1,0,10,2.3809523809523808E-2,2.6455026455026454E-3,0,2.6455026455026454E-2]
["CT","COUNTY CRIMINAL TRAFFIC",null,12459,7427,285,1505,9217,0.5961152580463922,2.2875030098723815E-2,0.1207962115739626,0.73978649971907862]
["TOTAL OF CRIMINAL DOCUMENTS",null,null,{"$f":"SUM(D18:D24)","v":61176},{"$f":"SUM(E18:E24)","v":29663},{"$f":"SUM(F18:F24)","v":860},{"$f":"SUM(G18:G24)","v":11723},{"$f":"SUM(E25:G25)","v":42246},0.48487969138224141,1.4057800444618804E-2,0.19162743559565842,0.69056492742251863]
[]
["TR","COUNTY CIVIL TRAFFIC",null,8224,787,0,257,0,{"$f":"E27/D27","v":9.5695525291828787E-2},{"$f":"F27/D27","v":0},{"$f":"G27/D27","v":3.125E-2},{"$f":"H27/D27","v":0}]
[]
["TOTAL ALL COURT DOCUMENTS",null,null,{"$f":"D16+D25+D27","v":123279},{"$f":"E16+E25+E27","v":30450},{"$f":"F16+F25+F27","v":860},{"$f":"G16+G25+G27","v":49986},{"$f":"SUM(E29:G29)","v":81296},{"$f":"E29/D29","v":0.24700070571630206},{"$f":"F29/D29","v":6.9760462041385798E-3},{"$f":"G29/D29","v":0.40547051809310586},{"$f":"H29/D29","v":0.65944727001354653}]

{"sheet":"APR16","index":3,"n_rows":29,"n_cols":12,"rows_kept":29,"cut":false,"hidden":false,"merged":[[0,0,0,11],[1,0,1,11],[2,0,2,11],[3,0,3,11],[28,0,28,2],[25,0,25,11],[16,0,16,11],[5,1,5,2],[6,1,6,2],[27,0,27,11]]}
["CLERK OF THE COURTS"]
["BREVARD COUNTY, FLORIDA"]
["Document Source Statistics April 2016"]
["Number of Documents Filed by Case Category"]
[]
["Case","Category",null,"Total # of Documents Filed","Documents Filed InCourt","Documents Filed Informix","Documents e-Filed","Total Docs Auto-Docketed","% of TOTAL InCourt","% of TOTAL Informix","% of TOTAL e-Filed","Total % of Documents Auto Docketed"]
["AP","APPEALS",null,49,0,0,40,{"$f":"E7+F7+G7","v":40},{"$f":"E7/D7","v":0},{"$f":"F7/D7","v":0},{"$f":"G7/D7","v":0.81632653061224492},{"$f":"SUM(I7:K7)","v":0.81632653061224492}]
["CA","CIRCUIT CIVIL",null,19171,0,0,14909,{"$f":"E8+F8+G8","v":14909},{"$f":"E8/D8","v":0},{"$f":"F8/D8","v":0},{"$f":"G8/D8","v":0.77768504512023373},{"$f":"SUM(I8:K8)","v":0.77768504512023373}]
["SC","COUNTY CIVIL SMALL CLAIMS",null,3736,0,0,2985,2985,0,0,0.79898286937901497,0.79898286937901497]
["DR","CIRCUIT CIVIL FAMILY",null,14876,0,0,7797,7797,0,0,0.52413283140629197,0.52413283140629197]
["CP","CIRCUIT CIVIL PROBATE",null,4155,0,0,3407,3407,0,0,0.81997593261131163,0.81997593261131163]
["GA","CIRCUIT CIVIL GUARDIANSHIP",null,1827,0,0,1712,1712,0,0,0.93705528188286813,0.93705528188286813]
["MH","CIRCUIT CIVIL MENTAL HEALTH",null,737,0,0,300,300,0,0,0.40705563093622793,0.40705563093622793]
["CC","COUNTY CIVIL",null,4433,0,0,3062,3062,0,0,0.6907286262124972,0.6907286262124972]
["DP","CIRCUIT JUVENILE DEPENDENCY",null,2743,0,0,1761,1761,0,0,0.64199781261392641,0.64199781261392641]
["TOTAL OF CIVIL DOCUMENTS",null,null,{"$f":"SUM(D7:D15)","v":51727},{"$f":"SUM(E7:E15)","v":0},0,{"$f":"SUM(G7:G15)","v":35973},{"$f":"SUM(H7:H15)","v":35973},{"$f":"E16/D16","v":0},0,0.69543951901328127,0.69543951901328127]
[]
["CJ","CIRCUIT JUVENILE DELINQUENCY",null,6529,4329,0,1029,{"$f":"SUM(E18:G18)","v":5358},{"$f":"E18/D18","v":0.66304181344769486},{"$f":"F18/D18","v":0},{"$f":"G18/D18","v":0.15760453361923724},{"$f":"H18/D18","v":0.82064634706693218}]
["CF","CIRCUIT CRIMINAL FELONY",null,26508,10846,357,5978,{"$f":"SUM(E19:G19)","v":17181},0.40915949901916404,{"$f":"F19/D19","v":1.3467632412856496E-2},{"$f":"G19/D19","v":0.22551682510940094},{"$f":"H19/D19","v":0.64814395654142143}]
["MM","COUNTY CRIMINAL MISDEMEANOR",null,13769,8172,170,2431,10773,0.59350715375118024,1.234657564093253E-2,0.17655603166533518,0.78240976105744786]
["CO","COUNTY ORDINANCE",null,20,10,12,9,31,0.5,0.6,0.45,1.55]
["MO","COUNTY COURT MUNICIPAL ORDINANCE",null,266,178,0,25,203,0.66917293233082709,0,9.3984962406015032E-2,0.76315789473684215]
["IN","COUNTY COURT INFRACTIONS",null,313,15,1,3,19,4.7923322683706068E-2,3.1948881789137379E-3,9.5846645367412137E-3,6.070287539936102E-2]
["CT","COUNTY CRIMINAL TRAFFIC",null,10929,6126,517,1385,8028,0.56052703815536642,4.730533443132949E-2,0.12672705645530241,0.73455942904199834]
["TOTAL OF CRIMINAL DOCUMENTS",null,null,{"$f":"SUM(D18:D24)","v":58334},{"$f":"SUM(E18:E24)","v":29676},{"$f":"SUM(F18:F24)","v":1057},{"$f":"SUM(G18:G24)","v":10860},{"$f":"SUM(E25:G25)","v":41593},0.50872561456440502,1.8119792916652382E-2,0.18616930092227518,0.71301470840333259]
[]
["TR","COUNTY CIVIL TRAFFIC",null,7234,855,121,223,0,{"$f":"E27/D27","v":0.11819187171689245},{"$f":"F27/D27","v":1.672656897981753E-2},{"$f":"G27/D27","v":3.0826651921481891E-2},{"$f":"H27/D27","v":0}]
[]
["TOTAL ALL COURT DOCUMENTS",null,null,{"$f":"D16+D25+D27","v":117295},{"$f":"E16+E25+E27","v":30531},{"$f":"F16+F25+F27","v":1178},{"$f":"G16+G25+G27","v":47056},{"$f":"SUM(E29:G29)","v":78765},{"$f":"E29/D29","v":0.26029242508205808},{"$f":"F29/D29","v":1.0043053838612046E-2},{"$f":"G29/D29","v":0.40117652073830939},{"$f":"H29/D29","v":0.67151199965897945}]

{"sheet":"MAY16","index":4,"n_rows":29,"n_cols":12,"rows_kept":29,"cut":false,"hidden":false,"merged":[[0,0,0,11],[1,0,1,11],[2,0,2,11],[3,0,3,11],[28,0,28,2],[25,0,25,11],[16,0,16,11],[5,1,5,2],[6,1,6,2],[27,0,27,11]]}
["CLERK OF THE COURTS"]
["BREVARD COUNTY, FLORIDA"]
["Document Source Statistics May 2016"]
["Number of Documents Filed by Case Category"]
[]
["Case","Category",null,"Total # of Documents Filed","Documents Filed InCourt","Documents Filed Informix","Documents e-Filed","Total Docs Auto-Docketed","% of TOTAL InCourt","% of TOTAL Informix","% of TOTAL e-Filed","Total % of Documents Auto Docketed"]
["AP","APPEALS",null,46,0,0,31,{"$f":"E7+F7+G7","v":31},{"$f":"E7/D7","v":0},{"$f":"F7/D7","v":0},{"$f":"G7/D7","v":0.67391304347826086},{"$f":"SUM(I7:K7)","v":0.67391304347826086}]
["CA","CIRCUIT CIVIL",null,18006,0,0,14524,{"$f":"E8+F8+G8","v":14524},{"$f":"E8/D8","v":0},{"$f":"F8/D8","v":0},{"$f":"G8/D8","v":0.8066200155503721},{"$f":"SUM(I8:K8)","v":0.8066200155503721}]
["SC","COUNTY CIVIL SMALL CLAIMS",null,3637,0,0,2885,2885,0,0,0.79323618366785809,0.79323618366785809]
["DR","CIRCUIT CIVIL FAMILY",null,14878,0,0,7388,7388,0,0,0.49657211990858985,0.49657211990858985]
["CP","CIRCUIT CIVIL PROBATE",null,4460,0,0,3727,3727,0,0,0.8356502242152466,0.8356502242152466]
["GA","CIRCUIT CIVIL GUARDIANSHIP",null,1882,0,0,1735,1735,0,0,0.92189160467587672,0.92189160467587672]
["MH","CIRCUIT CIVIL MENTAL HEALTH",null,720,0,0,283,283,0,0,0.39305555555555555,0.39305555555555555]
["CC","COUNTY CIVIL",null,4455,0,1,3122,3123,0,2.244668911335578E-4,0.70078563411896744,0.70101010101010097]
["DP","CIRCUIT JUVENILE DEPENDENCY",null,2434,0,3,1522,1525,0,1.2325390304026294E-3,0.62530813475760061,0.62654067378800327]
["TOTAL OF CIVIL DOCUMENTS",null,null,{"$f":"SUM(D7:D15)","v":50518},{"$f":"SUM(E7:E15)","v":0},{"$f":"SUM(F7:F15)","v":4},{"$f":"SUM(G7:G15)","v":35217},{"$f":"SUM(H7:H15)","v":35221},{"$f":"E16/D16","v":0},7.9179698325349378E-5,0.69711785898095724,0.69719703867928262]
[]
["CJ","CIRCUIT JUVENILE DELINQUENCY",null,6178,4789,0,874,{"$f":"SUM(E18:G18)","v":5663},{"$f":"E18/D18","v":0.77516995791518295},{"$f":"F18/D18","v":0},{"$f":"G18/D18","v":0.14146973130462934},{"$f":"H18/D18","v":0.9166396892198122}]
["CF","CIRCUIT CRIMINAL FELONY",null,25120,9666,365,5939,{"$f":"SUM(E19:G19)","v":15970},0.38479299363057323,{"$f":"F19/D19","v":1.4530254777070064E-2},{"$f":"G19/D19","v":0.23642515923566879},{"$f":"H19/D19","v":0.63574840764331209}]
["MM","COUNTY CRIMINAL MISDEMEANOR",null,13380,7106,140,2205,9451,0.53109118086696561,1.0463378176382661E-2,0.16479820627802691,0.70635276532137514]
["CO","COUNTY ORDINANCE",null,70,46,4,12,62,0.65714285714285714,5.7142857142857141E-2,0.17142857142857143,0.88571428571428568]
["MO","COUNTY COURT MUNICIPAL ORDINANCE",null,232,123,10,19,152,0.53017241379310343,4.3103448275862072E-2,8.1896551724137928E-2,0.65517241379310343]
["IN","COUNTY COURT INFRACTIONS",null,405,15,0,1,16,3.7037037037037035E-2,0,2.4691358024691358E-3,3.9506172839506172E-2]
["CT","COUNTY CRIMINAL TRAFFIC",null,10374,5538,200,1327,7065,0.53383458646616544,1.9278966647387701E-2,0.1279159437054174,0.68102949681897051]
["TOTAL OF CRIMINAL DOCUMENTS",null,null,{"$f":"SUM(D18:D24)","v":55759},{"$f":"SUM(E18:E24)","v":27283},{"$f":"SUM(F18:F24)","v":719},{"$f":"SUM(G18:G24)","v":10377},{"$f":"SUM(E25:G25)","v":38379},0.4893021754335623,1.2894779318136982E-2,0.18610448537455837,0.6883014401262576]
[]
["TR","COUNTY CIVIL TRAFFIC",null,6954,618,162,266,0,{"$f":"E27/D27","v":8.8869715271786026E-2},{"$f":"F27/D27","v":2.3295944779982744E-2},{"$f":"G27/D27","v":3.825136612021858E-2},{"$f":"H27/D27","v":0}]
[]
["TOTAL ALL COURT DOCUMENTS",null,null,{"$f":"D16+D25+D27","v":113231},{"$f":"E16+E25+E27","v":27901},{"$f":"F16+F25+F27","v":885},{"$f":"G16+G25+G27","v":45860},{"$f":"SUM(E29:G29)","v":74646},{"$f":"E29/D29","v":0.2464077858536973},{"$f":"F29/D29","v":7.8158808100255231E-3},{"$f":"G29/D29","v":0.4050127615229045},{"$f":"H29/D29","v":0.65923642818662731}]

{"sheet":"JUN16","index":5,"n_rows":29,"n_cols":12,"rows_kept":29,"cut":false,"hidden":false,"merged":[[0,0,0,11],[1,0,1,11],[2,0,2,11],[3,0,3,11],[28,0,28,2],[5,1,5,2],[6,1,6,2],[16,0,16,11],[25,0,25,11],[27,0,27,11]]}
["CLERK OF THE COURTS"]
["BREVARD COUNTY, FLORIDA"]
["Document Source Statistics June 2016"]
["Number of Documents Filed by Case Category"]
[]
["Case","Category",null,"Total # of Documents Filed","Documents Filed InCourt","Documents Filed Informix","Documents e-Filed","Total Docs Auto-Docketed","% of TOTAL InCourt","% of TOTAL Informix","% of TOTAL e-Filed","Total % of Documents Auto Docketed"]
["AP","APPEALS",null,51,0,0,36,{"$f":"E7+F7+G7","v":36},{"$f":"E7/D7","v":0},{"$f":"F7/D7","v":0},{"$f":"G7/D7","v":0.70588235294117652},{"$f":"SUM(I7:K7)","v":0.70588235294117652}]
["CA","CIRCUIT CIVIL",null,18915,0,0,15398,{"$f":"E8+F8+G8","v":15398},{"$f":"E8/D8","v":0},{"$f":"F8/D8","v":0},{"$f":"G8/D8","v":0.81406291303198519},{"$f":"SUM(I8:K8)","v":0.81406291303198519}]
["SC","COUNTY CIVIL SMALL CLAIMS",null,4404,0,0,3471,3471,0,0,0.78814713896457766,0.78814713896457766]
["DR","CIRCUIT CIVIL FAMILY",null,15487,0,0,8302,8302,0,0,0.53606250403564282,0.53606250403564282]
["CP","CIRCUIT CIVIL PROBATE",null,4011,0,0,3320,3320,0,0,0.82772375966093248,0.82772375966093248]
["GA","CIRCUIT CIVIL GUARDIANSHIP",null,1871,0,0,1788,1788,0,0,0.95563869588455375,0.95563869588455375]
["MH","CIRCUIT CIVIL MENTAL HEALTH",null,811,0,0,281,281,0,0,0.34648581997533906,0.34648581997533906]
["CC","COUNTY CIVIL",null,5052,0,0,3326,3326,0,0,0.65835312747426766,0.65835312747426766]
["DP","CIRCUIT JUVENILE DEPENDENCY",null,2762,0,0,1838,1838,0,0,0.66545981173062996,0.66545981173062996]
["TOTAL OF CIVIL DOCUMENTS",null,null,{"$f":"SUM(D7:D15)","v":53364},{"$f":"SUM(E7:E15)","v":0},0,{"$f":"SUM(G7:G15)","v":37760},{"$f":"SUM(H7:H15)","v":37760},{"$f":"E16/D16","v":0},0,0.70759313394797996,0.70759313394797996]
[]
["CJ","CIRCUIT JUVENILE DELINQUENCY",null,6342,4649,0,1128,{"$f":"SUM(E18:G18)","v":5777},{"$f":"E18/D18","v":0.73304951119520656},{"$f":"F18/D18","v":0},{"$f":"G18/D18","v":0.17786187322611163},{"$f":"H18/D18","v":0.91091138442131825}]
["CF","CIRCUIT CRIMINAL FELONY",null,30678,9013,385,7056,{"$f":"SUM(E19:G19)","v":16454},0.29379359801812371,{"$f":"F19/D19","v":1.2549709889823325E-2},{"$f":"G19/D19","v":0.23000195579894386},{"$f":"H19/D19","v":0.53634526370689095}]
["MM","COUNTY CRIMINAL MISDEMEANOR",null,15401,7173,188,2418,9779,0.46574897733913384,1.220699954548406E-2,0.15700279202649178,0.63495876891110969]
["CO","COUNTY ORDINANCE",null,101,52,0,11,63,0.51485148514851486,0,0.10891089108910891,0.62376237623762376]
["MO","COUNTY COURT MUNICIPAL ORDINANCE",null,211,94,19,21,134,0.44549763033175355,9.004739336492891E-2,9.9526066350710901E-2,0.63507109004739337]
["IN","COUNTY COURT INFRACTIONS",null,365,13,0,8,21,3.5616438356164383E-2,0,2.1917808219178082E-2,5.7534246575342465E-2]
["CT","COUNTY CRIMINAL TRAFFIC",null,11897,6232,460,1507,8199,0.52382953685803146,3.8665209716735309E-2,0.12667058922417415,0.6891653357989409]
["TOTAL OF CRIMINAL DOCUMENTS",null,null,{"$f":"SUM(D18:D24)","v":64995},{"$f":"SUM(E18:E24)","v":27226},{"$f":"SUM(F18:F24)","v":1052},{"$f":"SUM(G18:G24)","v":12149},{"$f":"SUM(E25:G25)","v":40427},0.41889376105854298,1.6185860450803908E-2,0.18692207092853297,0.62200169243787984]
[]
["TR","COUNTY CIVIL TRAFFIC",null,8299,918,168,285,0,{"$f":"E27/D27","v":0.11061573683576334},{"$f":"F27/D27","v":2.0243402819616823E-2},{"$f":"G27/D27","v":3.4341486926135679E-2},{"$f":"H27/D27","v":0}]
[]
["TOTAL ALL COURT DOCUMENTS",null,null,{"$f":"D16+D25+D27","v":126658},{"$f":"E16+E25+E27","v":28144},{"$f":"F16+F25+F27","v":1220},{"$f":"G16+G25+G27","v":50194},{"$f":"SUM(E29:G29)","v":79558},{"$f":"E29/D29","v":0.22220467716212161},{"$f":"F29/D29","v":9.6322379952312534E-3},{"$f":"G29/D29","v":0.39629553601035861},{"$f":"H29/D29","v":0.62813245116771144}]

{"sheet":"JUL16","index":6,"n_rows":29,"n_cols":12,"rows_kept":29,"cut":false,"hidden":false,"merged":[[0,0,0,11],[1,0,1,11],[2,0,2,11],[3,0,3,11],[28,0,28,2],[5,1,5,2],[6,1,6,2],[16,0,16,11],[25,0,25,11],[27,0,27,11]]}
["CLERK OF THE COURTS"]
["BREVARD COUNTY, FLORIDA"]
["Document Source Statistics July 2016"]
["Number of Documents Filed by Case Category"]
[]
["Case","Category",null,"Total # of Documents Filed","Documents Filed InCourt","Documents Filed Informix","Documents e-Filed","Total Docs Auto-Docketed","% of TOTAL InCourt","% of TOTAL Informix","% of TOTAL e-Filed","Total % of Documents Auto Docketed"]
["AP","APPEALS",null,61,0,1,35,{"$f":"E7+F7+G7","v":36},{"$f":"E7/D7","v":0},{"$f":"F7/D7","v":1.6393442622950821E-2},{"$f":"G7/D7","v":0.57377049180327866},{"$f":"SUM(I7:K7)","v":0.5901639344262295}]
["CA","CIRCUIT CIVIL",null,17258,0,286,13833,{"$f":"E8+F8+G8","v":14119},{"$f":"E8/D8","v":0},{"$f":"F8/D8","v":1.6572024568316142E-2},{"$f":"G8/D8","v":0.80154131417313712},{"$f":"SUM(I8:K8)","v":0.81811333874145331}]
["SC","COUNTY CIVIL SMALL CLAIMS",null,3347,0,42,2626,2668,0,1.254855094114132E-2,0.78458320884374066,0.79713175978488193]
["DR","CIRCUIT CIVIL FAMILY",null,14536,0,132,8142,8274,0,9.0809025866813425E-3,0.560126582278481,0.56920748486516237]
["CP","CIRCUIT CIVIL PROBATE",null,4030,0,94,3361,3455,0,2.3325062034739455E-2,0.83399503722084367,0.85732009925558317]
["GA","CIRCUIT CIVIL GUARDIANSHIP",null,1646,0,30,1599,1629,0,1.8226002430133656E-2,0.97144592952612396,0.98967193195625758]
["MH","CIRCUIT CIVIL MENTAL HEALTH",null,628,0,16,218,234,0,2.5477707006369428E-2,0.34713375796178342,0.37261146496815284]
["CC","COUNTY CIVIL",null,4798,0,77,3236,3313,0,1.6048353480616923E-2,0.67444768653605669,0.69049604001667364]
["DP","CIRCUIT JUVENILE DEPENDENCY",null,2550,0,28,1729,1757,0,1.0980392156862745E-2,0.67803921568627445,0.68901960784313721]
["TOTAL OF CIVIL DOCUMENTS",null,null,{"$f":"SUM(D7:D15)","v":48854},{"$f":"SUM(E7:E15)","v":0},{"$f":"SUM(F7:F15)","v":706},{"$f":"SUM(G7:G15)","v":34779},{"$f":"SUM(H7:H15)","v":35485},{"$f":"E16/D16","v":0},1.445122200843329E-2,0.71189667171572435,0.72634789372415764]
[]
["CJ","CIRCUIT JUVENILE DELINQUENCY",null,6679,5027,30,1053,{"$f":"SUM(E18:G18)","v":6110},{"$f":"E18/D18","v":0.75265758347057943},{"$f":"F18/D18","v":4.4916903728103013E-3},{"$f":"G18/D18","v":0.15765833208564156},{"$f":"H18/D18","v":0.91480760592903132}]
["CF","CIRCUIT CRIMINAL FELONY",null,26250,7698,697,6001,{"$f":"SUM(E19:G19)","v":14396},0.29325714285714288,{"$f":"F19/D19","v":2.6552380952380952E-2},{"$f":"G19/D19","v":0.22860952380952382},{"$f":"H19/D19","v":0.54841904761904758}]
["MM","COUNTY CRIMINAL MISDEMEANOR",null,11920,4205,278,1984,6467,0.35276845637583892,2.3322147651006712E-2,0.16644295302013423,0.54253355704697992]
["CO","COUNTY ORDINANCE",null,92,18,0,14,32,0.19565217391304349,0,0.15217391304347827,0.34782608695652173]
["MO","COUNTY COURT MUNICIPAL ORDINANCE",null,266,76,15,33,124,0.2857142857142857,5.6390977443609019E-2,0.12406015037593984,0.46616541353383456]
["IN","COUNTY COURT INFRACTIONS",null,470,17,6,3,26,3.6170212765957444E-2,1.276595744680851E-2,6.382978723404255E-3,5.5319148936170209E-2]
["CT","COUNTY CRIMINAL TRAFFIC",null,9548,4101,403,1331,5835,0.42951403435274405,4.2207792207792208E-2,0.13940092165898618,0.61112274821952239]
["TOTAL OF CRIMINAL DOCUMENTS",null,null,{"$f":"SUM(D18:D24)","v":55225},{"$f":"SUM(E18:E24)","v":21142},{"$f":"SUM(F18:F24)","v":1429},{"$f":"SUM(G18:G24)","v":10419},{"$f":"SUM(E25:G25)","v":32990},0.38283386147578091,2.5875961973743776E-2,0.18866455409687641,0.5973743775464011]
[]
["TR","COUNTY CIVIL TRAFFIC",null,6862,748,214,223,0,{"$f":"E27/D27","v":0.10900612066452929},{"$f":"F27/D27","v":3.1186243077819878E-2},{"$f":"G27/D27","v":3.2497814048382395E-2},{"$f":"H27/D27","v":0}]
[]
["TOTAL ALL COURT DOCUMENTS",null,null,{"$f":"D16+D25+D27","v":110941},{"$f":"E16+E25+E27","v":21890},{"$f":"F16+F25+F27","v":2349},{"$f":"G16+G25+G27","v":45421},{"$f":"SUM(E29:G29)","v":69660},{"$f":"E29/D29","v":0.1973120848018316},{"$f":"F29/D29","v":2.1173416500662515E-2},{"$f":"G29/D29","v":0.4094158156137046},{"$f":"H29/D29","v":0.62790131691619866}]

{"sheet":"AUG16","index":7,"n_rows":29,"n_cols":12,"rows_kept":29,"cut":false,"hidden":false,"merged":[[0,0,0,11],[1,0,1,11],[2,0,2,11],[3,0,3,11],[28,0,28,2],[5,1,5,2],[6,1,6,2],[16,0,16,11],[25,0,25,11],[27,0,27,11]]}
["CLERK OF THE COURTS"]
["BREVARD COUNTY, FLORIDA"]
["Document Source Statistics August 2016"]
["Number of Documents Filed by Case Category"]
[]
["Case","Category",null,"Total # of Documents Filed","Documents Filed InCourt","Documents Filed Informix","Documents e-Filed","Total Docs Auto-Docketed","% of TOTAL InCourt","% of TOTAL Informix","% of TOTAL e-Filed","Total % of Documents Auto Docketed"]
["AP","APPEALS",null,70,0,0,47,{"$f":"E7+F7+G7","v":47},{"$f":"E7/D7","v":0},{"$f":"F7/D7","v":0},{"$f":"G7/D7","v":0.67142857142857137},{"$f":"SUM(I7:K7)","v":0.67142857142857137}]
["CA","CIRCUIT CIVIL",null,19782,0,0,15376,{"$f":"E8+F8+G8","v":15376},{"$f":"E8/D8","v":0},{"$f":"F8/D8","v":0},{"$f":"G8/D8","v":0.77727226771812763},{"$f":"SUM(I8:K8)","v":0.77727226771812763}]
["SC","COUNTY CIVIL SMALL CLAIMS",null,4448,0,0,3402,3402,0,0,0.76483812949640284,0.76483812949640284]
["DR","CIRCUIT CIVIL FAMILY",null,16298,0,0,8450,8450,0,0,0.51846852374524477,0.51846852374524477]
["CP","CIRCUIT CIVIL PROBATE",null,4989,0,0,4098,4098,0,0,0.82140709561034275,0.82140709561034275]
["GA","CIRCUIT CIVIL GUARDIANSHIP",null,2015,0,0,1871,1871,0,0,0.92853598014888339,0.92853598014888339]
["MH","CIRCUIT CIVIL MENTAL HEALTH",null,655,0,0,290,290,0,0,0.44274809160305345,0.44274809160305345]
["CC","COUNTY CIVIL",null,5434,0,0,3263,3263,0,0,0.6004784688995215,0.6004784688995215]
["DP","CIRCUIT JUVENILE DEPENDENCY",null,2816,0,0,1849,1849,0,0,0.65660511363636365,0.65660511363636365]
["TOTAL OF CIVIL DOCUMENTS",null,null,{"$f":"SUM(D7:D15)","v":56507},{"$f":"SUM(E7:E15)","v":0},0,{"$f":"SUM(G7:G15)","v":38646},{"$f":"SUM(H7:H15)","v":38646},{"$f":"E16/D16","v":0},0,0.68391526713504525,0.68391526713504525]
[]
["CJ","CIRCUIT JUVENILE DELINQUENCY",null,6925,4756,1,1152,{"$f":"SUM(E18:G18)","v":5909},{"$f":"E18/D18","v":0.68678700361010825},{"$f":"F18/D18","v":1.4440433212996391E-4},{"$f":"G18/D18","v":0.16635379061371841},{"$f":"H18/D18","v":0.85328519855595664}]
["CF","CIRCUIT CRIMINAL FELONY",null,29956,8997,406,7172,{"$f":"SUM(E19:G19)","v":16575},0.30034049939911872,{"$f":"F19/D19","v":1.3553211376685807E-2},{"$f":"G19/D19","v":0.23941781279209506},{"$f":"H19/D19","v":0.55331152356789959}]
["MM","COUNTY CRIMINAL MISDEMEANOR",null,15108,6584,153,2321,9058,0.43579560497749537,1.0127084988085783E-2,0.15362721736828169,0.59954990733386282]
["CO","COUNTY ORDINANCE",null,153,32,2,13,47,0.20915032679738563,1.3071895424836602E-2,8.4967320261437912E-2,0.30718954248366015]
["MO","COUNTY COURT MUNICIPAL ORDINANCE",null,362,166,22,51,239,0.4585635359116022,6.0773480662983423E-2,0.14088397790055249,0.66022099447513816]
["IN","COUNTY COURT INFRACTIONS",null,346,29,263,5,297,8.3815028901734104E-2,0.76011560693641622,1.4450867052023121E-2,0.85838150289017345]
["CT","COUNTY CRIMINAL TRAFFIC",null,12475,6159,0,1598,7757,0.4937074148296593,0,0.12809619238476955,0.62180360721442884]
["TOTAL OF CRIMINAL DOCUMENTS",null,null,{"$f":"SUM(D18:D24)","v":65325},{"$f":"SUM(E18:E24)","v":26723},{"$f":"SUM(F18:F24)","v":847},{"$f":"SUM(G18:G24)","v":12312},{"$f":"SUM(E25:G25)","v":39882},0.40907768848067355,1.2965939533103711E-2,0.18847301951779563,0.61051664753157286]
[]
["TR","COUNTY CIVIL TRAFFIC",null,7504,988,98,248,0,{"$f":"E27/D27","v":0.13166311300639658},{"$f":"F27/D27","v":1.3059701492537313E-2},{"$f":"G27/D27","v":3.3049040511727079E-2},{"$f":"H27/D27","v":0}]
[]
["TOTAL ALL COURT DOCUMENTS",null,null,{"$f":"D16+D25+D27","v":129336},{"$f":"E16+E25+E27","v":27711},{"$f":"F16+F25+F27","v":945},{"$f":"G16+G25+G27","v":51206},{"$f":"SUM(E29:G29)","v":79862},{"$f":"E29/D29","v":0.2142558916311004},{"$f":"F29/D29","v":7.3065503804045275E-3},{"$f":"G29/D29","v":0.39591451722644894},{"$f":"H29/D29","v":0.61747695923795387}]

{"sheet":"SEP16","index":8,"n_rows":29,"n_cols":12,"rows_kept":29,"cut":false,"hidden":false,"merged":[[0,0,0,11],[1,0,1,11],[2,0,2,11],[3,0,3,11],[28,0,28,2],[5,1,5,2],[6,1,6,2],[16,0,16,11],[25,0,25,11],[27,0,27,11]]}
["CLERK OF THE COURTS"]
["BREVARD COUNTY, FLORIDA"]
["Document Source Statistics September 2016"]
["Number of Documents Filed by Case Category"]
[]
["Case","Category",null,"Total # of Documents Filed","Documents Filed InCourt","Documents Filed Informix","Documents e-Filed","Total Docs Auto-Docketed","% of TOTAL InCourt","% of TOTAL Informix","% of TOTAL e-Filed","Total % of Documents Auto Docketed"]
["AP","APPEALS",null,43,0,0,36,{"$f":"E7+F7+G7","v":36},{"$f":"E7/D7","v":0},{"$f":"F7/D7","v":0},{"$f":"G7/D7","v":0.83720930232558144},{"$f":"SUM(I7:K7)","v":0.83720930232558144}]
["CA","CIRCUIT CIVIL",null,17526,0,0,14130,{"$f":"E8+F8+G8","v":14130},{"$f":"E8/D8","v":0},{"$f":"F8/D8","v":0},{"$f":"G8/D8","v":0.80623074289626839},{"$f":"SUM(I8:K8)","v":0.80623074289626839}]
["SC","COUNTY CIVIL SMALL CLAIMS",null,3970,0,0,3152,3152,0,0,0.79395465994962222,0.79395465994962222]
["DR","CIRCUIT CIVIL FAMILY",null,15026,0,1,7531,7532,0,6.65513110608279E-5,0.50119792359909487,0.50126447491015569]
["CP","CIRCUIT CIVIL PROBATE",null,3977,0,1,3267,3268,0,2.5144581342720644E-4,0.82147347246668345,0.82172491828011063]
["GA","CIRCUIT CIVIL GUARDIANSHIP",null,1604,0,0,1520,1520,0,0,0.94763092269326688,0.94763092269326688]
["MH","CIRCUIT CIVIL MENTAL HEALTH",null,557,0,0,182,182,0,0,0.32675044883303411,0.32675044883303411]
["CC","COUNTY CIVIL",null,5001,0,0,3240,3240,0,0,0.64787042591481703,0.64787042591481703]
["DP","CIRCUIT JUVENILE DEPENDENCY",null,2639,0,0,1707,1707,0,0,0.64683592269799162,0.64683592269799162]
["TOTAL OF CIVIL DOCUMENTS",null,null,{"$f":"SUM(D7:D15)","v":50343},{"$f":"SUM(E7:E15)","v":0},{"$f":"SUM(F7:F15)","v":2},{"$f":"SUM(G7:G15)","v":34765},{"$f":"SUM(H7:H15)","v":34767},{"$f":"E16/D16","v":0},3.9727469558826454E-5,0.69056273960630077,0.69060246707585959]
[]
["CJ","CIRCUIT JUVENILE DELINQUENCY",null,7650,5063,25,1160,{"$f":"SUM(E18:G18)","v":6248},{"$f":"E18/D18","v":0.66183006535947708},{"$f":"F18/D18","v":3.2679738562091504E-3},{"$f":"G18/D18","v":0.15163398692810456},{"$f":"H18/D18","v":0.81673202614379081}]
["CF","CIRCUIT CRIMINAL FELONY",null,29055,10210,386,6772,{"$f":"SUM(E19:G19)","v":17368},0.35140251247633797,{"$f":"F19/D19","v":1.3285148855618654E-2},{"$f":"G19/D19","v":0.23307520220271899},{"$f":"H19/D19","v":0.59776286353467567}]
["MM","COUNTY CRIMINAL MISDEMEANOR",null,14210,6570,173,2149,8892,0.46235045742434905,1.2174524982406756E-2,0.15123152709359605,0.62575650950035189]
["CO","COUNTY ORDINANCE",null,91,48,0,16,64,0.52747252747252749,0,0.17582417582417584,0.70329670329670335]
["MO","COUNTY COURT MUNICIPAL ORDINANCE",null,359,174,24,59,257,0.48467966573816157,6.6852367688022288E-2,0.16434540389972144,0.71587743732590525]
["IN","COUNTY COURT INFRACTIONS",null,310,13,0,7,20,4.1935483870967745E-2,0,2.2580645161290321E-2,6.4516129032258063E-2]
["CT","COUNTY CRIMINAL TRAFFIC",null,11882,6288,478,1427,8193,0.52920383773775459,4.0228917690624477E-2,0.12009762666217809,0.68953038209055717]
["TOTAL OF CRIMINAL DOCUMENTS",null,null,{"$f":"SUM(D18:D24)","v":63557},{"$f":"SUM(E18:E24)","v":28366},{"$f":"SUM(F18:F24)","v":1086},{"$f":"SUM(G18:G24)","v":11590},{"$f":"SUM(E25:G25)","v":41042},0.44630803845367151,1.7087024245952452E-2,0.18235599540569883,0.64575105810532274]
[]
["TR","COUNTY CIVIL TRAFFIC",null,6733,848,57,250,0,{"$f":"E27/D27","v":0.12594682905094312},{"$f":"F27/D27","v":8.4657656319619776E-3},{"$f":"G27/D27","v":3.7130551017377098E-2},{"$f":"H27/D27","v":0}]
[]
["TOTAL ALL COURT DOCUMENTS",null,null,{"$f":"D16+D25+D27","v":120633},{"$f":"E16+E25+E27","v":29214},{"$f":"F16+F25+F27","v":1145},{"$f":"G16+G25+G27","v":46605},{"$f":"SUM(E29:G29)","v":76964},{"$f":"E29/D29","v":0.24217253985227924},{"$f":"F29/D29","v":9.491598484660085E-3},{"$f":"G29/D29","v":0.38633707194548755},{"$f":"H29/D29","v":0.63800121028242684}]

{"sheet":"OCT16","index":9,"n_rows":29,"n_cols":12,"rows_kept":29,"cut":false,"hidden":false,"merged":[[0,0,0,11],[1,0,1,11],[2,0,2,11],[3,0,3,11],[5,1,5,2],[6,1,6,2],[16,0,16,11],[25,0,25,11],[27,0,27,11],[28,0,28,2]]}
["CLERK OF THE COURTS"]
["BREVARD COUNTY, FLORIDA"]
["Document Source Statistics October 2016"]
["Number of Documents Filed by Case Category"]
[]
["Case","Category",null,"Total # of Documents Filed","Documents Filed InCourt","Documents Filed Informix","Documents e-Filed","Total Docs Auto-Docketed","% of TOTAL InCourt","% of TOTAL Informix","% of TOTAL e-Filed","Total % of Documents Auto Docketed"]
["AP","APPEALS",null,48,0,0,38,{"$f":"E7+F7+G7","v":38},{"$f":"E7/D7","v":0},{"$f":"F7/D7","v":0},{"$f":"G7/D7","v":0.79166666666666663},{"$f":"SUM(I7:K7)","v":0.79166666666666663}]
["CA","CIRCUIT CIVIL",null,15492,0,0,12599,{"$f":"E8+F8+G8","v":12599},{"$f":"E8/D8","v":0},{"$f":"F8/D8","v":0},{"$f":"G8/D8","v":0.81325845597727864},{"$f":"SUM(I8:K8)","v":0.81325845597727864}]
["SC","COUNTY CIVIL SMALL CLAIMS",null,3865,0,0,3093,3093,0,0,0.80025873221216037,0.80025873221216037]
["DR","CIRCUIT CIVIL FAMILY",null,14204,0,0,6978,6978,0,0,0.49127006477048718,0.49127006477048718]
["CP","CIRCUIT CIVIL PROBATE",null,3758,0,0,3114,3114,0,0,0.82863225119744544,0.82863225119744544]
["GA","CIRCUIT CIVIL GUARDIANSHIP",null,1500,0,0,1432,1432,0,0,0.95466666666666666,0.95466666666666666]
["MH","CIRCUIT CIVIL MENTAL HEALTH",null,623,0,0,261,261,0,0,0.4189406099518459,0.4189406099518459]
["CC","COUNTY CIVIL",null,4520,0,0,3067,3067,0,0,0.67853982300884952,0.67853982300884952]
["DP","CIRCUIT JUVENILE DEPENDENCY",null,2540,0,0,1842,1842,0,0,0.72519685039370074,0.72519685039370074]
["TOTAL OF CIVIL DOCUMENTS",null,null,{"$f":"SUM(D7:D15)","v":46550},{"$f":"SUM(E7:E15)","v":0},0,{"$f":"SUM(G7:G15)","v":32424},{"$f":"SUM(H7:H15)","v":32424},{"$f":"E16/D16","v":0},0,0.69654135338345868,0.69654135338345868]
[]
["CJ","CIRCUIT JUVENILE DELINQUENCY",null,6481,3756,3,1072,{"$f":"SUM(E18:G18)","v":4831},{"$f":"E18/D18","v":0.57954019441444227},{"$f":"F18/D18","v":4.6289152908501776E-4},{"$f":"G18/D18","v":0.16540657305971301},{"$f":"H18/D18","v":0.74540965900324019}]
["CF","CIRCUIT CRIMINAL FELONY",null,24623,8365,314,5662,{"$f":"SUM(E19:G19)","v":14341},0.33972302318970071,{"$f":"F19/D19","v":1.27523047557162E-2},{"$f":"G19/D19","v":0.22994760995816918},{"$f":"H19/D19","v":0.58242293790358612}]
["MM","COUNTY CRIMINAL MISDEMEANOR",null,12830,5475,132,1837,7444,0.42673421667965705,1.02883865939205E-2,0.14318004676539361,0.5802026500389712]
["CO","COUNTY ORDINANCE",null,92,32,0,18,50,0.34782608695652173,0,0.19565217391304349,0.54347826086956519]
["MO","COUNTY COURT MUNICIPAL ORDINANCE",null,273,148,16,46,210,0.54212454212454209,5.8608058608058608E-2,0.16849816849816851,0.76923076923076927]
["IN","COUNTY COURT INFRACTIONS",null,363,16,0,9,25,4.4077134986225897E-2,0,2.4793388429752067E-2,6.8870523415977963E-2]
["CT","COUNTY CRIMINAL TRAFFIC",null,10630,5552,265,1325,7142,0.52229539040451556,2.4929444967074318E-2,0.12464722483537159,0.67187206020696144]
["TOTAL OF CRIMINAL DOCUMENTS",null,null,{"$f":"SUM(D18:D24)","v":55292},{"$f":"SUM(E18:E24)","v":23344},{"$f":"SUM(F18:F24)","v":730},{"$f":"SUM(G18:G24)","v":9969},{"$f":"SUM(E25:G25)","v":34043},0.42219489257035375,1.3202633292338856E-2,0.18029733053606309,0.61569485639875565]
[]
["TR","COUNTY CIVIL TRAFFIC",null,5555,583,82,199,0,{"$f":"E27/D27","v":0.10495049504950495},{"$f":"F27/D27","v":1.4761476147614761E-2},{"$f":"G27/D27","v":3.5823582358235823E-2},{"$f":"H27/D27","v":0}]
[]
["TOTAL ALL COURT DOCUMENTS",null,null,{"$f":"D16+D25+D27","v":107397},{"$f":"E16+E25+E27","v":23927},{"$f":"F16+F25+F27","v":812},{"$f":"G16+G25+G27","v":42592},{"$f":"SUM(E29:G29)","v":67331},{"$f":"E29/D29","v":0.22279020829259663},{"$f":"F29/D29","v":7.5607326089183122E-3},{"$f":"G29/D29","v":0.39658463458010934},{"$f":"H29/D29","v":0.62693557548162426}]

{"sheet":"NOV16","index":10,"n_rows":29,"n_cols":12,"rows_kept":29,"cut":false,"hidden":false,"merged":[[0,0,0,11],[1,0,1,11],[2,0,2,11],[3,0,3,11],[28,0,28,2],[5,1,5,2],[6,1,6,2],[16,0,16,11],[25,0,25,11],[27,0,27,11]]}
["CLERK OF THE COURTS"]
["BREVARD COUNTY, FLORIDA"]
["Document Source Statistics November 2016"]
["Number of Documents Filed by Case Category"]
[]
["Case","Category",null,"Total # of Documents Filed","Documents Filed InCourt","Documents Filed Informix","Documents e-Filed","Total Docs Auto-Docketed","% of TOTAL InCourt","% of TOTAL Informix","% of TOTAL e-Filed","Total % of Documents Auto Docketed"]
["AP","APPEALS",null,0,0,0,0,{"$f":"E7+F7+G7","v":0},{"$f":"E7/D7","v":{"$error":"#DIV/0!"}},{"$f":"F7/D7","v":{"$error":"#DIV/0!"}},{"$f":"G7/D7","v":{"$error":"#DIV/0!"}},{"$f":"SUM(I7:K7)","v":{"$error":"#DIV/0!"}}]
["CA","CIRCUIT CIVIL",null,0,0,0,0,{"$f":"E8+F8+G8","v":0},{"$f":"E8/D8","v":{"$error":"#DIV/0!"}},{"$f":"F8/D8","v":{"$error":"#DIV/0!"}},{"$f":"G8/D8","v":{"$error":"#DIV/0!"}},{"$f":"SUM(I8:K8)","v":{"$error":"#DIV/0!"}}]
["SC","COUNTY CIVIL SMALL CLAIMS",null,0,0,0,0,0,{"$error":"#DIV/0!"},{"$error":"#DIV/0!"},{"$error":"#DIV/0!"},{"$error":"#DIV/0!"}]
["DR","CIRCUIT CIVIL FAMILY",null,0,0,0,0,0,{"$error":"#DIV/0!"},{"$error":"#DIV/0!"},{"$error":"#DIV/0!"},{"$error":"#DIV/0!"}]
["CP","CIRCUIT CIVIL PROBATE",null,0,0,0,0,0,{"$error":"#DIV/0!"},{"$error":"#DIV/0!"},{"$error":"#DIV/0!"},{"$error":"#DIV/0!"}]
["GA","CIRCUIT CIVIL GUARDIANSHIP",null,0,0,0,0,0,{"$error":"#DIV/0!"},{"$error":"#DIV/0!"},{"$error":"#DIV/0!"},{"$error":"#DIV/0!"}]
["MH","CIRCUIT CIVIL MENTAL HEALTH",null,0,0,0,0,0,{"$error":"#DIV/0!"},{"$error":"#DIV/0!"},{"$error":"#DIV/0!"},{"$error":"#DIV/0!"}]
["CC","COUNTY CIVIL",null,0,0,0,0,0,{"$error":"#DIV/0!"},{"$error":"#DIV/0!"},{"$error":"#DIV/0!"},{"$error":"#DIV/0!"}]
["DP","CIRCUIT JUVENILE DEPENDENCY",null,0,0,0,0,0,{"$error":"#DIV/0!"},{"$error":"#DIV/0!"},{"$error":"#DIV/0!"},{"$error":"#DIV/0!"}]
["TOTAL OF CIVIL DOCUMENTS",null,null,{"$f":"SUM(D7:D15)","v":0},{"$f":"SUM(E7:E15)","v":0},0,{"$f":"SUM(G7:G15)","v":0},{"$f":"SUM(H7:H15)","v":0},{"$f":"E16/D16","v":{"$error":"#DIV/0!"}},{"$error":"#DIV/0!"},{"$error":"#DIV/0!"},{"$error":"#DIV/0!"}]
[]
["CJ","CIRCUIT JUVENILE DELINQUENCY",null,0,0,0,0,{"$f":"SUM(E18:G18)","v":0},{"$f":"E18/D18","v":{"$error":"#DIV/0!"}},{"$f":"F18/D18","v":{"$error":"#DIV/0!"}},{"$f":"G18/D18","v":{"$error":"#DIV/0!"}},{"$f":"H18/D18","v":{"$error":"#DIV/0!"}}]
["CF","CIRCUIT CRIMINAL FELONY",null,0,0,0,0,{"$f":"SUM(E19:G19)","v":0},{"$error":"#DIV/0!"},{"$f":"F19/D19","v":{"$error":"#DIV/0!"}},{"$f":"G19/D19","v":{"$error":"#DIV/0!"}},{"$f":"H19/D19","v":{"$error":"#DIV/0!"}}]
["MM","COUNTY CRIMINAL MISDEMEANOR",null,0,0,0,0,0,{"$error":"#DIV/0!"},{"$error":"#DIV/0!"},{"$error":"#DIV/0!"},{"$error":"#DIV/0!"}]
["CO","COUNTY ORDINANCE",null,0,0,0,0,0,{"$error":"#DIV/0!"},{"$error":"#DIV/0!"},{"$error":"#DIV/0!"},{"$error":"#DIV/0!"}]
["MO","COUNTY COURT MUNICIPAL ORDINANCE",null,0,0,0,0,0,{"$error":"#DIV/0!"},{"$error":"#DIV/0!"},{"$error":"#DIV/0!"},{"$error":"#DIV/0!"}]
["IN","COUNTY COURT INFRACTIONS",null,0,0,0,0,0,{"$error":"#DIV/0!"},{"$error":"#DIV/0!"},{"$error":"#DIV/0!"},{"$error":"#DIV/0!"}]
["CT","COUNTY CRIMINAL TRAFFIC",null,0,0,0,0,0,{"$error":"#DIV/0!"},{"$error":"#DIV/0!"},{"$error":"#DIV/0!"},{"$error":"#DIV/0!"}]
["TOTAL OF CRIMINAL DOCUMENTS",null,null,{"$f":"SUM(D18:D24)","v":0},{"$f":"SUM(E18:E24)","v":0},{"$f":"SUM(F18:F24)","v":0},{"$f":"SUM(G18:G24)","v":0},{"$f":"SUM(E25:G25)","v":0},{"$error":"#DIV/0!"},{"$error":"#DIV/0!"},{"$error":"#DIV/0!"},{"$error":"#DIV/0!"}]
[]
["TR","COUNTY CIVIL TRAFFIC",null,0,0,0,0,0,{"$f":"E27/D27","v":{"$error":"#DIV/0!"}},{"$f":"F27/D27","v":{"$error":"#DIV/0!"}},{"$f":"G27/D27","v":{"$error":"#DIV/0!"}},{"$f":"H27/D27","v":{"$error":"#DIV/0!"}}]
[]
["TOTAL ALL COURT DOCUMENTS",null,null,{"$f":"D16+D25+D27","v":0},{"$f":"E16+E25+E27","v":0},{"$f":"F16+F25+F27","v":0},{"$f":"G16+G25+G27","v":0},{"$f":"SUM(E29:G29)","v":0},{"$f":"E29/D29","v":{"$error":"#DIV/0!"}},{"$f":"F29/D29","v":{"$error":"#DIV/0!"}},{"$f":"G29/D29","v":{"$error":"#DIV/0!"}},{"$f":"H29/D29","v":{"$error":"#DIV/0!"}}]

{"sheet":"DEC16","index":11,"n_rows":29,"n_cols":12,"rows_kept":29,"cut":false,"hidden":false,"merged":[[0,0,0,11],[1,0,1,11],[2,0,2,11],[3,0,3,11],[28,0,28,2],[5,1,5,2],[6,1,6,2],[16,0,16,11],[25,0,25,11],[27,0,27,11]]}
["CLERK OF THE COURTS"]
["BREVARD COUNTY, FLORIDA"]
["Document Source Statistics December 2016"]
["Number of Documents Filed by Case Category"]
[]
["Case","Category",null,"Total # of Documents Filed","Documents Filed InCourt","Documents Filed Informix","Documents e-Filed","Total Docs Auto-Docketed","% of TOTAL InCourt","% of TOTAL Informix","% of TOTAL e-Filed","Total % of Documents Auto Docketed"]
["AP","APPEALS",null,0,0,0,0,{"$f":"E7+F7+G7","v":0},{"$f":"E7/D7","v":{"$error":"#DIV/0!"}},{"$f":"F7/D7","v":{"$error":"#DIV/0!"}},{"$f":"G7/D7","v":{"$error":"#DIV/0!"}},{"$f":"SUM(I7:K7)","v":{"$error":"#DIV/0!"}}]
["CA","CIRCUIT CIVIL",null,0,0,0,0,{"$f":"E8+F8+G8","v":0},{"$f":"E8/D8","v":{"$error":"#DIV/0!"}},{"$f":"F8/D8","v":{"$error":"#DIV/0!"}},{"$f":"G8/D8","v":{"$error":"#DIV/0!"}},{"$f":"SUM(I8:K8)","v":{"$error":"#DIV/0!"}}]
["SC","COUNTY CIVIL SMALL CLAIMS",null,0,0,0,0,0,{"$error":"#DIV/0!"},{"$error":"#DIV/0!"},{"$error":"#DIV/0!"},{"$error":"#DIV/0!"}]
["DR","CIRCUIT CIVIL FAMILY",null,0,0,0,0,0,{"$error":"#DIV/0!"},{"$error":"#DIV/0!"},{"$error":"#DIV/0!"},{"$error":"#DIV/0!"}]
["CP","CIRCUIT CIVIL PROBATE",null,0,0,0,0,0,{"$error":"#DIV/0!"},{"$error":"#DIV/0!"},{"$error":"#DIV/0!"},{"$error":"#DIV/0!"}]
["GA","CIRCUIT CIVIL GUARDIANSHIP",null,0,0,0,0,0,{"$error":"#DIV/0!"},{"$error":"#DIV/0!"},{"$error":"#DIV/0!"},{"$error":"#DIV/0!"}]
["MH","CIRCUIT CIVIL MENTAL HEALTH",null,0,0,0,0,0,{"$error":"#DIV/0!"},{"$error":"#DIV/0!"},{"$error":"#DIV/0!"},{"$error":"#DIV/0!"}]
["CC","COUNTY CIVIL",null,0,0,0,0,0,{"$error":"#DIV/0!"},{"$error":"#DIV/0!"},{"$error":"#DIV/0!"},{"$error":"#DIV/0!"}]
["DP","CIRCUIT JUVENILE DEPENDENCY",null,0,0,0,0,0,{"$error":"#DIV/0!"},{"$error":"#DIV/0!"},{"$error":"#DIV/0!"},{"$error":"#DIV/0!"}]
["TOTAL OF CIVIL DOCUMENTS",null,null,{"$f":"SUM(D7:D15)","v":0},{"$f":"SUM(E7:E15)","v":0},0,{"$f":"SUM(G7:G15)","v":0},{"$f":"SUM(H7:H15)","v":0},{"$f":"E16/D16","v":{"$error":"#DIV/0!"}},{"$error":"#DIV/0!"},{"$error":"#DIV/0!"},{"$error":"#DIV/0!"}]
[]
["CJ","CIRCUIT JUVENILE DELINQUENCY",null,0,0,0,0,{"$f":"SUM(E18:G18)","v":0},{"$f":"E18/D18","v":{"$error":"#DIV/0!"}},{"$f":"F18/D18","v":{"$error":"#DIV/0!"}},{"$f":"G18/D18","v":{"$error":"#DIV/0!"}},{"$f":"H18/D18","v":{"$error":"#DIV/0!"}}]
["CF","CIRCUIT CRIMINAL FELONY",null,0,0,0,0,{"$f":"SUM(E19:G19)","v":0},{"$error":"#DIV/0!"},{"$f":"F19/D19","v":{"$error":"#DIV/0!"}},{"$f":"G19/D19","v":{"$error":"#DIV/0!"}},{"$f":"H19/D19","v":{"$error":"#DIV/0!"}}]
["MM","COUNTY CRIMINAL MISDEMEANOR",null,0,0,0,0,0,{"$error":"#DIV/0!"},{"$error":"#DIV/0!"},{"$error":"#DIV/0!"},{"$error":"#DIV/0!"}]
["CO","COUNTY ORDINANCE",null,0,0,0,0,0,{"$error":"#DIV/0!"},{"$error":"#DIV/0!"},{"$error":"#DIV/0!"},{"$error":"#DIV/0!"}]
["MO","COUNTY COURT MUNICIPAL ORDINANCE",null,0,0,0,0,0,{"$error":"#DIV/0!"},{"$error":"#DIV/0!"},{"$error":"#DIV/0!"},{"$error":"#DIV/0!"}]
["IN","COUNTY COURT INFRACTIONS",null,0,0,0,0,0,{"$error":"#DIV/0!"},{"$error":"#DIV/0!"},{"$error":"#DIV/0!"},{"$error":"#DIV/0!"}]
["CT","COUNTY CRIMINAL TRAFFIC",null,0,0,0,0,0,{"$error":"#DIV/0!"},{"$error":"#DIV/0!"},{"$error":"#DIV/0!"},{"$error":"#DIV/0!"}]
["TOTAL OF CRIMINAL DOCUMENTS",null,null,{"$f":"SUM(D18:D24)","v":0},{"$f":"SUM(E18:E24)","v":0},{"$f":"SUM(F18:F24)","v":0},{"$f":"SUM(G18:G24)","v":0},{"$f":"SUM(E25:G25)","v":0},{"$error":"#DIV/0!"},{"$error":"#DIV/0!"},{"$error":"#DIV/0!"},{"$error":"#DIV/0!"}]
[]
["TR","COUNTY CIVIL TRAFFIC",null,0,0,0,0,0,{"$f":"E27/D27","v":{"$error":"#DIV/0!"}},{"$f":"F27/D27","v":{"$error":"#DIV/0!"}},{"$f":"G27/D27","v":{"$error":"#DIV/0!"}},{"$f":"H27/D27","v":{"$error":"#DIV/0!"}}]
[]
["TOTAL ALL COURT DOCUMENTS",null,null,{"$f":"D16+D25+D27","v":0},{"$f":"E16+E25+E27","v":0},{"$f":"F16+F25+F27","v":0},{"$f":"G16+G25+G27","v":0},{"$f":"SUM(E29:G29)","v":0},{"$f":"E29/D29","v":{"$error":"#DIV/0!"}},{"$f":"F29/D29","v":{"$error":"#DIV/0!"}},{"$f":"G29/D29","v":{"$error":"#DIV/0!"}},{"$f":"H29/D29","v":{"$error":"#DIV/0!"}}]

{"sheet":"SUMMARY16","index":12,"n_rows":30,"n_cols":12,"rows_kept":30,"cut":false,"hidden":false,"merged":[[16,0,16,11],[25,0,25,11],[27,0,27,11],[28,0,28,2],[0,0,0,11],[1,0,1,11],[2,0,2,11],[3,0,3,11],[5,1,5,2],[6,1,6,2]]}
["CLERK OF THE COURTS"]
["BREVARD COUNTY, FLORIDA"]
["Document Source Statistics January 1, 2016 - December 31, 2016"]
["Number of Documents Filed by Case Category"]
[]
["Case","Category",null,"Total # of Documents Filed","Documents Filed InCourt","Documents Filed Informix","Documents e-Filed","Total Docs Auto-Docketed","% of TOTAL InCourt","% of TOTAL Informix","% of TOTAL e-Filed","Total % of Documents Auto Docketed"]
["AP","APPEALS",null,{"$f":"'JAN16'!D7+'FEB16'!D7+'MAR16'!D7+'APR16'!D7+'MAY16'!D7+'JUN16'!D7+'JUL16'!D7+'AUG16'!D7+'SEP16'!D7+'OCT16'!D7+'NOV16'!D7+'DEC16'!D7","v":555},0,{"$f":"'JAN16'!F7+'FEB16'!F7+'MAR16'!F7+'APR16'!F7+'MAY16'!F7+'JUN16'!F7+'JUL16'!F7+'AUG16'!F7+'SEP16'!F7+'OCT16'!F7+'NOV16'!F7+'DEC16'!F7","v":1},{"$f":"'JAN16'!G7+'FEB16'!G7+'MAR16'!G7+'APR16'!G7+'MAY16'!G7+'JUN16'!G7+'JUL16'!G7+'AUG16'!G7+'SEP16'!G7+'OCT16'!G7+'NOV16'!G7+'DEC16'!G7","v":399},{"$f":"E7+F7+G7","v":400},{"$f":"E7/D7","v":0},{"$f":"F7/D7","v":1.8018018018018018E-3},{"$f":"G7/D7","v":0.7189189189189189},{"$f":"SUM(I7:K7)","v":0.72072072072072069}]
["CA","CIRCUIT CIVIL",null,{"$f":"'JAN16'!D8+'FEB16'!D8+'MAR16'!D8+'APR16'!D8+'MAY16'!D8+'JUN16'!D8+'JUL16'!D8+'AUG16'!D8+'SEP16'!D8+'OCT16'!D8+'NOV16'!D8+'DEC16'!D8","v":182580},{"$f":"'JAN16'!E8+'FEB16'!E8+'MAR16'!E8+'APR16'!E8+'MAY16'!E8+'JUN16'!E8+'JUL16'!E8+'AUG16'!E8+'SEP16'!E8+'OCT16'!E8+'NOV16'!E8+'DEC16'!E8","v":0},0,{"$f":"'JAN16'!G8+'FEB16'!G8+'MAR16'!G8+'APR16'!G8+'MAY16'!G8+'JUN16'!G8+'JUL16'!G8+'AUG16'!G8+'SEP16'!G8+'OCT16'!G8+'NOV16'!G8+'DEC16'!G8","v":145836},{"$f":"E8+F8+G8","v":145836},{"$f":"E8/D8","v":0},{"$f":"F8/D8","v":0},{"$f":"G8/D8","v":0.79875123233651002},{"$f":"SUM(I8:K8)","v":0.79875123233651002}]
["SC","COUNTY CIVIL SMALL CLAIMS",null,{"$f":"'JAN16'!D9+'FEB16'!D9+'MAR16'!D9+'APR16'!D9+'MAY16'!D9+'JUN16'!D9+'JUL16'!D9+'AUG16'!D9+'SEP16'!D9+'OCT16'!D9+'NOV16'!D9+'DEC16'!D9","v":40074},{"$f":"'JAN16'!E9+'FEB16'!E9+'MAR16'!E9+'APR16'!E9+'MAY16'!E9+'JUN16'!E9+'JUL16'!E9+'AUG16'!E9+'SEP16'!E9+'OCT16'!E9+'NOV16'!E9+'DEC16'!E9","v":0},{"$f":"'JAN16'!F9+'FEB16'!F9+'MAR16'!F9+'APR16'!F9+'MAY16'!F9+'JUN16'!F9+'JUL16'!F9+'AUG16'!F9+'SEP16'!F9+'OCT16'!F9+'NOV16'!F9+'DEC16'!F9","v":42},{"$f":"'JAN16'!G9+'FEB16'!G9+'MAR16'!G9+'APR16'!G9+'MAY16'!G9+'JUN16'!G9+'JUL16'!G9+'AUG16'!G9+'SEP16'!G9+'OCT16'!G9+'NOV16'!G9+'DEC16'!G9","v":31248},31290,0,1.0480610869890701E-3,0.7797574487198683,0.78080550980685737]
["DR","CIRCUIT CIVIL FAMILY",null,{"$f":"'JAN16'!D10+'FEB16'!D10+'MAR16'!D10+'APR16'!D10+'MAY16'!D10+'JUN16'!D10+'JUL16'!D10+'AUG16'!D10+'SEP16'!D10+'OCT16'!D10+'NOV16'!D10+'DEC16'!D10","v":146535},{"$f":"'JAN16'!E10+'FEB16'!E10+'MAR16'!E10+'APR16'!E10+'MAY16'!E10+'JUN16'!E10+'JUL16'!E10+'AUG16'!E10+'SEP16'!E10+'OCT16'!E10+'NOV16'!E10+'DEC16'!E10","v":0},{"$f":"'JAN16'!F10+'FEB16'!F10+'MAR16'!F10+'APR16'!F10+'MAY16'!F10+'JUN16'!F10+'JUL16'!F10+'AUG16'!F10+'SEP16'!F10+'OCT16'!F10+'NOV16'!F10+'DEC16'!F10","v":133},{"$f":"'JAN16'!G10+'FEB16'!G10+'MAR16'!G10+'APR16'!G10+'MAY16'!G10+'JUN16'!G10+'JUL16'!G10+'AUG16'!G10+'SEP16'!G10+'OCT16'!G10+'NOV16'!G10+'DEC16'!G10","v":75977},76110,0,9.0763298870576994E-4,0.51849046302931046,0.51939809601801623]
["CP","CIRCUIT CIVIL PROBATE",null,{"$f":"'JAN16'!D11+'FEB16'!D11+'MAR16'!D11+'APR16'!D11+'MAY16'!D11+'JUN16'!D11+'JUL16'!D11+'AUG16'!D11+'SEP16'!D11+'OCT16'!D11+'NOV16'!D11+'DEC16'!D11","v":41956},{"$f":"'JAN16'!E11+'FEB16'!E11+'MAR16'!E11+'APR16'!E11+'MAY16'!E11+'JUN16'!E11+'JUL16'!E11+'AUG16'!E11+'SEP16'!E11+'OCT16'!E11+'NOV16'!E11+'DEC16'!E11","v":0},{"$f":"'JAN16'!F11+'FEB16'!F11+'MAR16'!F11+'APR16'!F11+'MAY16'!F11+'JUN16'!F11+'JUL16'!F11+'AUG16'!F11+'SEP16'!F11+'OCT16'!F11+'NOV16'!F11+'DEC16'!F11","v":95},{"$f":"'JAN16'!G11+'FEB16'!G11+'MAR16'!G11+'APR16'!G11+'MAY16'!G11+'JUN16'!G11+'JUL16'!G11+'AUG16'!G11+'SEP16'!G11+'OCT16'!G11+'NOV16'!G11+'DEC16'!G11","v":34438},34533,0,2.2642768614739251E-3,0.82081227953093716,0.82307655639241106]
["GA","CIRCUIT CIVIL GUARDIANSHIP",null,{"$f":"'JAN16'!D12+'FEB16'!D12+'MAR16'!D12+'APR16'!D12+'MAY16'!D12+'JUN16'!D12+'JUL16'!D12+'AUG16'!D12+'SEP16'!D12+'OCT16'!D12+'NOV16'!D12+'DEC16'!D12","v":17703},{"$f":"'JAN16'!E12+'FEB16'!E12+'MAR16'!E12+'APR16'!E12+'MAY16'!E12+'JUN16'!E12+'JUL16'!E12+'AUG16'!E12+'SEP16'!E12+'OCT16'!E12+'NOV16'!E12+'DEC16'!E12","v":0},{"$f":"'JAN16'!F12+'FEB16'!F12+'MAR16'!F12+'APR16'!F12+'MAY16'!F12+'JUN16'!F12+'JUL16'!F12+'AUG16'!F12+'SEP16'!F12+'OCT16'!F12+'NOV16'!F12+'DEC16'!F12","v":30},{"$f":"'JAN16'!G12+'FEB16'!G12+'MAR16'!G12+'APR16'!G12+'MAY16'!G12+'JUN16'!G12+'JUL16'!G12+'AUG16'!G12+'SEP16'!G12+'OCT16'!G12+'NOV16'!G12+'DEC16'!G12","v":16760},16790,0,1.6946280291476022E-3,0.94673219228379368,0.94842682031294123]
["MH","CIRCUIT CIVIL MENTAL HEALTH",null,{"$f":"'JAN16'!D13+'FEB16'!D13+'MAR16'!D13+'APR16'!D13+'MAY16'!D13+'JUN16'!D13+'JUL16'!D13+'AUG16'!D13+'SEP16'!D13+'OCT16'!D13+'NOV16'!D13+'DEC16'!D13","v":6572},{"$f":"'JAN16'!E13+'FEB16'!E13+'MAR16'!E13+'APR16'!E13+'MAY16'!E13+'JUN16'!E13+'JUL16'!E13+'AUG16'!E13+'SEP16'!E13+'OCT16'!E13+'NOV16'!E13+'DEC16'!E13","v":0},{"$f":"'JAN16'!F13+'FEB16'!F13+'MAR16'!F13+'APR16'!F13+'MAY16'!F13+'JUN16'!F13+'JUL16'!F13+'AUG16'!F13+'SEP16'!F13+'OCT16'!F13+'NOV16'!F13+'DEC16'!F13","v":16},{"$f":"'JAN16'!G13+'FEB16'!G13+'MAR16'!G13+'APR16'!G13+'MAY16'!G13+'JUN16'!G13+'JUL16'!G13+'AUG16'!G13+'SEP16'!G13+'OCT16'!G13+'NOV16'!G13+'DEC16'!G13","v":2645},2661,0,2.4345709068776629E-3,0.40246500304321364,0.4048995739500913]
["CC","COUNTY CIVIL",null,{"$f":"'JAN16'!D14+'FEB16'!D14+'MAR16'!D14+'APR16'!D14+'MAY16'!D14+'JUN16'!D14+'JUL16'!D14+'AUG16'!D14+'SEP16'!D14+'OCT16'!D14+'NOV16'!D14+'DEC16'!D14","v":47972},{"$f":"'JAN16'!E14+'FEB16'!E14+'MAR16'!E14+'APR16'!E14+'MAY16'!E14+'JUN16'!E14+'JUL16'!E14+'AUG16'!E14+'SEP16'!E14+'OCT16'!E14+'NOV16'!E14+'DEC16'!E14","v":0},{"$f":"'JAN16'!F14+'FEB16'!F14+'MAR16'!F14+'APR16'!F14+'MAY16'!F14+'JUN16'!F14+'JUL16'!F14+'AUG16'!F14+'SEP16'!F14+'OCT16'!F14+'NOV16'!F14+'DEC16'!F14","v":79},{"$f":"'JAN16'!G14+'FEB16'!G14+'MAR16'!G14+'APR16'!G14+'MAY16'!G14+'JUN16'!G14+'JUL16'!G14+'AUG16'!G14+'SEP16'!G14+'OCT16'!G14+'NOV16'!G14+'DEC16'!G14","v":31787},31866,0,1.6467939631451679E-3,0.66261569248728425,0.6642624864504294]
["DP","CIRCUIT JUVENILE DEPENDENCY",null,{"$f":"'JAN16'!D15+'FEB16'!D15+'MAR16'!D15+'APR16'!D15+'MAY16'!D15+'JUN16'!D15+'JUL16'!D15+'AUG16'!D15+'SEP16'!D15+'OCT16'!D15+'NOV16'!D15+'DEC16'!D15","v":26418},{"$f":"'JAN16'!E15+'FEB16'!E15+'MAR16'!E15+'APR16'!E15+'MAY16'!E15+'JUN16'!E15+'JUL16'!E15+'AUG16'!E15+'SEP16'!E15+'OCT16'!E15+'NOV16'!E15+'DEC16'!E15","v":0},{"$f":"'JAN16'!F15+'FEB16'!F15+'MAR16'!F15+'APR16'!F15+'MAY16'!F15+'JUN16'!F15+'JUL16'!F15+'AUG16'!F15+'SEP16'!F15+'OCT16'!F15+'NOV16'!F15+'DEC16'!F15","v":31},{"$f":"'JAN16'!G15+'FEB16'!G15+'MAR16'!G15+'APR16'!G15+'MAY16'!G15+'JUN16'!G15+'JUL16'!G15+'AUG16'!G15+'SEP16'!G15+'OCT16'!G15+'NOV16'!G15+'DEC16'!G15","v":16705},16736,0,1.1734423499129381E-3,0.63233401468695583,0.63350745703686873]
["TOTAL OF CIVIL DOCUMENTS",null,null,{"$f":"SUM(D7:D15)","v":510365},{"$f":"SUM(E7:E15)","v":0},0,{"$f":"SUM(G7:G15)","v":355795},{"$f":"SUM(H7:H15)","v":356222},{"$f":"E16/D16","v":0},{"$f":"F16/D16","v":0},0.69713832257306041,0.69713832257306041]
[]
["CJ","CIRCUIT JUVENILE DELINQUENCY",null,{"$f":"'JAN16'!D18+'FEB16'!D18+'MAR16'!D18+'APR16'!D18+'MAY16'!D18+'JUN16'!D18+'JUL16'!D18+'AUG16'!D18+'SEP16'!D18+'OCT16'!D18+'NOV16'!D18+'DEC16'!D18","v":64678},{"$f":"'JAN16'!E18+'FEB16'!E18+'MAR16'!E18+'APR16'!E18+'MAY16'!E18+'JUN16'!E18+'JUL16'!E18+'AUG16'!E18+'SEP16'!E18+'OCT16'!E18+'NOV16'!E18+'DEC16'!E18","v":44928},{"$f":"'JAN16'!F18+'FEB16'!F18+'MAR16'!F18+'APR16'!F18+'MAY16'!F18+'JUN16'!F18+'JUL16'!F18+'AUG16'!F18+'SEP16'!F18+'OCT16'!F18+'NOV16'!F18+'DEC16'!F18","v":106},{"$f":"'JAN16'!G18+'FEB16'!G18+'MAR16'!G18+'APR16'!G18+'MAY16'!G18+'JUN16'!G18+'JUL16'!G18+'AUG16'!G18+'SEP16'!G18+'OCT16'!G18+'NOV16'!G18+'DEC16'!G18","v":10711},{"$f":"SUM(E18:G18)","v":55745},{"$f":"E18/D18","v":0.69464114536627597},{"$f":"F18/D18","v":1.6388880299328984E-3},{"$f":"G18/D18","v":0.1656049970623705},{"$f":"H18/D18","v":0.86188503045857945}]
["CF","CIRCUIT CRIMINAL FELONY",null,{"$f":"'JAN16'!D19+'FEB16'!D19+'MAR16'!D19+'APR16'!D19+'MAY16'!D19+'JUN16'!D19+'JUL16'!D19+'AUG16'!D19+'SEP16'!D19+'OCT16'!D19+'NOV16'!D19+'DEC16'!D19","v":274388},{"$f":"'JAN16'!E19+'FEB16'!E19+'MAR16'!E19+'APR16'!E19+'MAY16'!E19+'JUN16'!E19+'JUL16'!E19+'AUG16'!E19+'SEP16'!E19+'OCT16'!E19+'NOV16'!E19+'DEC16'!E19","v":93749},{"$f":"'JAN16'!F19+'FEB16'!F19+'MAR16'!F19+'APR16'!F19+'MAY16'!F19+'JUN16'!F19+'JUL16'!F19+'AUG16'!F19+'SEP16'!F19+'OCT16'!F19+'NOV16'!F19+'DEC16'!F19","v":3841},{"$f":"'JAN16'!G19+'FEB16'!G19+'MAR16'!G19+'APR16'!G19+'MAY16'!G19+'JUN16'!G19+'JUL16'!G19+'AUG16'!G19+'SEP16'!G19+'OCT16'!G19+'NOV16'!G19+'DEC16'!G19","v":65485},{"$f":"SUM(E19:G19)","v":163075},0.34166581628934212,{"$f":"F19/D19","v":1.3998425587124802E-2},{"$f":"G19/D19","v":0.23865839613977288},{"$f":"H19/D19","v":0.59432263801623975}]
["MM","COUNTY CRIMINAL MISDEMEANOR",null,{"$f":"'JAN16'!D20+'FEB16'!D20+'MAR16'!D20+'APR16'!D20+'MAY16'!D20+'JUN16'!D20+'JUL16'!D20+'AUG16'!D20+'SEP16'!D20+'OCT16'!D20+'NOV16'!D20+'DEC16'!D20","v":137725},{"$f":"'JAN16'!E20+'FEB16'!E20+'MAR16'!E20+'APR16'!E20+'MAY16'!E20+'JUN16'!E20+'JUL16'!E20+'AUG16'!E20+'SEP16'!E20+'OCT16'!E20+'NOV16'!E20+'DEC16'!E20","v":69516},{"$f":"'JAN16'!F20+'FEB16'!F20+'MAR16'!F20+'APR16'!F20+'MAY16'!F20+'JUN16'!F20+'JUL16'!F20+'AUG16'!F20+'SEP16'!F20+'OCT16'!F20+'NOV16'!F20+'DEC16'!F20","v":1721},{"$f":"'JAN16'!G20+'FEB16'!G20+'MAR16'!G20+'APR16'!G20+'MAY16'!G20+'JUN16'!G20+'JUL16'!G20+'AUG16'!G20+'SEP16'!G20+'OCT16'!G20+'NOV16'!G20+'DEC16'!G20","v":22267},93504,0.50474496278816483,1.2495915774187693E-2,0.16167725540025413,0.6789181339626067]
["CO","COUNTY ORDINANCE",null,{"$f":"'JAN16'!D21+'FEB16'!D21+'MAR16'!D21+'APR16'!D21+'MAY16'!D21+'JUN16'!D21+'JUL16'!D21+'AUG16'!D21+'SEP16'!D21+'OCT16'!D21+'NOV16'!D21+'DEC16'!D21","v":825},{"$f":"'JAN16'!E21+'FEB16'!E21+'MAR16'!E21+'APR16'!E21+'MAY16'!E21+'JUN16'!E21+'JUL16'!E21+'AUG16'!E21+'SEP16'!E21+'OCT16'!E21+'NOV16'!E21+'DEC16'!E21","v":380},{"$f":"'JAN16'!F21+'FEB16'!F21+'MAR16'!F21+'APR16'!F21+'MAY16'!F21+'JUN16'!F21+'JUL16'!F21+'AUG16'!F21+'SEP16'!F21+'OCT16'!F21+'NOV16'!F21+'DEC16'!F21","v":20},{"$f":"'JAN16'!G21+'FEB16'!G21+'MAR16'!G21+'APR16'!G21+'MAY16'!G21+'JUN16'!G21+'JUL16'!G21+'AUG16'!G21+'SEP16'!G21+'OCT16'!G21+'NOV16'!G21+'DEC16'!G21","v":121},521,0.46060606060606063,2.4242424242424242E-2,0.14666666666666667,0.63151515151515147]
["MO","COUNTY COURT MUNICIPAL ORDINANCE",null,{"$f":"'JAN16'!D22+'FEB16'!D22+'MAR16'!D22+'APR16'!D22+'MAY16'!D22+'JUN16'!D22+'JUL16'!D22+'AUG16'!D22+'SEP16'!D22+'OCT16'!D22+'NOV16'!D22+'DEC16'!D22","v":2693},{"$f":"'JAN16'!E22+'FEB16'!E22+'MAR16'!E22+'APR16'!E22+'MAY16'!E22+'JUN16'!E22+'JUL16'!E22+'AUG16'!E22+'SEP16'!E22+'OCT16'!E22+'NOV16'!E22+'DEC16'!E22","v":1399},{"$f":"'JAN16'!F22+'FEB16'!F22+'MAR16'!F22+'APR16'!F22+'MAY16'!F22+'JUN16'!F22+'JUL16'!F22+'AUG16'!F22+'SEP16'!F22+'OCT16'!F22+'NOV16'!F22+'DEC16'!F22","v":150},{"$f":"'JAN16'!G22+'FEB16'!G22+'MAR16'!G22+'APR16'!G22+'MAY16'!G22+'JUN16'!G22+'JUL16'!G22+'AUG16'!G22+'SEP16'!G22+'OCT16'!G22+'NOV16'!G22+'DEC16'!G22","v":359},1908,0.51949498700334196,5.5699962866691426E-2,0.13330857779428146,0.7085035276643149]
["IN","COUNTY COURT INFRACTIONS",null,{"$f":"'JAN16'!D23+'FEB16'!D23+'MAR16'!D23+'APR16'!D23+'MAY16'!D23+'JUN16'!D23+'JUL16'!D23+'AUG16'!D23+'SEP16'!D23+'OCT16'!D23+'NOV16'!D23+'DEC16'!D23","v":3420},{"$f":"'JAN16'!E23+'FEB16'!E23+'MAR16'!E23+'APR16'!E23+'MAY16'!E23+'JUN16'!E23+'JUL16'!E23+'AUG16'!E23+'SEP16'!E23+'OCT16'!E23+'NOV16'!E23+'DEC16'!E23","v":152},{"$f":"'JAN16'!F23+'FEB16'!F23+'MAR16'!F23+'APR16'!F23+'MAY16'!F23+'JUN16'!F23+'JUL16'!F23+'AUG16'!F23+'SEP16'!F23+'OCT16'!F23+'NOV16'!F23+'DEC16'!F23","v":271},{"$f":"'JAN16'!G23+'FEB16'!G23+'MAR16'!G23+'APR16'!G23+'MAY16'!G23+'JUN16'!G23+'JUL16'!G23+'AUG16'!G23+'SEP16'!G23+'OCT16'!G23+'NOV16'!G23+'DEC16'!G23","v":47},470,4.4444444444444446E-2,7.9239766081871346E-2,1.3742690058479532E-2,0.13742690058479531]
["CT","COUNTY CRIMINAL TRAFFIC",null,{"$f":"'JAN16'!D24+'FEB16'!D24+'MAR16'!D24+'APR16'!D24+'MAY16'!D24+'JUN16'!D24+'JUL16'!D24+'AUG16'!D24+'SEP16'!D24+'OCT16'!D24+'NOV16'!D24+'DEC16'!D24","v":110896},{"$f":"'JAN16'!E24+'FEB16'!E24+'MAR16'!E24+'APR16'!E24+'MAY16'!E24+'JUN16'!E24+'JUL16'!E24+'AUG16'!E24+'SEP16'!E24+'OCT16'!E24+'NOV16'!E24+'DEC16'!E24","v":58981},{"$f":"'JAN16'!F24+'FEB16'!F24+'MAR16'!F24+'APR16'!F24+'MAY16'!F24+'JUN16'!F24+'JUL16'!F24+'AUG16'!F24+'SEP16'!F24+'OCT16'!F24+'NOV16'!F24+'DEC16'!F24","v":3139},{"$f":"'JAN16'!G24+'FEB16'!G24+'MAR16'!G24+'APR16'!G24+'MAY16'!G24+'JUN16'!G24+'JUL16'!G24+'AUG16'!G24+'SEP16'!G24+'OCT16'!G24+'NOV16'!G24+'DEC16'!G24","v":14194},76314,0.53185867840138512,2.8305800028855865E-2,0.12799379598903476,0.68815827441927568]
["TOTAL OF CRIMINAL DOCUMENTS",null,null,{"$f":"SUM(D18:D24)","v":594625},{"$f":"SUM(E18:E24)","v":269105},{"$f":"'JAN16'!F25+'FEB16'!F25+'MAR16'!F25+'APR16'!F25+'MAY16'!F25+'JUN16'!F25+'JUL16'!F25+'AUG16'!F25+'SEP16'!F25+'OCT16'!F25+'NOV16'!F25+'DEC16'!F25","v":9248},{"$f":"SUM(G18:G24)","v":113184},{"$f":"SUM(E25:G25)","v":391537},0.45256253941559804,1.5552659239016187E-2,0.19034517553079672,0.65846037418541092]
[]
["TR","COUNTY CIVIL TRAFFIC",null,{"$f":"'JAN16'!D27+'FEB16'!D27+'MAR16'!D27+'APR16'!D27+'MAY16'!D27+'JUN16'!D27+'JUL16'!D27+'AUG16'!D27+'SEP16'!D27+'OCT16'!D27+'NOV16'!D27+'DEC16'!D27","v":71785},{"$f":"'JAN16'!E27+'FEB16'!E27+'MAR16'!E27+'APR16'!E27+'MAY16'!E27+'JUN16'!E27+'JUL16'!E27+'AUG16'!E27+'SEP16'!E27+'OCT16'!E27+'NOV16'!E27+'DEC16'!E27","v":7938},{"$f":"'JAN16'!F27+'FEB16'!F27+'MAR16'!F27+'APR16'!F27+'MAY16'!F27+'JUN16'!F27+'JUL16'!F27+'AUG16'!F27+'SEP16'!F27+'OCT16'!F27+'NOV16'!F27+'DEC16'!F27","v":903},{"$f":"'JAN16'!G27+'FEB16'!G27+'MAR16'!G27+'APR16'!G27+'MAY16'!G27+'JUN16'!G27+'JUL16'!G27+'AUG16'!G27+'SEP16'!G27+'OCT16'!G27+'NOV16'!G27+'DEC16'!G27","v":2419},{"$f":"SUM(E27:G27)","v":11260},{"$f":"E27/D27","v":0.110580204778157},{"$f":"F27/D27","v":1.2579229644076061E-2},{"$f":"G27/D27","v":3.3697847739778505E-2},{"$f":"H27/D27","v":0.15685728216201156}]
[]
["TOTAL ALL COURT DOCUMENTS",null,null,{"$f":"D16+D25+D27","v":1176775},{"$f":"E16+E25+E27","v":277043},{"$f":"F16+F25+F27","v":10151},{"$f":"G16+G25+G27","v":471398},{"$f":"SUM(E29:G29)","v":758592},{"$f":"E29/D29","v":0.23542563361730151},{"$f":"F29/D29","v":8.6261179919695785E-3},{"$f":"G29/D29","v":0.40058464872214317},{"$f":"H29/D29","v":0.64463640033141423}]
[null,null,"Aug"]